{"text_format":"1","workbook":"xlsx","n_sheets":11,"sheets":["data Kbely","návod","výsl. křivka","křivky TC","SCOP-norma","test2","test3","test4","poměry","denostupně","vlastnosti vzduchu"],"not_rendered":{"charts":55,"images":0,"macros":1,"external_links":0,"defined_names":0,"comments":0,"pivot_tables":0},"unopened":[],"bounds":{"document_bytes":16777216,"sheet_cells":100000,"rows_first":2000,"rows_last":500,"rows_between":2000,"halvings":0,"cell_chars":16384,"cell_head_chars":4096},"cells_cut":0,"cells_raw":0,"read":"whole","date_system":"1900"}

{"sheet":"data Kbely","index":0,"n_rows":3292,"n_cols":75,"rows_kept":1125,"cut":true,"hidden":false,"merged":[],"bounds":{"rows_first":500,"rows_last":125,"rows_between":500,"halvings":2}}
[-10,"°C venku v 280 m.n.m. - testovací řádek 1.4.2015",null,null,null,null,null,null,null,null,"Ctrl+m    je makro na výpočet",null,null,null,null,null,null,null,null,null,"sezona:","DS","Dní TZ","kWh tepla","SCOP","kWh EE topení","kWh EE chlazení","poznámky:",null,null,null,null,null,null,0,27364.549333333354]
["https://kondenzace.kvalitne.cz/kks/optimalizace-tc.xlsm ",null,null,null,null,null,null,null,null,null,null,null,null,{"$f":"SUM(Y2:Y7)/6","v":4.4771236399106593},"Průměrný SCOP za 2016/2021",null,null,null,null,null,"15/16",{"$f":"X2/M$5*0.8","v":1384.6399999999999},{"$f":"X2/24/M$5","v":72.11666666666666},{"$f":"SUM(AW132:AZ497)*6","v":24231.199999999997},{"$f":"X2/Z2","v":4.5576340386445677},{"$f":"SUM(S132:V497)*6","v":5316.6181827109385},{"$f":"SUM(W101:Z466)*6","v":935.79885804125604},3.5865749743585127,{"$f":"Y2/AB2","v":1.2707482964188519},null,{"$f":"Z2/AF2","v":0.91809422051125056},5790.9287129052209,132,497,0.25,21877.05154286767,null,null,null,null,null,null,null,null,null,null,null,"https://www.pocasicz.cz/aktuality-o-pocasi/aktuality-471/zmena-teploty-s-vyskou-1455 ",null,null,null,null,"průměr:",{"$f":"SUM(BB10:BB1122)/1113","v":9.997394429469912},null,{"$f":"SUM(BD10:BD1122)/1113","v":11.29577717879604},10.450494159928134,9.5143755615453767,{"$f":"SUM(BG10:BG1122)/1113","v":7.7977538185085349}]
["https://www.degreedays.net       LKKB        base 30°C",null,null,null,null,null,null,7,{"$f":"IF(H3*H$5+H$6>1,H3*H$5+H$6,1)","v":4.03},"COP při A7/W35",null,null,null,{"$f":"Y7","v":4.3707189437271596},"SCOP za 2020/21 - odpovídá střední pásmo",null,null,null,null,null,"16/17",{"$f":"X3/M$5*0.8","v":1585.8560000000009},{"$f":"X3/24/M$5","v":82.596666666666707},{"$f":"SUM(AW498:AZ862)*6","v":27752.480000000014},{"$f":"X3/Z3","v":4.2343554490380155},{"$f":"SUM(S498:V862)*6","v":6554.1214794107509},{"$f":"SUM(W466:Z831)*6","v":914.44573126847376},3.3492101255643978,1.264284798590968,null,{"$f":"Z3/AF3","v":0.92278786232888699},7102.5224181750491,498,862,0.5,17473.962209983529,null,null,null,null,null,null,null,null,null,null,null,null,null,null,null,null,"0,65 stupně na 100 mterů výšky",0,null,0.61750000000000005,0.29249999999999998,-0.53949999999999998,-2.1,null,null,null,null,null,null,null,null,null,null,null,null,"Description:","Celsius-based heating degree days for a base temperature of 30,0C\""]
[null,"LG při W 50°C","LG","stiebel/hotjet","mango","DeDietrich","teorie",-7,{"$f":"IF(H4*H$5+H$6>1,H4*H$5+H$6,1)","v":2.77},"COP při A-7/W45",null,null,null,null,{"$f":"AD1261/AC1261","v":1.0054154365465686},"je nepřesnost při změně 6hodinových topných průměrů za týdenní",null,null,null,null,"17/18",1419.5200000000029,{"$f":"X4/24/M$5","v":73.933333333333479},{"$f":"SUM(AW863:AZ1227)*6","v":24841.600000000049},{"$f":"X4/Z4","v":4.3044592666813477},{"$f":"SUM(S863:V1227)*6","v":5771.1313921091951},{"$f":"SUM(W832:Z1121)*6","v":498.69232653610908},3.4143606004209834,1.2606926363169189,null,0.92541721356845341,6236.2481564995251,863,1227,0.75,13954.395795528057,null,null,null,null,null,null,null,null,null,null,null,"www.degreedays.net (using temperature data from www.wunderground.com)",null,null,null,null,"m.n.m",600,{"$f":"BB2","v":9.997394429469912},{"$f":"BD2-BD3","v":10.678277178796041},{"$f":"BE2-BE3","v":10.157994159928133},{"$f":"BF2-BF3","v":10.053875561545377},{"$f":"BG2-BG3","v":9.8977538185085354},null,null,null,null,null,null,null,null,null,null,null,null,"Source:","www.degreedays.net (using temperature data from www.wunderground.com)\""]
["m.n.m",0.1,0.1,0.1,2.3E-2,0.125,0.35,0.09,"křivka TČ sklon. Většinou bývá 0,1 a znamená, že COP klesá o 1 při změně venkovní tepoty o 10K. Maximum pro SCOP je 0,13",null,null,null,14,"kW pro dT 30K. Tedy topení na 20°C, venku -15°C při patě 15°C.",0,"kW topení ostatních zdrojů",null,null,null,null,"18/19",1359.6160000000002,{"$f":"X5/24/M$5","v":70.813333333333347},{"$f":"SUM(AW1228:AZ1592)*6","v":23793.280000000002},{"$f":"X5/Z5","v":4.6281701065210434},{"$f":"SUM(S1228:V1592)*6","v":5140.9692064851979},null,3.647646983416426,{"$f":"Y5/AB5","v":1.2688097635441269},null,0.91949691765285013,5591.0673628012491,1228,1592,1,11329.247155216717,{"$f":"SUM(B10:B23)/14","v":5.75},null,null,null,null,null,null,null,null,null,null,null,null,null,null,null,"korekce",{"$f":"0.65*(BB7-BB4)/100","v":-2.08},"K","vídeň o 0,67 stupně víc, než odpovídá výšce.",null,null,null,null,null,null,null,null,null,null,null,null,null,null,null,"Accuracy:","Estimates were made to account for missing data: the \"\"% Estimated\"\" column shows how much each figure was affected (0% is best, 100% is worst)\""]
[280,2.2999999999999998,3.4,3.8,3.96,3.75,8.6999999999999993,3.4,"křivka TČ konst znamená COP při 0°C. Od Stiebel 3,8 pres LG 3,4 až po NIBE 2,7",null,null,null,15,"°C je pata ekvitermu",{"$f":"SUM(Z2:Z7)/6","v":5646.0019268616188},"kWh/rok je topení průměr 2015/2021",null,null,null,null,"19/20",1298.8800000000006,{"$f":"X6/24/M$5","v":67.65000000000002},{"$f":"SUM(AW1593:AZ1958)*6","v":22730.400000000009},{"$f":"X6/Z6","v":4.7674040348518254},{"$f":"SUM(S1593:V1958)*6","v":4767.877829072334},null,3.7521232156449322,{"$f":"Y6/AB6","v":1.2705883471453061},null,0.91820979571225791,5192.5800087700845,1593,1958,1.25,9409.0617279831658,null,null,null,null,null,{"$f":"SUM(AN10:AQ16)","v":14.40069509374716},null,null,null,null,null,null,null,null,null,null,null,"data jednotlivých stanic:",null,null,null,null,"mělo by být 620 m.n.m.",null,null,null,null,null,null,null,null,null,null,null,null,"Station:","Kosice, Barca (21.24E,48.66N)\""]
[{"$f":"0.65*(BB7-A6)/100","v":0},{"$f":"AK9/AL9","v":5.4446049707011452},15,{"$f":"AL9/3","v":235.66666666666666},{"$f":"AM8","v":237.66666666666666},"topných dnů",null,30,"°C Teplota topné vody při výpočtových ztrátách dT 30K",null,null,null,3,"kW je výkon TČ při COP =1 (příkon motoru)",null,null,null,null,null,null,"20/21",1579.7759999999971,82.279999999999859,{"$f":"SUM(AW1959:AZ2323)*6","v":27646.079999999951},4.3707189437271596,{"$f":"SUM(S1959:V2323)*6","v":6325.2934713812947},null,3.4476140518569749,1.2677518068975779,{"$f":"Y7/3.2","v":1.3658496699147373},0.92026425071458962,6873.3447664295054,1959,2323,1.5,8145.1733521993401,"průměrná teplota za topné období","počet topných dnů","počet DNŮ topení TČ",null,null,null,null,null,null,null,null,null,null,null,null,null,"m.n.m:",280,null,185,235,363,600,null,null,null,null,null,null,null,null,null,null,null,null,"Station ID:","LZKZ\""]
["Průměr °C",{"$f":"SUM(B116:B1211)/1096","v":10.232208029197089},"odpoledne","průměr","v noci",20,"°C bez výkonu",null,null,null,null,null,{"$f":"M7*I3","v":12.09},"kW je výkon čerpadla při A7/W35",null,null,null,null,null,null,"21/22",1388.2239999999988,72.303333333333256,{"$f":"SUM(AW2324:AZ2688)*6","v":24293.919999999976},4.6798494211930413,{"$f":"SUM(S2324:V2688)*6","v":5191.175572868473},null,3.7168755151765462,1.2590815597898104,null,2.3654124717764891,2194.6174862981757,2324,2688,1.75,7350.7985647877149,{"$f":"AK9/AL9","v":5.4446049707011452},{"$f":"AL9/3","v":235.66666666666666},{"$f":"AM9/3","v":237.66666666666666},null,null,null,null,null,null,null,null,null,null,null,null,null,null,null,null,"Wien / Schwechat-Flughafen, AT (16.57E,48.11N)","Brno / Turany, CZ (16.69E,49.15N)\"","Praha / Ruzyne, CZ (14.26E,50.10N)     363 m.n.m","Karlovy Vary, CZ (12.91E,50.20N)\""]
["Date;HDD;% Estimated","Kbely 2015-18 (°C)",0,0,{"$f":"-C9","v":0},"topná teplota","dosažený COP",null,null,null,"Potřebný topný výkon (kW)",null,null,null,"Příkon(kW)",null,null,null,"topení (kW)",null,null,null,"chlaz (kW)",null,null,null,"kW topení","kW chlazení","kWh celkem po šesti hodinách","kWh celkem z průměrů za týden","kWh chlazení po šesti hodinách","kWh chlazení jako týdenní průměry",null,null,2,6894.9554662864612,{"$f":"SUM(AK116:AK1211)","v":3849.3357142857099},{"$f":"SUM(AL116:AL1211)","v":707},{"$f":"SUM(AM116:AM1211)","v":713},"procent výkonu kompresoru",null,null,null,"min","max","vytížení kompresoru",null,null,"Potřebný topný výkon (kW) jen kladný",null,null,null,null,"Kbely 2015-18 (°C)","IMOSTKOV2","LOWW","LKTB","LKPR","LKKV\"",null,"LZTT Poprad",null,null,null,null,null,null,null,null,null,null,"Date;HDD;% Estimated"]
["2015-04-01",{"$f":"A1","v":-10},{"$f":"$B10+C$9","v":-10},{"$f":"$B10+D$9","v":-10},-10,{"$f":"F$8+(H$7-F$8)*(M$6-B10)/30","v":28.333333333333336},{"$f":"IF((B10+35-$F10)*$H$5+$H$6>1,(B10+35-$F10)*$H$5+$H$6,1)","v":3.0999999999999996},{"$f":"IF((C10+35-$F10)*$H$5+$H$6>1,(C10+35-$F10)*$H$5+$H$6,1)","v":3.0999999999999996},{"$f":"IF((D10+35-$F10)*$H$5+$H$6>1,(D10+35-$F10)*$H$5+$H$6,1)","v":3.0999999999999996},{"$f":"IF((E10+35-$F10)*$H$5+$H$6>1,(E10+35-$F10)*$H$5+$H$6,1)","v":3.0999999999999996},{"$f":"$M$5*($M$6-B10)/30-$O$5","v":11.666666666666666},{"$f":"$M$5*($M$6-C10)/30-$O$5","v":11.666666666666666},{"$f":"$M$5*($M$6-D10)/30-$O$5","v":11.666666666666666},{"$f":"$M$5*($M$6-E10)/30-$O$5","v":11.666666666666666},{"$f":"IF(K10/G10>$M$7,$M$7+K10-$M$7*G10,K10/G10)","v":5.3666666666666671},{"$f":"IF(L10/H10>$M$7,$M$7+L10-$M$7*H10,L10/H10)","v":5.3666666666666671},{"$f":"IF(M10/I10>$M$7,$M$7+M10-$M$7*I10,M10/I10)","v":5.3666666666666671},{"$f":"IF(N10/J10>$M$7,$M$7+N10-$M$7*J10,N10/J10)","v":5.3666666666666671},{"$f":"IF(O10>0,O10,0)","v":5.3666666666666671},{"$f":"IF(P10>0,P10,)","v":5.3666666666666671},{"$f":"IF(Q10>0,Q10,)","v":5.3666666666666671},{"$f":"IF(R10>0,R10,)","v":5.3666666666666671},{"$f":"IF(O10<0,-O10,0)","v":0},{"$f":"IF(P10<0,-P10,0)","v":0},{"$f":"IF(Q10<0,-Q10,0)","v":0},{"$f":"IF(R10<0,-R10,0)","v":0},{"$f":"IF(SUM(O10:R10)/4>0,SUM(O10:R10)/4,)","v":5.3666666666666671},{"$f":"IF(SUM(O10:R10)/4<0,-SUM(O10:R10)/4,)","v":0},{"$f":"6*SUM(S10:V10)","v":128.80000000000001},null,{"$f":"6*SUM(W10:Z10)","v":0},null,null,null,2.25,6631.8809503384027,null,{"$f":"IF(B10<$C$7,1,0)","v":1},null,{"$f":"K10/G10/$M$7","v":1.2544802867383513},{"$f":"L10/H10/$M$7","v":1.2544802867383513},{"$f":"M10/I10/$M$7","v":1.2544802867383513},{"$f":"N10/J10/$M$7","v":1.2544802867383513},null,null,null,null,null,{"$f":"IF(K10>0,K10,0)","v":11.666666666666666},{"$f":"IF(L10>0,L10,0)","v":11.666666666666666},{"$f":"IF(M10>0,M10,0)","v":11.666666666666666},{"$f":"IF(N10>0,N10,0)","v":11.666666666666666},null,2.5,null,5.5,4.6000000000000014,3.3000000000000007,1,null,null,null,null,null,null,null,null,null,null,null,null,"2016-01-01",38.5,0,{"$f":"30-BU10","v":-8.5}]
["2015-04-02",{"$f":"BB11+A$7","v":2.5},{"$f":"$B11+C$9","v":2.5},2.5,2.5,{"$f":"F$8+(H$7-F$8)*(M$6-B11)/30","v":24.166666666666668},{"$f":"IF((B11+35-$F11)*$H$5+$H$6>1,(B11+35-$F11)*$H$5+$H$6,1)","v":4.5999999999999996},4.5999999999999996,4.5999999999999996,4.5999999999999996,5.833333333333333,5.833333333333333,5.833333333333333,5.833333333333333,1.2681159420289856,1.2681159420289856,1.2681159420289856,1.2681159420289856,{"$f":"IF(O11>0,O11,)","v":1.2681159420289856},1.2681159420289856,1.2681159420289856,1.2681159420289856,0,0,0,0,{"$f":"IF(SUM(O11:R11)/4>0,SUM(O11:R11)/4,)","v":1.2681159420289856},{"$f":"IF(SUM(O11:R11)/4<0,-SUM(O11:R11)/4,)","v":0},{"$f":"6*SUM(S11:V11)+AC10","v":159.23478260869567},{"$f":"AD10+AA11*24","v":30.434782608695656},{"$f":"6*SUM(W11:Z11)+AE10","v":0},{"$f":"AF10+AB11*24","v":0},null,null,2.5,6459.8024621231443,null,{"$f":"IF(B11<$C$7,1,0)","v":1},null,0.42270531400966188,0.42270531400966188,0.42270531400966188,0.42270531400966188,null,null,{"$f":"SUM(AN10:AQ12)/12","v":0.67838621218177231},null,null,5.833333333333333,5.833333333333333,5.833333333333333,5.833333333333333,null,2.5,null,4.8999999999999986,3.1999999999999993,1.8000000000000007,-0.30000000000000071,null,null,null,null,null,null,null,null,null,null,null,null,"2016-01-02",39.700000000000003,0,{"$f":"30-BU11","v":-9.7000000000000028}]
["2015-04-03",4,4,4,4,23.666666666666668,4.7799999999999994,4.7799999999999994,4.7799999999999994,4.7799999999999994,5.1333333333333337,5.1333333333333337,5.1333333333333337,5.1333333333333337,1.073919107391911,1.073919107391911,1.073919107391911,1.073919107391911,1.073919107391911,1.073919107391911,1.073919107391911,1.073919107391911,0,0,0,0,1.073919107391911,0,{"$f":"6*SUM(S12:V12)+AC11","v":185.00884118610153},{"$f":"AC12","v":185.00884118610153},0,{"$f":"AF11+AB12*24","v":0},null,null,2.75,6339.7966939499856,null,1,null,0.35797303579730366,0.35797303579730366,0.35797303579730366,0.35797303579730366,null,null,{"$f":"SUM(AN11:AQ13)/12","v":0.39815383670997279},null,null,5.1333333333333337,5.1333333333333337,5.1333333333333337,5.1333333333333337,null,4,null,5.6999999999999993,4,2.8000000000000007,0.39999999999999858,null,null,null,null,null,null,null,null,null,null,null,null,"2016-01-03",39.799999999999997,0,-9.7999999999999972]
["2015-04-04",2.6999999999999993,2.6999999999999993,2.6999999999999993,2.6999999999999993,24.1,4.6239999999999997,4.6239999999999997,4.6239999999999997,4.6239999999999997,5.74,5.74,5.74,5.74,1.2413494809688583,1.2413494809688583,1.2413494809688583,1.2413494809688583,1.2413494809688583,1.2413494809688583,1.2413494809688583,1.2413494809688583,0,0,0,0,1.2413494809688583,0,214.80122872935414,{"$f":"AD12+AA10*24","v":313.80884118610152},0,{"$f":"AF12+AB10*24","v":0},null,null,3,6260.9624962665812,null,1,{"$f":"IF(SUM(AN10:AQ16)>0,1,0)","v":1},0.41378316032295276,0.41378316032295276,0.41378316032295276,0.41378316032295276,{"$f":"SUM(AO10:AO16)/7","v":0.51431053906239854},{"$f":"SUM(AQ10:AQ16)/7","v":0.51431053906239854},0.38932334898579818,null,null,5.74,5.74,5.74,5.74,null,2.6999999999999993,null,4.6000000000000014,3.3999999999999986,2.3000000000000007,-0.39999999999999858,null,null,null,null,null,null,null,null,null,null,null,null,"2016-01-04",40.799999999999997,0,-10.799999999999997]
["2015-04-05",3.1000000000000014,3.1000000000000014,3.1000000000000014,3.1000000000000014,23.966666666666665,4.6720000000000006,4.6720000000000006,4.6720000000000006,4.6720000000000006,5.5533333333333319,5.5533333333333319,5.5533333333333319,5.5533333333333319,1.1886415525114151,1.1886415525114151,1.1886415525114151,1.1886415525114151,1.1886415525114151,1.1886415525114151,1.1886415525114151,1.1886415525114151,0,0,0,0,1.1886415525114151,0,243.32862598962811,{"$f":"AD13+AA14*24","v":342.33623844637549},0,0,null,null,4,6133.6805560991552,null,1,{"$f":"IF(SUM(AN11:AQ17)>0,1,0)","v":1},0.39621385083713839,0.39621385083713839,0.39621385083713839,0.39621385083713839,{"$f":"SUM(AO11:AO17)/7","v":0.36917429382096395},{"$f":"SUM(AQ11:AQ17)/7","v":0.36917429382096395},0.41847346937511282,null,null,5.5533333333333319,5.5533333333333319,5.5533333333333319,5.5533333333333319,null,3.1000000000000014,null,4.1000000000000014,3.1999999999999993,1.6999999999999993,0.19999999999999929,null,null,null,null,null,null,null,null,null,null,null,null,"2016-01-05",37,1,-7]
["2015-04-06",2,2,2,2,24.333333333333332,4.54,4.54,4.54,4.54,6.0666666666666664,6.0666666666666664,6.0666666666666664,6.0666666666666664,1.3362701908957415,1.3362701908957415,1.3362701908957415,1.3362701908957415,1.3362701908957415,1.3362701908957415,1.3362701908957415,1.3362701908957415,0,0,0,0,1.3362701908957415,0,275.3991105711259,374.40672302787328,0,0,null,null,5,6124.4776797164568,null,1,1,0.44542339696524719,0.44542339696524719,0.44542339696524719,0.44542339696524719,0.33451182669754281,0.33451182669754281,0.38374399218950656,null,null,6.0666666666666664,6.0666666666666664,6.0666666666666664,6.0666666666666664,null,2,null,3.8999999999999986,3.1999999999999993,0.60000000000000142,-0.60000000000000142,null,null,null,null,null,null,null,null,null,null,null,null,"2016-01-06",32.799999999999997,0,-2.7999999999999972]
["2015-04-07",5.1999999999999993,5.1999999999999993,5.1999999999999993,5.1999999999999993,23.266666666666666,4.9240000000000004,4.9240000000000004,4.9240000000000004,4.9240000000000004,4.5733333333333341,4.5733333333333341,4.5733333333333341,4.5733333333333341,0.92878418629840243,0.92878418629840243,0.92878418629840243,0.92878418629840243,0.92878418629840243,0.92878418629840243,0.92878418629840243,0.92878418629840243,0,0,0,0,0.92878418629840243,0,297.68993104228758,396.69754349903496,0,0,null,null,6,6124.4776797164568,{"$f":"IF(SUM(B10:B23)/14<$C$7,SUM(B10:B23)/14,0)","v":5.75},{"$f":"IF(SUM(B10:B23)/14<$C$7,1,0)","v":1},1,0.30959472876613414,0.30959472876613414,0.30959472876613414,0.30959472876613414,0.30357484178566246,0.30357484178566246,0.33118156525989689,null,null,4.5733333333333341,4.5733333333333341,4.5733333333333341,4.5733333333333341,null,5.1999999999999993,null,6.1000000000000014,5.6999999999999993,4.1999999999999993,2.6000000000000014,null,null,null,null,null,null,null,null,null,null,null,null,"2016-01-07",29,0,1]
["2015-04-08",7.1000000000000014,7.1000000000000014,7.1000000000000014,7.1000000000000014,22.633333333333333,5.1520000000000001,5.1520000000000001,5.1520000000000001,5.1520000000000001,3.6866666666666661,3.6866666666666661,3.6866666666666661,3.6866666666666661,0.71557971014492738,0.71557971014492738,0.71557971014492738,0.71557971014492738,0.71557971014492738,0.71557971014492738,0.71557971014492738,0.71557971014492738,0,0,0,0,0.71557971014492738,0,314.86384408576583,413.87145654251322,0,0,null,null,5.7,6124.4776797164568,{"$f":"IF(SUM(B11:B24)/14<$C$7,SUM(B11:B24)/14,0)","v":7.6142857142857139},{"$f":"IF(SUM(B11:B24)/14<$C$7,1,0)","v":1},1,0.23852657004830913,0.23852657004830913,0.23852657004830913,0.23852657004830913,0.2504811668098641,0.2504811668098641,0.24272978098671916,null,null,3.6866666666666661,3.6866666666666661,3.6866666666666661,3.6866666666666661,null,7.1000000000000014,null,8.1999999999999993,7.8999999999999986,5.8999999999999986,5,null,null,null,null,null,null,null,null,null,null,null,null,"2016-01-08",32.700000000000003,0,-2.7000000000000028]
["2015-04-09",8.8000000000000007,8.8000000000000007,8.8000000000000007,8.8000000000000007,22.066666666666666,5.3559999999999999,5.3559999999999999,5.3559999999999999,5.3559999999999999,2.8933333333333326,2.8933333333333326,2.8933333333333326,2.8933333333333326,0.54020413243714205,0.54020413243714205,0.54020413243714205,0.54020413243714205,0.54020413243714205,0.54020413243714205,0.54020413243714205,0.54020413243714205,0,0,0,0,0.54020413243714205,0,327.82874326425724,426.83635572100462,0,0,null,null,null,null,8.4714285714285715,1,1,0.18006804414571401,0.18006804414571401,0.18006804414571401,0.18006804414571401,0.20467416074587802,0.20467416074587802,0.18666958520272156,null,null,2.8933333333333326,2.8933333333333326,2.8933333333333326,2.8933333333333326,null,8.8000000000000007,null,9.6000000000000014,9.8000000000000007,8.1000000000000014,6.1000000000000014,null,null,null,null,null,null,null,null,null,null,null,null,"2016-01-09",30.6,0,-0.60000000000000142]
["2015-04-10",10,10,10,10,21.666666666666668,5.5,5.5,5.5,5.5,2.3333333333333335,2.3333333333333335,2.3333333333333335,2.3333333333333335,0.42424242424242425,0.42424242424242425,0.42424242424242425,0.42424242424242425,0.42424242424242425,0.42424242424242425,0.42424242424242425,0.42424242424242425,0,0,0,0,0.42424242424242425,0,338.01056144607543,437.01817390282281,0,0,null,null,null,null,8.8071428571428569,1,1,0.14141414141414141,0.14141414141414141,0.14141414141414141,0.14141414141414141,0.16169336448359295,0.16169336448359295,0.12120320701740661,null,null,2.3333333333333335,2.3333333333333335,2.3333333333333335,2.3333333333333335,null,10,null,11.3,11.2,10,9,null,null,"Kbely 2015-18 (°C)","IMOSTKOV2","LOWW","LKTB","LKPR","LKKV\"","LZKZ Košice","LZTT Poprad",null,null,"2016-01-10",28.2,0,1.8000000000000007]
["2015-04-11",13.399999999999999,13.399999999999999,13.399999999999999,13.399999999999999,20.533333333333335,5.9079999999999995,5.9079999999999995,5.9079999999999995,5.9079999999999995,0.74666666666666737,0.74666666666666737,0.74666666666666737,0.74666666666666737,0.12638230647709334,0.12638230647709334,0.12638230647709334,0.12638230647709334,0.12638230647709334,0.12638230647709334,0.12638230647709334,0.12638230647709334,0,0,0,0,0.12638230647709334,0,341.04373680152565,440.05134925827304,0,0,null,null,null,null,9.0357142857142829,1,1,4.2127435492364446E-2,4.2127435492364446E-2,4.2127435492364446E-2,4.2127435492364446E-2,0.1394758175484456,0.1394758175484456,8.6368795098580572E-2,null,null,0.74666666666666737,0.74666666666666737,0.74666666666666737,0.74666666666666737,null,13.399999999999999,null,13.5,13,12.600000000000001,10.399999999999999,null,null,{"$f":"SUM(BB10:BB29)/30","v":5.23},{"$f":"SUM(BC10:BC29)/30","v":0},6.3299999999999992,5.6633333333333331,4.7266666666666675,3.5766666666666662,0,null,null,null,"2016-01-11",28.2,0,1.8000000000000007]
["2015-04-12",12.2,12.2,12.2,12.2,20.933333333333334,5.7640000000000002,5.7640000000000002,5.7640000000000002,5.7640000000000002,1.3066666666666671,1.3066666666666671,1.3066666666666671,1.3066666666666671,0.22669442516770769,0.22669442516770769,0.22669442516770769,0.22669442516770769,0.22669442516770769,0.22669442516770769,0.22669442516770769,0.22669442516770769,0,0,0,0,0.22669442516770769,0,346.48440300555063,445.49201546229801,0,0,null,null,null,null,9.3714285714285701,1,1,7.5564808389235891E-2,7.5564808389235891E-2,7.5564808389235891E-2,7.5564808389235891E-2,0.10147818561070092,0.10147818561070092,8.7416689003617376E-2,null,null,1.3066666666666671,1.3066666666666671,1.3066666666666671,1.3066666666666671,null,12.2,null,15.1,13,11.100000000000001,9.8999999999999986,null,null,{"$f":"SUM(BB11:BB30)/30","v":5.58},0,6.6166666666666654,5.95,5.0100000000000016,3.9133333333333327,0,null,null,null,"2016-01-12",26.3,0,3.6999999999999993]
["2015-04-13",9.8999999999999986,9.8999999999999986,9.8999999999999986,9.8999999999999986,21.7,5.4879999999999995,5.4879999999999995,5.4879999999999995,5.4879999999999995,2.3800000000000008,2.3800000000000008,2.3800000000000008,2.3800000000000008,0.43367346938775531,0.43367346938775531,0.43367346938775531,0.43367346938775531,0.43367346938775531,0.43367346938775531,0.43367346938775531,0.43367346938775531,0,0,0,0,0.43367346938775531,0,356.89256627085678,455.90017872760416,0,0,null,null,null,null,10.007142857142856,1,1,0.14455782312925178,0.14455782312925178,0.14455782312925178,0.14455782312925178,7.7593767236473515E-2,7.7593767236473515E-2,0.12473151057953014,null,null,2.3800000000000008,2.3800000000000008,2.3800000000000008,2.3800000000000008,null,9.8999999999999986,null,12.5,10.3,9.1999999999999993,7.8000000000000007,null,null,{"$f":"SUM(BB12:BB31)/30","v":5.8199999999999994},0,6.9399999999999986,6.2633333333333336,5.2333333333333334,4.1133333333333333,0,null,null,null,"2016-01-13",28,0,2]
["2015-04-14",9.6000000000000014,9.6000000000000014,9.6000000000000014,9.6000000000000014,21.8,5.452,5.452,5.452,5.452,2.5199999999999991,2.5199999999999991,2.5199999999999991,2.5199999999999991,0.46221570066030798,0.46221570066030798,0.46221570066030798,0.46221570066030798,0.46221570066030798,0.46221570066030798,0.46221570066030798,0.46221570066030798,0,0,0,0,0.46221570066030798,0,367.98574308670419,466.99335554345157,0,0,null,null,null,null,10.564285714285713,1,1,0.15407190022010267,0.15407190022010267,0.15407190022010267,0.15407190022010267,8.358935182487251E-2,8.358935182487251E-2,9.0390956611150264E-2,null,null,2.5199999999999991,2.5199999999999991,2.5199999999999991,2.5199999999999991,null,9.6000000000000014,null,11.399999999999999,9.6999999999999993,8.8000000000000007,6.3999999999999986,null,null,{"$f":"SUM(BB13:BB32)/30","v":6.0566666666666666},0,7.1666666666666652,6.5533333333333328,5.48,4.37,0,null,null,null,"2016-01-14",28.9,0,1.1000000000000014]
["2015-04-15",16.100000000000001,16.100000000000001,16.100000000000001,16.100000000000001,19.633333333333333,6.2319999999999993,6.2319999999999993,6.2319999999999993,6.2319999999999993,-0.51333333333333397,-0.51333333333333397,-0.51333333333333397,-0.51333333333333397,-8.2370560547710858E-2,-8.2370560547710858E-2,-8.2370560547710858E-2,-8.2370560547710858E-2,0,0,0,0,8.2370560547710858E-2,8.2370560547710858E-2,8.2370560547710858E-2,8.2370560547710858E-2,0,8.2370560547710858E-2,367.98574308670419,466.99335554345157,1.9768934531450606,1.9768934531450606,null,null,null,null,10.749999999999998,1,1,-2.7456853515903618E-2,-2.7456853515903618E-2,-2.7456853515903618E-2,-2.7456853515903618E-2,0.11795098346025003,0.11795098346025003,4.6497387410107054E-2,null,null,0,0,0,0,null,16.100000000000001,null,16.600000000000001,15.4,15.7,14.2,null,null,{"$f":"SUM(BB14:BB33)/30","v":6.4066666666666654},0,7.463333333333332,6.8533333333333335,5.81,4.7033333333333331,0,null,null,null,"2016-01-15",29.9,0,0.10000000000000142]
["2015-04-16",14.5,14.5,14.5,14.5,20.166666666666668,6.0399999999999991,6.0399999999999991,6.0399999999999991,6.0399999999999991,0.23333333333333334,0.23333333333333334,0.23333333333333334,0.23333333333333334,3.8631346578366449E-2,3.8631346578366449E-2,3.8631346578366449E-2,3.8631346578366449E-2,3.8631346578366449E-2,3.8631346578366449E-2,3.8631346578366449E-2,3.8631346578366449E-2,0,0,0,0,3.8631346578366449E-2,0,368.91289540458496,467.92050786133234,1.9768934531450606,1.9768934531450606,null,null,null,null,10.914285714285711,1,1,1.2877115526122149E-2,1.2877115526122149E-2,1.2877115526122149E-2,1.2877115526122149E-2,0.13771368844971749,0.13771368844971749,5.6267831847717574E-2,null,null,0.23333333333333334,0.23333333333333334,0.23333333333333334,0.23333333333333334,null,14.5,null,17.899999999999999,15.9,14.3,13.100000000000001,null,null,{"$f":"SUM(BB15:BB34)/30","v":6.7933333333333321},0,7.8266666666666653,7.2366666666666664,6.2166666666666668,5.0733333333333341,0,null,null,null,"2016-01-16",31.6,0,-1.6000000000000014]
["2015-04-17",8.6999999999999993,8.6999999999999993,8.6999999999999993,8.6999999999999993,22.1,5.3439999999999994,5.3439999999999994,5.3439999999999994,5.3439999999999994,2.9400000000000004,2.9400000000000004,2.9400000000000004,2.9400000000000004,0.55014970059880253,0.55014970059880253,0.55014970059880253,0.55014970059880253,0.55014970059880253,0.55014970059880253,0.55014970059880253,0.55014970059880253,0,0,0,0,0.55014970059880253,0,382.11648821895619,481.12410067570357,1.9768934531450606,1.9768934531450606,null,null,null,null,11.142857142857141,1,1,0.18338323353293418,0.18338323353293418,0.18338323353293418,0.18338323353293418,0.13330920265567156,0.13330920265567156,0.1596397353330212,null,null,2.9400000000000004,2.9400000000000004,2.9400000000000004,2.9400000000000004,null,8.6999999999999993,null,13.100000000000001,11.100000000000001,7.8000000000000007,7,null,null,{"$f":"SUM(BB16:BB35)/30","v":7.1999999999999984},0,8.2299999999999986,7.6733333333333329,6.6633333333333322,5.5,0,null,null,null,"2016-01-17",35.1,0,-5.1000000000000014]
["2015-04-18",5.8999999999999986,5.8999999999999986,5.8999999999999986,5.8999999999999986,23.033333333333335,5.0079999999999991,5.0079999999999991,5.0079999999999991,5.0079999999999991,4.246666666666667,4.246666666666667,4.246666666666667,4.246666666666667,0.84797657082002154,0.84797657082002154,0.84797657082002154,0.84797657082002154,0.84797657082002154,0.84797657082002154,0.84797657082002154,0.84797657082002154,0,0,0,0,0.84797657082002154,0,402.46792591863669,501.47553837538408,1.9768934531450606,1.9768934531450606,null,null,null,null,11.235714285714284,1,1,0.2826588569400072,0.2826588569400072,0.2826588569400072,0.2826588569400072,0.11888330738071569,0.11888330738071569,0.22664861126281646,null,null,4.246666666666667,4.246666666666667,4.246666666666667,4.246666666666667,null,5.8999999999999986,null,7.6000000000000014,7,4.6999999999999993,3,null,null,{"$f":"SUM(BB17:BB36)/30","v":7.513333333333331},0,8.6066666666666638,8.0399999999999991,7.003333333333333,5.833333333333333,0,null,null,null,"2016-01-18",33.700000000000003,0,-3.7000000000000028]
["2015-04-19",7.8000000000000007,7.8000000000000007,7.8000000000000007,7.8000000000000007,22.4,5.2359999999999998,5.2359999999999998,5.2359999999999998,5.2359999999999998,3.3599999999999994,3.3599999999999994,3.3599999999999994,3.3599999999999994,0.64171122994652396,0.64171122994652396,0.64171122994652396,0.64171122994652396,0.64171122994652396,0.64171122994652396,0.64171122994652396,0.64171122994652396,0,0,0,0,0.64171122994652396,0,417.86899543735325,516.87660789410063,1.9768934531450606,1.9768934531450606,null,null,null,null,11.378571428571425,1,1,0.21390374331550799,0.21390374331550799,0.21390374331550799,0.21390374331550799,0.14436094521943516,0.14436094521943516,0.20342967427548186,null,null,3.3599999999999994,3.3599999999999994,3.3599999999999994,3.3599999999999994,null,7.8000000000000007,null,7.1999999999999993,7.5,7,4.8999999999999986,null,null,{"$f":"SUM(BB18:BB37)/30","v":7.5033333333333312},0,8.7566666666666659,8.1999999999999993,7.0166666666666666,5.833333333333333,0,null,null,null,"2016-01-19",35.6,0,-5.6000000000000014]
["2015-04-20",10.899999999999999,10.899999999999999,10.899999999999999,10.899999999999999,21.366666666666667,5.6079999999999997,5.6079999999999997,5.6079999999999997,5.6079999999999997,1.913333333333334,1.913333333333334,1.913333333333334,1.913333333333334,0.34117926771279139,0.34117926771279139,0.34117926771279139,0.34117926771279139,0.34117926771279139,0.34117926771279139,0.34117926771279139,0.34117926771279139,0,0,0,0,0.34117926771279139,0,426.05729786246025,525.06491031920757,1.9768934531450606,1.9768934531450606,null,null,null,null,11.714285714285714,1,1,0.11372642257093046,0.11372642257093046,0.11372642257093046,0.11372642257093046,0.15790961486288957,0.15790961486288957,0.12690693306061665,null,null,1.913333333333334,1.913333333333334,1.913333333333334,1.913333333333334,null,10.899999999999999,null,11.100000000000001,10.8,9.8999999999999986,7.6000000000000014,null,null,{"$f":"SUM(BB19:BB38)/30","v":7.4566666666666643},0,8.7799999999999994,8.1566666666666663,6.9766666666666657,5.84,0,null,null,null,"2016-01-20",35.200000000000003,0,-5.2000000000000028]
["2015-04-21",13,13,13,13,20.666666666666668,5.8599999999999994,5.8599999999999994,5.8599999999999994,5.8599999999999994,0.93333333333333335,0.93333333333333335,0.93333333333333335,0.93333333333333335,0.15927189988623439,0.15927189988623439,0.15927189988623439,0.15927189988623439,0.15927189988623439,0.15927189988623439,0.15927189988623439,0.15927189988623439,0,0,0,0,0.15927189988623439,0,429.87982345972989,528.88743591647722,1.9768934531450606,1.9768934531450606,null,null,null,null,11.514285714285716,1,1,5.3090633295411464E-2,5.3090633295411464E-2,5.3090633295411464E-2,5.3090633295411464E-2,0.13851010660544114,0.13851010660544114,0.10590122240715816,null,null,0.93333333333333335,0.93333333333333335,0.93333333333333335,0.93333333333333335,null,13,null,14.1,13.2,11.8,11.100000000000001,null,null,{"$f":"SUM(BB20:BB39)/30","v":7.419999999999999},0,8.76,8.11,6.94,5.7933333333333339,0,null,null,null,"2016-01-21",35.799999999999997,0,-5.7999999999999972]
["2015-04-22",9.6999999999999993,{"$f":"$B31+C$9","v":9.6999999999999993},9.6999999999999993,9.6999999999999993,21.766666666666666,5.4640000000000004,5.4640000000000004,5.4640000000000004,5.4640000000000004,2.473333333333334,2.473333333333334,2.473333333333334,2.473333333333334,0.45265983406539784,0.45265983406539784,0.45265983406539784,0.45265983406539784,0.45265983406539784,0.45265983406539784,0.45265983406539784,0.45265983406539784,0,0,0,0,0.45265983406539784,0,440.74365947729945,539.75127193404671,1.9768934531450606,1.9768934531450606,null,null,null,null,10.892857142857144,1,1,0.15088661135513262,0.15088661135513262,0.15088661135513262,0.15088661135513262,9.9229654244492788E-2,9.9229654244492788E-2,0.10389834922694902,null,null,2.473333333333334,2.473333333333334,2.473333333333334,2.473333333333334,null,9.6999999999999993,null,14.6,12.600000000000001,8.5,5.6999999999999993,null,null,{"$f":"SUM(BB21:BB40)/30","v":7.29},0,8.6933333333333316,7.9899999999999993,6.8200000000000012,5.6966666666666672,0,null,null,null,"2016-01-22",37.9,0,-7.8999999999999986]
["2015-04-23",11.100000000000001,11.100000000000001,11.100000000000001,11.100000000000001,21.3,5.6319999999999997,5.6319999999999997,5.6319999999999997,5.6319999999999997,1.8199999999999994,1.8199999999999994,1.8199999999999994,1.8199999999999994,0.32315340909090901,0.32315340909090901,0.32315340909090901,0.32315340909090901,0.32315340909090901,0.32315340909090901,0.32315340909090901,0.32315340909090901,0,0,0,0,0.32315340909090901,0,448.49934129548126,547.50695375222858,1.9768934531450606,1.9768934531450606,null,null,null,null,10.492857142857144,1,1,0.107717803030303,0.107717803030303,0.107717803030303,0.107717803030303,7.1632965598307743E-2,7.1632965598307743E-2,0.10206369670541036,null,null,1.8199999999999994,1.8199999999999994,1.8199999999999994,1.8199999999999994,null,11.100000000000001,null,12.5,12.7,10.199999999999999,8.1000000000000014,null,null,{"$f":"SUM(BB22:BB41)/30","v":7.2333333333333325},0,8.6066666666666656,7.9466666666666663,6.7866666666666671,5.6633333333333331,0,null,null,null,"2016-01-23",40.200000000000003,0,-10.200000000000003]
["2015-04-24",13.2,13.2,13.2,13.2,20.6,5.8840000000000003,5.8840000000000003,5.8840000000000003,5.8840000000000003,0.8400000000000003,0.8400000000000003,0.8400000000000003,0.8400000000000003,0.14276002719238617,0.14276002719238617,0.14276002719238617,0.14276002719238617,0.14276002719238617,0.14276002719238617,0.14276002719238617,0.14276002719238617,0,0,0,0,0.14276002719238617,0,451.92558194809851,550.93319440484584,1.9768934531450606,1.9768934531450606,null,null,null,null,10.549999999999999,1,1,4.7586675730795391E-2,4.7586675730795391E-2,4.7586675730795391E-2,4.7586675730795391E-2,5.685508609738598E-2,5.685508609738598E-2,5.4333389724822302E-2,null,null,0.8400000000000003,0.8400000000000003,0.8400000000000003,0.8400000000000003,null,13.2,null,13.5,12.399999999999999,12.2,9.6000000000000014,null,null,{"$f":"SUM(BB23:BB42)/30","v":7.2800000000000011},0,8.5566666666666666,7.9066666666666654,6.86,5.6933333333333334,0,null,null,null,"2016-01-24",36.200000000000003,0,-6.2000000000000028]
["2015-04-25",14.7,14.7,14.7,14.7,20.100000000000001,6.0640000000000001,6.0640000000000001,6.0640000000000001,6.0640000000000001,0.14000000000000032,0.14000000000000032,0.14000000000000032,0.14000000000000032,2.3087071240105592E-2,2.3087071240105592E-2,2.3087071240105592E-2,2.3087071240105592E-2,2.3087071240105592E-2,2.3087071240105592E-2,2.3087071240105592E-2,2.3087071240105592E-2,0,0,0,0,2.3087071240105592E-2,0,452.47967165786105,551.48728411460831,1.9768934531450606,1.9768934531450606,null,null,null,null,10.87857142857143,1,1,7.6956904133685311E-3,7.6956904133685311E-3,7.6956904133685311E-3,7.6956904133685311E-3,8.4888814334184562E-2,8.4888814334184562E-2,2.5336429645458847E-2,null,null,0.14000000000000032,0.14000000000000032,0.14000000000000032,0.14000000000000032,null,14.7,null,15,14.7,13.899999999999999,11.3,null,null,{"$f":"SUM(BB24:BB43)/30","v":7.4866666666666681},0,8.75,8.0766666666666662,7.1100000000000012,5.9799999999999995,0,null,null,null,"2016-01-25",33.799999999999997,0,-3.7999999999999972]
["2015-04-26",14.2,14.2,14.2,14.2,20.266666666666666,6.0039999999999996,6.0039999999999996,6.0039999999999996,6.0039999999999996,0.37333333333333368,0.37333333333333368,0.37333333333333368,0.37333333333333368,6.2180768376637857E-2,6.2180768376637857E-2,6.2180768376637857E-2,6.2180768376637857E-2,6.2180768376637857E-2,6.2180768376637857E-2,6.2180768376637857E-2,6.2180768376637857E-2,0,0,0,0,6.2180768376637857E-2,0,453.97201009890034,552.97962255564767,1.9768934531450606,1.9768934531450606,null,null,null,null,11.12857142857143,1,1,2.072692279221262E-2,2.072692279221262E-2,2.072692279221262E-2,2.072692279221262E-2,9.5887340672762431E-2,9.5887340672762431E-2,1.2901293090019797E-2,null,null,0.37333333333333368,0.37333333333333368,0.37333333333333368,0.37333333333333368,null,14.2,null,16,16.3,14,12.2,null,null,{"$f":"SUM(BB25:BB44)/30","v":7.5666666666666682},0,8.8733333333333331,8.1866666666666656,7.2066666666666679,6.0666666666666673,0,null,null,null,"2016-01-26",31.6,0,-1.6000000000000014]
["2015-04-27",14.6,14.6,14.6,14.6,20.133333333333333,6.0519999999999996,6.0519999999999996,6.0519999999999996,6.0519999999999996,0.18666666666666684,0.18666666666666684,0.18666666666666684,0.18666666666666684,3.0843798193434708E-2,3.0843798193434708E-2,3.0843798193434708E-2,3.0843798193434708E-2,3.0843798193434708E-2,3.0843798193434708E-2,3.0843798193434708E-2,3.0843798193434708E-2,0,0,0,0,3.0843798193434708E-2,0,454.71226125554278,553.71987371229011,1.9768934531450606,1.9768934531450606,null,null,null,null,11.47857142857143,1,1,1.0281266064478236E-2,1.0281266064478236E-2,1.0281266064478236E-2,1.0281266064478236E-2,0.10575160834953012,0.10575160834953012,9.3444973269897438E-2,null,null,0.18666666666666684,0.18666666666666684,0.18666666666666684,0.18666666666666684,null,14.6,null,17.399999999999999,16.7,14.4,12.600000000000001,null,null,{"$f":"SUM(BB26:BB45)/30","v":7.5633333333333344},0,8.8599999999999977,8.2133333333333329,7.2033333333333331,6.0666666666666664,0,null,null,null,"2016-01-27",30.4,0,-0.39999999999999858]
["2015-04-28",6.8000000000000007,6.8000000000000007,6.8000000000000007,6.8000000000000007,22.733333333333334,5.1159999999999997,5.1159999999999997,5.1159999999999997,5.1159999999999997,3.8266666666666662,3.8266666666666662,3.8266666666666662,3.8266666666666662,0.74798019285900441,0.74798019285900441,0.74798019285900441,0.74798019285900441,0.74798019285900441,0.74798019285900441,0.74798019285900441,0.74798019285900441,0,0,0,0,0.74798019285900441,0,472.66378588415887,571.67139834090619,1.9768934531450606,1.9768934531450606,null,null,null,null,11.871428571428572,1,1,0.24932673095300148,0.24932673095300148,0.24932673095300148,0.24932673095300148,0.12142083207799727,0.12142083207799727,0.16249476424755252,null,null,3.8266666666666662,3.8266666666666662,3.8266666666666662,3.8266666666666662,null,6.8000000000000007,null,12.7,12.7,6.3000000000000007,5,null,null,{"$f":"SUM(BB27:BB46)/30","v":7.7233333333333336},0,8.9699999999999989,8.3466666666666658,7.3633333333333324,6.16,0,null,null,null,"2016-01-28",29.8,0,0.19999999999999929]
["2015-04-29",7.3999999999999986,7.3999999999999986,7.3999999999999986,7.3999999999999986,22.533333333333335,5.1879999999999997,5.1879999999999997,5.1879999999999997,5.1879999999999997,3.5466666666666673,3.5466666666666673,3.5466666666666673,3.5466666666666673,0.6836288871755335,0.6836288871755335,0.6836288871755335,0.6836288871755335,0.6836288871755335,0.6836288871755335,0.6836288871755335,0.6836288871755335,0,0,0,0,0.6836288871755335,0,489.07087917637165,588.07849163311903,1.9768934531450606,1.9768934531450606,null,null,null,null,12.207142857142857,1,1,0.22787629572517784,0.22787629572517784,0.22787629572517784,0.22787629572517784,0.1383070592440217,0.1383070592440217,0.21799023448195207,null,null,3.5466666666666673,3.5466666666666673,3.5466666666666673,3.5466666666666673,null,7.3999999999999986,null,10.3,8.5,6.8999999999999986,6.3000000000000007,null,null,{"$f":"SUM(BB28:BB47)/30","v":7.9500000000000011},0,9.26,8.5833333333333339,7.6433333333333326,6.4300000000000015,0,null,null,null,"2016-01-29",29.3,0,0.69999999999999929]
["2015-04-30",8.8999999999999986,8.8999999999999986,8.8999999999999986,8.8999999999999986,22.033333333333335,5.3679999999999994,5.3679999999999994,5.3679999999999994,5.3679999999999994,2.8466666666666671,2.8466666666666671,2.8466666666666671,2.8466666666666671,0.5303030303030305,0.5303030303030305,0.5303030303030305,0.5303030303030305,0.5303030303030305,0.5303030303030305,0.5303030303030305,0.5303030303030305,0,0,0,0,0.5303030303030305,0,501.7981519036444,600.80576436039178,1.9768934531450606,1.9768934531450606,null,null,null,null,12.37857142857143,1,1,0.17676767676767682,0.17676767676767682,0.17676767676767682,0.17676767676767682,0.14988323827622013,0.14988323827622013,0.18730507144097339,null,null,2.8466666666666671,2.8466666666666671,2.8466666666666671,2.8466666666666671,null,8.8999999999999986,null,10.7,9.8000000000000007,8.8999999999999986,7.6000000000000014,null,null,{"$f":"SUM(BB29:BB48)/30","v":8.1433333333333344},0,9.5933333333333337,8.8699999999999992,7.8633333333333324,6.700000000000002,0,null,null,null,"2016-01-30",29.9,0,0.10000000000000142]
["2015-05-01",9.5,9.5,9.5,9.5,21.833333333333332,5.4399999999999995,5.4399999999999995,5.4399999999999995,5.4399999999999995,2.5666666666666669,2.5666666666666669,2.5666666666666669,2.5666666666666669,0.47181372549019618,0.47181372549019618,0.47181372549019618,0.47181372549019618,0.47181372549019618,0.47181372549019618,0.47181372549019618,0.47181372549019618,0,0,0,0,0.47181372549019618,0,513.12168131540909,612.12929377215653,1.9768934531450606,1.9768934531450606,null,null,null,null,12.342857142857142,1,1,0.15727124183006538,0.15727124183006538,0.15727124183006538,0.15727124183006538,0.14554525134963267,0.14554525134963267,0.15331273305776064,null,null,2.5666666666666669,2.5666666666666669,2.5666666666666669,2.5666666666666669,null,9.5,null,11.5,9.3999999999999986,9,7.5,null,null,{"$f":"SUM(BB30:BB49)/30","v":8.2333333333333325},0,9.7899999999999991,9.0033333333333321,7.9599999999999991,6.8400000000000016,0,null,null,null,"2016-01-31",28.4,0,1.6000000000000014]
["2015-05-02",10.5,10.5,10.5,10.5,21.5,5.5600000000000005,5.5600000000000005,5.5600000000000005,5.5600000000000005,2.1,2.1,2.1,2.1,0.37769784172661869,0.37769784172661869,0.37769784172661869,0.37769784172661869,0.37769784172661869,0.37769784172661869,0.37769784172661869,0.37769784172661869,0,0,0,0,0.37769784172661869,0,522.18642951684797,621.1940419735954,1.9768934531450606,1.9768934531450606,null,null,null,null,12.264285714285711,1,1,0.12589928057553956,0.12589928057553956,0.12589928057553956,0.12589928057553956,9.7998039906643769E-2,9.7998039906643769E-2,0.12831023280773554,null,null,2.1,2.1,2.1,2.1,null,10.5,null,12.5,11.7,10.100000000000001,8.8999999999999986,null,null,{"$f":"SUM(BB31:BB50)/30","v":8.2033333333333331},0,9.7766666666666673,8.9866666666666664,7.9666666666666668,6.86,0,null,null,null,"2016-02-01",27.2,0,2.8000000000000007]
["2015-05-03",11.3,11.3,11.3,11.3,21.233333333333334,5.6559999999999997,5.6559999999999997,5.6559999999999997,5.6559999999999997,1.7266666666666663,1.7266666666666663,1.7266666666666663,1.7266666666666663,0.30528052805280526,0.30528052805280526,0.30528052805280526,0.30528052805280526,0.30528052805280526,0.30528052805280526,0.30528052805280526,0.30528052805280526,0,0,0,0,0.30528052805280526,0,529.51316219011528,628.52077464686272,1.9768934531450606,1.9768934531450606,null,null,null,null,12.22142857142857,1,1,0.10176017601760175,0.10176017601760175,0.10176017601760175,0.10176017601760175,6.7656183396594502E-2,6.7656183396594502E-2,6.9191604723835745E-2,null,null,1.7266666666666663,1.7266666666666663,1.7266666666666663,1.7266666666666663,null,11.3,null,11,9.1000000000000014,11.399999999999999,8.6999999999999993,null,null,{"$f":"SUM(BB32:BB51)/30","v":8.44},0,9.8266666666666662,9.0733333333333324,8.24,7.2133333333333347,0,null,null,null,"2016-02-02",26.3,0,3.6999999999999993]
["2015-05-04",{"$f":"BB43+A$7","v":15.8},15.8,15.8,15.8,{"$f":"F$8+(H$7-F$8)*(M$6-B43)/30","v":19.733333333333334},{"$f":"IF((B43+35-$F43)*$H$5+$H$6>1,(B43+35-$F43)*$H$5+$H$6,1)","v":6.1959999999999997},{"$f":"IF((C43+35-$F43)*$H$5+$H$6>1,(C43+35-$F43)*$H$5+$H$6,1)","v":6.1959999999999997},{"$f":"IF((D43+35-$F43)*$H$5+$H$6>1,(D43+35-$F43)*$H$5+$H$6,1)","v":6.1959999999999997},{"$f":"IF((E43+35-$F43)*$H$5+$H$6>1,(E43+35-$F43)*$H$5+$H$6,1)","v":6.1959999999999997},{"$f":"$M$5*($M$6-B43)/30-$O$5","v":-0.37333333333333368},{"$f":"$M$5*($M$6-C43)/30-$O$5","v":-0.37333333333333368},{"$f":"$M$5*($M$6-D43)/30-$O$5","v":-0.37333333333333368},{"$f":"$M$5*($M$6-E43)/30-$O$5","v":-0.37333333333333368},{"$f":"IF(K43/G43>$M$7,$M$7+K43-$M$7*G43,K43/G43)","v":-6.0253927264902148E-2},{"$f":"IF(L43/H43>$M$7,$M$7+L43-$M$7*H43,L43/H43)","v":-6.0253927264902148E-2},{"$f":"IF(M43/I43>$M$7,$M$7+M43-$M$7*I43,M43/I43)","v":-6.0253927264902148E-2},{"$f":"IF(N43/J43>$M$7,$M$7+N43-$M$7*J43,N43/J43)","v":-6.0253927264902148E-2},{"$f":"IF(O43>0,O43,)","v":0},{"$f":"IF(P43>0,P43,)","v":0},{"$f":"IF(Q43>0,Q43,)","v":0},{"$f":"IF(R43>0,R43,)","v":0},{"$f":"IF(O43<0,-O43,0)","v":6.0253927264902148E-2},{"$f":"IF(P43<0,-P43,0)","v":6.0253927264902148E-2},{"$f":"IF(Q43<0,-Q43,0)","v":6.0253927264902148E-2},{"$f":"IF(R43<0,-R43,0)","v":6.0253927264902148E-2},{"$f":"IF(SUM(O43:R43)/4>0,SUM(O43:R43)/4,)","v":0},{"$f":"IF(SUM(O43:R43)/4<0,-SUM(O43:R43)/4,)","v":6.0253927264902148E-2},{"$f":"6*SUM(S43:V43)+AC42","v":529.51316219011528},{"$f":"AD42+AA43*24","v":628.52077464686272},{"$f":"6*SUM(W43:Z43)+AE42","v":3.4229877075027124},{"$f":"AF42+AB43*24","v":3.4229877075027124},null,null,null,null,{"$f":"IF(SUM(B37:B50)/14<$C$7,SUM(B37:B50)/14,0)","v":12.042857142857141},{"$f":"IF(SUM(B37:B50)/14<$C$7,1,0)","v":1},{"$f":"IF(SUM(AN40:AQ46)>0,1,0)","v":1},{"$f":"K43/G43/$M$7","v":-2.008464242163405E-2},{"$f":"L43/H43/$M$7","v":-2.008464242163405E-2},{"$f":"M43/I43/$M$7","v":-2.008464242163405E-2},{"$f":"N43/J43/$M$7","v":-2.008464242163405E-2},{"$f":"SUM(AO40:AO46)/7","v":4.8034288774699875E-2},{"$f":"SUM(AQ40:AQ46)/7","v":4.8034288774699875E-2},{"$f":"SUM(AN42:AQ44)/12","v":-6.0940518398440674E-4},null,null,{"$f":"IF(K43>0,K43,0)","v":0},{"$f":"IF(L43>0,L43,0)","v":0},{"$f":"IF(M43>0,M43,0)","v":0},{"$f":"IF(N43>0,N43,0)","v":0},null,15.8,null,17.2,14.8,16.3,15,null,null,{"$f":"SUM(BB33:BB52)/30","v":8.5566666666666666},0,9.9866666666666681,9.2100000000000009,8.3833333333333329,7.38,0,null,null,null,"2016-02-03",25.9,0,4.1000000000000014]
["2015-05-05",18.5,18.5,18.5,18.5,18.833333333333332,6.52,6.52,6.52,6.52,-1.6333333333333333,-1.6333333333333333,-1.6333333333333333,-1.6333333333333333,-0.2505112474437628,-0.2505112474437628,-0.2505112474437628,-0.2505112474437628,0,0,0,0,0.2505112474437628,0.2505112474437628,0.2505112474437628,0.2505112474437628,0,0.2505112474437628,529.51316219011528,628.52077464686272,9.4352576461530191,9.4352576461530191,null,null,null,null,12.757142857142856,1,1,-8.3503749147920928E-2,-8.3503749147920928E-2,-8.3503749147920928E-2,-8.3503749147920928E-2,3.4342914789208243E-2,3.4342914789208243E-2,-2.9368363804907319E-2,null,null,0,0,0,0,null,18.5,null,20.3,18.7,18.600000000000001,16.8,null,null,{"$f":"SUM(BB34:BB53)/30","v":8.5166666666666657},0,10.083333333333334,9.2933333333333312,8.3633333333333333,7.4200000000000008,0,null,null,null,"2016-02-04",27.6,0,2.3999999999999986]
["2015-05-06",14.4,14.4,14.4,14.4,20.2,6.0279999999999996,6.0279999999999996,6.0279999999999996,6.0279999999999996,0.27999999999999986,0.27999999999999986,0.27999999999999986,0.27999999999999986,4.6449900464498983E-2,4.6449900464498983E-2,4.6449900464498983E-2,4.6449900464498983E-2,4.6449900464498983E-2,4.6449900464498983E-2,4.6449900464498983E-2,4.6449900464498983E-2,0,0,0,0,4.6449900464498983E-2,0,530.62795980126327,629.63557225801071,9.4352576461530191,9.4352576461530191,null,null,null,null,13.271428571428572,1,1,1.5483300154832994E-2,1.5483300154832994E-2,1.5483300154832994E-2,1.5483300154832994E-2,2.1601927538550232E-2,2.1601927538550232E-2,-9.5353448595578375E-3,null,null,0.27999999999999986,0.27999999999999986,0.27999999999999986,0.27999999999999986,null,14.4,null,17.5,16.7,14.2,13.100000000000001,null,null,{"$f":"SUM(BB35:BB54)/30","v":8.3966666666666647},0,10.02,9.2133333333333329,8.2566666666666659,7.3633333333333333,0,null,null,null,"2016-02-05",29.6,0,0.39999999999999858]
["2015-05-07",13.5,13.5,13.5,13.5,20.5,5.92,5.92,5.92,5.92,0.7,0.7,0.7,0.7,0.11824324324324324,0.11824324324324324,0.11824324324324324,0.11824324324324324,0.11824324324324324,0.11824324324324324,0.11824324324324324,0.11824324324324324,0,0,0,0,0.11824324324324324,0,533.46579763910108,632.47341009584852,9.4352576461530191,9.4352576461530191,null,null,null,null,13.492857142857144,1,1,3.9414414414414414E-2,3.9414414414414414E-2,3.9414414414414414E-2,3.9414414414414414E-2,1.2309383796169058E-2,1.2309383796169058E-2,3.8776446166957114E-2,null,null,0.7,0.7,0.7,0.7,null,13.5,null,16.399999999999999,15.1,12.600000000000001,9.8000000000000007,null,null,{"$f":"SUM(BB36:BB55)/30","v":8.3933333333333326},0,10.043333333333333,9.1833333333333318,8.2366666666666664,7.33,0,null,null,null,"2016-02-06",28.9,0,1.1000000000000014]
["2015-05-08",12.7,12.7,12.7,12.7,20.766666666666666,5.8239999999999998,5.8239999999999998,5.8239999999999998,5.8239999999999998,1.0733333333333337,1.0733333333333337,1.0733333333333337,1.0733333333333337,0.18429487179487186,0.18429487179487186,0.18429487179487186,0.18429487179487186,0.18429487179487186,0.18429487179487186,0.18429487179487186,0.18429487179487186,0,0,0,0,0.18429487179487186,0,537.88887456217799,636.89648701892543,9.4352576461530191,9.4352576461530191,null,null,null,null,13.607142857142858,1,1,6.1431623931623956E-2,6.1431623931623956E-2,6.1431623931623956E-2,6.1431623931623956E-2,2.6382450911218474E-2,2.6382450911218474E-2,4.5852802722323956E-2,null,null,1.0733333333333337,1.0733333333333337,1.0733333333333337,1.0733333333333337,null,12.7,null,16.3,14.1,13.100000000000001,11.100000000000001,null,null,{"$f":"SUM(BB37:BB56)/30","v":8.3399999999999981},0,10.033333333333333,9.1399999999999988,8.1766666666666659,7.2633333333333336,0,null,null,null,"2016-02-07",27.1,0,2.8999999999999986]
["2015-05-09",13.600000000000001,13.600000000000001,13.600000000000001,13.600000000000001,20.466666666666665,5.9320000000000004,5.9320000000000004,5.9320000000000004,5.9320000000000004,0.65333333333333266,0.65333333333333266,0.65333333333333266,0.65333333333333266,0.1101371094628005,0.1101371094628005,0.1101371094628005,0.1101371094628005,0.1101371094628005,0.1101371094628005,0.1101371094628005,0.1101371094628005,0,0,0,0,0.1101371094628005,0,540.53216518928525,639.53977764603269,9.4352576461530191,9.4352576461530191,null,null,null,null,13.864285714285714,1,1,3.6712369820933503E-2,3.6712369820933503E-2,3.6712369820933503E-2,3.6712369820933503E-2,3.1978435703091009E-2,3.1978435703091009E-2,4.4952121191163652E-2,null,null,0.65333333333333266,0.65333333333333266,0.65333333333333266,0.65333333333333266,null,13.600000000000001,null,17.2,16.100000000000001,13.600000000000001,13,null,null,{"$f":"SUM(BB38:BB57)/30","v":8.5933333333333319},0,10.15,9.2033333333333349,8.4266666666666659,7.503333333333333,0,null,null,null,"2016-02-08",27.6,0,2.3999999999999986]
["2015-05-10",13.600000000000001,13.600000000000001,13.600000000000001,13.600000000000001,20.466666666666665,5.9320000000000004,5.9320000000000004,5.9320000000000004,5.9320000000000004,0.65333333333333266,0.65333333333333266,0.65333333333333266,0.65333333333333266,0.1101371094628005,0.1101371094628005,0.1101371094628005,0.1101371094628005,0.1101371094628005,0.1101371094628005,0.1101371094628005,0.1101371094628005,0,0,0,0,0.1101371094628005,0,543.17545581639251,642.18306827313995,9.4352576461530191,9.4352576461530191,null,null,null,null,13.985714285714284,1,1,3.6712369820933503E-2,3.6712369820933503E-2,3.6712369820933503E-2,3.6712369820933503E-2,3.1235287975897474E-2,3.1235287975897474E-2,5.0617189008526298E-2,null,null,0.65333333333333266,0.65333333333333266,0.65333333333333266,0.65333333333333266,null,13.600000000000001,null,17,14.8,12.8,11.8,null,null,{"$f":"SUM(BB39:BB58)/30","v":8.85},0,10.403333333333332,9.490000000000002,8.6766666666666676,7.7166666666666659,0,null,null,null,"2016-02-09",23.2,0,6.8000000000000007]
["2015-05-11",12.100000000000001,12.100000000000001,12.100000000000001,12.100000000000001,20.966666666666665,5.7520000000000007,5.7520000000000007,5.7520000000000007,5.7520000000000007,1.3533333333333326,1.3533333333333326,1.3533333333333326,1.3533333333333326,0.23528048215113567,0.23528048215113567,0.23528048215113567,0.23528048215113567,0.23528048215113567,0.23528048215113567,0.23528048215113567,0.23528048215113567,0,0,0,0,0.23528048215113567,0,548.82218738801976,647.82979984476719,9.4352576461530191,9.4352576461530191,null,null,null,null,13.885714285714284,1,1,7.8426827383711886E-2,7.8426827383711886E-2,7.8426827383711886E-2,7.8426827383711886E-2,3.7219059203571138E-2,3.7219059203571138E-2,2.360244719994407E-2,null,null,1.3533333333333326,1.3533333333333326,1.3533333333333326,1.3533333333333326,null,12.100000000000001,null,13.7,12.7,12,11.7,null,null,{"$f":"SUM(BB40:BB59)/30","v":8.9266666666666676},0,10.54,9.6166666666666689,8.7333333333333325,7.7799999999999994,0,null,null,null,"2016-02-10",23.8,0,6.1999999999999993]
["2015-05-12",16.8,{"$f":"$B51+C$9","v":16.8},16.8,16.8,19.399999999999999,6.3159999999999998,6.3159999999999998,6.3159999999999998,6.3159999999999998,-0.8400000000000003,-0.8400000000000003,-0.8400000000000003,-0.8400000000000003,-0.13299556681443958,-0.13299556681443958,-0.13299556681443958,-0.13299556681443958,0,0,0,0,0.13299556681443958,0.13299556681443958,0.13299556681443958,0.13299556681443958,0,0.13299556681443958,548.82218738801976,647.82979984476719,12.627151249699569,12.627151249699569,null,null,null,null,13.642857142857142,1,1,-4.4331855604813196E-2,-4.4331855604813196E-2,-4.4331855604813196E-2,-4.4331855604813196E-2,4.3831370503382427E-2,4.3831370503382427E-2,1.4792079281125643E-2,null,null,0,0,0,0,null,16.8,null,16.100000000000001,15.2,16.7,16.3,null,null,{"$f":"SUM(BB41:BB60)/30","v":8.9933333333333341},0,10.553333333333333,9.7066666666666688,8.7866666666666653,7.8066666666666666,0,null,null,null,"2016-02-11",27.6,0,2.3999999999999986]
["2015-05-13",14.6,14.6,14.6,14.6,20.133333333333333,6.0519999999999996,6.0519999999999996,6.0519999999999996,6.0519999999999996,0.18666666666666684,0.18666666666666684,0.18666666666666684,0.18666666666666684,3.0843798193434708E-2,3.0843798193434708E-2,3.0843798193434708E-2,3.0843798193434708E-2,3.0843798193434708E-2,3.0843798193434708E-2,3.0843798193434708E-2,3.0843798193434708E-2,0,0,0,0,3.0843798193434708E-2,0,549.5624385446622,648.57005100140964,12.627151249699569,12.627151249699569,null,null,null,null,13.414285714285713,1,1,1.0281266064478236E-2,1.0281266064478236E-2,1.0281266064478236E-2,1.0281266064478236E-2,4.1924529954864558E-2,4.1924529954864558E-2,1.5750074489265038E-2,null,null,0.18666666666666684,0.18666666666666684,0.18666666666666684,0.18666666666666684,null,14.6,null,17.3,16.8,14.5,13.100000000000001,null,null,{"$f":"SUM(BB42:BB61)/30","v":9.0666666666666647},0,10.559999999999999,9.7600000000000016,8.836666666666666,7.8199999999999994,0,null,null,null,"2016-02-12",28.1,0,1.8999999999999986]
["2015-05-14",12,12,12,12,21,5.74,5.74,5.74,5.74,1.4,1.4,1.4,1.4,0.24390243902439021,0.24390243902439021,0.24390243902439021,0.24390243902439021,0.24390243902439021,0.24390243902439021,0.24390243902439021,0.24390243902439021,0,0,0,0,0.24390243902439021,0,555.41609708124759,654.42370953799502,12.627151249699569,12.627151249699569,null,null,null,null,13.27142857142857,1,1,8.1300813008130066E-2,8.1300813008130066E-2,8.1300813008130066E-2,8.1300813008130066E-2,4.426428187978998E-2,4.426428187978998E-2,6.6433294034303772E-2,null,null,1.4,1.4,1.4,1.4,null,12,null,16.399999999999999,14.9,11.600000000000001,10.8,null,null,{"$f":"SUM(BB43:BB62)/30","v":9.16},0,10.573333333333331,9.8866666666666667,8.9133333333333322,7.8933333333333335,0,null,null,null,"2016-02-13",26.9,0,3.1000000000000014]
["2015-05-15",11.100000000000001,11.100000000000001,11.100000000000001,11.100000000000001,21.3,5.6319999999999997,5.6319999999999997,5.6319999999999997,5.6319999999999997,1.8199999999999994,1.8199999999999994,1.8199999999999994,1.8199999999999994,0.32315340909090901,0.32315340909090901,0.32315340909090901,0.32315340909090901,0.32315340909090901,0.32315340909090901,0.32315340909090901,0.32315340909090901,0,0,0,0,0.32315340909090901,0,563.17177889942946,662.17939135617689,12.627151249699569,12.627151249699569,null,null,null,null,13.27142857142857,1,1,0.107717803030303,0.107717803030303,0.107717803030303,0.107717803030303,3.5272349418521566E-2,3.5272349418521566E-2,7.0794367339913844E-2,null,null,1.8199999999999994,1.8199999999999994,1.8199999999999994,1.8199999999999994,null,11.100000000000001,null,13.100000000000001,12.3,10.7,9.6000000000000014,null,null,{"$f":"SUM(BB44:BB63)/30","v":9.1233333333333313},0,10.41333333333333,9.8233333333333306,8.8233333333333324,7.8033333333333337,0,null,null,null,"2016-02-14",25.7,0,4.3000000000000007]
["2015-05-16",14.1,14.1,14.1,14.1,20.3,5.992,5.992,5.992,5.992,0.42000000000000015,0.42000000000000015,0.42000000000000015,0.42000000000000015,7.0093457943925255E-2,7.0093457943925255E-2,7.0093457943925255E-2,7.0093457943925255E-2,7.0093457943925255E-2,7.0093457943925255E-2,7.0093457943925255E-2,7.0093457943925255E-2,0,0,0,0,7.0093457943925255E-2,0,564.85402189008369,663.86163434683112,12.627151249699569,12.627151249699569,null,null,null,null,13.307142857142853,1,1,2.3364485981308417E-2,2.3364485981308417E-2,2.3364485981308417E-2,2.3364485981308417E-2,4.124188816901387E-2,4.124188816901387E-2,6.1390974102340949E-2,null,null,0.42000000000000015,0.42000000000000015,0.42000000000000015,0.42000000000000015,null,14.1,null,16.7,15.4,13.399999999999999,11.2,null,null,{"$f":"SUM(BB45:BB64)/30","v":9.0233333333333317},0,10.253333333333332,9.7100000000000009,8.6733333333333338,7.6400000000000006,0,null,null,null,"2016-02-15",22.7,0,7.3000000000000007]
["2015-05-17",13,13,13,13,20.666666666666668,5.8599999999999994,5.8599999999999994,5.8599999999999994,5.8599999999999994,0.93333333333333335,0.93333333333333335,0.93333333333333335,0.93333333333333335,0.15927189988623439,0.15927189988623439,0.15927189988623439,0.15927189988623439,0.15927189988623439,0.15927189988623439,0.15927189988623439,0.15927189988623439,0,0,0,0,0.15927189988623439,0,568.67654748735333,667.68415994410077,12.627151249699569,12.627151249699569,null,null,null,null,13.385714285714283,1,1,5.3090633295411464E-2,5.3090633295411464E-2,5.3090633295411464E-2,5.3090633295411464E-2,5.4734943890467659E-2,5.4734943890467659E-2,3.0646139810517632E-2,null,null,0.93333333333333335,0.93333333333333335,0.93333333333333335,0.93333333333333335,null,13,null,17.100000000000001,15.4,12.600000000000001,10.600000000000001,null,null,{"$f":"SUM(BB46:BB65)/30","v":8.9766666666666648},0,10.143333333333333,9.6100000000000012,8.586666666666666,7.5400000000000018,0,null,null,null,"2016-02-16",24.7,0,5.3000000000000007]
["2015-05-18",14.4,14.4,14.4,14.4,20.2,6.0279999999999996,6.0279999999999996,6.0279999999999996,6.0279999999999996,0.27999999999999986,0.27999999999999986,0.27999999999999986,0.27999999999999986,4.6449900464498983E-2,4.6449900464498983E-2,4.6449900464498983E-2,4.6449900464498983E-2,4.6449900464498983E-2,4.6449900464498983E-2,4.6449900464498983E-2,4.6449900464498983E-2,0,0,0,0,4.6449900464498983E-2,0,569.79134509850132,668.79895755524876,12.627151249699569,12.627151249699569,null,null,null,null,13.628571428571428,1,1,1.5483300154832994E-2,1.5483300154832994E-2,1.5483300154832994E-2,1.5483300154832994E-2,5.6813812767687613E-2,5.6813812767687613E-2,2.2009616366292461E-2,null,null,0.27999999999999986,0.27999999999999986,0.27999999999999986,0.27999999999999986,null,14.4,null,16.2,14.6,13.8,12.2,null,null,{"$f":"SUM(BB47:BB66)/30","v":8.879999999999999},0,10.003333333333332,9.4766666666666666,8.4933333333333323,7.4733333333333345,0,null,null,null,"2016-02-17",23.5,0,6.5]
["2015-05-19",15.1,15.1,15.1,15.1,19.966666666666669,6.1120000000000001,6.1120000000000001,6.1120000000000001,6.1120000000000001,-4.6666666666666502E-2,-4.6666666666666502E-2,-4.6666666666666502E-2,-4.6666666666666502E-2,-7.6352530541011947E-3,-7.6352530541011947E-3,-7.6352530541011947E-3,-7.6352530541011947E-3,0,0,0,0,7.6352530541011947E-3,7.6352530541011947E-3,7.6352530541011947E-3,7.6352530541011947E-3,0,7.6352530541011947E-3,569.79134509850132,668.79895755524876,12.810397322997998,12.810397322997998,null,null,null,null,13.357142857142858,1,1,-2.5450843513670648E-3,-2.5450843513670648E-3,-2.5450843513670648E-3,-2.5450843513670648E-3,5.0201501467876324E-2,5.0201501467876324E-2,3.9223623972706879E-2,null,null,0,0,0,0,null,15.1,null,17.899999999999999,17.100000000000001,14.4,12.7,null,null,{"$f":"SUM(BB48:BB67)/30","v":8.8999999999999986},0,9.889999999999997,9.4100000000000019,8.4700000000000006,7.4733333333333354,0,null,null,null,"2016-02-18",21.9,0,8.1000000000000014]
["2015-05-20",11.2,11.2,11.2,11.2,21.266666666666666,5.6440000000000001,5.6440000000000001,5.6440000000000001,5.6440000000000001,1.7733333333333337,1.7733333333333337,1.7733333333333337,1.7733333333333337,0.31419796834396413,0.31419796834396413,0.31419796834396413,0.31419796834396413,0.31419796834396413,0.31419796834396413,0.31419796834396413,0.31419796834396413,0,0,0,0,0.31419796834396413,0,577.33209633875651,676.33970879550395,12.810397322997998,12.810397322997998,null,null,null,null,13.071428571428571,1,1,0.10473265611465471,0.10473265611465471,0.10473265611465471,0.10473265611465471,5.0201501467876324E-2,5.0201501467876324E-2,6.6013488970652484E-2,null,null,1.7733333333333337,1.7733333333333337,1.7733333333333337,1.7733333333333337,null,11.2,null,14.8,13.600000000000001,10.600000000000001,9.5,null,null,{"$f":"SUM(BB49:BB68)/30","v":8.9733333333333309},0,9.83,9.3733333333333348,8.5133333333333319,7.4766666666666692,0,null,null,null,"2016-02-19",23.3,0,6.6999999999999993]
["2015-05-21",11.5,11.5,11.5,11.5,21.166666666666668,5.68,5.68,5.68,5.68,1.6333333333333333,1.6333333333333333,1.6333333333333333,1.6333333333333333,0.28755868544600938,0.28755868544600938,0.28755868544600938,0.28755868544600938,0.28755868544600938,0.28755868544600938,0.28755868544600938,0.28755868544600938,0,0,0,0,0.28755868544600938,0,584.23350478946077,683.2411172462082,12.810397322997998,12.810397322997998,null,null,null,null,13.164285714285715,1,1,9.5852895148669792E-2,9.5852895148669792E-2,9.5852895148669792E-2,9.5852895148669792E-2,4.3716509627584478E-2,4.3716509627584478E-2,8.7339058398316141E-2,null,null,1.6333333333333333,1.6333333333333333,1.6333333333333333,1.6333333333333333,null,11.5,null,11.899999999999999,12.100000000000001,10.600000000000001,8.3000000000000007,null,null,{"$f":"SUM(BB50:BB69)/30","v":8.99},0,9.8566666666666656,9.4433333333333316,8.5166666666666675,7.456666666666667,0,null,null,null,"2016-02-20",28,0,2]
["2015-05-22",12.7,12.7,12.7,12.7,20.766666666666666,5.8239999999999998,5.8239999999999998,5.8239999999999998,5.8239999999999998,1.0733333333333337,1.0733333333333337,1.0733333333333337,1.0733333333333337,0.18429487179487186,0.18429487179487186,0.18429487179487186,0.18429487179487186,0.18429487179487186,0.18429487179487186,0.18429487179487186,0.18429487179487186,0,0,0,0,0.18429487179487186,0,588.65658171253767,687.66419416928511,12.810397322997998,12.810397322997998,null,null,null,null,13.500000000000002,1,1,6.1431623931623956E-2,6.1431623931623956E-2,6.1431623931623956E-2,6.1431623931623956E-2,3.9700857801713667E-2,3.9700857801713667E-2,6.0216335020534063E-2,null,null,1.0733333333333337,1.0733333333333337,1.0733333333333337,1.0733333333333337,null,12.7,null,12.7,13.3,11.600000000000001,9.3000000000000007,null,null,{"$f":"SUM(BB51:BB70)/30","v":9.0666666666666664},0,9.9866666666666681,9.5500000000000007,8.56,7.4399999999999995,0,null,null,null,"2016-02-21",26.6,0,3.3999999999999986]
["2015-05-23",14.1,14.1,14.1,14.1,20.3,5.992,5.992,5.992,5.992,0.42000000000000015,0.42000000000000015,0.42000000000000015,0.42000000000000015,7.0093457943925255E-2,7.0093457943925255E-2,7.0093457943925255E-2,7.0093457943925255E-2,7.0093457943925255E-2,7.0093457943925255E-2,7.0093457943925255E-2,7.0093457943925255E-2,0,0,0,0,7.0093457943925255E-2,0,590.3388247031919,689.34643715993934,12.810397322997998,12.810397322997998,null,null,null,null,13.5,1,1,2.3364485981308417E-2,2.3364485981308417E-2,2.3364485981308417E-2,2.3364485981308417E-2,4.7648817465539173E-2,4.7648817465539173E-2,3.0830600108766971E-2,null,null,0.42000000000000015,0.42000000000000015,0.42000000000000015,0.42000000000000015,null,14.1,null,11.399999999999999,12.899999999999999,13.7,10.899999999999999,null,null,{"$f":"SUM(BB52:BB71)/30","v":9.1133333333333351},0,10.110000000000001,9.6966666666666672,8.5866666666666678,7.383333333333332,0,null,null,null,"2016-02-22",20.5,0,9.5]
["2015-05-24",14.7,14.7,14.7,14.7,20.100000000000001,6.0640000000000001,6.0640000000000001,6.0640000000000001,6.0640000000000001,0.14000000000000032,0.14000000000000032,0.14000000000000032,0.14000000000000032,2.3087071240105592E-2,2.3087071240105592E-2,2.3087071240105592E-2,2.3087071240105592E-2,2.3087071240105592E-2,2.3087071240105592E-2,2.3087071240105592E-2,2.3087071240105592E-2,0,0,0,0,2.3087071240105592E-2,0,590.89291441295438,689.90052686970182,12.810397322997998,12.810397322997998,null,null,null,null,13.600000000000003,1,1,7.6956904133685311E-3,7.6956904133685311E-3,7.6956904133685311E-3,7.6956904133685311E-3,5.0235067198222703E-2,5.0235067198222703E-2,6.1446379228047724E-3,null,null,0.14000000000000032,0.14000000000000032,0.14000000000000032,0.14000000000000032,null,14.7,null,12.399999999999999,12.899999999999999,13.600000000000001,12.3,null,null,{"$f":"SUM(BB53:BB72)/30","v":9.2833333333333332},0,10.253333333333334,9.8433333333333337,8.7166666666666686,7.4566666666666652,0,null,null,null,"2016-02-23",22.7,0,7.3000000000000007]
["2015-05-25",15.5,15.5,15.5,15.5,19.833333333333332,6.16,6.16,6.16,6.16,-0.23333333333333334,-0.23333333333333334,-0.23333333333333334,-0.23333333333333334,-3.787878787878788E-2,-3.787878787878788E-2,-3.787878787878788E-2,-3.787878787878788E-2,0,0,0,0,3.787878787878788E-2,3.787878787878788E-2,3.787878787878788E-2,3.787878787878788E-2,0,3.787878787878788E-2,590.89291441295438,689.90052686970182,13.719488232088906,13.719488232088906,null,null,null,null,13.871428571428572,1,1,-1.2626262626262626E-2,-1.2626262626262626E-2,-1.2626262626262626E-2,-1.2626262626262626E-2,4.2949153616324245E-2,4.2949153616324245E-2,1.6053353694172458E-2,null,null,0,0,0,0,null,15.5,null,15.5,15.3,14.1,11.899999999999999,null,null,{"$f":"SUM(BB54:BB73)/30","v":9.629999999999999},0,10.493333333333334,10.136666666666665,9.043333333333333,7.7299999999999986,0,null,null,null,"2016-02-24",26.8,0,3.1999999999999993]
["2015-05-26",13,13,13,13,20.666666666666668,5.8599999999999994,5.8599999999999994,5.8599999999999994,5.8599999999999994,0.93333333333333335,0.93333333333333335,0.93333333333333335,0.93333333333333335,0.15927189988623439,0.15927189988623439,0.15927189988623439,0.15927189988623439,0.15927189988623439,0.15927189988623439,0.15927189988623439,0.15927189988623439,0,0,0,0,0.15927189988623439,0,594.71544001022403,693.72305246697147,13.719488232088906,13.719488232088906,null,null,null,null,14.2,1,1,5.3090633295411464E-2,5.3090633295411464E-2,5.3090633295411464E-2,5.3090633295411464E-2,3.1303972708715967E-2,3.1303972708715967E-2,5.4433591637529401E-2,null,null,0.93333333333333335,0.93333333333333335,0.93333333333333335,0.93333333333333335,null,13,null,14.2,13.7,11.600000000000001,10.100000000000001,null,null,{"$f":"SUM(BB55:BB74)/30","v":9.8566666666666656},0,10.82,10.439999999999998,9.2466666666666679,7.923333333333332,0,null,null,null,"2016-02-25",29.1,0,0.89999999999999858]
["2015-05-27",10.600000000000001,10.600000000000001,10.600000000000001,10.600000000000001,21.466666666666665,5.5720000000000001,5.5720000000000001,5.5720000000000001,5.5720000000000001,2.0533333333333328,2.0533333333333328,2.0533333333333328,2.0533333333333328,0.36850921273031817,0.36850921273031817,0.36850921273031817,0.36850921273031817,0.36850921273031817,0.36850921273031817,0.36850921273031817,0.36850921273031817,0,0,0,0,0.36850921273031817,0,603.55966111575162,702.56727357249906,13.719488232088906,13.719488232088906,null,null,null,null,0,0,1,0.12283640424343939,0.12283640424343939,0.12283640424343939,0.12283640424343939,3.1303972708715967E-2,3.1303972708715967E-2,7.3592845871410503E-2,null,null,2.0533333333333328,2.0533333333333328,2.0533333333333328,2.0533333333333328,null,10.600000000000001,null,12.2,11.100000000000001,9.8000000000000007,7.8000000000000007,null,null,{"$f":"SUM(BB56:BB75)/30","v":10.029999999999999},0,10.916666666666668,10.569999999999999,9.4333333333333353,8.1466666666666665,0,null,null,null,"2016-02-26",28.3,0,1.6999999999999993]
["2015-05-28",13.3,13.3,13.3,13.3,20.566666666666666,5.895999999999999,5.895999999999999,5.895999999999999,5.895999999999999,0.793333333333333,0.793333333333333,0.793333333333333,0.793333333333333,0.13455450022614199,0.13455450022614199,0.13455450022614199,0.13455450022614199,0.13455450022614199,0.13455450022614199,0.13455450022614199,0.13455450022614199,0,0,0,0,0.13455450022614199,0,606.78896912117898,705.79658157792642,13.719488232088906,13.719488232088906,null,null,null,null,0,0,1,4.4851500075380663E-2,4.4851500075380663E-2,4.4851500075380663E-2,4.4851500075380663E-2,3.2416488386068039E-2,3.2416488386068039E-2,4.9201087299061974E-2,null,null,0.793333333333333,0.793333333333333,0.793333333333333,0.793333333333333,null,13.3,null,12.899999999999999,12.100000000000001,12.399999999999999,11.100000000000001,null,null,{"$f":"SUM(BB57:BB76)/30","v":10.350000000000001},0,11.083333333333336,10.78,9.7666666666666693,8.52,0,null,null,null,"2016-02-27",28.5,0,1.5]
["2015-05-29",15.8,15.8,15.8,15.8,19.733333333333334,6.1959999999999997,6.1959999999999997,6.1959999999999997,6.1959999999999997,-0.37333333333333368,-0.37333333333333368,-0.37333333333333368,-0.37333333333333368,-6.0253927264902148E-2,-6.0253927264902148E-2,-6.0253927264902148E-2,-6.0253927264902148E-2,0,0,0,0,6.0253927264902148E-2,6.0253927264902148E-2,6.0253927264902148E-2,6.0253927264902148E-2,0,6.0253927264902148E-2,606.78896912117898,705.79658157792642,15.165582486446558,15.165582486446558,null,null,null,null,0,0,1,-2.008464242163405E-2,-2.008464242163405E-2,-2.008464242163405E-2,-2.008464242163405E-2,2.3253073146156805E-2,2.3253073146156805E-2,1.604378121168501E-2,null,null,0,0,0,0,null,15.8,null,15.4,15,14.9,13.100000000000001,null,null,{"$f":"SUM(BB58:BB77)/30","v":10.516666666666667},0,11.32666666666667,11.066666666666665,9.92,8.7366666666666681,0,null,null,null,"2016-02-28",24.3,0,5.6999999999999993]
["2015-05-30",14.1,14.1,14.1,14.1,20.3,5.992,5.992,5.992,5.992,0.42000000000000015,0.42000000000000015,0.42000000000000015,0.42000000000000015,7.0093457943925255E-2,7.0093457943925255E-2,7.0093457943925255E-2,7.0093457943925255E-2,7.0093457943925255E-2,7.0093457943925255E-2,7.0093457943925255E-2,7.0093457943925255E-2,0,0,0,0,7.0093457943925255E-2,0,608.47121211183321,707.47882456858065,15.165582486446558,15.165582486446558,null,null,null,null,0,0,0,2.3364485981308417E-2,2.3364485981308417E-2,2.3364485981308417E-2,2.3364485981308417E-2,-4.2388799050393655E-6,-4.2388799050393655E-6,6.2543812381691197E-3,null,null,0.42000000000000015,0.42000000000000015,0.42000000000000015,0.42000000000000015,null,14.1,null,17.8,16.899999999999999,12.899999999999999,11.2,null,null,{"$f":"SUM(BB59:BB78)/30","v":10.52},0,11.51,11.166666666666666,9.9033333333333342,8.7333333333333325,0,null,null,null,"2016-02-29",23,0,7]
["2015-05-31",14.4,14.4,14.4,14.4,20.2,6.0279999999999996,6.0279999999999996,6.0279999999999996,6.0279999999999996,0.27999999999999986,0.27999999999999986,0.27999999999999986,0.27999999999999986,4.6449900464498983E-2,4.6449900464498983E-2,4.6449900464498983E-2,4.6449900464498983E-2,4.6449900464498983E-2,4.6449900464498983E-2,4.6449900464498983E-2,4.6449900464498983E-2,0,0,0,0,4.6449900464498983E-2,0,609.5860097229812,708.59362217972864,15.165582486446558,15.165582486446558,null,null,null,null,0,0,0,1.5483300154832994E-2,1.5483300154832994E-2,1.5483300154832994E-2,1.5483300154832994E-2,-4.1084701386329629E-2,-4.1084701386329629E-2,-1.2640794389833268E-2,null,null,0.27999999999999986,0.27999999999999986,0.27999999999999986,0.27999999999999986,null,14.4,null,17.600000000000001,15.9,13.3,11.2,null,null,{"$f":"SUM(BB60:BB79)/30","v":10.536666666666665},0,11.686666666666667,11.333333333333334,9.9133333333333322,8.7366666666666681,0,null,null,null,"2016-03-01",23.9,0,6.1000000000000014]
["2015-06-01",18.2,18.2,18.2,18.2,18.933333333333334,6.484,6.484,6.484,6.484,-1.493333333333333,-1.493333333333333,-1.493333333333333,-1.493333333333333,-0.23031050791692365,-0.23031050791692365,-0.23031050791692365,-0.23031050791692365,0,0,0,0,0.23031050791692365,0.23031050791692365,0.23031050791692365,0.23031050791692365,0,0.23031050791692365,609.5860097229812,708.59362217972864,20.693034676452726,20.693034676452726,null,null,null,null,0,0,0,-7.677016930564122E-2,-7.677016930564122E-2,-7.677016930564122E-2,-7.677016930564122E-2,-5.7486544340892849E-2,-5.7486544340892849E-2,-5.6999140012609896E-2,null,null,0,0,0,0,null,18.2,null,19.8,19.600000000000001,17.5,14.6,null,null,{"$f":"SUM(BB61:BB80)/30","v":10.659999999999998},0,11.913333333333334,11.523333333333335,10.026666666666667,8.8866666666666667,0,null,null,null,"2016-03-02",27.7,0,2.3000000000000007]
["2015-06-02",19.7,19.7,19.7,19.7,18.433333333333334,6.6639999999999997,6.6639999999999997,6.6639999999999997,6.6639999999999997,-2.1933333333333329,-2.1933333333333329,-2.1933333333333329,-2.1933333333333329,-0.32913165266106437,-0.32913165266106437,-0.32913165266106437,-0.32913165266106437,0,0,0,0,0.32913165266106437,0.32913165266106437,0.32913165266106437,0.32913165266106437,0,0.32913165266106437,609.5860097229812,708.59362217972864,28.592194340318272,28.592194340318272,null,null,null,null,0,0,0,-0.10971055088702146,-0.10971055088702146,-0.10971055088702146,-0.10971055088702146,-6.9060410609405501E-2,-6.9060410609405501E-2,-0.11706918449806515,null,null,0,0,0,0,null,19.7,null,21.6,21.2,18.399999999999999,15.3,null,null,{"$f":"SUM(BB62:BB81)/30","v":10.826666666666664},0,12.183333333333334,11.756666666666668,10.213333333333333,9.07,0,null,null,null,"2016-03-03",24.7,0,5.3000000000000007]
["2015-06-03",22.4,22.4,22.4,22.4,17.533333333333335,6.9879999999999995,6.9879999999999995,6.9879999999999995,6.9879999999999995,-3.4533333333333327,-3.4533333333333327,-3.4533333333333327,-3.4533333333333327,-0.49418049990459828,-0.49418049990459828,-0.49418049990459828,-0.49418049990459828,0,0,0,0,0.49418049990459828,0.49418049990459828,0.49418049990459828,0.49418049990459828,0,0.49418049990459828,609.5860097229812,708.59362217972864,40.452526338028633,40.452526338028633,null,null,null,null,0,0,0,-0.16472683330153276,-0.16472683330153276,-0.16472683330153276,-0.16472683330153276,-9.6483888686236183E-2,-9.6483888686236183E-2,-0.11479959493170537,null,null,0,0,0,0,null,22.4,null,23.6,23.7,21.4,19,null,null,{"$f":"SUM(BB63:BB82)/30","v":11.063333333333333},0,12.626666666666667,12.120000000000003,10.446666666666665,9.3633333333333333,0,null,null,null,"2016-03-04",24,0,6]
["2015-06-04",17.899999999999999,17.899999999999999,17.899999999999999,17.899999999999999,19.033333333333335,6.4479999999999986,6.4479999999999986,6.4479999999999986,6.4479999999999986,-1.3533333333333326,-1.3533333333333326,-1.3533333333333326,-1.3533333333333326,-0.20988420181968562,-0.20988420181968562,-0.20988420181968562,-0.20988420181968562,0,0,0,0,0.20988420181968562,0.20988420181968562,0.20988420181968562,0.20988420181968562,0,0.20988420181968562,609.5860097229812,708.59362217972864,45.489747181701091,45.489747181701091,null,null,null,null,0,0,0,-6.9961400606561877E-2,-6.9961400606561877E-2,-6.9961400606561877E-2,-6.9961400606561877E-2,-0.11344801830669218,-0.11344801830669218,-0.11192998006977245,null,null,0,0,0,0,null,17.899999999999999,null,22.9,21.4,16.8,15.4,null,null,{"$f":"SUM(BB64:BB83)/30","v":11.266666666666667},0,12.996666666666666,12.503333333333334,10.659999999999998,9.5900000000000016,0,null,null,null,"2016-03-05",26.6,0,3.3999999999999986]
["2015-06-05",19.3,19.3,19.3,19.3,18.566666666666666,6.6159999999999997,6.6159999999999997,6.6159999999999997,6.6159999999999997,-2.0066666666666668,-2.0066666666666668,-2.0066666666666668,-2.0066666666666668,-0.3033051189036679,-0.3033051189036679,-0.3033051189036679,-0.3033051189036679,0,0,0,0,0.3033051189036679,0.3033051189036679,0.3033051189036679,0.3033051189036679,0,0.3033051189036679,609.5860097229812,708.59362217972864,52.76907003538912,52.76907003538912,null,null,null,null,0,0,0,-0.10110170630122263,-0.10110170630122263,-0.10110170630122263,-0.10110170630122263,-0.10320659333429705,-0.10320659333429705,-0.11322098915476364,null,null,0,0,0,0,null,19.3,null,19.600000000000001,19.3,19,17.899999999999999,null,null,{"$f":"SUM(BB65:BB84)/30","v":11.42},0,13.2,12.696666666666667,10.856666666666666,9.8033333333333363,0,null,null,null,"2016-03-06",24.2,0,{"$f":"30-BU75","v":5.8000000000000007}]
["2015-06-06",22.6,22.6,22.6,22.6,17.466666666666665,7.0120000000000005,7.0120000000000005,7.0120000000000005,7.0120000000000005,-3.5466666666666673,-3.5466666666666673,-3.5466666666666673,-3.5466666666666673,-0.50579958166951899,-0.50579958166951899,-0.50579958166951899,-0.50579958166951899,0,0,0,0,0.50579958166951899,0.50579958166951899,0.50579958166951899,0.50579958166951899,0,0.50579958166951899,609.5860097229812,708.59362217972864,64.90825999545757,64.90825999545757,null,null,null,null,0,0,0,-0.16859986055650633,-0.16859986055650633,-0.16859986055650633,-0.16859986055650633,-7.4677182504981676E-2,-7.4677182504981676E-2,-0.12432239134869601,null,null,0,0,0,0,null,22.6,null,22.1,21.7,22.6,21.8,null,null,{"$f":"SUM(BB66:BB85)/30","v":11.55},0,13.363333333333335,12.82666666666667,10.996666666666668,9.92,0,null,null,null,"2016-03-07",24.4,0,5.6000000000000014]
["2015-06-07",19.399999999999999,19.399999999999999,19.399999999999999,19.399999999999999,18.533333333333335,6.6279999999999992,6.6279999999999992,6.6279999999999992,6.6279999999999992,-2.0533333333333328,-2.0533333333333328,-2.0533333333333328,-2.0533333333333328,-0.30979682156507743,-0.30979682156507743,-0.30979682156507743,-0.30979682156507743,0,0,0,0,0.30979682156507743,0.30979682156507743,0.30979682156507743,0.30979682156507743,0,0.30979682156507743,609.5860097229812,708.59362217972864,72.343383713019421,72.343383713019421,null,null,null,null,0,0,0,-0.10326560718835914,-0.10326560718835914,-0.10326560718835914,-0.10326560718835914,-5.1870519818887725E-2,-5.1870519818887725E-2,-9.2315220747913471E-2,null,null,0,0,0,0,null,19.399999999999999,null,23.5,23.2,18.399999999999999,18.7,null,null,{"$f":"SUM(BB67:BB86)/30","v":11.68},0,13.563333333333334,13.013333333333334,11.116666666666667,10.030000000000003,0,null,null,null,"2016-03-08",23.5,0,6.5]
["2015-06-08",15.2,15.2,15.2,15.2,19.933333333333334,6.1240000000000006,6.1240000000000006,6.1240000000000006,6.1240000000000006,-9.3333333333333005E-2,-9.3333333333333005E-2,-9.3333333333333005E-2,-9.3333333333333005E-2,-1.5240583496625245E-2,-1.5240583496625245E-2,-1.5240583496625245E-2,-1.5240583496625245E-2,0,0,0,0,1.5240583496625245E-2,1.5240583496625245E-2,1.5240583496625245E-2,1.5240583496625245E-2,0,1.5240583496625245E-2,609.5860097229812,708.59362217972864,72.709157716938421,72.709157716938421,null,null,null,null,0,0,0,-5.0801944988750816E-3,-5.0801944988750816E-3,-5.0801944988750816E-3,-5.0801944988750816E-3,-5.1216009111350061E-2,-5.1216009111350061E-2,-6.1168255896827195E-3,null,null,0,0,0,0,null,15.2,null,23.4,20.100000000000001,13.899999999999999,12.600000000000001,null,null,{"$f":"SUM(BB68:BB87)/30","v":11.696666666666665},0,13.646666666666668,13.1,11.123333333333333,10.04666666666667,0,null,null,null,"2016-03-09",22.2,0,7.8000000000000007]
["2015-06-09",11.7,11.7,11.7,11.7,21.1,5.7039999999999997,5.7039999999999997,5.7039999999999997,5.7039999999999997,1.5400000000000003,1.5400000000000003,1.5400000000000003,1.5400000000000003,0.26998597475455827,0.26998597475455827,0.26998597475455827,0.26998597475455827,0.26998597475455827,0.26998597475455827,0.26998597475455827,0.26998597475455827,0,0,0,0,0.26998597475455827,0,616.06567311709057,715.07328557383801,72.709157716938421,72.709157716938421,null,null,null,null,0,0,0,8.9995324918186084E-2,8.9995324918186084E-2,8.9995324918186084E-2,8.9995324918186084E-2,-5.6904085560353916E-2,-5.6904085560353916E-2,2.6611645306811968E-2,null,null,1.5400000000000003,1.5400000000000003,1.5400000000000003,1.5400000000000003,null,11.7,null,20.100000000000001,18.600000000000001,10.899999999999999,9.6000000000000014,null,null,{"$f":"SUM(BB69:BB88)/30","v":11.669999999999998},0,13.716666666666667,13.096666666666666,11.093333333333334,10.010000000000002,0,null,null,null,"2016-03-10",22.6,0,7.3999999999999986]
["2015-06-10",15.2,15.2,15.2,15.2,19.933333333333334,6.1240000000000006,6.1240000000000006,6.1240000000000006,6.1240000000000006,-9.3333333333333005E-2,-9.3333333333333005E-2,-9.3333333333333005E-2,-9.3333333333333005E-2,-1.5240583496625245E-2,-1.5240583496625245E-2,-1.5240583496625245E-2,-1.5240583496625245E-2,0,0,0,0,1.5240583496625245E-2,1.5240583496625245E-2,1.5240583496625245E-2,1.5240583496625245E-2,0,1.5240583496625245E-2,616.06567311709057,715.07328557383801,73.074931720857421,73.074931720857421,null,null,null,null,0,0,0,-5.0801944988750816E-3,-5.0801944988750816E-3,-5.0801944988750816E-3,-5.0801944988750816E-3,-5.1783795681437858E-2,-5.1783795681437858E-2,6.5117682551709176E-3,null,null,0,0,0,0,null,15.2,null,18.7,17.8,14,12.8,null,null,{"$f":"SUM(BB70:BB89)/30","v":11.643333333333333},0,13.686666666666666,13.056666666666667,11.073333333333334,9.9700000000000006,0,null,null,null,"2016-03-11",20.9,0,9.1000000000000014]
["2015-06-11",17.7,17.7,17.7,17.7,19.100000000000001,6.4239999999999995,6.4239999999999995,6.4239999999999995,6.4239999999999995,-1.2599999999999996,-1.2599999999999996,-1.2599999999999996,-1.2599999999999996,-0.19613947696139472,-0.19613947696139472,-0.19613947696139472,-0.19613947696139472,0,0,0,0,0.19613947696139472,0.19613947696139472,0.19613947696139472,0.19613947696139472,0,0.19613947696139472,616.06567311709057,715.07328557383801,77.782279167930895,77.782279167930895,null,null,null,null,0,0,0,-6.537982565379824E-2,-6.537982565379824E-2,-6.537982565379824E-2,-6.537982565379824E-2,-5.3916746853859686E-2,-5.3916746853859686E-2,-7.0459420532307637E-2,null,null,0,0,0,0,null,17.7,null,20.8,20.3,17.2,14.8,null,null,{"$f":"SUM(BB71:BB90)/30","v":11.573333333333332},0,13.58,12.98,11.013333333333332,9.9199999999999982,0,null,null,null,"2016-03-12",23.6,0,6.3999999999999986]
["2015-06-12",21.2,21.2,21.2,21.2,17.933333333333334,6.8439999999999994,6.8439999999999994,6.8439999999999994,6.8439999999999994,-2.8933333333333326,-2.8933333333333326,-2.8933333333333326,-2.8933333333333326,-0.4227547243327488,-0.4227547243327488,-0.4227547243327488,-0.4227547243327488,0,0,0,0,0.4227547243327488,0.4227547243327488,0.4227547243327488,0.4227547243327488,0,0.4227547243327488,616.06567311709057,715.07328557383801,87.928392551916872,87.928392551916872,null,null,null,null,0,0,0,-0.14091824144424961,-0.14091824144424961,-0.14091824144424961,-0.14091824144424961,-5.986329021593919E-2,-5.986329021593919E-2,-0.11301863283404727,null,null,0,0,0,0,null,21.2,null,24.7,23.8,20.7,19.7,null,null,{"$f":"SUM(BB72:BB91)/30","v":11.423333333333334},0,13.419999999999998,12.806666666666667,10.843333333333334,9.7766666666666655,0,null,null,null,"2016-03-13",24,0,6]
["2015-06-13",20.8,20.8,20.8,20.8,18.066666666666666,6.7959999999999994,6.7959999999999994,6.7959999999999994,6.7959999999999994,-2.7066666666666674,-2.7066666666666674,-2.7066666666666674,-2.7066666666666674,-0.39827349421228186,-0.39827349421228186,-0.39827349421228186,-0.39827349421228186,0,0,0,0,0.39827349421228186,0.39827349421228186,0.39827349421228186,0.39827349421228186,0,0.39827349421228186,616.06567311709057,715.07328557383801,97.48695641301164,97.48695641301164,null,null,null,null,0,0,0,-0.13275783140409395,-0.13275783140409395,-0.13275783140409395,-0.13275783140409395,-7.0880177271948328E-2,-7.0880177271948328E-2,-0.13062411274788516,null,null,0,0,0,0,null,20.8,null,23.5,24.4,20,19.100000000000001,null,null,{"$f":"SUM(BB73:BB92)/30","v":11.253333333333334},0,13.286666666666665,12.593333333333334,10.693333333333333,9.6466666666666665,0,null,null,null,"2016-03-14",25.2,0,4.8000000000000007]
["2015-06-14",20.100000000000001,20.100000000000001,20.100000000000001,20.100000000000001,18.3,6.7119999999999997,6.7119999999999997,6.7119999999999997,6.7119999999999997,-2.3800000000000008,-2.3800000000000008,-2.3800000000000008,-2.3800000000000008,-0.35458879618593575,-0.35458879618593575,-0.35458879618593575,-0.35458879618593575,0,0,0,0,0.35458879618593575,0.35458879618593575,0.35458879618593575,0.35458879618593575,0,0.35458879618593575,616.06567311709057,715.07328557383801,105.9970875214741,105.9970875214741,null,null,null,null,0,0,0,-0.11819626539531192,-0.11819626539531192,-0.11819626539531192,-0.11819626539531192,-6.567715738559203E-2,-6.567715738559203E-2,-9.9220031610945836E-2,null,null,0,0,0,0,null,20.100000000000001,null,21.6,21.1,20,18.3,null,null,{"$f":"SUM(BB74:BB93)/30","v":10.936666666666667},0,12.993333333333332,12.290000000000001,10.369999999999997,9.3266666666666627,0,null,null,null,"2016-03-15",28,0,2]
["2015-06-15",16.899999999999999,16.899999999999999,16.899999999999999,16.899999999999999,19.366666666666667,6.3279999999999994,6.3279999999999994,6.3279999999999994,6.3279999999999994,-0.88666666666666605,-0.88666666666666605,-0.88666666666666605,-0.88666666666666605,-0.14011799410029491,-0.14011799410029491,-0.14011799410029491,-0.14011799410029491,0,0,0,0,0.14011799410029491,0.14011799410029491,0.14011799410029491,0.14011799410029491,0,0.14011799410029491,616.06567311709057,715.07328557383801,109.35991937988118,109.35991937988118,null,null,null,null,0,0,0,-4.6705998033431638E-2,-4.6705998033431638E-2,-4.6705998033431638E-2,-4.6705998033431638E-2,-5.6337182292192277E-2,-5.6337182292192277E-2,-5.0675049300873819E-2,null,null,0,0,0,0,null,16.899999999999999,null,19.100000000000001,17.600000000000001,15.8,13.600000000000001,null,null,{"$f":"SUM(BB75:BB94)/30","v":10.773333333333335},0,12.759999999999996,12.066666666666666,10.226666666666667,9.1733333333333338,0,null,null,null,"2016-03-16",25.1,0,4.8999999999999986]
["2015-06-16",14.5,14.5,14.5,14.5,20.166666666666668,6.0399999999999991,6.0399999999999991,6.0399999999999991,6.0399999999999991,0.23333333333333334,0.23333333333333334,0.23333333333333334,0.23333333333333334,3.8631346578366449E-2,3.8631346578366449E-2,3.8631346578366449E-2,3.8631346578366449E-2,3.8631346578366449E-2,3.8631346578366449E-2,3.8631346578366449E-2,3.8631346578366449E-2,0,0,0,0,3.8631346578366449E-2,0,616.99282543497134,716.00043789171878,109.35991937988118,109.35991937988118,null,null,null,null,0,0,0,1.2877115526122149E-2,1.2877115526122149E-2,1.2877115526122149E-2,1.2877115526122149E-2,-2.9798647789387952E-2,-2.9798647789387952E-2,-8.2931260056351083E-4,null,null,0.23333333333333334,0.23333333333333334,0.23333333333333334,0.23333333333333334,null,14.5,null,18.2,16.7,13.399999999999999,11.100000000000001,null,null,{"$f":"SUM(BB76:BB95)/30","v":10.650000000000002},0,12.676666666666666,11.956666666666667,10.09,9.0066666666666659,0,null,null,null,"2016-03-17",24.9,0,5.1000000000000014]
["2015-06-17",13.8,13.8,13.8,13.8,20.399999999999999,5.9559999999999995,5.9559999999999995,5.9559999999999995,5.9559999999999995,0.55999999999999972,0.55999999999999972,0.55999999999999972,0.55999999999999972,9.4022834116856913E-2,9.4022834116856913E-2,9.4022834116856913E-2,9.4022834116856913E-2,9.4022834116856913E-2,9.4022834116856913E-2,9.4022834116856913E-2,9.4022834116856913E-2,0,0,0,0,9.4022834116856913E-2,0,619.24937345377589,718.25698591052333,109.35991937988118,109.35991937988118,null,null,null,null,0,0,0,3.1340944705618969E-2,3.1340944705618969E-2,3.1340944705618969E-2,3.1340944705618969E-2,-4.4543166873979974E-4,-4.4543166873979974E-4,1.4739353410580372E-2,null,null,0.55999999999999972,0.55999999999999972,0.55999999999999972,0.55999999999999972,null,13.8,null,15.4,14.7,12.600000000000001,11.600000000000001,null,null,{"$f":"SUM(BB77:BB96)/30","v":10.496666666666668},0,12.62,11.879999999999997,9.9033333333333342,8.793333333333333,0,null,null,null,"2016-03-18",23.7,0,6.3000000000000007]
["2015-06-18",15,15,15,15,20,6.1,6.1,6.1,6.1,0,0,0,0,0,0,0,0,0,0,0,0,0,0,0,0,0,0,619.24937345377589,718.25698591052333,109.35991937988118,109.35991937988118,null,null,null,null,0,0,1,0,0,0,0,2.1299925563810586E-2,2.1299925563810586E-2,2.5397481593666543E-2,null,null,0,0,0,0,null,15,null,17.5,14.9,14,12,null,null,{"$f":"SUM(BB78:BB97)/30","v":10.456666666666669},0,12.523333333333333,11.773333333333332,9.8566666666666656,8.6866666666666674,0,null,null,null,"2016-03-19",26.9,0,3.1000000000000014]
["2015-06-19",13.3,13.3,13.3,13.3,20.566666666666666,5.895999999999999,5.895999999999999,5.895999999999999,5.895999999999999,0.793333333333333,0.793333333333333,0.793333333333333,0.793333333333333,0.13455450022614199,0.13455450022614199,0.13455450022614199,0.13455450022614199,0.13455450022614199,0.13455450022614199,0.13455450022614199,0.13455450022614199,0,0,0,0,0.13455450022614199,0,622.47868145920324,721.48629391595068,109.35991937988118,109.35991937988118,null,null,null,null,0,0,1,4.4851500075380663E-2,4.4851500075380663E-2,4.4851500075380663E-2,4.4851500075380663E-2,2.9440963292083427E-2,2.9440963292083427E-2,3.918872717194128E-2,null,null,0.793333333333333,0.793333333333333,0.793333333333333,0.793333333333333,null,13.3,null,16.899999999999999,15.7,12.3,10,null,null,{"$f":"SUM(BB79:BB98)/30","v":10.543333333333333},0,12.4,11.743333333333332,9.9600000000000009,8.7766666666666673,0,null,null,null,"2016-03-20",26.7,0,3.3000000000000007]
["2015-06-20",12.3,12.3,12.3,12.3,20.9,5.7759999999999998,5.7759999999999998,5.7759999999999998,5.7759999999999998,1.2599999999999996,1.2599999999999996,1.2599999999999996,1.2599999999999996,0.21814404432132958,0.21814404432132958,0.21814404432132958,0.21814404432132958,0.21814404432132958,0.21814404432132958,0.21814404432132958,0.21814404432132958,0,0,0,0,0.21814404432132958,0,627.71413852291516,726.7217509796626,109.35991937988118,109.35991937988118,null,null,null,null,0,0,1,7.2714681440443199E-2,7.2714681440443199E-2,7.2714681440443199E-2,7.2714681440443199E-2,3.5581311520290981E-2,3.5581311520290981E-2,5.0529138916121534E-2,null,null,1.2599999999999996,1.2599999999999996,1.2599999999999996,1.2599999999999996,null,12.3,null,14.4,13.600000000000001,11.5,9.6999999999999993,null,null,{"$f":"SUM(BB80:BB99)/30","v":10.76},0,12.346666666666666,11.706666666666665,10.186666666666666,9.0066666666666677,0,null,null,null,"2016-03-21",24.7,0,5.3000000000000007]
["2015-06-21",13.7,13.7,13.7,13.7,20.433333333333334,5.944,5.944,5.944,5.944,0.60666666666666702,0.60666666666666702,0.60666666666666702,0.60666666666666702,0.10206370569762231,0.10206370569762231,0.10206370569762231,0.10206370569762231,0.10206370569762231,0.10206370569762231,0.10206370569762231,0.10206370569762231,0,0,0,0,0.10206370569762231,0,630.16366745965809,729.17127991640552,109.35991937988118,109.35991937988118,null,null,null,null,14.971428571428572,1,1,3.4021235232540768E-2,3.4021235232540768E-2,3.4021235232540768E-2,3.4021235232540768E-2,3.8688409890261337E-2,3.8688409890261337E-2,3.9005727579154055E-2,null,null,0.60666666666666702,0.60666666666666702,0.60666666666666702,0.60666666666666702,null,13.7,null,15,14.4,12.399999999999999,10.3,null,null,{"$f":"SUM(BB81:BB100)/30","v":10.940000000000001},0,12.416666666666666,11.756666666666664,10.386666666666665,9.1933333333333334,0,null,null,null,"2016-03-22",24.2,0,5.8000000000000007]
["2015-06-22",14.6,14.6,14.6,14.6,20.133333333333333,6.0519999999999996,6.0519999999999996,6.0519999999999996,6.0519999999999996,0.18666666666666684,0.18666666666666684,0.18666666666666684,0.18666666666666684,3.0843798193434708E-2,3.0843798193434708E-2,3.0843798193434708E-2,3.0843798193434708E-2,3.0843798193434708E-2,3.0843798193434708E-2,3.0843798193434708E-2,3.0843798193434708E-2,0,0,0,0,3.0843798193434708E-2,0,630.90391861630053,729.91153107304797,109.35991937988118,109.35991937988118,null,null,null,null,0,0,1,1.0281266064478236E-2,1.0281266064478236E-2,1.0281266064478236E-2,1.0281266064478236E-2,3.6528116090304541E-2,3.6528116090304541E-2,3.3387351473531356E-2,null,null,0.18666666666666684,0.18666666666666684,0.18666666666666684,0.18666666666666684,null,14.6,null,17.600000000000001,14.8,13.899999999999999,11.399999999999999,null,null,{"$f":"SUM(BB82:BB101)/30","v":11.073333333333332},0,12.476666666666668,11.809999999999999,10.516666666666669,9.3433333333333337,0,null,null,null,"2016-03-23",24.6,0,5.3999999999999986]
["2015-06-23",12.899999999999999,12.899999999999999,12.899999999999999,12.899999999999999,20.7,5.8479999999999999,5.8479999999999999,5.8479999999999999,5.8479999999999999,0.98000000000000065,0.98000000000000065,0.98000000000000065,0.98000000000000065,0.16757865937072514,0.16757865937072514,0.16757865937072514,0.16757865937072514,0.16757865937072514,0.16757865937072514,0.16757865937072514,0.16757865937072514,0,0,0,0,0.16757865937072514,0,634.92580644119789,733.93341889794533,109.35991937988118,109.35991937988118,null,null,null,null,0,0,1,5.5859553123575045E-2,5.5859553123575045E-2,5.5859553123575045E-2,5.5859553123575045E-2,1.9800841496018264E-2,1.9800841496018264E-2,3.974381749448825E-2,null,null,0.98000000000000065,0.98000000000000065,0.98000000000000065,0.98000000000000065,null,12.899999999999999,null,14.8,14.6,11.7,9.3999999999999986,null,null,{"$f":"SUM(BB83:BB102)/30","v":11.126666666666667},0,12.450000000000001,11.776666666666667,10.58,9.4000000000000021,0,null,null,null,"2016-03-24",26.5,0,3.5]
["2015-06-24",13,13,13,13,20.666666666666668,5.8599999999999994,5.8599999999999994,5.8599999999999994,5.8599999999999994,0.93333333333333335,0.93333333333333335,0.93333333333333335,0.93333333333333335,0.15927189988623439,0.15927189988623439,0.15927189988623439,0.15927189988623439,0.15927189988623439,0.15927189988623439,0.15927189988623439,0.15927189988623439,0,0,0,0,0.15927189988623439,0,638.74833203846754,737.75594449521498,109.35991937988118,109.35991937988118,null,null,null,null,0,0,0,5.3090633295411464E-2,5.3090633295411464E-2,5.3090633295411464E-2,5.3090633295411464E-2,-1.5541371819938002E-3,-1.5541371819938002E-3,3.127604327309632E-2,null,null,0.93333333333333335,0.93333333333333335,0.93333333333333335,0.93333333333333335,null,13,null,15.9,14.7,12.5,10.8,null,null,{"$f":"SUM(BB84:BB103)/30","v":11.233333333333333},0,12.483333333333336,11.759999999999998,10.716666666666669,9.5366666666666671,0,null,null,null,"2016-03-25",25.7,0,4.3000000000000007]
["2015-06-25",15.6,15.6,15.6,15.6,19.8,6.1719999999999997,6.1719999999999997,6.1719999999999997,6.1719999999999997,-0.27999999999999986,-0.27999999999999986,-0.27999999999999986,-0.27999999999999986,-4.5366169799092658E-2,-4.5366169799092658E-2,-4.5366169799092658E-2,-4.5366169799092658E-2,0,0,0,0,4.5366169799092658E-2,4.5366169799092658E-2,4.5366169799092658E-2,4.5366169799092658E-2,0,4.5366169799092658E-2,638.74833203846754,737.75594449521498,110.44870745505941,110.44870745505941,null,null,null,null,0,0,0,-1.5122056599697552E-2,-1.5122056599697552E-2,-1.5122056599697552E-2,-1.5122056599697552E-2,-1.6082154262527137E-2,-1.6082154262527137E-2,-1.1423615129636473E-2,null,null,0,0,0,0,null,15.6,null,17.100000000000001,16,14.9,12.899999999999999,null,null,{"$f":"SUM(BB85:BB104)/30","v":11.416666666666666},0,12.610000000000001,11.893333333333333,10.906666666666668,9.75,0,null,null,null,"2016-03-26",24.6,0,5.3999999999999986]
["2015-06-26",18,18,18,18,19,6.46,6.46,6.46,6.46,-1.4,-1.4,-1.4,-1.4,-0.21671826625386995,-0.21671826625386995,-0.21671826625386995,-0.21671826625386995,0,0,0,0,0.21671826625386995,0.21671826625386995,0.21671826625386995,0.21671826625386995,0,0.21671826625386995,638.74833203846754,737.75594449521498,115.64994584515229,115.64994584515229,null,null,null,null,0,0,0,-7.223942208462332E-2,-7.223942208462332E-2,-7.223942208462332E-2,-7.223942208462332E-2,-2.8518073601115631E-2,-2.8518073601115631E-2,-5.4710549329987361E-2,null,null,0,0,0,0,null,18,null,20.399999999999999,19.399999999999999,17,15.4,null,null,{"$f":"SUM(BB86:BB105)/30","v":11.726666666666665},0,12.803333333333333,12.153333333333332,11.233333333333333,10.086666666666668,0,null,null,null,"2016-03-27",22,0,8]
["2015-06-27",18.2,18.2,18.2,18.2,18.933333333333334,6.484,6.484,6.484,6.484,-1.493333333333333,-1.493333333333333,-1.493333333333333,-1.493333333333333,-0.23031050791692365,-0.23031050791692365,-0.23031050791692365,-0.23031050791692365,0,0,0,0,0.23031050791692365,0.23031050791692365,0.23031050791692365,0.23031050791692365,0,0.23031050791692365,638.74833203846754,737.75594449521498,121.17739803515846,121.17739803515846,null,null,null,null,0,0,0,-7.677016930564122E-2,-7.677016930564122E-2,-7.677016930564122E-2,-7.677016930564122E-2,-5.4874330559683715E-2,-5.4874330559683715E-2,-7.2228158573819048E-2,null,null,0,0,0,0,null,18.2,null,20.6,20,17,15.5,null,null,{"$f":"SUM(BB87:BB106)/30","v":12.043333333333331},0,13.076666666666664,12.469999999999999,11.553333333333335,10.403333333333334,0,null,null,null,"2016-03-28",23.9,0,6.1000000000000014]
["2015-06-28",17.8,17.8,17.8,17.8,19.066666666666666,6.4359999999999999,6.4359999999999999,6.4359999999999999,6.4359999999999999,-1.3066666666666671,-1.3066666666666671,-1.3066666666666671,-1.3066666666666671,-0.20302465299357786,-0.20302465299357786,-0.20302465299357786,-0.20302465299357786,0,0,0,0,0.20302465299357786,0.20302465299357786,0.20302465299357786,0.20302465299357786,0,0.20302465299357786,638.74833203846754,737.75594449521498,126.04998970700433,126.04998970700433,null,null,null,null,0,0,0,-6.767488433119262E-2,-6.767488433119262E-2,-6.767488433119262E-2,-6.767488433119262E-2,-8.4024304787744947E-2,-8.4024304787744947E-2,-7.3738407647491663E-2,null,null,0,0,0,0,null,17.8,null,19.7,19.2,17,15.3,null,null,{"$f":"SUM(BB88:BB107)/30","v":12.396666666666665},0,13.449999999999998,12.853333333333332,11.936666666666667,10.756666666666668,0,null,null,null,"2016-03-29",22,0,8]
["2015-06-29",18.2,18.2,18.2,18.2,18.933333333333334,6.484,6.484,6.484,6.484,-1.493333333333333,-1.493333333333333,-1.493333333333333,-1.493333333333333,-0.23031050791692365,-0.23031050791692365,-0.23031050791692365,-0.23031050791692365,0,0,0,0,0.23031050791692365,0.23031050791692365,0.23031050791692365,0.23031050791692365,0,0.23031050791692365,638.74833203846754,737.75594449521498,131.57744189701049,131.57744189701049,null,null,null,null,0,0,0,-7.677016930564122E-2,-7.677016930564122E-2,-7.677016930564122E-2,-7.677016930564122E-2,-0.10649922038706805,-0.10649922038706805,-9.1026433074411786E-2,null,null,0,0,0,0,null,18.2,null,18.5,17.5,17.7,16.5,null,null,{"$f":"SUM(BB89:BB108)/30","v":12.603333333333332},0,13.686666666666666,13.1,12.136666666666667,10.919999999999998,0,null,null,null,"2016-03-30",20.5,0,9.5]
["2015-06-30",20.6,20.6,20.6,20.6,18.133333333333333,6.7720000000000002,6.7720000000000002,6.7720000000000002,6.7720000000000002,-2.6133333333333342,-2.6133333333333342,-2.6133333333333342,-2.6133333333333342,-0.38590273675920467,-0.38590273675920467,-0.38590273675920467,-0.38590273675920467,0,0,0,0,0.38590273675920467,0.38590273675920467,0.38590273675920467,0.38590273675920467,0,0.38590273675920467,638.74833203846754,737.75594449521498,140.83910757923141,140.83910757923141,null,null,null,null,0,0,0,-0.12863424558640155,-0.12863424558640155,-0.12863424558640155,-0.12863424558640155,-0.1240344561497502,-0.1240344561497502,-0.11878786706435329,null,null,0,0,0,0,null,20.6,null,20.8,19.3,20,18.399999999999999,null,null,{"$f":"SUM(BB90:BB109)/30","v":12.726666666666665},0,13.77,13.146666666666668,12.246666666666668,11.036666666666665,{"$f":"SUM(BH90:BH109)/30","v":0},null,null,null,"2016-03-31",16.7,0,13.3]
["2015-07-01",21.7,21.7,21.7,21.7,17.766666666666666,6.9039999999999999,6.9039999999999999,6.9039999999999999,6.9039999999999999,-3.126666666666666,-3.126666666666666,-3.126666666666666,-3.126666666666666,-0.45287755890305126,-0.45287755890305126,-0.45287755890305126,-0.45287755890305126,0,0,0,0,0.45287755890305126,0.45287755890305126,0.45287755890305126,0.45287755890305126,0,0.45287755890305126,638.74833203846754,737.75594449521498,151.70816899290463,151.70816899290463,null,null,null,null,0,0,0,-0.1509591863010171,-0.1509591863010171,-0.1509591863010171,-0.1509591863010171,-0.14502002317493629,-0.14502002317493629,-0.15067996589412599,null,null,0,0,0,0,null,21.7,null,22.6,21.9,21.1,19.3,null,null,{"$f":"SUM(BB91:BB110)/30","v":12.809999999999999},0,13.906666666666666,13.233333333333333,12.316666666666668,11.126666666666665,0,null,null,null,"2016-04-01",20.399999999999999,0,9.6000000000000014]
["2015-07-02",22.8,22.8,22.8,22.8,17.399999999999999,7.0359999999999996,7.0359999999999996,7.0359999999999996,7.0359999999999996,-3.6400000000000006,-3.6400000000000006,-3.6400000000000006,-3.6400000000000006,-0.51733939738487789,-0.51733939738487789,-0.51733939738487789,-0.51733939738487789,0,0,0,0,0.51733939738487789,0.51733939738487789,0.51733939738487789,0.51733939738487789,0,0.51733939738487789,638.74833203846754,737.75594449521498,164.1243145301417,164.1243145301417,null,null,null,null,0,0,0,-0.17244646579495929,-0.17244646579495929,-0.17244646579495929,-0.17244646579495929,-0.16878701448645897,-0.16878701448645897,-0.17279724150645823,null,null,0,0,0,0,null,22.8,null,23.9,22.8,22.6,21.4,null,null,{"$f":"SUM(BB92:BB111)/30","v":12.936666666666666},0,14.04,13.343333333333334,12.466666666666667,11.303333333333333,0,null,null,null,"2016-04-02",22.8,0,7.1999999999999993]
["2015-07-03",24,24,24,24,17,7.18,7.18,7.18,7.18,-4.2,-4.2,-4.2,-4.2,-0.58495821727019504,-0.58495821727019504,-0.58495821727019504,-0.58495821727019504,0,0,0,0,0.58495821727019504,0.58495821727019504,0.58495821727019504,0.58495821727019504,0,0.58495821727019504,638.74833203846754,737.75594449521498,178.16331174462638,178.16331174462638,null,null,null,null,0,0,0,-0.19498607242339835,-0.19498607242339835,-0.19498607242339835,-0.19498607242339835,-0.18567500064613854,-0.18567500064613854,-0.19703389223343379,null,null,0,0,0,0,null,24,null,24.5,23.9,24.1,23.2,null,null,{"$f":"SUM(BB93:BB112)/30","v":13.156666666666666},0,14.240000000000002,13.59,12.680000000000001,11.519999999999998,0,null,null,null,"2016-04-03",20.7,0,9.3000000000000007]
["2015-07-04",25.6,25.6,25.6,25.6,16.466666666666665,7.3719999999999999,7.3719999999999999,7.3719999999999999,7.3719999999999999,-4.9466666666666681,-4.9466666666666681,-4.9466666666666681,-4.9466666666666681,-0.67100741544583131,-0.67100741544583131,-0.67100741544583131,-0.67100741544583131,0,0,0,0,0.67100741544583131,0.67100741544583131,0.67100741544583131,0.67100741544583131,0,0.67100741544583131,638.74833203846754,737.75594449521498,194.26748971532635,194.26748971532635,null,null,null,null,0,0,0,-0.22366913848194378,-0.22366913848194378,-0.22366913848194378,-0.22366913848194378,-0.19619863680559207,-0.19619863680559207,-0.21756634480573114,null,null,0,0,0,0,null,25.6,null,25.4,25.1,25.7,24.7,null,null,{"$f":"SUM(BB94:BB113)/30","v":13.33},0,14.466666666666669,13.76,12.860000000000003,11.696666666666664,0,null,null,null,"2016-04-04",16.7,0,13.3]
["2015-07-05",26.2,26.2,26.2,26.2,16.266666666666666,7.4440000000000008,7.4440000000000008,7.4440000000000008,7.4440000000000008,-5.2266666666666657,-5.2266666666666657,-5.2266666666666657,-5.2266666666666657,-0.70213147053555414,-0.70213147053555414,-0.70213147053555414,-0.70213147053555414,0,0,0,0,0.70213147053555414,0.70213147053555414,0.70213147053555414,0.70213147053555414,0,0.70213147053555414,638.74833203846754,737.75594449521498,211.11864500817964,211.11864500817964,null,null,null,null,0,0,0,-0.23404382351185138,-0.23404382351185138,-0.23404382351185138,-0.23404382351185138,-0.19476421611176814,-0.19476421611176814,-0.21756634480573123,null,null,0,0,0,0,null,26.2,null,24.9,25.4,25.6,23.7,null,null,{"$f":"SUM(BB95:BB114)/30","v":13.523333333333333},0,14.640000000000004,13.943333333333332,13.04666666666667,11.883333333333329,0,null,null,null,"2016-04-05",14.2,0,15.8]
["2015-07-06",24,24,24,24,17,7.18,7.18,7.18,7.18,-4.2,-4.2,-4.2,-4.2,-0.58495821727019504,-0.58495821727019504,-0.58495821727019504,-0.58495821727019504,0,0,0,0,0.58495821727019504,0.58495821727019504,0.58495821727019504,0.58495821727019504,0,0.58495821727019504,638.74833203846754,737.75594449521498,225.15764222266432,225.15764222266432,null,null,null,null,0,0,0,-0.19498607242339835,-0.19498607242339835,-0.19498607242339835,-0.19498607242339835,-0.17713917145135963,-0.17713917145135963,-0.21044319821260862,null,null,0,0,0,0,null,24,null,26.4,26.2,23,20.6,null,null,{"$f":"SUM(BB96:BB115)/30","v":13.673333333333336},0,14.870000000000003,14.143333333333333,13.186666666666669,12.036666666666662,0,null,null,null,"2016-04-06",13.2,0,16.8]
["2015-07-07",{"$f":"BB107+A$7","v":24.4},24.4,24.4,24.4,{"$f":"F$8+(H$7-F$8)*(M$6-B107)/30","v":16.866666666666667},{"$f":"IF((B107+35-$F107)*$H$5+$H$6>1,(B107+35-$F107)*$H$5+$H$6,1)","v":7.2279999999999998},{"$f":"IF((C107+35-$F107)*$H$5+$H$6>1,(C107+35-$F107)*$H$5+$H$6,1)","v":7.2279999999999998},{"$f":"IF((D107+35-$F107)*$H$5+$H$6>1,(D107+35-$F107)*$H$5+$H$6,1)","v":7.2279999999999998},{"$f":"IF((E107+35-$F107)*$H$5+$H$6>1,(E107+35-$F107)*$H$5+$H$6,1)","v":7.2279999999999998},{"$f":"$M$5*($M$6-B107)/30-$O$5","v":-4.3866666666666658},{"$f":"$M$5*($M$6-C107)/30-$O$5","v":-4.3866666666666658},{"$f":"$M$5*($M$6-D107)/30-$O$5","v":-4.3866666666666658},{"$f":"$M$5*($M$6-E107)/30-$O$5","v":-4.3866666666666658},{"$f":"IF(K107/G107>$M$7,$M$7+K107-$M$7*G107,K107/G107)","v":-0.60689909610772907},{"$f":"IF(L107/H107>$M$7,$M$7+L107-$M$7*H107,L107/H107)","v":-0.60689909610772907},{"$f":"IF(M107/I107>$M$7,$M$7+M107-$M$7*I107,M107/I107)","v":-0.60689909610772907},{"$f":"IF(N107/J107>$M$7,$M$7+N107-$M$7*J107,N107/J107)","v":-0.60689909610772907},{"$f":"IF(O107>0,O107,)","v":0},{"$f":"IF(P107>0,P107,)","v":0},{"$f":"IF(Q107>0,Q107,)","v":0},{"$f":"IF(R107>0,R107,)","v":0},{"$f":"IF(O107<0,-O107,0)","v":0.60689909610772907},{"$f":"IF(P107<0,-P107,0)","v":0.60689909610772907},{"$f":"IF(Q107<0,-Q107,0)","v":0.60689909610772907},{"$f":"IF(R107<0,-R107,0)","v":0.60689909610772907},{"$f":"IF(SUM(O107:R107)/4>0,SUM(O107:R107)/4,)","v":0},{"$f":"IF(SUM(O107:R107)/4<0,-SUM(O107:R107)/4,)","v":0.60689909610772907},{"$f":"6*SUM(S107:V107)+AC106","v":638.74833203846754},{"$f":"AD106+AA107*24","v":737.75594449521498},{"$f":"6*SUM(W107:Z107)+AE106","v":239.72322052924983},{"$f":"AF106+AB107*24","v":239.72322052924983},null,null,null,null,{"$f":"IF(SUM(B101:B114)/14<$C$7,SUM(B101:B114)/14,0)","v":0},{"$f":"IF(SUM(B101:B114)/14<$C$7,1,0)","v":0},{"$f":"IF(SUM(AN104:AQ110)>0,1,0)","v":0},{"$f":"K107/G107/$M$7","v":-0.20229969870257636},{"$f":"L107/H107/$M$7","v":-0.20229969870257636},{"$f":"M107/I107/$M$7","v":-0.20229969870257636},{"$f":"N107/J107/$M$7","v":-0.20229969870257636},{"$f":"SUM(AO104:AO110)/7","v":-0.14855254286216374},{"$f":"SUM(AQ104:AQ110)/7","v":-0.14855254286216374},{"$f":"SUM(AN106:AQ108)/12","v":-0.17940133752340806},null,null,{"$f":"IF(K107>0,K107,0)","v":0},{"$f":"IF(L107>0,L107,0)","v":0},{"$f":"IF(M107>0,M107,0)","v":0},{"$f":"IF(N107>0,N107,0)","v":0},null,24.4,null,26.6,26.2,24.1,22.2,null,null,{"$f":"SUM(BB97:BB116)/30","v":13.796666666666669},0,15.003333333333334,14.283333333333331,13.340000000000003,12.209999999999997,0,null,null,null,"2016-04-07",14.1,0,15.9]
["2015-07-08",21.2,21.2,21.2,21.2,17.933333333333334,6.8439999999999994,6.8439999999999994,6.8439999999999994,6.8439999999999994,-2.8933333333333326,-2.8933333333333326,-2.8933333333333326,-2.8933333333333326,-0.4227547243327488,-0.4227547243327488,-0.4227547243327488,-0.4227547243327488,0,0,0,0,0.4227547243327488,0.4227547243327488,0.4227547243327488,0.4227547243327488,0,0.4227547243327488,638.74833203846754,737.75594449521498,249.86933391323581,249.86933391323581,null,null,null,null,0,0,0,-0.14091824144424961,-0.14091824144424961,-0.14091824144424961,-0.14091824144424961,-0.12528036434887019,-0.12528036434887019,-0.13076303110630849,null,null,0,0,0,0,null,21.2,null,24.6,22.3,20,16.899999999999999,null,null,{"$f":"SUM(BB98:BB117)/30","v":14.003333333333334},0,15.186666666666669,14.436666666666666,13.55666666666667,12.476666666666665,0,null,null,null,"2016-04-08",14.9,0,15.1]
["2015-07-09",17,17,17,17,19.333333333333332,6.34,6.34,6.34,6.34,-0.93333333333333335,-0.93333333333333335,-0.93333333333333335,-0.93333333333333335,-0.14721345951629863,-0.14721345951629863,-0.14721345951629863,-0.14721345951629863,0,0,0,0,0.14721345951629863,0.14721345951629863,0.14721345951629863,0.14721345951629863,0,0.14721345951629863,638.74833203846754,737.75594449521498,253.40245694162698,253.40245694162698,null,null,null,null,0,0,0,-4.9071153172099542E-2,-4.9071153172099542E-2,-4.9071153172099542E-2,-4.9071153172099542E-2,-0.1119767097677842,-0.1119767097677842,-6.1623022305125445E-2,null,null,0,0,0,0,null,17,null,19.399999999999999,17.100000000000001,15.6,13.5,null,null,{"$f":"SUM(BB99:BB118)/30","v":14.293333333333333},0,15.416666666666668,14.606666666666666,13.856666666666667,12.713333333333331,0,null,null,null,"2016-04-09",16,0,14]
["2015-07-10",14.8,14.8,14.8,14.8,20.066666666666666,6.0759999999999996,6.0759999999999996,6.0759999999999996,6.0759999999999996,9.3333333333333005E-2,9.3333333333333005E-2,9.3333333333333005E-2,9.3333333333333005E-2,1.5360983102918533E-2,1.5360983102918533E-2,1.5360983102918533E-2,1.5360983102918533E-2,1.5360983102918533E-2,1.5360983102918533E-2,1.5360983102918533E-2,1.5360983102918533E-2,0,0,0,0,1.5360983102918533E-2,0,639.11699563293757,738.12460808968501,253.40245694162698,253.40245694162698,null,null,null,null,0,0,0,5.120327700972844E-3,5.120327700972844E-3,5.120327700972844E-3,5.120327700972844E-3,-9.4765698852588814E-2,-9.4765698852588814E-2,-3.490490478667186E-2,null,null,9.3333333333333005E-2,9.3333333333333005E-2,9.3333333333333005E-2,9.3333333333333005E-2,null,14.8,null,18.5,16.2,13.600000000000001,12.399999999999999,null,null,{"$f":"SUM(BB100:BB119)/30","v":14.54},0,15.696666666666669,14.873333333333333,14.073333333333336,12.859999999999998,0,null,null,null,"2016-04-10",18.600000000000001,0,11.399999999999999]
["2015-07-11",17.5,17.5,17.5,17.5,19.166666666666668,6.3999999999999995,6.3999999999999995,6.3999999999999995,6.3999999999999995,-1.1666666666666667,-1.1666666666666667,-1.1666666666666667,-1.1666666666666667,-0.18229166666666669,-0.18229166666666669,-0.18229166666666669,-0.18229166666666669,0,0,0,0,0.18229166666666669,0.18229166666666669,0.18229166666666669,0.18229166666666669,0,0.18229166666666669,639.11699563293757,738.12460808968501,257.77745694162695,257.77745694162695,null,null,null,null,0,0,0,-6.0763888888888895E-2,-6.0763888888888895E-2,-6.0763888888888895E-2,-6.0763888888888895E-2,-7.8746224574218329E-2,-7.8746224574218329E-2,-6.5520600877388549E-2,null,null,0,0,0,0,null,17.5,null,19,17.7,16.899999999999999,15.6,null,null,{"$f":"SUM(BB101:BB120)/30","v":14.600000000000001},0,15.863333333333337,15.083333333333334,14.12666666666667,12.85,0,null,null,null,"2016-04-11",17.7,0,12.3]
["2015-07-12",21.2,21.2,21.2,21.2,17.933333333333334,6.8439999999999994,6.8439999999999994,6.8439999999999994,6.8439999999999994,-2.8933333333333326,-2.8933333333333326,-2.8933333333333326,-2.8933333333333326,-0.4227547243327488,-0.4227547243327488,-0.4227547243327488,-0.4227547243327488,0,0,0,0,0.4227547243327488,0.4227547243327488,0.4227547243327488,0.4227547243327488,0,0.4227547243327488,639.11699563293757,738.12460808968501,267.9235703256129,267.9235703256129,null,null,null,null,0,0,0,-0.14091824144424961,-0.14091824144424961,-0.14091824144424961,-0.14091824144424961,-7.5500227995798655E-2,-7.5500227995798655E-2,-9.2063708783389708E-2,null,null,0,0,0,0,null,21.2,null,23.6,22.2,20.3,17.899999999999999,null,null,{"$f":"SUM(BB102:BB121)/30","v":14.73},0,15.983333333333336,15.213333333333336,14.260000000000002,12.946666666666665,0,null,null,null,"2016-04-12",16.899999999999999,0,13.100000000000001]
["2015-07-13",18.100000000000001,18.100000000000001,18.100000000000001,18.100000000000001,18.966666666666665,6.4720000000000004,6.4720000000000004,6.4720000000000004,6.4720000000000004,-1.4466666666666674,-1.4466666666666674,-1.4466666666666674,-1.4466666666666674,-0.22352698805109197,-0.22352698805109197,-0.22352698805109197,-0.22352698805109197,0,0,0,0,0.22352698805109197,0.22352698805109197,0.22352698805109197,0.22352698805109197,0,0.22352698805109197,639.11699563293757,738.12460808968501,273.28821803883909,273.28821803883909,null,null,null,null,0,0,0,-7.4508996017030663E-2,-7.4508996017030663E-2,-7.4508996017030663E-2,-7.4508996017030663E-2,-9.0055661299929729E-2,-9.0055661299929729E-2,-0.10186353873842102,null,null,0,0,0,0,null,18.100000000000001,null,21.6,19.7,17.100000000000001,14.7,null,null,{"$f":"SUM(BB103:BB122)/30","v":14.853333333333332},0,16.086666666666666,15.360000000000003,14.373333333333335,13.009999999999998,0,null,null,null,"2016-04-13",17.3,0,12.7]
["2015-07-14",18.8,18.8,18.8,18.8,18.733333333333334,6.5559999999999992,6.5559999999999992,6.5559999999999992,6.5559999999999992,-1.7733333333333337,-1.7733333333333337,-1.7733333333333337,-1.7733333333333337,-0.2704901362619484,-0.2704901362619484,-0.2704901362619484,-0.2704901362619484,0,0,0,0,0.2704901362619484,0.2704901362619484,0.2704901362619484,0.2704901362619484,0,0.2704901362619484,639.11699563293757,738.12460808968501,279.77998130912584,279.77998130912584,null,null,null,null,0,0,0,-9.0163378753982795E-2,-9.0163378753982795E-2,-9.0163378753982795E-2,-9.0163378753982795E-2,-0.1196870936432939,-0.1196870936432939,-9.4289546722108444E-2,null,null,0,0,0,0,null,18.8,null,21.1,20.2,18.100000000000001,16.399999999999999,null,null,{"$f":"SUM(BB104:BB123)/30","v":14.786666666666665},0,16.186666666666664,15.423333333333336,14.270000000000001,12.879999999999999,0,null,null,null,"2016-04-14",17.399999999999999,0,12.600000000000001]
["2015-07-15",20.100000000000001,{"$f":"$B115+C$9","v":20.100000000000001},20.100000000000001,20.100000000000001,18.3,6.7119999999999997,6.7119999999999997,6.7119999999999997,6.7119999999999997,-2.3800000000000008,-2.3800000000000008,-2.3800000000000008,-2.3800000000000008,-0.35458879618593575,-0.35458879618593575,-0.35458879618593575,-0.35458879618593575,0,0,0,0,0.35458879618593575,0.35458879618593575,0.35458879618593575,0.35458879618593575,0,0.35458879618593575,639.11699563293757,738.12460808968501,288.29011241758832,288.29011241758832,null,null,null,null,0,0,0,-0.11819626539531192,-0.11819626539531192,-0.11819626539531192,-0.11819626539531192,-0.14517171931174314,-0.14517171931174314,-0.11977294348343727,null,null,0,0,0,0,null,20.100000000000001,null,24,22,19.100000000000001,17.5,null,null,{"$f":"SUM(BB105:BB124)/30","v":14.706666666666667},0,16.203333333333333,15.433333333333334,14.166666666666668,12.703333333333331,0,null,null,null,"2016-04-15",17.100000000000001,0,12.899999999999999]
["2015-07-16",21.7,21.7,21.7,21.7,17.766666666666666,6.9039999999999999,6.9039999999999999,6.9039999999999999,6.9039999999999999,-3.126666666666666,-3.126666666666666,-3.126666666666666,-3.126666666666666,-0.45287755890305126,-0.45287755890305126,-0.45287755890305126,-0.45287755890305126,0,0,0,0,0.45287755890305126,0.45287755890305126,0.45287755890305126,0.45287755890305126,0,0.45287755890305126,639.11699563293757,738.12460808968501,299.15917383126157,299.15917383126157,null,null,null,null,0,0,0,-0.1509591863010171,-0.1509591863010171,-0.1509591863010171,-0.1509591863010171,-0.15699327603141369,-0.15699327603141369,-0.1571517167996351,null,null,0,0,0,0,null,21.7,null,24.4,23.6,21.6,20.6,null,null,{"$f":"SUM(BB106:BB125)/30","v":14.573333333333332},0,16.226666666666667,15.41,14.006666666666668,12.54,0,null,null,null,"2016-04-16",15.8,0,14.2]
["2015-07-17",24.4,24.4,24.4,24.4,16.866666666666667,7.2279999999999998,7.2279999999999998,7.2279999999999998,7.2279999999999998,-4.3866666666666658,-4.3866666666666658,-4.3866666666666658,-4.3866666666666658,-0.60689909610772907,-0.60689909610772907,-0.60689909610772907,-0.60689909610772907,0,0,0,0,0.60689909610772907,0.60689909610772907,0.60689909610772907,0.60689909610772907,0,0.60689909610772907,639.11699563293757,738.12460808968501,313.72475213784708,313.72475213784708,null,null,null,null,0,0,0,-0.20229969870257636,-0.20229969870257636,-0.20229969870257636,-0.20229969870257636,-0.16988153850062829,-0.16988153850062829,-0.19747171785720888,null,null,0,0,0,0,null,24.4,null,26.1,24.6,23.5,23.5,null,null,{"$f":"SUM(BB107:BB126)/30","v":14.366666666666667},0,16.013333333333332,15.186666666666666,13.803333333333336,12.32,0,null,null,null,"2016-04-17",14.4,0,15.6]
["2015-07-18",26.5,26.5,26.5,26.5,16.166666666666668,7.4799999999999986,7.4799999999999986,7.4799999999999986,7.4799999999999986,-5.3666666666666663,-5.3666666666666663,-5.3666666666666663,-5.3666666666666663,-0.71746880570409988,-0.71746880570409988,-0.71746880570409988,-0.71746880570409988,0,0,0,0,0.71746880570409988,0.71746880570409988,0.71746880570409988,0.71746880570409988,0,0.71746880570409988,639.11699563293757,738.12460808968501,330.9440034747455,330.9440034747455,null,null,null,null,0,0,0,-0.23915626856803329,-0.23915626856803329,-0.23915626856803329,-0.23915626856803329,-0.18895378989033701,-0.18895378989033701,-0.2217083685841845,null,null,0,0,0,0,null,26.5,null,26.6,24.3,26,22.4,null,null,{"$f":"SUM(BB108:BB127)/30","v":14.146666666666668},0,15.743333333333332,14.87,13.556666666666667,12.066666666666666,0,null,null,null,"2016-04-18",18.2,0,11.8]
["2015-07-19",25.6,25.6,25.6,25.6,16.466666666666665,7.3719999999999999,7.3719999999999999,7.3719999999999999,7.3719999999999999,-4.9466666666666681,-4.9466666666666681,-4.9466666666666681,-4.9466666666666681,-0.67100741544583131,-0.67100741544583131,-0.67100741544583131,-0.67100741544583131,0,0,0,0,0.67100741544583131,0.67100741544583131,0.67100741544583131,0.67100741544583131,0,0.67100741544583131,639.11699563293757,738.12460808968501,347.04818144544544,347.04818144544544,null,null,null,null,0,0,0,-0.22366913848194378,-0.22366913848194378,-0.22366913848194378,-0.22366913848194378,-0.20623379034358291,-0.20623379034358291,-0.20918408011716991,null,null,0,0,0,0,null,25.6,null,26.9,25.5,24.2,20.9,null,null,{"$f":"SUM(BB109:BB128)/30","v":14.09},0,15.583333333333334,14.766666666666667,13.483333333333333,12.020000000000001,0,null,null,null,"2016-04-19",18.8,0,11.2]
["2015-07-20",22.4,22.4,22.4,22.4,17.533333333333335,6.9879999999999995,6.9879999999999995,6.9879999999999995,6.9879999999999995,-3.4533333333333327,-3.4533333333333327,-3.4533333333333327,-3.4533333333333327,-0.49418049990459828,-0.49418049990459828,-0.49418049990459828,-0.49418049990459828,0,0,0,0,0.49418049990459828,0.49418049990459828,0.49418049990459828,0.49418049990459828,0,0.49418049990459828,639.11699563293757,738.12460808968501,358.90851344315581,358.90851344315581,null,null,null,null,0,0,0,-0.16472683330153276,-0.16472683330153276,-0.16472683330153276,-0.16472683330153276,-0.20708253748149624,-0.20708253748149624,-0.20402170342180678,null,null,0,0,0,0,null,22.4,null,25.8,25.6,21.6,18.100000000000001,null,null,{"$f":"SUM(BB110:BB129)/30","v":14.08},0,15.516666666666667,14.809999999999997,13.476666666666665,12,0,null,null,null,"2016-04-20",19.899999999999999,0,10.100000000000001]
["2015-07-21",25.6,25.6,25.6,25.6,16.466666666666665,7.3719999999999999,7.3719999999999999,7.3719999999999999,7.3719999999999999,-4.9466666666666681,-4.9466666666666681,-4.9466666666666681,-4.9466666666666681,-0.67100741544583131,-0.67100741544583131,-0.67100741544583131,-0.67100741544583131,0,0,0,0,0.67100741544583131,0.67100741544583131,0.67100741544583131,0.67100741544583131,0,0.67100741544583131,639.11699563293757,738.12460808968501,375.01269141385575,375.01269141385575,null,null,null,null,0,0,0,-0.22366913848194378,-0.22366913848194378,-0.22366913848194378,-0.22366913848194378,-0.20390564972531541,-0.20390564972531541,-0.20918408011716991,null,null,0,0,0,0,null,25.6,null,26.2,25.8,25.1,22.2,null,null,{"$f":"SUM(BB111:BB130)/30","v":14.126666666666665},0,15.54,14.886666666666665,13.53,12.033333333333333,0,null,null,null,"2016-04-21",20.6,0,9.3999999999999986]
["2015-07-22",26.5,26.5,26.5,26.5,16.166666666666668,7.4799999999999986,7.4799999999999986,7.4799999999999986,7.4799999999999986,-5.3666666666666663,-5.3666666666666663,-5.3666666666666663,-5.3666666666666663,-0.71746880570409988,-0.71746880570409988,-0.71746880570409988,-0.71746880570409988,0,0,0,0,0.71746880570409988,0.71746880570409988,0.71746880570409988,0.71746880570409988,0,0.71746880570409988,639.11699563293757,738.12460808968501,392.23194275075411,392.23194275075411,null,null,null,null,0,0,0,-0.23915626856803329,-0.23915626856803329,-0.23915626856803329,-0.23915626856803329,-0.19271577005214352,-0.19271577005214352,-0.20657527443879586,null,null,0,0,0,0,null,26.5,null,27,27.2,26,23.3,null,null,{"$f":"SUM(BB112:BB131)/30","v":14.099999999999998},0,15.596666666666666,14.919999999999996,13.479999999999999,11.943333333333332,0,null,null,null,"2016-04-22",17.7,0,12.3]
["2015-07-23",22,22,22,22,17.666666666666668,6.9399999999999995,6.9399999999999995,6.9399999999999995,6.9399999999999995,-3.2666666666666666,-3.2666666666666666,-3.2666666666666666,-3.2666666666666666,-0.47070124879923153,-0.47070124879923153,-0.47070124879923153,-0.47070124879923153,0,0,0,0,0.47070124879923153,0.47070124879923153,0.47070124879923153,0.47070124879923153,0,0.47070124879923153,639.11699563293757,738.12460808968501,403.5287727219357,403.5287727219357,null,null,null,null,0,0,0,-0.15690041626641052,-0.15690041626641052,-0.15690041626641052,-0.15690041626641052,-0.17043087660203618,-0.17043087660203618,-0.19203938974791809,null,null,0,0,0,0,null,22,null,27.5,25.8,21,19.3,null,null,{"$f":"SUM(BB113:BB132)/30","v":14.043333333333331},0,15.496666666666666,14.879999999999997,13.43333333333333,11.876666666666665,0,null,null,null,"2016-04-23",18.100000000000001,0,11.899999999999999]
["2015-07-24",23.2,23.2,23.2,23.2,17.266666666666666,7.0839999999999996,7.0839999999999996,7.0839999999999996,7.0839999999999996,-3.8266666666666662,-3.8266666666666662,-3.8266666666666662,-3.8266666666666662,-0.5401844532279314,-0.5401844532279314,-0.5401844532279314,-0.5401844532279314,0,0,0,0,0.5401844532279314,0.5401844532279314,0.5401844532279314,0.5401844532279314,0,0.5401844532279314,639.11699563293757,738.12460808968501,416.49319959940607,416.49319959940607,null,null,null,null,0,0,0,-0.18006148440931047,-0.18006148440931047,-0.18006148440931047,-0.18006148440931047,-0.15656631246341618,-0.15656631246341618,-0.16592967051051696,null,null,0,0,0,0,null,23.2,null,25.9,25.4,22.6,19.399999999999999,null,null,{"$f":"SUM(BB114:BB133)/30","v":14.143333333333334},0,15.44,14.906666666666665,13.559999999999995,12.016666666666664,0,null,null,null,"2016-04-24",22.9,0,7.1000000000000014]
["2015-07-25",22.2,22.2,22.2,22.2,17.600000000000001,6.9640000000000004,6.9640000000000004,6.9640000000000004,6.9640000000000004,-3.3599999999999994,-3.3599999999999994,-3.3599999999999994,-3.3599999999999994,-0.48248133256748982,-0.48248133256748982,-0.48248133256748982,-0.48248133256748982,0,0,0,0,0.48248133256748982,0.48248133256748982,0.48248133256748982,0.48248133256748982,0,0.48248133256748982,639.11699563293757,738.12460808968501,428.07275158102584,428.07275158102584,null,null,null,null,0,0,0,-0.16082711085582993,-0.16082711085582993,-0.16082711085582993,-0.16082711085582993,-0.13967381935842246,-0.13967381935842246,-0.13618782653211095,null,null,0,0,0,0,null,22.2,null,25.6,24.7,20.8,18.8,null,null,{"$f":"SUM(BB115:BB134)/30","v":14.276666666666667},0,15.466666666666665,15.01333333333333,13.699999999999996,12.119999999999997,0,null,null,null,"2016-04-25",24.9,0,5.1000000000000014]
["2015-07-26",17.8,17.8,17.8,17.8,19.066666666666666,6.4359999999999999,6.4359999999999999,6.4359999999999999,6.4359999999999999,-1.3066666666666671,-1.3066666666666671,-1.3066666666666671,-1.3066666666666671,-0.20302465299357786,-0.20302465299357786,-0.20302465299357786,-0.20302465299357786,0,0,0,0,0.20302465299357786,0.20302465299357786,0.20302465299357786,0.20302465299357786,0,0.20302465299357786,639.11699563293757,738.12460808968501,432.94534325287174,432.94534325287174,null,null,null,null,0,0,0,-6.767488433119262E-2,-6.767488433119262E-2,-6.767488433119262E-2,-6.767488433119262E-2,-0.11150130592911597,-0.11150130592911597,-9.8725626506071709E-2,null,null,0,0,0,0,null,17.8,null,20,19.5,16.899999999999999,14,null,null,{"$f":"SUM(BB116:BB135)/30","v":14.466666666666667},0,15.493333333333332,15.116666666666665,13.91333333333333,12.293333333333329,0,null,null,null,"2016-04-26",22.8,0,7.1999999999999993]
["2015-07-27",17.8,17.8,17.8,17.8,19.066666666666666,6.4359999999999999,6.4359999999999999,6.4359999999999999,6.4359999999999999,-1.3066666666666671,-1.3066666666666671,-1.3066666666666671,-1.3066666666666671,-0.20302465299357786,-0.20302465299357786,-0.20302465299357786,-0.20302465299357786,0,0,0,0,0.20302465299357786,0.20302465299357786,0.20302465299357786,0.20302465299357786,0,0.20302465299357786,639.11699563293757,738.12460808968501,437.81793492471763,437.81793492471763,null,null,null,null,0,0,0,-6.767488433119262E-2,-6.767488433119262E-2,-6.767488433119262E-2,-6.767488433119262E-2,-9.3357727350805358E-2,-9.3357727350805358E-2,-8.0257151803124385E-2,null,null,0,0,0,0,null,17.8,null,18.5,16.7,16.7,14.6,null,null,{"$f":"SUM(BB117:BB136)/30","v":14.556666666666667},0,15.559999999999999,15.2,13.973333333333329,12.309999999999999,0,null,null,null,"2016-04-27",22.5,0,7.5]
["2015-07-28",19.5,19.5,19.5,19.5,18.5,6.64,6.64,6.64,6.64,-2.1,-2.1,-2.1,-2.1,-0.3162650602409639,-0.3162650602409639,-0.3162650602409639,-0.3162650602409639,0,0,0,0,0.3162650602409639,0.3162650602409639,0.3162650602409639,0.3162650602409639,0,0.3162650602409639,639.11699563293757,738.12460808968501,445.40829637050075,445.40829637050075,null,null,null,null,0,0,0,-0.10542168674698797,-0.10542168674698797,-0.10542168674698797,-0.10542168674698797,-7.3627325944173538E-2,-7.3627325944173538E-2,-7.1681748547022778E-2,null,null,0,0,0,0,null,19.5,null,19.8,19.2,17.8,15.5,null,null,{"$f":"SUM(BB118:BB137)/30","v":14.603333333333333},0,15.556666666666665,15.27,14.033333333333331,12.3,0,null,null,null,"2016-04-28",21.4,0,8.6000000000000014]
["2015-07-29",16.7,16.7,16.7,16.7,19.433333333333334,6.3040000000000003,6.3040000000000003,6.3040000000000003,6.3040000000000003,-0.793333333333333,-0.793333333333333,-0.793333333333333,-0.793333333333333,-0.12584602368866321,-0.12584602368866321,-0.12584602368866321,-0.12584602368866321,0,0,0,0,0.12584602368866321,0.12584602368866321,0.12584602368866321,0.12584602368866321,0,0.12584602368866321,639.11699563293757,738.12460808968501,448.42860093902868,448.42860093902868,null,null,null,null,0,0,0,-4.1948674562887735E-2,-4.1948674562887735E-2,-4.1948674562887735E-2,-4.1948674562887735E-2,-6.5712265357196126E-2,-6.5712265357196126E-2,-5.9088575842703966E-2,null,null,0,0,0,0,null,16.7,null,17.399999999999999,18.399999999999999,15.4,12.899999999999999,null,null,{"$f":"SUM(BB119:BB138)/30","v":14.616666666666667},0,15.559999999999999,15.366666666666665,14.056666666666665,12.396666666666668,0,null,null,null,"2016-04-29",21.1,0,8.8999999999999986]
["2015-07-30",16.2,16.2,16.2,16.2,19.600000000000001,6.2439999999999998,6.2439999999999998,6.2439999999999998,6.2439999999999998,-0.55999999999999972,-0.55999999999999972,-0.55999999999999972,-0.55999999999999972,-8.9686098654708474E-2,-8.9686098654708474E-2,-8.9686098654708474E-2,-8.9686098654708474E-2,0,0,0,0,8.9686098654708474E-2,8.9686098654708474E-2,8.9686098654708474E-2,8.9686098654708474E-2,0,8.9686098654708474E-2,639.11699563293757,738.12460808968501,450.58106730674172,450.58106730674172,null,null,null,null,0,0,0,-2.9895366218236158E-2,-2.9895366218236158E-2,-2.9895366218236158E-2,-2.9895366218236158E-2,-7.5885694579724161E-2,-7.5885694579724161E-2,-3.7930905114670545E-2,null,null,0,0,0,0,null,16.2,null,19.2,18.5,15.2,13.399999999999999,null,null,{"$f":"SUM(BB120:BB139)/30","v":14.676666666666668},0,15.573333333333332,15.453333333333335,14.153333333333334,12.516666666666667,0,null,null,null,"2016-04-30",17.899999999999999,0,12.100000000000001]
["2015-07-31",16.7,16.7,16.7,16.7,19.433333333333334,6.3040000000000003,6.3040000000000003,6.3040000000000003,6.3040000000000003,-0.793333333333333,-0.793333333333333,-0.793333333333333,-0.793333333333333,-0.12584602368866321,-0.12584602368866321,-0.12584602368866321,-0.12584602368866321,0,0,0,0,0.12584602368866321,0.12584602368866321,0.12584602368866321,0.12584602368866321,0,0.12584602368866321,639.11699563293757,738.12460808968501,453.60137187526965,453.60137187526965,null,null,null,null,0,0,0,-4.1948674562887735E-2,-4.1948674562887735E-2,-4.1948674562887735E-2,-4.1948674562887735E-2,-9.0853063360262248E-2,-9.0853063360262248E-2,-5.9088575842703946E-2,null,null,0,0,0,0,null,16.7,null,20.7,18.7,15.4,12.899999999999999,null,null,{"$f":"SUM(BB121:BB140)/30","v":14.77},0,15.589999999999998,15.516666666666667,14.25,12.676666666666668,0,null,null,null,"2016-05-01",15.9,0,14.1]
["2015-08-01",19.5,19.5,19.5,19.5,18.5,6.64,6.64,6.64,6.64,-2.1,-2.1,-2.1,-2.1,-0.3162650602409639,-0.3162650602409639,-0.3162650602409639,-0.3162650602409639,0,0,0,0,0.3162650602409639,0.3162650602409639,0.3162650602409639,0.3162650602409639,0,0.3162650602409639,639.11699563293757,738.12460808968501,461.19173332105277,461.19173332105277,null,null,null,null,0,0,0,-0.10542168674698797,-0.10542168674698797,-0.10542168674698797,-0.10542168674698797,-0.10824279535476269,-0.10824279535476269,-9.541975006625486E-2,null,null,0,0,0,0,null,19.5,null,20.6,21,18.899999999999999,15.9,null,null,{"$f":"SUM(BB122:BB141)/30","v":14.796666666666662},0,15.589999999999998,15.553333333333335,14.263333333333332,12.749999999999998,0,null,null,null,"2016-05-02",14.3,0,15.7]
["2015-08-02",21.1,21.1,21.1,21.1,17.966666666666665,6.8320000000000007,6.8320000000000007,6.8320000000000007,6.8320000000000007,-2.8466666666666671,-2.8466666666666671,-2.8466666666666671,-2.8466666666666671,-0.41666666666666669,-0.41666666666666669,-0.41666666666666669,-0.41666666666666669,0,0,0,0,0.41666666666666669,0.41666666666666669,0.41666666666666669,0.41666666666666669,0,0.41666666666666669,639.11699563293757,738.12460808968501,471.19173332105277,471.19173332105277,null,null,null,null,0,0,0,-0.1388888888888889,-0.1388888888888889,-0.1388888888888889,-0.1388888888888889,-0.13115008451757537,-0.13115008451757537,-0.13891901381027874,null,null,0,0,0,0,null,21.1,null,19.899999999999999,20.5,20.9,18.899999999999999,null,null,{"$f":"SUM(BB123:BB142)/30","v":14.793333333333328},0,15.56,15.540000000000001,14.270000000000001,12.793333333333333,0,null,null,null,"2016-05-03",14.8,0,15.2]
["2015-08-03",22.8,22.8,22.8,22.8,17.399999999999999,7.0359999999999996,7.0359999999999996,7.0359999999999996,7.0359999999999996,-3.6400000000000006,-3.6400000000000006,-3.6400000000000006,-3.6400000000000006,-0.51733939738487789,-0.51733939738487789,-0.51733939738487789,-0.51733939738487789,0,0,0,0,0.51733939738487789,0.51733939738487789,0.51733939738487789,0.51733939738487789,0,0.51733939738487789,639.11699563293757,738.12460808968501,483.60787885828984,483.60787885828984,null,null,null,null,0,0,0,-0.17244646579495929,-0.17244646579495929,-0.17244646579495929,-0.17244646579495929,-0.15932929087332609,-0.15932929087332609,-0.17949505513077982,null,null,0,0,0,0,null,22.8,null,21.9,23.4,22.3,19.5,null,null,{"$f":"SUM(BB124:BB143)/30","v":14.946666666666664},0,15.51,15.583333333333334,14.430000000000001,12.926666666666666,0,null,null,null,"2016-05-04",14.4,0,15.6]
["2015-08-04",25.8,25.8,25.8,25.8,16.399999999999999,7.395999999999999,7.395999999999999,7.395999999999999,7.395999999999999,-5.0400000000000009,-5.0400000000000009,-5.0400000000000009,-5.0400000000000009,-0.68144943212547349,-0.68144943212547349,-0.68144943212547349,-0.68144943212547349,0,0,0,0,0.68144943212547349,0.68144943212547349,0.68144943212547349,0.68144943212547349,0,0.68144943212547349,639.11699563293757,738.12460808968501,499.96266522930119,499.96266522930119,null,null,null,null,0,0,0,-0.22714981070849116,-0.22714981070849116,-0.22714981070849116,-0.22714981070849116,-0.18846473737783673,-0.18846473737783673,-0.20063199173534227,null,null,0,0,0,0,null,25.8,null,24.8,25.1,25.5,22.7,null,null,{"$f":"SUM(BB125:BB144)/30","v":15.043333333333331},0,15.543333333333333,15.63,14.533333333333335,13.086666666666666,0,null,null,null,"2016-05-05",14.7,0,15.3]
["2015-08-05",24.4,24.4,24.4,24.4,16.866666666666667,7.2279999999999998,7.2279999999999998,7.2279999999999998,7.2279999999999998,-4.3866666666666658,-4.3866666666666658,-4.3866666666666658,-4.3866666666666658,-0.60689909610772907,-0.60689909610772907,-0.60689909610772907,-0.60689909610772907,0,0,0,0,0.60689909610772907,0.60689909610772907,0.60689909610772907,0.60689909610772907,0,0.60689909610772907,639.11699563293757,738.12460808968501,514.52824353588665,514.52824353588665,null,null,null,null,0,0,0,-0.20229969870257636,-0.20229969870257636,-0.20229969870257636,-0.20229969870257636,-0.20971914527475558,-0.20971914527475558,-0.21886644003985289,null,null,0,0,0,0,null,24.4,null,26.4,26.1,23.4,21.1,null,null,{"$f":"SUM(BB126:BB145)/30","v":15.180000000000001},0,15.600000000000001,15.713333333333335,14.710000000000003,13.270000000000001,0,null,null,null,"2016-05-06",14.4,0,15.6]
["2015-08-06",25.8,25.8,25.8,25.8,16.399999999999999,7.395999999999999,7.395999999999999,7.395999999999999,7.395999999999999,-5.0400000000000009,-5.0400000000000009,-5.0400000000000009,-5.0400000000000009,-0.68144943212547349,-0.68144943212547349,-0.68144943212547349,-0.68144943212547349,0,0,0,0,0.68144943212547349,0.68144943212547349,0.68144943212547349,0.68144943212547349,0,0.68144943212547349,639.11699563293757,738.12460808968501,530.88302990689806,530.88302990689806,null,null,null,null,0,0,0,-0.22714981070849116,-0.22714981070849116,-0.22714981070849116,-0.22714981070849116,-0.22082635531697381,-0.22082635531697381,-0.22511543650184321,null,null,0,0,0,0,null,25.8,null,26,26.7,25.3,23.2,null,null,{"$f":"SUM(BB127:BB146)/30","v":15.416666666666666},0,15.82666666666667,15.976666666666667,14.933333333333335,13.456666666666667,0,null,null,null,"2016-05-07",15.9,0,14.1]
["2015-08-07",26.9,26.9,26.9,26.9,16.033333333333335,7.5279999999999987,7.5279999999999987,7.5279999999999987,7.5279999999999987,-5.5533333333333319,-5.5533333333333319,-5.5533333333333319,-5.5533333333333319,-0.73769040028338639,-0.73769040028338639,-0.73769040028338639,-0.73769040028338639,0,0,0,0,0.73769040028338639,0.73769040028338639,0.73769040028338639,0.73769040028338639,0,0.73769040028338639,639.11699563293757,738.12460808968501,548.58759951369939,548.58759951369939,null,null,null,null,0,0,0,-0.24589680009446213,-0.24589680009446213,-0.24589680009446213,-0.24589680009446213,-0.23011365975450879,-0.23011365975450879,-0.24241638427612455,null,null,0,0,0,0,null,26.9,null,26.7,27.2,26.7,25.3,null,null,{"$f":"SUM(BB128:BB147)/30","v":15.526666666666669},0,16.000000000000004,16.22,15.046666666666669,13.55,0,null,null,null,"2016-05-08",16.8,0,13.2]
["2015-08-08",27.4,27.4,27.4,27.4,15.866666666666667,7.5879999999999992,7.5879999999999992,7.5879999999999992,7.5879999999999992,-5.7866666666666653,-5.7866666666666653,-5.7866666666666653,-5.7866666666666653,-0.76260762607626065,-0.76260762607626065,-0.76260762607626065,-0.76260762607626065,0,0,0,0,0.76260762607626065,0.76260762607626065,0.76260762607626065,0.76260762607626065,0,0.76260762607626065,639.11699563293757,738.12460808968501,566.89018253952963,566.89018253952963,null,null,null,null,0,0,0,-0.2542025420254202,-0.2542025420254202,-0.2542025420254202,-0.2542025420254202,-0.23158620063296773,-0.23158620063296773,-0.23891290043476632,null,null,0,0,0,0,null,27.4,null,27.3,28.1,27.1,24.5,null,null,{"$f":"SUM(BB129:BB148)/30","v":15.47},0,15.976666666666668,16.263333333333332,15.016666666666669,13.523333333333335,0,null,null,null,"2016-05-09",16.5,0,{"$f":"30-BU139","v":13.5}]
["2015-08-09",25.2,25.2,25.2,25.2,16.600000000000001,7.3239999999999998,7.3239999999999998,7.3239999999999998,7.3239999999999998,-4.76,-4.76,-4.76,-4.76,-0.6499180775532496,-0.6499180775532496,-0.6499180775532496,-0.6499180775532496,0,0,0,0,0.6499180775532496,0.6499180775532496,0.6499180775532496,0.6499180775532496,0,0.6499180775532496,639.11699563293757,738.12460808968501,582.48821640080757,582.48821640080757,null,null,null,null,0,0,0,-0.21663935918441654,-0.21663935918441654,-0.21663935918441654,-0.21663935918441654,-0.23709331492182334,-0.23709331492182334,-0.23609983268918014,null,null,0,0,0,0,null,25.2,null,26.3,27.5,24.5,22.9,null,null,{"$f":"SUM(BB130:BB149)/30","v":15.416666666666668},0,15.976666666666667,16.18333333333333,14.993333333333334,13.526666666666667,0,null,null,null,"2016-05-10",15.6,0,14.4]
["2015-08-10",26.4,26.4,26.4,26.4,16.2,7.468,7.468,7.468,7.468,-5.3199999999999985,-5.3199999999999985,-5.3199999999999985,-5.3199999999999985,-0.71237279057311176,-0.71237279057311176,-0.71237279057311176,-0.71237279057311176,0,0,0,0,0.71237279057311176,0.71237279057311176,0.71237279057311176,0.71237279057311176,0,0.71237279057311176,639.11699563293757,738.12460808968501,599.58516337456228,599.58516337456228,null,null,null,null,0,0,0,-0.23745759685770393,-0.23745759685770393,-0.23745759685770393,-0.23745759685770393,-0.23783315179482734,-0.23783315179482734,-0.23051818429994142,null,null,0,0,0,0,null,26.4,null,26.2,26.9,25.5,24.4,null,null,{"$f":"SUM(BB131:BB150)/30","v":15.400000000000002},0,15.896666666666668,16.11,14.990000000000002,13.526666666666666,0,null,null,null,"2016-05-11",14.7,0,15.3]
["2015-08-11",26.4,26.4,26.4,26.4,16.2,7.468,7.468,7.468,7.468,-5.3199999999999985,-5.3199999999999985,-5.3199999999999985,-5.3199999999999985,-0.71237279057311176,-0.71237279057311176,-0.71237279057311176,-0.71237279057311176,0,0,0,0,0.71237279057311176,0.71237279057311176,0.71237279057311176,0.71237279057311176,0,0.71237279057311176,639.11699563293757,738.12460808968501,616.682110348317,616.682110348317,null,null,null,null,0,0,0,-0.23745759685770393,-0.23745759685770393,-0.23745759685770393,-0.23745759685770393,-0.23638410282704436,-0.23638410282704436,-0.23858823081332448,null,null,0,0,0,0,null,26.4,null,26.1,26.8,26.2,24.6,null,null,{"$f":"SUM(BB132:BB151)/30","v":15.426666666666669},0,15.763333333333332,16.09,15.023333333333335,13.58,0,null,null,null,"2016-05-12",13.9,0,16.100000000000001]
["2015-08-12",26.6,26.6,26.6,26.6,16.133333333333333,7.4919999999999991,7.4919999999999991,7.4919999999999991,7.4919999999999991,-5.4133333333333349,-5.4133333333333349,-5.4133333333333349,-5.4133333333333349,-0.72254849617369665,-0.72254849617369665,-0.72254849617369665,-0.72254849617369665,0,0,0,0,0.72254849617369665,0.72254849617369665,0.72254849617369665,0.72254849617369665,0,0.72254849617369665,639.11699563293757,738.12460808968501,634.02327425648571,634.02327425648571,null,null,null,null,0,0,0,-0.24084949872456554,-0.24084949872456554,-0.24084949872456554,-0.24084949872456554,-0.23025606208921184,-0.23025606208921184,-0.23687858813392956,null,null,0,0,0,0,null,26.6,null,26,27.1,25.8,23.3,null,null,{"$f":"SUM(BB133:BB152)/30","v":15.406666666666668},0,15.696666666666667,16.016666666666669,15,13.573333333333332,0,null,null,null,"2016-05-13",15,0,15]
["2015-08-13",26.1,26.1,26.1,26.1,16.3,7.4320000000000004,7.4320000000000004,7.4320000000000004,7.4320000000000004,-5.1800000000000015,-5.1800000000000015,-5.1800000000000015,-5.1800000000000015,-0.69698600645855779,-0.69698600645855779,-0.69698600645855779,-0.69698600645855779,0,0,0,0,0.69698600645855779,0.69698600645855779,0.69698600645855779,0.69698600645855779,0,0.69698600645855779,639.11699563293757,738.12460808968501,650.75093841149112,650.75093841149112,null,null,null,null,0,0,0,-0.23232866881951927,-0.23232866881951927,-0.23232866881951927,-0.23232866881951927,-0.21914885204699361,-0.21914885204699361,-0.23631054162135523,null,null,0,0,0,0,null,26.1,null,26.9,26.8,25.7,24.2,null,null,{"$f":"SUM(BB134:BB153)/30","v":15.296666666666669},0,15.643333333333334,15.953333333333337,14.870000000000001,13.443333333333332,0,null,null,null,"2016-05-14",16.899999999999999,0,13.100000000000001]
["2015-08-14",26.3,26.3,26.3,26.3,16.233333333333334,7.4559999999999995,7.4559999999999995,7.4559999999999995,7.4559999999999995,-5.2733333333333343,-5.2733333333333343,-5.2733333333333343,-5.2733333333333343,-0.70726037195994296,-0.70726037195994296,-0.70726037195994296,-0.70726037195994296,0,0,0,0,0.70726037195994296,0.70726037195994296,0.70726037195994296,0.70726037195994296,0,0.70726037195994296,639.11699563293757,738.12460808968501,667.72518733852974,667.72518733852974,null,null,null,null,0,0,0,-0.23575345731998099,-0.23575345731998099,-0.23575345731998099,-0.23575345731998099,-0.19489417882892054,-0.19489417882892054,-0.22646279433336433,null,null,0,0,0,0,null,26.3,null,27.3,27.2,26.1,24.3,null,null,{"$f":"SUM(BB135:BB154)/30","v":15.13},0,15.530000000000001,15.780000000000001,14.7,13.323333333333331,0,null,null,null,"2016-05-15",18.5,0,11.5]
["2015-08-15",24.9,24.9,24.9,24.9,16.7,7.2880000000000003,7.2880000000000003,7.2880000000000003,7.2880000000000003,-4.6199999999999992,-4.6199999999999992,-4.6199999999999992,-4.6199999999999992,-0.63391877058177815,-0.63391877058177815,-0.63391877058177815,-0.63391877058177815,0,0,0,0,0.63391877058177815,0.63391877058177815,0.63391877058177815,0.63391877058177815,0,0.63391877058177815,639.11699563293757,738.12460808968501,682.93923783249238,682.93923783249238,null,null,null,null,0,0,0,-0.21130625686059271,-0.21130625686059271,-0.21130625686059271,-0.21130625686059271,-0.16133524847087247,-0.16133524847087247,-0.1953162010231542,null,null,0,0,0,0,null,24.9,null,26.8,27.4,23.6,19.600000000000001,null,null,{"$f":"SUM(BB136:BB155)/30","v":14.963333333333335},0,15.42,15.650000000000002,14.516666666666667,13.17333333333333,0,null,null,null,"2016-05-16",19.899999999999999,0,10.100000000000001]
["2015-08-16",21.1,21.1,21.1,21.1,17.966666666666665,6.8320000000000007,6.8320000000000007,6.8320000000000007,6.8320000000000007,-2.8466666666666671,-2.8466666666666671,-2.8466666666666671,-2.8466666666666671,-0.41666666666666669,-0.41666666666666669,-0.41666666666666669,-0.41666666666666669,0,0,0,0,0.41666666666666669,0.41666666666666669,0.41666666666666669,0.41666666666666669,0,0.41666666666666669,639.11699563293757,738.12460808968501,692.93923783249238,692.93923783249238,null,null,null,null,0,0,0,-0.1388888888888889,-0.1388888888888889,-0.1388888888888889,-0.1388888888888889,-0.12944362928717662,-0.12944362928717662,-0.13929001002689137,null,null,0,0,0,0,null,21.1,null,23.7,24,20.100000000000001,17.399999999999999,null,null,{"$f":"SUM(BB137:BB156)/30","v":14.753333333333336},0,15.180000000000001,15.406666666666668,14.309999999999999,12.923333333333334,0,null,null,null,"2016-05-17",21.8,0,8.1999999999999993]
["2015-08-17",17.8,17.8,17.8,17.8,19.066666666666666,6.4359999999999999,6.4359999999999999,6.4359999999999999,6.4359999999999999,-1.3066666666666671,-1.3066666666666671,-1.3066666666666671,-1.3066666666666671,-0.20302465299357786,-0.20302465299357786,-0.20302465299357786,-0.20302465299357786,0,0,0,0,0.20302465299357786,0.20302465299357786,0.20302465299357786,0.20302465299357786,0,0.20302465299357786,639.11699563293757,738.12460808968501,697.81182950433822,697.81182950433822,null,null,null,null,0,0,0,-6.767488433119262E-2,-6.767488433119262E-2,-6.767488433119262E-2,-6.767488433119262E-2,-0.10493437501137226,-0.10493437501137226,-6.9702952523816183E-2,null,null,0,0,0,0,null,17.8,null,19.100000000000001,20.5,16.899999999999999,14.7,null,null,{"$f":"SUM(BB138:BB157)/30","v":14.513333333333337},0,14.92,15.120000000000003,14.079999999999997,12.66333333333333,0,null,null,null,"2016-05-18",21.1,0,8.8999999999999986]
["2015-08-18",15.1,15.1,15.1,15.1,19.966666666666669,6.1120000000000001,6.1120000000000001,6.1120000000000001,6.1120000000000001,-4.6666666666666502E-2,-4.6666666666666502E-2,-4.6666666666666502E-2,-4.6666666666666502E-2,-7.6352530541011947E-3,-7.6352530541011947E-3,-7.6352530541011947E-3,-7.6352530541011947E-3,0,0,0,0,7.6352530541011947E-3,7.6352530541011947E-3,7.6352530541011947E-3,7.6352530541011947E-3,0,7.6352530541011947E-3,639.11699563293757,738.12460808968501,697.99507557763661,697.99507557763661,null,null,null,null,0,0,0,-2.5450843513670648E-3,-2.5450843513670648E-3,-2.5450843513670648E-3,-2.5450843513670648E-3,-8.445059997633296E-2,-8.445059997633296E-2,-2.9276044373751513E-2,null,null,0,0,0,0,null,15.1,null,17.399999999999999,16,14.7,13,null,null,{"$f":"SUM(BB139:BB158)/30","v":14.32666666666667},0,14.76,14.903333333333336,13.896666666666665,12.469999999999999,0,null,null,null,"2016-05-19",18.100000000000001,0,11.899999999999999]
["2015-08-19",15.7,15.7,15.7,15.7,19.766666666666666,6.1840000000000002,6.1840000000000002,6.1840000000000002,6.1840000000000002,-0.32666666666666633,-0.32666666666666633,-0.32666666666666633,-0.32666666666666633,-5.2824493316084464E-2,-5.2824493316084464E-2,-5.2824493316084464E-2,-5.2824493316084464E-2,0,0,0,0,5.2824493316084464E-2,5.2824493316084464E-2,5.2824493316084464E-2,5.2824493316084464E-2,0,5.2824493316084464E-2,639.11699563293757,738.12460808968501,699.26286341722266,699.26286341722266,null,null,null,null,0,0,0,-1.7608164438694823E-2,-1.7608164438694823E-2,-1.7608164438694823E-2,-1.7608164438694823E-2,-6.3931832472132924E-2,-6.3931832472132924E-2,-2.6972379226316928E-2,null,null,0,0,0,0,null,15.7,null,16.8,16.3,15.1,13.399999999999999,null,null,{"$f":"SUM(BB140:BB159)/30","v":14.173333333333337},0,14.610000000000001,14.73666666666667,13.746666666666664,12.316666666666665,0,null,null,null,"2016-05-20",16.100000000000001,0,13.899999999999999]
["2015-08-20",17.5,17.5,17.5,17.5,19.166666666666668,6.3999999999999995,6.3999999999999995,6.3999999999999995,6.3999999999999995,-1.1666666666666667,-1.1666666666666667,-1.1666666666666667,-1.1666666666666667,-0.18229166666666669,-0.18229166666666669,-0.18229166666666669,-0.18229166666666669,0,0,0,0,0.18229166666666669,0.18229166666666669,0.18229166666666669,0.18229166666666669,0,0.18229166666666669,639.11699563293757,738.12460808968501,703.63786341722266,703.63786341722266,null,null,null,null,0,0,0,-6.0763888888888895E-2,-6.0763888888888895E-2,-6.0763888888888895E-2,-6.0763888888888895E-2,-5.3758403249604896E-2,-5.3758403249604896E-2,-5.6913028467429773E-2,null,null,0,0,0,0,null,17.5,null,16.7,18.100000000000001,16.399999999999999,14.5,null,null,{"$f":"SUM(BB141:BB160)/30","v":14.073333333333336},0,14.556666666666667,14.653333333333336,13.66333333333333,12.246666666666666,0,null,null,null,"2016-05-21",14,0,16]
["2015-08-21",18.899999999999999,18.899999999999999,18.899999999999999,18.899999999999999,18.7,6.5679999999999996,6.5679999999999996,6.5679999999999996,6.5679999999999996,-1.8199999999999994,-1.8199999999999994,-1.8199999999999994,-1.8199999999999994,-0.27710109622411683,-0.27710109622411683,-0.27710109622411683,-0.27710109622411683,0,0,0,0,0.27710109622411683,0.27710109622411683,0.27710109622411683,0.27710109622411683,0,0.27710109622411683,639.11699563293757,738.12460808968501,710.28828972660142,710.28828972660142,null,null,null,null,0,0,0,-9.2367032074705605E-2,-9.2367032074705605E-2,-9.2367032074705605E-2,-9.2367032074705605E-2,-6.3055967117162229E-2,-6.3055967117162229E-2,-7.3601935098262378E-2,null,null,0,0,0,0,null,18.899999999999999,null,18.600000000000001,18.8,18.2,15.7,null,null,{"$f":"SUM(BB142:BB161)/30","v":14.013333333333337},0,14.546666666666663,14.610000000000003,13.609999999999998,12.176666666666666,0,null,null,null,"2016-05-22",11.6,0,18.399999999999999]
["2015-08-22",17.8,17.8,17.8,17.8,19.066666666666666,6.4359999999999999,6.4359999999999999,6.4359999999999999,6.4359999999999999,-1.3066666666666671,-1.3066666666666671,-1.3066666666666671,-1.3066666666666671,-0.20302465299357786,-0.20302465299357786,-0.20302465299357786,-0.20302465299357786,0,0,0,0,0.20302465299357786,0.20302465299357786,0.20302465299357786,0.20302465299357786,0,0.20302465299357786,639.11699563293757,738.12460808968501,715.16088139844726,715.16088139844726,null,null,null,null,0,0,0,-6.767488433119262E-2,-6.767488433119262E-2,-6.767488433119262E-2,-6.767488433119262E-2,-7.3336525926542731E-2,-7.3336525926542731E-2,-7.5905600245696939E-2,null,null,0,0,0,0,null,17.8,null,18.3,18.600000000000001,17,15,null,null,{"$f":"SUM(BB143:BB162)/30","v":13.97666666666667},0,14.516666666666664,14.566666666666668,13.579999999999997,12.146666666666667,0,null,null,null,"2016-05-23",11.1,0,18.899999999999999]
["2015-08-23",17.8,17.8,17.8,17.8,19.066666666666666,6.4359999999999999,6.4359999999999999,6.4359999999999999,6.4359999999999999,-1.3066666666666671,-1.3066666666666671,-1.3066666666666671,-1.3066666666666671,-0.20302465299357786,-0.20302465299357786,-0.20302465299357786,-0.20302465299357786,0,0,0,0,0.20302465299357786,0.20302465299357786,0.20302465299357786,0.20302465299357786,0,0.20302465299357786,639.11699563293757,738.12460808968501,720.0334730702931,720.0334730702931,null,null,null,null,0,0,0,-6.767488433119262E-2,-6.767488433119262E-2,-6.767488433119262E-2,-6.767488433119262E-2,-8.3068471291918591E-2,-8.3068471291918591E-2,-8.9369200022159714E-2,null,null,0,0,0,0,null,17.8,null,18.5,18.2,17.2,15.9,null,null,{"$f":"SUM(BB144:BB163)/30","v":13.936666666666669},0,14.459999999999999,14.496666666666668,13.556666666666667,12.04,0,null,null,null,"2016-05-24",12.3,0,17.7]
["2015-08-24",20.8,20.8,20.8,20.8,18.066666666666666,6.7959999999999994,6.7959999999999994,6.7959999999999994,6.7959999999999994,-2.7066666666666674,-2.7066666666666674,-2.7066666666666674,-2.7066666666666674,-0.39827349421228186,-0.39827349421228186,-0.39827349421228186,-0.39827349421228186,0,0,0,0,0.39827349421228186,0.39827349421228186,0.39827349421228186,0.39827349421228186,0,0.39827349421228186,639.11699563293757,738.12460808968501,729.59203693138784,729.59203693138784,null,null,null,null,0,0,0,-0.13275783140409395,-0.13275783140409395,-0.13275783140409395,-0.13275783140409395,-9.4807985748031648E-2,-9.4807985748031648E-2,-9.1647237250772395E-2,null,null,0,0,0,0,null,20.8,null,21.5,21.2,20,18.2,null,null,{"$f":"SUM(BB145:BB164)/30","v":13.620000000000003},0,14.25,14.253333333333334,13.24,11.686666666666667,0,null,null,null,"2016-05-25",12,0,18]
["2015-08-25",18.100000000000001,18.100000000000001,18.100000000000001,18.100000000000001,18.966666666666665,6.4720000000000004,6.4720000000000004,6.4720000000000004,6.4720000000000004,-1.4466666666666674,-1.4466666666666674,-1.4466666666666674,-1.4466666666666674,-0.22352698805109197,-0.22352698805109197,-0.22352698805109197,-0.22352698805109197,0,0,0,0,0.22352698805109197,0.22352698805109197,0.22352698805109197,0.22352698805109197,0,0.22352698805109197,639.11699563293757,738.12460808968501,734.95668464461403,734.95668464461403,null,null,null,null,0,0,0,-7.4508996017030663E-2,-7.4508996017030663E-2,-7.4508996017030663E-2,-7.4508996017030663E-2,-0.10624790485092503,-0.10624790485092503,-9.7666203139150157E-2,null,null,0,0,0,0,null,18.100000000000001,null,19.2,18.8,17.2,13.600000000000001,null,null,{"$f":"SUM(BB146:BB165)/30","v":13.303333333333336},0,13.933333333333334,13.940000000000001,12.909999999999998,11.306666666666667,0,null,null,null,"2016-05-26",11.8,0,18.2]
["2015-08-26",18.600000000000001,18.600000000000001,18.600000000000001,18.600000000000001,18.8,6.532,6.532,6.532,6.532,-1.6800000000000006,-1.6800000000000006,-1.6800000000000006,-1.6800000000000006,-0.25719534598897742,-0.25719534598897742,-0.25719534598897742,-0.25719534598897742,0,0,0,0,0.25719534598897742,0.25719534598897742,0.25719534598897742,0.25719534598897742,0,0.25719534598897742,639.11699563293757,738.12460808968501,741.12937294834944,741.12937294834944,null,null,null,null,0,0,0,-8.5731781996325807E-2,-8.5731781996325807E-2,-8.5731781996325807E-2,-8.5731781996325807E-2,-0.11955536578301607,-0.11955536578301607,-0.10106042269834559,null,null,0,0,0,0,null,18.600000000000001,null,18.2,18.100000000000001,18.399999999999999,15.4,null,null,{"$f":"SUM(BB147:BB166)/30","v":13.033333333333335},0,13.666666666666668,13.616666666666667,12.636666666666665,11.063333333333336,0,null,null,null,"2016-05-27",11.1,0,18.899999999999999]
["2015-08-27",21.3,21.3,21.3,21.3,17.899999999999999,6.8559999999999999,6.8559999999999999,6.8559999999999999,6.8559999999999999,-2.9400000000000004,-2.9400000000000004,-2.9400000000000004,-2.9400000000000004,-0.42882147024504091,-0.42882147024504091,-0.42882147024504091,-0.42882147024504091,0,0,0,0,0.42882147024504091,0.42882147024504091,0.42882147024504091,0.42882147024504091,0,0.42882147024504091,639.11699563293757,738.12460808968501,751.42108823423041,751.42108823423041,null,null,null,null,0,0,0,-0.1429404900816803,-0.1429404900816803,-0.1429404900816803,-0.1429404900816803,-0.13930469743858942,-0.13930469743858942,-0.13370624595765515,null,null,0,0,0,0,null,21.3,null,21.9,20.7,21.2,19.5,null,null,{"$f":"SUM(BB148:BB167)/30","v":12.823333333333334},0,13.406666666666666,13.360000000000001,12.419999999999998,10.800000000000002,0,null,null,null,"2016-05-28",9.6,0,20.399999999999999]
["2015-08-28",22.8,22.8,22.8,22.8,17.399999999999999,7.0359999999999996,7.0359999999999996,7.0359999999999996,7.0359999999999996,-3.6400000000000006,-3.6400000000000006,-3.6400000000000006,-3.6400000000000006,-0.51733939738487789,-0.51733939738487789,-0.51733939738487789,-0.51733939738487789,0,0,0,0,0.51733939738487789,0.51733939738487789,0.51733939738487789,0.51733939738487789,0,0.51733939738487789,639.11699563293757,738.12460808968501,763.83723377146748,763.83723377146748,null,null,null,null,0,0,0,-0.17244646579495929,-0.17244646579495929,-0.17244646579495929,-0.17244646579495929,-0.1515400684278749,-0.1515400684278749,-0.15873802224415651,null,null,0,0,0,0,null,22.8,null,22.8,23.1,22.6,19.899999999999999,null,null,{"$f":"SUM(BB149:BB168)/30","v":12.640000000000002},0,13.283333333333333,13.136666666666667,12.24,10.590000000000002,0,null,null,null,"2016-05-29",8.4,0,21.6]
["2015-08-29",22.2,22.2,22.2,22.2,17.600000000000001,6.9640000000000004,6.9640000000000004,6.9640000000000004,6.9640000000000004,-3.3599999999999994,-3.3599999999999994,-3.3599999999999994,-3.3599999999999994,-0.48248133256748982,-0.48248133256748982,-0.48248133256748982,-0.48248133256748982,0,0,0,0,0.48248133256748982,0.48248133256748982,0.48248133256748982,0.48248133256748982,0,0.48248133256748982,639.11699563293757,738.12460808968501,775.4167857530872,775.4167857530872,null,null,null,null,0,0,0,-0.16082711085582993,-0.16082711085582993,-0.16082711085582993,-0.16082711085582993,-0.17234817316083698,-0.17234817316083698,-0.17973126085699842,null,null,0,0,0,0,null,22.2,null,24.7,25,22,20.8,null,null,{"$f":"SUM(BB150:BB169)/30","v":12.543333333333333},0,13.183333333333334,13.023333333333335,12.126666666666667,10.463333333333333,0,null,null,null,"2016-05-30",9.6999999999999993,0,20.3]
["2015-08-30",24.6,24.6,24.6,24.6,16.8,7.2519999999999989,7.2519999999999989,7.2519999999999989,7.2519999999999989,-4.4800000000000013,-4.4800000000000013,-4.4800000000000013,-4.4800000000000013,-0.61776061776061808,-0.61776061776061808,-0.61776061776061808,-0.61776061776061808,0,0,0,0,0.61776061776061808,0.61776061776061808,0.61776061776061808,0.61776061776061808,0,0.61776061776061808,639.11699563293757,738.12460808968501,790.24304057934205,790.24304057934205,null,null,null,null,0,0,0,-0.20592020592020602,-0.20592020592020602,-0.20592020592020602,-0.20592020592020602,-0.16575169047461427,-0.16575169047461427,-0.19505091503504279,null,null,0,0,0,0,null,24.6,null,25.9,25.6,23.9,22.3,null,null,{"$f":"SUM(BB151:BB170)/30","v":12.456666666666671},0,13.103333333333332,12.913333333333334,12.023333333333333,10.29,0,null,null,null,"2016-05-31",10,0,20]
["2015-08-31",25.3,25.3,25.3,25.3,16.566666666666666,7.3360000000000003,7.3360000000000003,7.3360000000000003,7.3360000000000003,-4.8066666666666675,-4.8066666666666675,-4.8066666666666675,-4.8066666666666675,-0.65521628498727746,-0.65521628498727746,-0.65521628498727746,-0.65521628498727746,0,0,0,0,0.65521628498727746,0.65521628498727746,0.65521628498727746,0.65521628498727746,0,0.65521628498727746,639.11699563293757,738.12460808968501,805.96823141903667,805.96823141903667,null,null,null,null,0,0,0,-0.21840542832909249,-0.21840542832909249,-0.21840542832909249,-0.21840542832909249,-0.15166474269220467,-0.15166474269220467,-0.21483045446568783,null,null,0,0,0,0,null,25.3,null,25.2,25.5,25.3,23.7,null,null,{"$f":"SUM(BB152:BB171)/30","v":12.29666666666667},0,12.953333333333331,12.740000000000002,11.889999999999999,10.163333333333332,0,null,null,null,"2016-06-01",12.1,0,17.899999999999999]
["2015-09-01",25.4,25.4,25.4,25.4,16.533333333333335,7.347999999999999,7.347999999999999,7.347999999999999,7.347999999999999,-4.8533333333333326,-4.8533333333333326,-4.8533333333333326,-4.8533333333333326,-0.66049718744329522,-0.66049718744329522,-0.66049718744329522,-0.66049718744329522,0,0,0,0,0.66049718744329522,0.66049718744329522,0.66049718744329522,0.66049718744329522,0,0.66049718744329522,639.11699563293757,738.12460808968501,821.8201639176757,821.8201639176757,null,null,null,null,0,0,0,-0.22016572914776508,-0.22016572914776508,-0.22016572914776508,-0.22016572914776508,-0.13336265552218382,-0.13336265552218382,-0.15937585355654146,null,null,0,0,0,0,null,25.4,null,24.3,25,25.1,20.100000000000001,null,null,{"$f":"SUM(BB153:BB172)/30","v":12.05},0,12.823333333333331,12.613333333333335,11.639999999999999,9.9600000000000009,0,null,null,null,"2016-06-02",15,0,15]
["2015-09-02",16.600000000000001,16.600000000000001,16.600000000000001,16.600000000000001,19.466666666666665,6.2919999999999998,6.2919999999999998,6.2919999999999998,6.2919999999999998,-0.74666666666666737,-0.74666666666666737,-0.74666666666666737,-0.74666666666666737,-0.1186692095783006,-0.1186692095783006,-0.1186692095783006,-0.1186692095783006,0,0,0,0,0.1186692095783006,0.1186692095783006,0.1186692095783006,0.1186692095783006,0,0.1186692095783006,639.11699563293757,738.12460808968501,824.6682249475549,824.6682249475549,null,null,null,null,0,0,0,-3.9556403192766869E-2,-3.9556403192766869E-2,-3.9556403192766869E-2,-3.9556403192766869E-2,-0.10965587858549773,-0.10965587858549773,-0.10135132931511502,null,null,0,0,0,0,null,16.600000000000001,null,20.6,19.5,16.2,13.600000000000001,null,null,{"$f":"SUM(BB154:BB173)/30","v":11.900000000000002},0,12.713333333333331,12.473333333333333,11.479999999999999,9.7733333333333334,0,null,null,null,"2016-06-03",12.2,0,17.8]
["2015-09-03",16.8,16.8,16.8,16.8,19.399999999999999,6.3159999999999998,6.3159999999999998,6.3159999999999998,6.3159999999999998,-0.8400000000000003,-0.8400000000000003,-0.8400000000000003,-0.8400000000000003,-0.13299556681443958,-0.13299556681443958,-0.13299556681443958,-0.13299556681443958,0,0,0,0,0.13299556681443958,0.13299556681443958,0.13299556681443958,0.13299556681443958,0,0.13299556681443958,639.11699563293757,738.12460808968501,827.86011855110144,827.86011855110144,null,null,null,null,0,0,0,-4.4331855604813196E-2,-4.4331855604813196E-2,-4.4331855604813196E-2,-4.4331855604813196E-2,-6.9850894676833558E-2,-6.9850894676833558E-2,-4.2740038134131082E-2,null,null,0,0,0,0,null,16.8,null,17.8,17.8,16.2,12.899999999999999,null,null,{"$f":"SUM(BB155:BB174)/30","v":11.806666666666668},0,12.66333333333333,12.406666666666666,11.383333333333333,9.6833333333333318,0,null,null,null,"2016-06-04",10.5,0,19.5]
["2015-09-04",16.8,16.8,16.8,16.8,19.399999999999999,6.3159999999999998,6.3159999999999998,6.3159999999999998,6.3159999999999998,-0.8400000000000003,-0.8400000000000003,-0.8400000000000003,-0.8400000000000003,-0.13299556681443958,-0.13299556681443958,-0.13299556681443958,-0.13299556681443958,0,0,0,0,0.13299556681443958,0.13299556681443958,0.13299556681443958,0.13299556681443958,0,0.13299556681443958,639.11699563293757,738.12460808968501,831.05201215464797,831.05201215464797,null,null,null,null,0,0,0,-4.4331855604813196E-2,-4.4331855604813196E-2,-4.4331855604813196E-2,-4.4331855604813196E-2,-2.785514657421519E-2,-2.785514657421519E-2,-2.7847794502884504E-2,null,null,0,0,0,0,null,16.8,null,18.8,17.7,15.4,12.3,null,null,{"$f":"SUM(BB156:BB175)/30","v":11.703333333333337},0,12.576666666666663,12.313333333333333,11.279999999999998,9.5833333333333321,0,null,null,null,"2016-06-05",10.5,0,19.5]
["2015-09-05",14.8,14.8,14.8,14.8,20.066666666666666,6.0759999999999996,6.0759999999999996,6.0759999999999996,6.0759999999999996,9.3333333333333005E-2,9.3333333333333005E-2,9.3333333333333005E-2,9.3333333333333005E-2,1.5360983102918533E-2,1.5360983102918533E-2,1.5360983102918533E-2,1.5360983102918533E-2,1.5360983102918533E-2,1.5360983102918533E-2,1.5360983102918533E-2,1.5360983102918533E-2,0,0,0,0,1.5360983102918533E-2,0,639.48565922740761,738.49327168415505,831.05201215464797,831.05201215464797,null,null,null,null,0,0,1,5.120327700972844E-3,5.120327700972844E-3,5.120327700972844E-3,5.120327700972844E-3,1.0787533386645834E-2,1.0787533386645834E-2,1.1167717845534282E-2,null,null,9.3333333333333005E-2,9.3333333333333005E-2,9.3333333333333005E-2,9.3333333333333005E-2,null,14.8,null,15.9,16.3,13.600000000000001,9.5,null,null,{"$f":"SUM(BB157:BB176)/30","v":11.626666666666669},0,12.569999999999999,12.33,11.209999999999999,9.5699999999999985,0,null,null,null,"2016-06-06",12.7,0,17.3]
["2015-09-06",12.3,12.3,12.3,12.3,20.9,5.7759999999999998,5.7759999999999998,5.7759999999999998,5.7759999999999998,1.2599999999999996,1.2599999999999996,1.2599999999999996,1.2599999999999996,0.21814404432132958,0.21814404432132958,0.21814404432132958,0.21814404432132958,0.21814404432132958,0.21814404432132958,0.21814404432132958,0.21814404432132958,0,0,0,0,0.21814404432132958,0,644.72111629111953,743.72872874786697,831.05201215464797,831.05201215464797,null,null,null,null,0,0,1,7.2714681440443199E-2,7.2714681440443199E-2,7.2714681440443199E-2,7.2714681440443199E-2,2.521439440441595E-2,2.521439440441595E-2,5.1133272510217313E-2,null,null,1.2599999999999996,1.2599999999999996,1.2599999999999996,1.2599999999999996,null,12.3,null,15.4,13.8,11.5,8.3999999999999986,null,null,{"$f":"SUM(BB158:BB177)/30","v":11.546666666666669},0,12.533333333333333,12.273333333333332,11.116666666666667,9.4766666666666666,0,null,null,null,"2016-06-07",14.5,0,15.5]
["2015-09-07",12.2,12.2,12.2,12.2,20.933333333333334,5.7640000000000002,5.7640000000000002,5.7640000000000002,5.7640000000000002,1.3066666666666671,1.3066666666666671,1.3066666666666671,1.3066666666666671,0.22669442516770769,0.22669442516770769,0.22669442516770769,0.22669442516770769,0.22669442516770769,0.22669442516770769,0.22669442516770769,0.22669442516770769,0,0,0,0,0.22669442516770769,0,650.16178249514451,749.16939495189195,831.05201215464797,831.05201215464797,null,null,null,null,0,0,1,7.5564808389235891E-2,7.5564808389235891E-2,7.5564808389235891E-2,7.5564808389235891E-2,4.5240787369199231E-2,4.5240787369199231E-2,6.6204173469313732E-2,null,null,1.3066666666666671,1.3066666666666671,1.3066666666666671,1.3066666666666671,null,12.2,null,14.4,12.600000000000001,11.3,9.1999999999999993,null,null,{"$f":"SUM(BB159:BB178)/30","v":11.456666666666667},0,12.506666666666668,12.246666666666664,11.026666666666667,9.3433333333333319,0,null,null,null,"2016-06-08",13.4,0,16.600000000000001]
["2015-09-08",13.100000000000001,13.100000000000001,13.100000000000001,13.100000000000001,20.633333333333333,5.8719999999999999,5.8719999999999999,5.8719999999999999,5.8719999999999999,0.88666666666666605,0.88666666666666605,0.88666666666666605,0.88666666666666605,0.15099909173478646,0.15099909173478646,0.15099909173478646,0.15099909173478646,0.15099909173478646,0.15099909173478646,0.15099909173478646,0.15099909173478646,0,0,0,0,0.15099909173478646,0,653.78576069677933,752.79337315352677,831.05201215464797,831.05201215464797,null,null,null,null,14.628571428571428,1,1,5.0333030578262154E-2,5.0333030578262154E-2,5.0333030578262154E-2,5.0333030578262154E-2,5.7981266752084072E-2,5.7981266752084072E-2,6.2443154299707322E-2,null,null,0.88666666666666605,0.88666666666666605,0.88666666666666605,0.88666666666666605,null,13.100000000000001,null,14.4,13,12,8.1999999999999993,null,null,{"$f":"SUM(BB160:BB179)/30","v":11.386666666666667},0,12.540000000000001,12.256666666666664,10.956666666666669,9.2399999999999984,0,null,null,null,"2016-06-09",13,0,17]
["2015-09-09",{"$f":"BB171+A$7","v":12.7},12.7,12.7,12.7,{"$f":"F$8+(H$7-F$8)*(M$6-B171)/30","v":20.766666666666666},{"$f":"IF((B171+35-$F171)*$H$5+$H$6>1,(B171+35-$F171)*$H$5+$H$6,1)","v":5.8239999999999998},{"$f":"IF((C171+35-$F171)*$H$5+$H$6>1,(C171+35-$F171)*$H$5+$H$6,1)","v":5.8239999999999998},{"$f":"IF((D171+35-$F171)*$H$5+$H$6>1,(D171+35-$F171)*$H$5+$H$6,1)","v":5.8239999999999998},{"$f":"IF((E171+35-$F171)*$H$5+$H$6>1,(E171+35-$F171)*$H$5+$H$6,1)","v":5.8239999999999998},{"$f":"$M$5*($M$6-B171)/30-$O$5","v":1.0733333333333337},{"$f":"$M$5*($M$6-C171)/30-$O$5","v":1.0733333333333337},{"$f":"$M$5*($M$6-D171)/30-$O$5","v":1.0733333333333337},{"$f":"$M$5*($M$6-E171)/30-$O$5","v":1.0733333333333337},{"$f":"IF(K171/G171>$M$7,$M$7+K171-$M$7*G171,K171/G171)","v":0.18429487179487186},{"$f":"IF(L171/H171>$M$7,$M$7+L171-$M$7*H171,L171/H171)","v":0.18429487179487186},{"$f":"IF(M171/I171>$M$7,$M$7+M171-$M$7*I171,M171/I171)","v":0.18429487179487186},{"$f":"IF(N171/J171>$M$7,$M$7+N171-$M$7*J171,N171/J171)","v":0.18429487179487186},{"$f":"IF(O171>0,O171,)","v":0.18429487179487186},{"$f":"IF(P171>0,P171,)","v":0.18429487179487186},{"$f":"IF(Q171>0,Q171,)","v":0.18429487179487186},{"$f":"IF(R171>0,R171,)","v":0.18429487179487186},{"$f":"IF(O171<0,-O171,0)","v":0},{"$f":"IF(P171<0,-P171,0)","v":0},{"$f":"IF(Q171<0,-Q171,0)","v":0},{"$f":"IF(R171<0,-R171,0)","v":0},{"$f":"IF(SUM(O171:R171)/4>0,SUM(O171:R171)/4,)","v":0.18429487179487186},{"$f":"IF(SUM(O171:R171)/4<0,-SUM(O171:R171)/4,)","v":0},{"$f":"6*SUM(S171:V171)+AC170","v":658.20883761985624},{"$f":"AD170+AA171*24","v":757.21645007660368},{"$f":"6*SUM(W171:Z171)+AE170","v":831.05201215464797},{"$f":"AF170+AB171*24","v":831.05201215464797},null,null,null,null,{"$f":"IF(SUM(B165:B178)/14<$C$7,SUM(B165:B178)/14,0)","v":14.77142857142857},{"$f":"IF(SUM(B165:B178)/14<$C$7,1,0)","v":1},{"$f":"IF(SUM(AN168:AQ174)>0,1,0)","v":1},{"$f":"K171/G171/$M$7","v":6.1431623931623956E-2},{"$f":"L171/H171/$M$7","v":6.1431623931623956E-2},{"$f":"M171/I171/$M$7","v":6.1431623931623956E-2},{"$f":"N171/J171/$M$7","v":6.1431623931623956E-2},{"$f":"SUM(AO168:AO174)/7","v":5.7249791366230811E-2},{"$f":"SUM(AQ168:AQ174)/7","v":5.7249791366230811E-2},{"$f":"SUM(AN170:AQ172)/12","v":6.9205849886185292E-2},null,null,{"$f":"IF(K171>0,K171,0)","v":1.0733333333333337},{"$f":"IF(L171>0,L171,0)","v":1.0733333333333337},{"$f":"IF(M171>0,M171,0)","v":1.0733333333333337},{"$f":"IF(N171>0,N171,0)","v":1.0733333333333337},null,12.7,null,12.2,12.899999999999999,12.399999999999999,10.7,null,null,{"$f":"SUM(BB161:BB180)/30","v":11.173333333333334},0,12.350000000000001,11.993333333333332,10.726666666666668,8.9533333333333296,0,null,null,null,"2016-06-10",12.9,0,17.100000000000001]
["2015-09-10",11.5,11.5,11.5,11.5,21.166666666666668,5.68,5.68,5.68,5.68,1.6333333333333333,1.6333333333333333,1.6333333333333333,1.6333333333333333,0.28755868544600938,0.28755868544600938,0.28755868544600938,0.28755868544600938,0.28755868544600938,0.28755868544600938,0.28755868544600938,0.28755868544600938,0,0,0,0,0.28755868544600938,0,665.11024607056049,764.11785852730793,831.05201215464797,831.05201215464797,null,null,null,null,0,0,1,9.5852895148669792E-2,9.5852895148669792E-2,9.5852895148669792E-2,9.5852895148669792E-2,3.7522004638482029E-2,3.7522004638482029E-2,6.7378673051891463E-2,null,null,1.6333333333333333,1.6333333333333333,1.6333333333333333,1.6333333333333333,null,11.5,null,14.7,15,10.7,9.6000000000000014,null,null,{"$f":"SUM(BB162:BB181)/30","v":10.876666666666665},0,12.096666666666669,11.706666666666665,10.436666666666667,8.6033333333333317,0,null,null,null,"2016-06-11",13.5,0,16.5]
["2015-09-11",13.3,13.3,13.3,13.3,20.566666666666666,5.895999999999999,5.895999999999999,5.895999999999999,5.895999999999999,0.793333333333333,0.793333333333333,0.793333333333333,0.793333333333333,0.13455450022614199,0.13455450022614199,0.13455450022614199,0.13455450022614199,0.13455450022614199,0.13455450022614199,0.13455450022614199,0.13455450022614199,0,0,0,0,0.13455450022614199,0,668.33955407598785,767.34716653273529,831.05201215464797,831.05201215464797,null,null,null,null,14.978571428571428,1,1,4.4851500075380663E-2,4.4851500075380663E-2,4.4851500075380663E-2,4.4851500075380663E-2,2.3857797379786327E-2,2.3857797379786327E-2,4.6901465074683478E-2,null,null,0.793333333333333,0.793333333333333,0.793333333333333,0.793333333333333,null,13.3,null,15,14.4,12.2,9.3999999999999986,null,null,{"$f":"SUM(BB163:BB182)/30","v":10.476666666666667},0,11.816666666666668,11.376666666666667,9.99,8.1466666666666665,0,null,null,null,"2016-06-12",11.9,0,18.100000000000001]
["2015-09-12",15,15,15,15,20,6.1,6.1,6.1,6.1,0,0,0,0,0,0,0,0,0,0,0,0,0,0,0,0,0,0,668.33955407598785,767.34716653273529,831.05201215464797,831.05201215464797,null,null,null,null,0,0,1,0,0,0,0,1.2396597837429425E-2,1.2396597837429425E-2,-6.8427751928058595E-3,null,null,0,0,0,0,null,15,null,17,16.2,14.3,13.2,null,null,{"$f":"SUM(BB164:BB183)/30","v":10.063333333333333},0,11.47,10.940000000000001,9.5666666666666647,7.8200000000000012,0,null,null,null,"2016-06-13",10.8,0,19.2]
["2015-09-13",17.7,17.7,17.7,17.7,19.100000000000001,6.4239999999999995,6.4239999999999995,6.4239999999999995,6.4239999999999995,-1.2599999999999996,-1.2599999999999996,-1.2599999999999996,-1.2599999999999996,-0.19613947696139472,-0.19613947696139472,-0.19613947696139472,-0.19613947696139472,0,0,0,0,0.19613947696139472,0.19613947696139472,0.19613947696139472,0.19613947696139472,0,0.19613947696139472,668.33955407598785,767.34716653273529,835.75935960172148,835.75935960172148,null,null,null,null,0,0,0,-6.537982565379824E-2,-6.537982565379824E-2,-6.537982565379824E-2,-6.537982565379824E-2,-8.6267458665633991E-3,-8.6267458665633991E-3,-2.8488156025144096E-2,null,null,0,0,0,0,null,17.7,null,18.899999999999999,18.399999999999999,16.899999999999999,15.2,null,null,{"$f":"SUM(BB165:BB184)/30","v":9.9733333333333327},0,11.273333333333333,10.743333333333336,9.4766666666666648,7.7300000000000013,0,null,null,null,"2016-06-14",11.9,0,18.100000000000001]
["2015-09-14",15.8,15.8,15.8,15.8,19.733333333333334,6.1959999999999997,6.1959999999999997,6.1959999999999997,6.1959999999999997,-0.37333333333333368,-0.37333333333333368,-0.37333333333333368,-0.37333333333333368,-6.0253927264902148E-2,-6.0253927264902148E-2,-6.0253927264902148E-2,-6.0253927264902148E-2,0,0,0,0,6.0253927264902148E-2,6.0253927264902148E-2,6.0253927264902148E-2,6.0253927264902148E-2,0,6.0253927264902148E-2,668.33955407598785,767.34716653273529,837.20545385607909,837.20545385607909,null,null,null,null,0,0,0,-2.008464242163405E-2,-2.008464242163405E-2,-2.008464242163405E-2,-2.008464242163405E-2,-4.0991400249886394E-2,-4.0991400249886394E-2,-3.8453278097889489E-2,null,null,0,0,0,0,null,15.8,null,19,19.3,15.1,13.2,null,null,{"$f":"SUM(BB166:BB185)/30","v":9.85},0,11.150000000000002,10.666666666666668,9.3533333333333317,7.6333333333333355,0,null,null,null,"2016-06-15",12.9,0,17.100000000000001]
["2015-09-15",16.2,16.2,16.2,16.2,19.600000000000001,6.2439999999999998,6.2439999999999998,6.2439999999999998,6.2439999999999998,-0.55999999999999972,-0.55999999999999972,-0.55999999999999972,-0.55999999999999972,-8.9686098654708474E-2,-8.9686098654708474E-2,-8.9686098654708474E-2,-8.9686098654708474E-2,0,0,0,0,8.9686098654708474E-2,8.9686098654708474E-2,8.9686098654708474E-2,8.9686098654708474E-2,0,8.9686098654708474E-2,668.33955407598785,767.34716653273529,839.35792022379212,839.35792022379212,null,null,null,null,0,0,0,-2.9895366218236158E-2,-2.9895366218236158E-2,-2.9895366218236158E-2,-2.9895366218236158E-2,-5.0267992035174201E-2,-5.0267992035174201E-2,-4.523726354539867E-2,null,null,0,0,0,0,null,16.2,null,17.100000000000001,16.399999999999999,15.6,12.600000000000001,null,null,{"$f":"SUM(BB167:BB186)/30","v":9.706666666666667},0,10.983333333333333,10.606666666666666,9.2333333333333325,7.5166666666666684,0,null,null,null,"2016-06-16",10.5,0,19.5]
["2015-09-16",18.600000000000001,18.600000000000001,18.600000000000001,18.600000000000001,18.8,6.532,6.532,6.532,6.532,-1.6800000000000006,-1.6800000000000006,-1.6800000000000006,-1.6800000000000006,-0.25719534598897742,-0.25719534598897742,-0.25719534598897742,-0.25719534598897742,0,0,0,0,0.25719534598897742,0.25719534598897742,0.25719534598897742,0.25719534598897742,0,0.25719534598897742,668.33955407598785,767.34716653273529,845.53060852752753,845.53060852752753,null,null,null,null,0,0,0,-8.5731781996325807E-2,-8.5731781996325807E-2,-8.5731781996325807E-2,-8.5731781996325807E-2,-5.2783444097844898E-2,-5.2783444097844898E-2,-8.2108944583051055E-2,null,null,0,0,0,0,null,18.600000000000001,null,21.1,19.899999999999999,18.5,15.5,null,null,{"$f":"SUM(BB168:BB187)/30","v":9.6666666666666661},0,10.92,10.576666666666666,9.2133333333333329,7.530000000000002,0,null,null,null,"2016-06-17",6.5,0,23.5]
["2015-09-17",20.7,{"$f":"$B179+C$9","v":20.7},20.7,20.7,18.100000000000001,6.7839999999999998,6.7839999999999998,6.7839999999999998,6.7839999999999998,-2.6599999999999993,-2.6599999999999993,-2.6599999999999993,-2.6599999999999993,-0.39209905660377348,-0.39209905660377348,-0.39209905660377348,-0.39209905660377348,0,0,0,0,0.39209905660377348,0.39209905660377348,0.39209905660377348,0.39209905660377348,0,0.39209905660377348,668.33955407598785,767.34716653273529,854.9409858860181,854.9409858860181,null,null,null,null,0,0,0,-0.13069968553459116,-0.13069968553459116,-0.13069968553459116,-0.13069968553459116,-3.7036111850819342E-2,-3.7036111850819342E-2,-7.8838703317517023E-2,null,null,0,0,0,0,null,20.7,null,23.8,23.4,20.5,16.8,null,null,{"$f":"SUM(BB169:BB188)/30","v":9.7233333333333345},0,10.870000000000001,10.599999999999998,9.2666666666666675,7.6033333333333353,0,null,null,null,"2016-06-18",8.8000000000000007,0,21.2]
["2015-09-18",15.8,15.8,15.8,15.8,19.733333333333334,6.1959999999999997,6.1959999999999997,6.1959999999999997,6.1959999999999997,-0.37333333333333368,-0.37333333333333368,-0.37333333333333368,-0.37333333333333368,-6.0253927264902148E-2,-6.0253927264902148E-2,-6.0253927264902148E-2,-6.0253927264902148E-2,0,0,0,0,6.0253927264902148E-2,6.0253927264902148E-2,6.0253927264902148E-2,6.0253927264902148E-2,0,6.0253927264902148E-2,668.33955407598785,767.34716653273529,856.3870801403757,856.3870801403757,null,null,null,null,0,0,0,-2.008464242163405E-2,-2.008464242163405E-2,-2.008464242163405E-2,-2.008464242163405E-2,-2.6582501034098559E-2,-2.6582501034098559E-2,-5.6130830798306698E-2,null,null,0,0,0,0,null,15.8,null,19,17.100000000000001,15.1,12.2,null,null,{"$f":"SUM(BB170:BB189)/30","v":9.7166666666666668},0,10.84,10.626666666666665,9.27,7.6066666666666682,0,null,null,null,"2016-06-19",7.3,0,22.7]
["2015-09-19",15.7,15.7,15.7,15.7,19.766666666666666,6.1840000000000002,6.1840000000000002,6.1840000000000002,6.1840000000000002,-0.32666666666666633,-0.32666666666666633,-0.32666666666666633,-0.32666666666666633,-5.2824493316084464E-2,-5.2824493316084464E-2,-5.2824493316084464E-2,-5.2824493316084464E-2,0,0,0,0,5.2824493316084464E-2,5.2824493316084464E-2,5.2824493316084464E-2,5.2824493316084464E-2,0,5.2824493316084464E-2,668.33955407598785,767.34716653273529,857.65486797996175,857.65486797996175,null,null,null,null,0,0,0,-1.7608164438694823E-2,-1.7608164438694823E-2,-1.7608164438694823E-2,-1.7608164438694823E-2,-1.8215815456217841E-2,-1.8215815456217841E-2,2.38623107168393E-3,null,null,0,0,0,0,null,15.7,null,18.3,17,15.2,11.8,null,null,{"$f":"SUM(BB171:BB190)/30","v":9.6833333333333336},0,10.783333333333333,10.623333333333331,9.2533333333333321,7.6533333333333351,0,null,null,null,"2016-06-20",8.1999999999999993,0,21.8]
["2015-09-20",13.3,13.3,13.3,13.3,20.566666666666666,5.895999999999999,5.895999999999999,5.895999999999999,5.895999999999999,0.793333333333333,0.793333333333333,0.793333333333333,0.793333333333333,0.13455450022614199,0.13455450022614199,0.13455450022614199,0.13455450022614199,0.13455450022614199,0.13455450022614199,0.13455450022614199,0.13455450022614199,0,0,0,0,0.13455450022614199,0,671.5688620814152,770.57647453816264,857.65486797996175,857.65486797996175,null,null,null,null,14.87142857142857,1,1,4.4851500075380663E-2,4.4851500075380663E-2,4.4851500075380663E-2,4.4851500075380663E-2,1.2220149115804446E-3,1.2220149115804446E-3,2.6777989644032437E-2,null,null,0.793333333333333,0.793333333333333,0.793333333333333,0.793333333333333,null,13.3,null,16.8,15.6,11.899999999999999,10,null,null,{"$f":"SUM(BB172:BB191)/30","v":9.6366666666666667},0,10.756666666666664,10.599999999999998,9.1933333333333351,7.6066666666666691,0,null,null,null,"2016-06-21",7.1,0,22.9]
["2015-09-21",13,13,13,13,20.666666666666668,5.8599999999999994,5.8599999999999994,5.8599999999999994,5.8599999999999994,0.93333333333333335,0.93333333333333335,0.93333333333333335,0.93333333333333335,0.15927189988623439,0.15927189988623439,0.15927189988623439,0.15927189988623439,0.15927189988623439,0.15927189988623439,0.15927189988623439,0.15927189988623439,0,0,0,0,0.15927189988623439,0,675.39138767868485,774.39900013543229,857.65486797996175,857.65486797996175,null,null,null,null,14.607142857142856,1,1,5.3090633295411464E-2,5.3090633295411464E-2,5.3090633295411464E-2,5.3090633295411464E-2,2.9471942620681865E-2,2.9471942620681865E-2,4.2204522065906996E-2,null,null,0.93333333333333335,0.93333333333333335,0.93333333333333335,0.93333333333333335,null,13,null,13.899999999999999,11.899999999999999,12.399999999999999,10.3,null,null,{"$f":"SUM(BB173:BB192)/30","v":9.5800000000000018},0,10.603333333333332,10.456666666666665,9.1400000000000023,7.5500000000000007,0,null,null,null,"2016-06-22",4.5999999999999996,0,25.4]
["2015-09-22",13.899999999999999,13.899999999999999,13.899999999999999,13.899999999999999,20.366666666666667,5.968,5.968,5.968,5.968,0.51333333333333397,0.51333333333333397,0.51333333333333397,0.51333333333333397,8.6014298480786525E-2,8.6014298480786525E-2,8.6014298480786525E-2,8.6014298480786525E-2,8.6014298480786525E-2,8.6014298480786525E-2,8.6014298480786525E-2,8.6014298480786525E-2,0,0,0,0,8.6014298480786525E-2,0,677.45573084222372,776.46334329897115,857.65486797996175,857.65486797996175,null,null,null,null,14.257142857142856,1,1,2.8671432826928842E-2,2.8671432826928842E-2,2.8671432826928842E-2,2.8671432826928842E-2,3.7585801512477222E-2,3.7585801512477222E-2,4.4031698900200818E-2,null,null,0.51333333333333397,0.51333333333333397,0.51333333333333397,0.51333333333333397,null,13.899999999999999,null,14.7,13.600000000000001,13.5,10.899999999999999,null,null,{"$f":"SUM(BB174:BB193)/30","v":9.413333333333334},0,10.463333333333333,10.303333333333333,9.0033333333333339,7.456666666666667,0,null,null,null,"2016-06-23",4.5,0,25.5]
["2015-09-23",13.100000000000001,13.100000000000001,13.100000000000001,13.100000000000001,20.633333333333333,5.8719999999999999,5.8719999999999999,5.8719999999999999,5.8719999999999999,0.88666666666666605,0.88666666666666605,0.88666666666666605,0.88666666666666605,0.15099909173478646,0.15099909173478646,0.15099909173478646,0.15099909173478646,0.15099909173478646,0.15099909173478646,0.15099909173478646,0.15099909173478646,0,0,0,0,0.15099909173478646,0,681.07970904385854,780.08732150060598,857.65486797996175,857.65486797996175,null,null,null,null,13.62857142857143,1,1,5.0333030578262154E-2,5.0333030578262154E-2,5.0333030578262154E-2,5.0333030578262154E-2,4.3817344247760327E-2,4.3817344247760327E-2,4.8684757278103258E-2,null,null,0.88666666666666605,0.88666666666666605,0.88666666666666605,0.88666666666666605,null,13.100000000000001,null,14.1,15.5,12.5,10,null,null,{"$f":"SUM(BB175:BB194)/30","v":9.2733333333333352},0,10.316666666666668,10.109999999999998,8.85,7.3233333333333341,0,null,null,null,"2016-06-24",3.7,0,26.3]
["2015-09-24",12.5,12.5,12.5,12.5,20.833333333333332,5.8,5.8,5.8,5.8,1.1666666666666667,1.1666666666666667,1.1666666666666667,1.1666666666666667,0.20114942528735635,0.20114942528735635,0.20114942528735635,0.20114942528735635,0.20114942528735635,0.20114942528735635,0.20114942528735635,0.20114942528735635,0,0,0,0,0.20114942528735635,0,685.90729525075506,784.91490770750249,857.65486797996175,857.65486797996175,null,null,null,null,12.742857142857144,1,1,6.7049808429118785E-2,6.7049808429118785E-2,6.7049808429118785E-2,6.7049808429118785E-2,4.9024388952438817E-2,4.9024388952438817E-2,5.1365069609438152E-2,null,null,1.1666666666666667,1.1666666666666667,1.1666666666666667,1.1666666666666667,null,12.5,null,13.8,15.9,11.8,8.8000000000000007,null,null,{"$f":"SUM(BB176:BB195)/30","v":9.1166666666666671},0,10.196666666666667,9.9699999999999989,8.69,7.1766666666666667,0,null,null,null,"2016-06-25",3.4,0,26.6]
["2015-09-25",13.600000000000001,13.600000000000001,13.600000000000001,13.600000000000001,20.466666666666665,5.9320000000000004,5.9320000000000004,5.9320000000000004,5.9320000000000004,0.65333333333333266,0.65333333333333266,0.65333333333333266,0.65333333333333266,0.1101371094628005,0.1101371094628005,0.1101371094628005,0.1101371094628005,0.1101371094628005,0.1101371094628005,0.1101371094628005,0.1101371094628005,0,0,0,0,0.1101371094628005,0,688.55058587786232,787.55819833460976,857.65486797996175,857.65486797996175,null,null,null,null,12.385714285714288,1,1,3.6712369820933503E-2,3.6712369820933503E-2,3.6712369820933503E-2,3.6712369820933503E-2,5.2643845250767443E-2,5.2643845250767443E-2,4.3258270986113047E-2,null,null,0.65333333333333266,0.65333333333333266,0.65333333333333266,0.65333333333333266,null,13.600000000000001,null,14,15.4,13,9.8999999999999986,null,null,{"$f":"SUM(BB177:BB196)/30","v":9.033333333333335},0,10.030000000000001,9.7966666666666651,8.6166666666666671,7.0699999999999994,0,null,null,null,"2016-06-26",4.4000000000000004,0,25.6]
["2015-09-26",14,14,14,14,20.333333333333332,5.98,5.98,5.98,5.98,0.46666666666666667,0.46666666666666667,0.46666666666666667,0.46666666666666667,7.8037904124860641E-2,7.8037904124860641E-2,7.8037904124860641E-2,7.8037904124860641E-2,7.8037904124860641E-2,7.8037904124860641E-2,7.8037904124860641E-2,7.8037904124860641E-2,0,0,0,0,7.8037904124860641E-2,0,690.42349557685895,789.43110803360639,857.65486797996175,857.65486797996175,null,null,null,null,12.192857142857147,1,1,2.601263470828688E-2,2.601263470828688E-2,2.601263470828688E-2,2.601263470828688E-2,6.3085094278006432E-2,6.3085094278006432E-2,4.8008605845783488E-2,null,null,0.46666666666666667,0.46666666666666667,0.46666666666666667,0.46666666666666667,null,14,null,13.899999999999999,14.5,13.100000000000001,10.600000000000001,null,null,{"$f":"SUM(BB178:BB197)/30","v":8.9600000000000026},0,9.9700000000000006,9.7633333333333336,8.5500000000000007,7.0100000000000007,0,null,null,null,"2016-06-27",9.6,0,20.399999999999999]
["2015-09-27",12,12,12,12,21,5.74,5.74,5.74,5.74,1.4,1.4,1.4,1.4,0.24390243902439021,0.24390243902439021,0.24390243902439021,0.24390243902439021,0.24390243902439021,0.24390243902439021,0.24390243902439021,0.24390243902439021,0,0,0,0,0.24390243902439021,0,696.27715411344434,795.28476657019178,857.65486797996175,857.65486797996175,null,null,null,null,12.192857142857145,1,1,8.1300813008130066E-2,8.1300813008130066E-2,8.1300813008130066E-2,8.1300813008130066E-2,7.6996844602600117E-2,7.6996844602600117E-2,6.1913425033376275E-2,null,null,1.4,1.4,1.4,1.4,null,12,null,13.5,13.399999999999999,11.399999999999999,9.3000000000000007,null,null,{"$f":"SUM(BB179:BB198)/30","v":8.7866666666666671},0,9.74,9.5533333333333346,8.3666666666666654,6.8633333333333333,0,null,null,null,"2016-06-28",10,0,20]
["2015-09-28",12.100000000000001,12.100000000000001,12.100000000000001,12.100000000000001,20.966666666666665,5.7520000000000007,5.7520000000000007,5.7520000000000007,5.7520000000000007,1.3533333333333326,1.3533333333333326,1.3533333333333326,1.3533333333333326,0.23528048215113567,0.23528048215113567,0.23528048215113567,0.23528048215113567,0.23528048215113567,0.23528048215113567,0.23528048215113567,0.23528048215113567,0,0,0,0,0.23528048215113567,0,701.92388568507158,800.93149814181902,857.65486797996175,857.65486797996175,null,null,null,null,12.264285714285714,1,1,7.8426827383711886E-2,7.8426827383711886E-2,7.8426827383711886E-2,7.8426827383711886E-2,9.5531761434214504E-2,9.5531761434214504E-2,8.716260546981458E-2,null,null,1.3533333333333326,1.3533333333333326,1.3533333333333326,1.3533333333333326,null,12.100000000000001,null,12.7,12.899999999999999,11.5,9.6000000000000014,null,null,{"$f":"SUM(BB180:BB199)/30","v":8.57},0,9.4233333333333356,9.2966666666666651,8.1399999999999988,6.7233333333333318,0,null,null,null,"2016-06-29",8.6,0,21.4]
["2015-09-29",11.3,11.3,11.3,11.3,21.233333333333334,5.6559999999999997,5.6559999999999997,5.6559999999999997,5.6559999999999997,1.7266666666666663,1.7266666666666663,1.7266666666666663,1.7266666666666663,0.30528052805280526,0.30528052805280526,0.30528052805280526,0.30528052805280526,0.30528052805280526,0.30528052805280526,0.30528052805280526,0.30528052805280526,0,0,0,0,0.30528052805280526,0,709.2506183583389,808.25823081508634,857.65486797996175,857.65486797996175,null,null,null,null,12.22857142857143,1,1,0.10176017601760175,0.10176017601760175,0.10176017601760175,0.10176017601760175,0.10696571711213214,0.10696571711213214,0.10930076208391055,null,null,1.7266666666666663,1.7266666666666663,1.7266666666666663,1.7266666666666663,null,11.3,null,11.399999999999999,12.2,10.600000000000001,9.3000000000000007,null,null,{"$f":"SUM(BB181:BB200)/30","v":8.4766666666666683},0,9.2466666666666661,9.1366666666666667,8.0766666666666644,6.6966666666666663,0,null,null,null,"2016-06-30",6.3,0,23.7]
["2015-09-30",9.8000000000000007,9.8000000000000007,9.8000000000000007,9.8000000000000007,21.733333333333334,5.4759999999999991,5.4759999999999991,5.4759999999999991,5.4759999999999991,2.4266666666666663,2.4266666666666663,2.4266666666666663,2.4266666666666663,0.44314584855125394,0.44314584855125394,0.44314584855125394,0.44314584855125394,0.44314584855125394,0.44314584855125394,0.44314584855125394,0.44314584855125394,0,0,0,0,0.44314584855125394,0,719.88611872356898,818.89373118031642,857.65486797996175,857.65486797996175,null,null,null,null,12.307142857142855,1,1,0.14771528285041799,0.14771528285041799,0.14771528285041799,0.14771528285041799,0.1108340026245785,0.1108340026245785,0.14875656170614646,null,null,2.4266666666666663,2.4266666666666663,2.4266666666666663,2.4266666666666663,null,9.8000000000000007,null,10.100000000000001,10.7,9.1000000000000014,7.8999999999999986,null,null,{"$f":"SUM(BB182:BB201)/30","v":8.31},0,9.0633333333333344,8.9433333333333316,7.9266666666666641,6.6599999999999993,0,null,null,null,"2016-07-01",6.3,0,23.7]
["2015-10-01",8.3000000000000007,8.3000000000000007,8.3000000000000007,8.3000000000000007,22.233333333333334,5.2959999999999994,5.2959999999999994,5.2959999999999994,5.2959999999999994,3.126666666666666,3.126666666666666,3.126666666666666,3.126666666666666,0.59038267875125872,0.59038267875125872,0.59038267875125872,0.59038267875125872,0.59038267875125872,0.59038267875125872,0.59038267875125872,0.59038267875125872,0,0,0,0,0.59038267875125872,0,734.0553030135992,833.06291547034664,857.65486797996175,857.65486797996175,null,null,null,null,12.342857142857142,1,1,0.19679422625041956,0.19679422625041956,0.19679422625041956,0.19679422625041956,0.10562695791990002,0.10562695791990002,0.15375318955573147,null,null,3.126666666666666,3.126666666666666,3.126666666666666,3.126666666666666,null,8.3000000000000007,null,10.8,9.8000000000000007,8.1000000000000014,6.6000000000000014,null,null,{"$f":"SUM(BB183:BB202)/30","v":8.1466666666666665},0,8.7833333333333332,8.6766666666666676,7.7966666666666651,6.5499999999999989,0,null,null,null,"2016-07-02",5.6,0,24.4]
["2015-10-02",10.8,10.8,10.8,10.8,21.4,5.5960000000000001,5.5960000000000001,5.5960000000000001,5.5960000000000001,1.9599999999999997,1.9599999999999997,1.9599999999999997,1.9599999999999997,0.35025017869907071,0.35025017869907071,0.35025017869907071,0.35025017869907071,0.35025017869907071,0.35025017869907071,0.35025017869907071,0.35025017869907071,0,0,0,0,0.35025017869907071,0,742.46130730237689,841.46891975912433,857.65486797996175,857.65486797996175,null,null,null,null,12.135714285714284,1,1,0.11675005956635691,0.11675005956635691,0.11675005956635691,0.11675005956635691,9.8139216109125016E-2,9.8139216109125016E-2,0.12221163970406267,null,null,1.9599999999999997,1.9599999999999997,1.9599999999999997,1.9599999999999997,null,10.8,null,12.600000000000001,10.399999999999999,9.6999999999999993,9.1999999999999993,null,null,{"$f":"SUM(BB184:BB203)/30","v":7.8966666666666656},0,8.5366666666666671,8.5166666666666675,7.5633333333333326,6.3433333333333319,0,null,null,null,"2016-07-03",10.6,0,19.399999999999999]
["2015-10-03",13,13,13,13,20.666666666666668,5.8599999999999994,5.8599999999999994,5.8599999999999994,5.8599999999999994,0.93333333333333335,0.93333333333333335,0.93333333333333335,0.93333333333333335,0.15927189988623439,0.15927189988623439,0.15927189988623439,0.15927189988623439,0.15927189988623439,0.15927189988623439,0.15927189988623439,0.15927189988623439,0,0,0,0,0.15927189988623439,0,746.28383289964654,845.29144535639398,857.65486797996175,857.65486797996175,null,null,null,null,11.735714285714284,1,1,5.3090633295411464E-2,5.3090633295411464E-2,5.3090633295411464E-2,5.3090633295411464E-2,8.9620253176948259E-2,8.9620253176948259E-2,7.1564064312382991E-2,null,null,0.93333333333333335,0.93333333333333335,0.93333333333333335,0.93333333333333335,null,13,null,15.3,14.2,12.100000000000001,10.8,null,null,{"$f":"SUM(BB185:BB204)/30","v":7.5333333333333332},0,8.1800000000000015,8.1866666666666639,7.2066666666666661,6.043333333333333,0,null,null,null,"2016-07-04",10.199999999999999,0,19.8]
["2015-10-04",13.3,13.3,13.3,13.3,20.566666666666666,5.895999999999999,5.895999999999999,5.895999999999999,5.895999999999999,0.793333333333333,0.793333333333333,0.793333333333333,0.793333333333333,0.13455450022614199,0.13455450022614199,0.13455450022614199,0.13455450022614199,0.13455450022614199,0.13455450022614199,0.13455450022614199,0.13455450022614199,0,0,0,0,0.13455450022614199,0,749.5131409050739,848.52075336182133,857.65486797996175,857.65486797996175,null,null,null,null,11.27142857142857,1,1,4.4851500075380663E-2,4.4851500075380663E-2,4.4851500075380663E-2,4.4851500075380663E-2,7.1479058882918931E-2,7.1479058882918931E-2,4.1318256026359655E-2,null,null,0.793333333333333,0.793333333333333,0.793333333333333,0.793333333333333,null,13.3,null,14,14.1,12.899999999999999,10,null,null,{"$f":"SUM(BB186:BB205)/30","v":7.1666666666666661},0,7.8533333333333353,7.7633333333333319,6.833333333333333,5.7099999999999991,0,null,null,null,"2016-07-05",9,0,21]
["2015-10-05",14,14,14,14,20.333333333333332,5.98,5.98,5.98,5.98,0.46666666666666667,0.46666666666666667,0.46666666666666667,0.46666666666666667,7.8037904124860641E-2,7.8037904124860641E-2,7.8037904124860641E-2,7.8037904124860641E-2,7.8037904124860641E-2,7.8037904124860641E-2,7.8037904124860641E-2,7.8037904124860641E-2,0,0,0,0,7.8037904124860641E-2,0,751.38605060407053,850.39366306081797,857.65486797996175,857.65486797996175,null,null,null,null,10.621428571428572,1,1,2.601263470828688E-2,2.601263470828688E-2,2.601263470828688E-2,2.601263470828688E-2,5.0949974175060635E-2,5.0949974175060635E-2,3.7663856758677318E-2,null,null,0.46666666666666667,0.46666666666666667,0.46666666666666667,0.46666666666666667,null,14,null,15.3,15.4,13.600000000000001,10.8,null,null,{"$f":"SUM(BB187:BB206)/30","v":6.9066666666666654},0,7.6633333333333349,7.4933333333333314,6.5766666666666671,5.4699999999999989,0,null,null,null,"2016-07-06",8.9,0,21.1]
["2015-10-06",13.399999999999999,13.399999999999999,13.399999999999999,13.399999999999999,20.533333333333335,5.9079999999999995,5.9079999999999995,5.9079999999999995,5.9079999999999995,0.74666666666666737,0.74666666666666737,0.74666666666666737,0.74666666666666737,0.12638230647709334,0.12638230647709334,0.12638230647709334,0.12638230647709334,0.12638230647709334,0.12638230647709334,0.12638230647709334,0.12638230647709334,0,0,0,0,0.12638230647709334,0,754.41922595952076,853.4268384162682,857.65486797996175,857.65486797996175,null,null,null,null,9.9642857142857135,1,1,4.2127435492364446E-2,4.2127435492364446E-2,4.2127435492364446E-2,4.2127435492364446E-2,5.1383778827904271E-2,5.1383778827904271E-2,2.9622330997621311E-2,null,null,0.74666666666666737,0.74666666666666737,0.74666666666666737,0.74666666666666737,null,13.399999999999999,null,14.2,13.600000000000001,13,11.100000000000001,null,null,{"$f":"SUM(BB188:BB207)/30","v":6.7333333333333325},0,7.5666666666666664,7.2966666666666669,6.4099999999999993,5.3166666666666655,0,null,null,null,"2016-07-07",12.2,0,17.8]
["2015-10-07",14.2,14.2,14.2,14.2,20.266666666666666,6.0039999999999996,6.0039999999999996,6.0039999999999996,6.0039999999999996,0.37333333333333368,0.37333333333333368,0.37333333333333368,0.37333333333333368,6.2180768376637857E-2,6.2180768376637857E-2,6.2180768376637857E-2,6.2180768376637857E-2,6.2180768376637857E-2,6.2180768376637857E-2,6.2180768376637857E-2,6.2180768376637857E-2,0,0,0,0,6.2180768376637857E-2,0,755.91156440056011,854.91917685730755,857.65486797996175,857.65486797996175,null,null,null,null,9.6,1,1,2.072692279221262E-2,2.072692279221262E-2,2.072692279221262E-2,2.072692279221262E-2,7.1430651072888193E-2,7.1430651072888193E-2,3.864833052666284E-2,null,null,0.37333333333333368,0.37333333333333368,0.37333333333333368,0.37333333333333368,null,14.2,null,14.3,15.7,13.7,12.600000000000001,null,null,{"$f":"SUM(BB189:BB208)/30","v":6.5499999999999989},0,7.4066666666666663,7.17,6.2200000000000006,5.1066666666666665,0,null,null,null,"2016-07-08",10.6,0,19.399999999999999]
["2015-10-08",13,13,13,13,20.666666666666668,5.8599999999999994,5.8599999999999994,5.8599999999999994,5.8599999999999994,0.93333333333333335,0.93333333333333335,0.93333333333333335,0.93333333333333335,0.15927189988623439,0.15927189988623439,0.15927189988623439,0.15927189988623439,0.15927189988623439,0.15927189988623439,0.15927189988623439,0.15927189988623439,0,0,0,0,0.15927189988623439,0,759.73408999782976,858.74170245457719,857.65486797996175,857.65486797996175,null,null,null,null,9.6071428571428577,1,1,5.3090633295411464E-2,5.3090633295411464E-2,5.3090633295411464E-2,5.3090633295411464E-2,0.10758601793359933,0.10758601793359933,6.4534749407962153E-2,null,null,0.93333333333333335,0.93333333333333335,0.93333333333333335,0.93333333333333335,null,13,null,13.7,12.3,13.2,11.399999999999999,null,null,{"$f":"SUM(BB190:BB209)/30","v":6.3699999999999992},0,7.24,7.0033333333333321,6.0500000000000007,4.9366666666666674,0,null,null,null,"2016-07-09",10.4,0,19.600000000000001]
["2015-10-09",10.7,10.7,10.7,10.7,21.433333333333334,5.5839999999999996,5.5839999999999996,5.5839999999999996,5.5839999999999996,2.0066666666666668,2.0066666666666668,2.0066666666666668,2.0066666666666668,0.35936007640878709,0.35936007640878709,0.35936007640878709,0.35936007640878709,0.35936007640878709,0.35936007640878709,0.35936007640878709,0.35936007640878709,0,0,0,0,0.35936007640878709,0,768.35873183164063,867.36634428838806,857.65486797996175,857.65486797996175,null,null,null,null,9.4428571428571413,1,1,0.11978669213626236,0.11978669213626236,0.11978669213626236,0.11978669213626236,0.16109453384181666,0.16109453384181666,0.12209868814732427,null,null,2.0066666666666668,2.0066666666666668,2.0066666666666668,2.0066666666666668,null,10.7,null,12.8,11.2,10.7,10.7,null,null,{"$f":"SUM(BB191:BB210)/30","v":6.13},0,7.05,6.7866666666666662,5.830000000000001,4.7566666666666659,0,null,null,null,"2016-07-10",9.9,0,20.100000000000001]
["2015-10-10",8.3999999999999986,8.3999999999999986,8.3999999999999986,8.3999999999999986,22.2,5.3079999999999998,5.3079999999999998,5.3079999999999998,5.3079999999999998,3.0800000000000005,3.0800000000000005,3.0800000000000005,3.0800000000000005,0.58025621703089691,0.58025621703089691,0.58025621703089691,0.58025621703089691,0.58025621703089691,0.58025621703089691,0.58025621703089691,0.58025621703089691,0,0,0,0,0.58025621703089691,0,782.28488104038217,881.29249349712961,857.65486797996175,857.65486797996175,null,null,null,null,8.985714285714284,1,1,0.19341873901029896,0.19341873901029896,0.19341873901029896,0.19341873901029896,0.21805231002514028,0.21805231002514028,0.20371483308230662,null,null,3.0800000000000005,3.0800000000000005,3.0800000000000005,3.0800000000000005,null,8.3999999999999986,null,8.3999999999999986,7.6000000000000014,8,6.6999999999999993,null,null,{"$f":"SUM(BB192:BB211)/30","v":6.0066666666666659},0,6.9399999999999995,6.6733333333333338,5.7000000000000011,4.5833333333333321,0,null,null,null,"2016-07-11",7.1,0,22.9]
["2015-10-11",5.5,5.5,5.5,5.5,23.166666666666668,4.96,4.96,4.96,4.96,4.4333333333333336,4.4333333333333336,4.4333333333333336,4.4333333333333336,0.89381720430107536,0.89381720430107536,0.89381720430107536,0.89381720430107536,0.89381720430107536,0.89381720430107536,0.89381720430107536,0.89381720430107536,0,0,0,0,0.89381720430107536,0,803.73649394360802,902.74410640035546,857.65486797996175,857.65486797996175,null,null,null,null,8.3857142857142843,1,1,0.29793906810035847,0.29793906810035847,0.29793906810035847,0.29793906810035847,0.26214906959283585,0.26214906959283585,0.29731001772548854,null,null,4.4333333333333336,4.4333333333333336,4.4333333333333336,4.4333333333333336,null,5.5,null,6.5,7.1000000000000014,5.3999999999999986,4.1000000000000014,null,null,{"$f":"SUM(BB193:BB212)/30","v":5.8933333333333335},0,6.89,6.5833333333333339,5.5866666666666669,4.4433333333333325,0,null,null,null,"2016-07-12",5.2,0,{"$f":"30-BU203","v":24.8}]
["2015-10-12",3,3,3,3,24,4.66,4.66,4.66,4.66,5.6,5.6,5.6,5.6,1.2017167381974247,1.2017167381974247,1.2017167381974247,1.2017167381974247,1.2017167381974247,1.2017167381974247,1.2017167381974247,1.2017167381974247,0,0,0,0,1.2017167381974247,0,832.57769566034619,931.58530811709363,857.65486797996175,857.65486797996175,null,null,null,null,7.9285714285714262,1,1,0.40057224606580827,0.40057224606580827,0.40057224606580827,0.40057224606580827,0.28219594183781982,0.28219594183781982,0.37978106098059877,null,null,5.6,5.6,5.6,5.6,null,3,null,4,3.6999999999999993,2.8000000000000007,1.8999999999999986,null,null,{"$f":"SUM(BB194:BB213)/30","v":5.9},0,6.8533333333333326,6.5566666666666675,5.5733333333333333,4.4266666666666667,0,null,null,null,"2016-07-13",5.6,0,24.4]
["2015-10-13",2.1000000000000014,2.1000000000000014,2.1000000000000014,2.1000000000000014,24.3,4.5519999999999996,4.5519999999999996,4.5519999999999996,4.5519999999999996,6.0199999999999987,6.0199999999999987,6.0199999999999987,6.0199999999999987,1.3224956063268891,1.3224956063268891,1.3224956063268891,1.3224956063268891,1.3224956063268891,1.3224956063268891,1.3224956063268891,1.3224956063268891,0,0,0,0,1.3224956063268891,0,864.31759021219159,963.32520266893903,857.65486797996175,857.65486797996175,null,null,null,null,7.4285714285714288,1,1,0.44083186877562969,0.44083186877562969,0.44083186877562969,0.44083186877562969,0.29223476860866288,0.29223476860866288,0.39026945153584003,null,null,6.0199999999999987,6.0199999999999987,6.0199999999999987,6.0199999999999987,null,2.1000000000000014,null,4.3000000000000007,2.8000000000000007,1.3000000000000007,0,null,null,{"$f":"SUM(BB195:BB214)/30","v":5.85},0,6.7499999999999991,6.5100000000000007,5.543333333333333,4.330000000000001,0,null,null,null,"2016-07-14",10.7,0,19.3]
["2015-10-14",4.6999999999999993,4.6999999999999993,4.6999999999999993,4.6999999999999993,23.433333333333334,4.8639999999999999,4.8639999999999999,4.8639999999999999,4.8639999999999999,4.8066666666666675,4.8066666666666675,4.8066666666666675,4.8066666666666675,0.98821271929824583,0.98821271929824583,0.98821271929824583,0.98821271929824583,0.98821271929824583,0.98821271929824583,0.98821271929824583,0.98821271929824583,0,0,0,0,0.98821271929824583,0,888.03469547534951,987.04230793209695,857.65486797996175,857.65486797996175,null,null,null,null,7.0214285714285705,1,1,0.32940423976608196,0.32940423976608196,0.32940423976608196,0.32940423976608196,0.30126233138574243,0.30126233138574243,0.32121828251733692,null,null,4.8066666666666675,4.8066666666666675,4.8066666666666675,4.8066666666666675,null,4.6999999999999993,null,8.1000000000000014,7.8000000000000007,4.1000000000000014,1.6000000000000014,null,null,{"$f":"SUM(BB196:BB215)/30","v":5.753333333333333},0,6.6166666666666654,6.3566666666666674,5.4533333333333323,4.206666666666667,0,null,null,null,"2016-07-15",11.7,0,18.3]
["2015-10-15",8.3999999999999986,8.3999999999999986,8.3999999999999986,8.3999999999999986,22.2,5.3079999999999998,5.3079999999999998,5.3079999999999998,5.3079999999999998,3.0800000000000005,3.0800000000000005,3.0800000000000005,3.0800000000000005,0.58025621703089691,0.58025621703089691,0.58025621703089691,0.58025621703089691,0.58025621703089691,0.58025621703089691,0.58025621703089691,0.58025621703089691,0,0,0,0,0.58025621703089691,0,901.96084468409106,1000.9684571408385,857.65486797996175,857.65486797996175,null,null,null,null,6.757142857142858,1,1,0.19341873901029896,0.19341873901029896,0.19341873901029896,0.19341873901029896,0.30461704690586633,0.30461704690586633,0.23762715276951493,null,null,3.0800000000000005,3.0800000000000005,3.0800000000000005,3.0800000000000005,null,8.3999999999999986,null,11.100000000000001,9.5,8,5.3000000000000007,null,null,{"$f":"SUM(BB197:BB216)/30","v":5.5066666666666659},0,6.4333333333333327,6.1266666666666669,5.2233333333333327,4.0700000000000012,0,null,null,null,"2016-07-16",13.8,0,16.2]
["2015-10-16",8.5,8.5,8.5,8.5,22.166666666666668,5.32,5.32,5.32,5.32,3.0333333333333332,3.0333333333333332,3.0333333333333332,3.0333333333333332,0.57017543859649122,0.57017543859649122,0.57017543859649122,0.57017543859649122,0.57017543859649122,0.57017543859649122,0.57017543859649122,0.57017543859649122,0,0,0,0,0.57017543859649122,0,915.64505521040689,1014.6526676671543,857.65486797996175,857.65486797996175,null,null,null,null,6.7142857142857144,1,1,0.19005847953216373,0.19005847953216373,0.19005847953216373,0.19005847953216373,0.2789435616689438,0.2789435616689438,0.2133629656641062,null,null,3.0333333333333332,3.0333333333333332,3.0333333333333332,3.0333333333333332,null,8.5,null,9.1000000000000014,10.7,7.3999999999999986,4.3000000000000007,null,null,{"$f":"SUM(BB198:BB217)/30","v":5.27},0,6.1633333333333322,5.8400000000000007,5.0199999999999996,3.9366666666666679,0,null,null,null,"2016-07-17",12.7,0,17.3]
["2015-10-17",6.6000000000000014,6.6000000000000014,6.6000000000000014,6.6000000000000014,22.8,5.0919999999999996,5.0919999999999996,5.0919999999999996,5.0919999999999996,3.9199999999999995,3.9199999999999995,3.9199999999999995,3.9199999999999995,0.76983503534956788,0.76983503534956788,0.76983503534956788,0.76983503534956788,0.76983503534956788,0.76983503534956788,0.76983503534956788,0.76983503534956788,0,0,0,0,0.76983503534956788,0,934.12109605879652,1033.1287085155441,857.65486797996175,857.65486797996175,null,null,null,null,6.5357142857142856,1,1,0.25661167844985594,0.25661167844985594,0.25661167844985594,0.25661167844985594,0.25367695514123173,0.25367695514123173,0.25603074490774852,null,null,3.9199999999999995,3.9199999999999995,3.9199999999999995,3.9199999999999995,null,6.6000000000000014,null,8.5,8.3999999999999986,6.3000000000000007,4.1999999999999993,null,null,{"$f":"SUM(BB199:BB218)/30","v":5.1133333333333333},0,6.0333333333333323,5.7,4.876666666666666,3.830000000000001,0,null,null,null,"2016-07-18",11.7,0,18.3]
["2015-10-18",4.8999999999999986,4.8999999999999986,4.8999999999999986,4.8999999999999986,23.366666666666667,4.8879999999999999,4.8879999999999999,4.8879999999999999,4.8879999999999999,4.7133333333333347,4.7133333333333347,4.7133333333333347,4.7133333333333347,0.9642662302236773,0.9642662302236773,0.9642662302236773,0.9642662302236773,0.9642662302236773,0.9642662302236773,0.9642662302236773,0.9642662302236773,0,0,0,0,0.9642662302236773,0,957.26348558416475,1056.2710980409124,857.65486797996175,857.65486797996175,null,null,null,null,6.6357142857142861,1,1,0.32142207674122575,0.32142207674122575,0.32142207674122575,0.32142207674122575,0.23377041796495771,0.23377041796495771,0.26629720153281067,null,null,4.7133333333333347,4.7133333333333347,4.7133333333333347,4.7133333333333347,null,4.8999999999999986,null,7,6.3999999999999986,4.8999999999999986,4.1999999999999993,null,null,{"$f":"SUM(BB200:BB219)/30","v":4.92},0,5.9066666666666663,5.49,4.6899999999999995,3.6333333333333337,0,null,null,null,"2016-07-19",11.9,0,18.100000000000001]
["2015-10-19",7.6000000000000014,7.6000000000000014,7.6000000000000014,7.6000000000000014,22.466666666666665,5.2119999999999997,5.2119999999999997,5.2119999999999997,5.2119999999999997,3.4533333333333327,3.4533333333333327,3.4533333333333327,3.4533333333333327,0.66257354822205161,0.66257354822205161,0.66257354822205161,0.66257354822205161,0.66257354822205161,0.66257354822205161,0.66257354822205161,0.66257354822205161,0,0,0,0,0.66257354822205161,0,973.16525074149399,1072.1728631982417,857.65486797996175,857.65486797996175,null,null,null,null,7.0428571428571436,1,1,0.22085784940735054,0.22085784940735054,0.22085784940735054,0.22085784940735054,0.22952666338031133,0.22952666338031133,0.2687485164100738,null,null,3.4533333333333327,3.4533333333333327,3.4533333333333327,3.4533333333333327,null,7.6000000000000014,null,8.1000000000000014,8.8000000000000007,6.6999999999999993,4.1000000000000014,null,null,{"$f":"SUM(BB201:BB220)/30","v":4.7566666666666668},0,5.75,5.4066666666666681,4.4933333333333341,3.4533333333333336,0,null,null,null,"2016-07-20",10.7,0,19.3]
["2015-10-20",6.3999999999999986,6.3999999999999986,6.3999999999999986,6.3999999999999986,22.866666666666667,5.0679999999999996,5.0679999999999996,5.0679999999999996,5.0679999999999996,4.0133333333333336,4.0133333333333336,4.0133333333333336,4.0133333333333336,0.79189686924493563,0.79189686924493563,0.79189686924493563,0.79189686924493563,0.79189686924493563,0.79189686924493563,0.79189686924493563,0.79189686924493563,0,0,0,0,0.79189686924493563,0,992.17077560337248,1091.1783880601201,857.65486797996175,857.65486797996175,null,null,null,null,7.4928571428571429,1,1,0.26396562308164523,0.26396562308164523,0.26396562308164523,0.26396562308164523,0.22213033026401793,0.22213033026401793,0.22496065067371984,null,null,4.0133333333333336,4.0133333333333336,4.0133333333333336,4.0133333333333336,null,6.3999999999999986,null,8.6000000000000014,8,5.6999999999999993,3.6999999999999993,null,null,{"$f":"SUM(BB202:BB221)/30","v":4.6866666666666665},0,5.6333333333333337,5.3466666666666676,4.3966666666666665,3.3,0,null,null,null,"2016-07-21",9.5,0,20.5]
["2015-10-21",8.5,8.5,8.5,8.5,22.166666666666668,5.32,5.32,5.32,5.32,3.0333333333333332,3.0333333333333332,3.0333333333333332,3.0333333333333332,0.57017543859649122,0.57017543859649122,0.57017543859649122,0.57017543859649122,0.57017543859649122,0.57017543859649122,0.57017543859649122,0.57017543859649122,0,0,0,0,0.57017543859649122,0,1005.8549861296883,1104.862598586436,857.65486797996175,857.65486797996175,null,null,null,null,7.7357142857142867,1,1,0.19005847953216373,0.19005847953216373,0.19005847953216373,0.19005847953216373,0.22585135576261098,0.22585135576261098,0.20591218651052787,null,null,3.0333333333333332,3.0333333333333332,3.0333333333333332,3.0333333333333332,null,8.5,null,9.6999999999999993,9,7.6999999999999993,6.1000000000000014,null,null,{"$f":"SUM(BB203:BB222)/30","v":4.7066666666666661},0,5.6700000000000008,5.3933333333333344,4.41,3.3066666666666671,0,null,null,null,"2016-07-22",7.7,0,22.3]
["2015-10-22",9.3000000000000007,9.3000000000000007,9.3000000000000007,9.3000000000000007,21.9,5.4160000000000004,5.4160000000000004,5.4160000000000004,5.4160000000000004,2.6599999999999993,2.6599999999999993,2.6599999999999993,2.6599999999999993,0.49113737075332331,0.49113737075332331,0.49113737075332331,0.49113737075332331,0.49113737075332331,0.49113737075332331,0.49113737075332331,0.49113737075332331,0,0,0,0,0.49113737075332331,0,1017.642283027768,1116.6498954845158,857.65486797996175,857.65486797996175,null,null,null,null,7.7499999999999982,1,1,0.16371245691777445,0.16371245691777445,0.16371245691777445,0.16371245691777445,0.21503532028431244,0.21503532028431244,0.16401836138934939,null,null,2.6599999999999993,2.6599999999999993,2.6599999999999993,2.6599999999999993,null,9.3000000000000007,null,9.5,9,8.8000000000000007,6.3000000000000007,null,null,{"$f":"SUM(BB204:BB223)/30","v":4.8233333333333333},0,5.7233333333333336,5.4133333333333331,4.5233333333333343,3.413333333333334,0,null,null,null,"2016-07-23",7,0,23]
["2015-10-23",10.100000000000001,10.100000000000001,10.100000000000001,10.100000000000001,21.633333333333333,5.5120000000000005,5.5120000000000005,5.5120000000000005,5.5120000000000005,2.2866666666666662,2.2866666666666662,2.2866666666666662,2.2866666666666662,0.41485244315432984,0.41485244315432984,0.41485244315432984,0.41485244315432984,0.41485244315432984,0.41485244315432984,0.41485244315432984,0.41485244315432984,0,0,0,0,0.41485244315432984,0,1027.5987416634719,1126.6063541202197,857.65486797996175,857.65486797996175,null,null,null,null,7.7857142857142838,1,1,0.13828414771810996,0.13828414771810996,0.13828414771810996,0.13828414771810996,0.20968180373082437,0.20968180373082437,0.19488515385863051,null,null,2.2866666666666662,2.2866666666666662,2.2866666666666662,2.2866666666666662,null,10.100000000000001,null,11.3,9.6000000000000014,9.3999999999999986,7.1000000000000014,null,null,{"$f":"SUM(BB205:BB224)/30","v":4.97},0,5.8500000000000005,5.5233333333333343,4.6466666666666674,3.496666666666667,0,null,null,null,"2016-07-24",6,0,24]
["2015-10-24",5.8999999999999986,5.8999999999999986,5.8999999999999986,5.8999999999999986,23.033333333333335,5.0079999999999991,5.0079999999999991,5.0079999999999991,5.0079999999999991,4.246666666666667,4.246666666666667,4.246666666666667,4.246666666666667,0.84797657082002154,0.84797657082002154,0.84797657082002154,0.84797657082002154,0.84797657082002154,0.84797657082002154,0.84797657082002154,0.84797657082002154,0,0,0,0,0.84797657082002154,0,1047.9501793631523,1146.9577918199002,857.65486797996175,857.65486797996175,null,null,null,null,7.9571428571428555,1,1,0.2826588569400072,0.2826588569400072,0.2826588569400072,0.2826588569400072,0.19960367743491775,0.19960367743491775,0.22221761101708429,null,null,4.246666666666667,4.246666666666667,4.246666666666667,4.246666666666667,null,5.8999999999999986,null,8.5,7.1999999999999993,6,5.8999999999999986,null,null,{"$f":"SUM(BB206:BB225)/30","v":5.0233333333333325},0,5.9233333333333338,5.623333333333334,4.71,3.5766666666666671,0,null,null,null,"2016-07-25",6.4,0,23.6]
["2015-10-25",6.8999999999999986,6.8999999999999986,6.8999999999999986,6.8999999999999986,22.7,5.1280000000000001,5.1280000000000001,5.1280000000000001,5.1280000000000001,3.7800000000000007,3.7800000000000007,3.7800000000000007,3.7800000000000007,0.73712948517940724,0.73712948517940724,0.73712948517940724,0.73712948517940724,0.73712948517940724,0.73712948517940724,0.73712948517940724,0.73712948517940724,0,0,0,0,0.73712948517940724,0,1065.641287007458,1164.6488994642059,857.65486797996175,857.65486797996175,null,null,null,null,8.1357142857142861,1,1,0.24570982839313574,0.24570982839313574,0.24570982839313574,0.24570982839313574,0.20153693749452553,0.20153693749452553,0.23725063962202575,null,null,3.7800000000000007,3.7800000000000007,3.7800000000000007,3.7800000000000007,null,6.8999999999999986,null,7.1999999999999993,6.8000000000000007,7.5,6.8000000000000007,null,null,{"$f":"SUM(BB207:BB226)/30","v":4.92},0,5.8766666666666669,5.5400000000000009,4.629999999999999,3.6166666666666671,0,null,null,null,"2016-07-26",6.7,0,23.3]
["2015-10-26",8.6999999999999993,8.6999999999999993,8.6999999999999993,8.6999999999999993,22.1,5.3439999999999994,5.3439999999999994,5.3439999999999994,5.3439999999999994,2.9400000000000004,2.9400000000000004,2.9400000000000004,2.9400000000000004,0.55014970059880253,0.55014970059880253,0.55014970059880253,0.55014970059880253,0.55014970059880253,0.55014970059880253,0.55014970059880253,0.55014970059880253,0,0,0,0,0.55014970059880253,0,1078.8448798218292,1177.8524922785771,857.65486797996175,857.65486797996175,null,null,null,null,7.8571428571428559,1,1,0.18338323353293418,0.18338323353293418,0.18338323353293418,0.18338323353293418,0.20482277864954598,0.20482277864954598,0.2075039336454563,null,null,2.9400000000000004,2.9400000000000004,2.9400000000000004,2.9400000000000004,null,8.6999999999999993,null,10.3,9.3999999999999986,8.6999999999999993,7.8999999999999986,null,null,{"$f":"SUM(BB208:BB227)/30","v":4.6933333333333316},0,5.6233333333333331,5.3500000000000005,4.4433333333333334,3.5766666666666671,0,null,null,null,"2016-07-27",7.4,0,22.6]
["2015-10-27",8.3999999999999986,8.3999999999999986,8.3999999999999986,8.3999999999999986,22.2,5.3079999999999998,5.3079999999999998,5.3079999999999998,5.3079999999999998,3.0800000000000005,3.0800000000000005,3.0800000000000005,3.0800000000000005,0.58025621703089691,0.58025621703089691,0.58025621703089691,0.58025621703089691,0.58025621703089691,0.58025621703089691,0.58025621703089691,0.58025621703089691,0,0,0,0,0.58025621703089691,0,1092.7710290305706,1191.7786414873185,857.65486797996175,857.65486797996175,null,null,null,null,7.5142857142857151,1,1,0.19341873901029896,0.19341873901029896,0.19341873901029896,0.19341873901029896,0.20985104786382905,0.20985104786382905,0.19346442416421716,null,null,3.0800000000000005,3.0800000000000005,3.0800000000000005,3.0800000000000005,null,8.3999999999999986,null,10.5,9.3999999999999986,8.1000000000000014,6.6999999999999993,null,null,{"$f":"SUM(BB209:BB228)/30","v":4.6499999999999977},0,5.42,5.1033333333333344,4.4999999999999991,3.7266666666666666,0,null,null,null,"2016-07-28",9.1999999999999993,0,20.8]
["2015-10-28",8.1000000000000014,8.1000000000000014,8.1000000000000014,8.1000000000000014,22.3,5.2720000000000002,5.2720000000000002,5.2720000000000002,5.2720000000000002,3.2199999999999993,3.2199999999999993,3.2199999999999993,3.2199999999999993,0.61077389984825481,0.61077389984825481,0.61077389984825481,0.61077389984825481,0.61077389984825481,0.61077389984825481,0.61077389984825481,0.61077389984825481,0,0,0,0,0.61077389984825481,0,1107.4296026269287,1206.4372150836766,857.65486797996175,857.65486797996175,null,null,null,null,7.0214285714285722,1,1,0.20359129994941827,0.20359129994941827,0.20359129994941827,0.20359129994941827,0.19425435861784113,0.19425435861784113,0.19457446132087822,null,null,3.2199999999999993,3.2199999999999993,3.2199999999999993,3.2199999999999993,null,8.1000000000000014,null,9,9.8000000000000007,7.3000000000000007,6,null,null,{"$f":"SUM(BB210:BB229)/30","v":4.6999999999999993},0,5.3,5.0133333333333336,4.6366666666666667,3.8833333333333333,0,null,null,null,"2016-07-29",9.5,0,20.5]
["2015-10-29",8.6000000000000014,8.6000000000000014,8.6000000000000014,8.6000000000000014,22.133333333333333,5.3319999999999999,5.3319999999999999,5.3319999999999999,5.3319999999999999,2.9866666666666659,2.9866666666666659,2.9866666666666659,2.9866666666666659,0.56014003500875209,0.56014003500875209,0.56014003500875209,0.56014003500875209,0.56014003500875209,0.56014003500875209,0.56014003500875209,0.56014003500875209,0,0,0,0,0.56014003500875209,0,1120.8729634671388,1219.8805759238867,857.65486797996175,857.65486797996175,null,null,null,null,6.8714285714285719,1,1,0.18671334500291736,0.18671334500291736,0.18671334500291736,0.18671334500291736,0.19170671109384713,0.19170671109384713,0.18792889239014246,null,null,2.9866666666666659,2.9866666666666659,2.9866666666666659,2.9866666666666659,null,8.6000000000000014,null,9.3000000000000007,9.3999999999999986,7.8000000000000007,6.1000000000000014,null,null,{"$f":"SUM(BB211:BB230)/30","v":4.9866666666666664},0,5.4433333333333325,5.083333333333333,4.9233333333333329,4.1733333333333329,0,null,null,null,"2016-07-30",7.8,0,22.2]
["2015-10-30",9,9,9,9,22,5.38,5.38,5.38,5.38,2.8,2.8,2.8,2.8,0.5204460966542751,0.5204460966542751,0.5204460966542751,0.5204460966542751,0.5204460966542751,0.5204460966542751,0.5204460966542751,0.5204460966542751,0,0,0,0,0.5204460966542751,0,1133.3636697868415,1232.3712822435893,857.65486797996175,857.65486797996175,null,null,null,null,6.7285714285714295,1,1,0.17348203221809169,0.17348203221809169,0.17348203221809169,0.17348203221809169,0.21844146530661329,0.21844146530661329,0.17789246981303355,null,null,2.8,2.8,2.8,2.8,null,9,null,9.5,9,8.3999999999999986,6.8999999999999986,null,null,{"$f":"SUM(BB212:BB231)/30","v":5.1833333333333336},0,5.6400000000000006,5.1733333333333329,5.1533333333333333,4.4266666666666659,0,null,null,null,"2016-07-31",8.1999999999999993,0,21.8]
["2015-10-31",9,9,9,9,22,5.38,5.38,5.38,5.38,2.8,2.8,2.8,2.8,0.5204460966542751,0.5204460966542751,0.5204460966542751,0.5204460966542751,0.5204460966542751,0.5204460966542751,0.5204460966542751,0.5204460966542751,0,0,0,0,0.5204460966542751,0,1145.8543761065441,1244.861988563292,857.65486797996175,857.65486797996175,null,null,null,null,7.2714285714285722,1,1,0.17348203221809169,0.17348203221809169,0.17348203221809169,0.17348203221809169,0.25710090649762529,0.25710090649762529,0.19161345338712041,null,null,2.8,2.8,2.8,2.8,null,9,null,8.1000000000000014,7.6999999999999993,8.8000000000000007,7.3000000000000007,null,null,{"$f":"SUM(BB213:BB232)/30","v":5.373333333333334},0,5.7766666666666673,5.1633333333333322,5.3733333333333331,4.67,0,null,null,null,"2016-08-01",9.1999999999999993,0,20.8]
["2015-11-01",7.3999999999999986,7.3999999999999986,7.3999999999999986,7.3999999999999986,22.533333333333335,5.1879999999999997,5.1879999999999997,5.1879999999999997,5.1879999999999997,3.5466666666666673,3.5466666666666673,3.5466666666666673,3.5466666666666673,0.6836288871755335,0.6836288871755335,0.6836288871755335,0.6836288871755335,0.6836288871755335,0.6836288871755335,0.6836288871755335,0.6836288871755335,0,0,0,0,0.6836288871755335,0,1162.2614693987568,1261.2690818555047,857.65486797996175,857.65486797996175,null,null,null,null,7.7428571428571429,1,1,0.22787629572517784,0.22787629572517784,0.22787629572517784,0.22787629572517784,0.2943071246973345,0.2943071246973345,0.25729494698852223,null,null,3.5466666666666673,3.5466666666666673,3.5466666666666673,3.5466666666666673,null,7.3999999999999986,null,7.8000000000000007,7,6.5,4.3999999999999986,null,null,{"$f":"SUM(BB214:BB233)/30","v":5.5833333333333339},0,6.0466666666666669,5.3633333333333324,5.583333333333333,4.8566666666666665,0,null,null,null,"2016-08-02",8.6,0,21.4]
["2015-11-02",3.6999999999999993,3.6999999999999993,3.6999999999999993,3.6999999999999993,23.766666666666666,4.7439999999999998,4.7439999999999998,4.7439999999999998,4.7439999999999998,5.2733333333333343,5.2733333333333343,5.2733333333333343,5.2733333333333343,1.1115795390668917,1.1115795390668917,1.1115795390668917,1.1115795390668917,1.1115795390668917,1.1115795390668917,1.1115795390668917,1.1115795390668917,0,0,0,0,1.1115795390668917,0,1188.9393783363623,1287.9469907931102,857.65486797996175,857.65486797996175,null,null,null,null,7.9857142857142867,1,1,0.37052651302229722,0.37052651302229722,0.37052651302229722,0.37052651302229722,0.30119950103180021,0.30119950103180021,0.35414587869828601,null,null,5.2733333333333343,5.2733333333333343,5.2733333333333343,5.2733333333333343,null,3.6999999999999993,null,6.5,5.8000000000000007,3.1999999999999993,2.3999999999999986,null,null,{"$f":"SUM(BB215:BB234)/30","v":5.706666666666667},0,6.2699999999999987,5.5166666666666657,5.71,5,0,null,null,null,"2016-08-03",9.1999999999999993,0,20.8]
["2015-11-03",1.6000000000000014,1.6000000000000014,1.6000000000000014,1.6000000000000014,24.466666666666669,4.492,4.492,4.492,4.492,6.2533333333333321,6.2533333333333321,6.2533333333333321,6.2533333333333321,1.3921044820421486,1.3921044820421486,1.3921044820421486,1.3921044820421486,1.3921044820421486,1.3921044820421486,1.3921044820421486,1.3921044820421486,0,0,0,0,1.3921044820421486,0,1222.3498859053739,1321.3574983621218,857.65486797996175,857.65486797996175,null,null,null,null,8.4428571428571431,1,1,0.46403482734738288,0.46403482734738288,0.46403482734738288,0.46403482734738288,0.30550082499341835,0.30550082499341835,0.43286538923902107,null,null,6.2533333333333321,6.2533333333333321,6.2533333333333321,6.2533333333333321,null,1.6000000000000014,null,6.6999999999999993,5.3000000000000007,1.6999999999999993,2.8000000000000007,null,null,{"$f":"SUM(BB216:BB235)/30","v":5.703333333333334},0,6.2333333333333334,5.5166666666666657,5.706666666666667,5.0266666666666664,0,null,null,null,"2016-08-04",8.1,0,21.9]
["2015-11-04",1.6000000000000014,1.6000000000000014,1.6000000000000014,1.6000000000000014,24.466666666666669,4.492,4.492,4.492,4.492,6.2533333333333321,6.2533333333333321,6.2533333333333321,6.2533333333333321,1.3921044820421486,1.3921044820421486,1.3921044820421486,1.3921044820421486,1.3921044820421486,1.3921044820421486,1.3921044820421486,1.3921044820421486,0,0,0,0,1.3921044820421486,0,1255.7603934743854,1354.7680059311333,857.65486797996175,857.65486797996175,null,null,null,null,8.7928571428571427,1,1,0.46403482734738288,0.46403482734738288,0.46403482734738288,0.46403482734738288,0.28634830816432161,0.28634830816432161,0.38767654467964779,null,null,6.2533333333333321,6.2533333333333321,6.2533333333333321,6.2533333333333321,null,1.6000000000000014,null,3.5,3.8000000000000007,2.3999999999999986,4.1000000000000014,null,null,{"$f":"SUM(BB217:BB236)/30","v":5.8466666666666667},0,6.22,5.51,5.8266666666666671,5.0533333333333328,0,null,null,null,"2016-08-05",6.2,0,23.8]
["2015-11-05",7.1999999999999993,7.1999999999999993,7.1999999999999993,7.1999999999999993,22.6,5.1639999999999997,5.1639999999999997,5.1639999999999997,5.1639999999999997,3.6400000000000006,3.6400000000000006,3.6400000000000006,3.6400000000000006,0.70487993803253302,0.70487993803253302,0.70487993803253302,0.70487993803253302,0.70487993803253302,0.70487993803253302,0.70487993803253302,0.70487993803253302,0,0,0,0,0.70487993803253302,0,1272.6775119871661,1371.685124443914,857.65486797996175,857.65486797996175,null,null,null,null,8.8928571428571423,1,1,0.23495997934417767,0.23495997934417767,0.23495997934417767,0.23495997934417767,0.25942518226278394,0.25942518226278394,0.30086203554699303,null,null,3.6400000000000006,3.6400000000000006,3.6400000000000006,3.6400000000000006,null,7.1999999999999993,null,3,3.3000000000000007,9.1000000000000014,8.8000000000000007,null,null,{"$f":"SUM(BB218:BB237)/30","v":5.8566666666666665},0,6.3499999999999988,5.5433333333333339,5.7966666666666669,4.9866666666666664,0,null,null,null,"2016-08-06",9.1,0,20.9]
["2015-11-06",8.1000000000000014,8.1000000000000014,8.1000000000000014,8.1000000000000014,22.3,5.2720000000000002,5.2720000000000002,5.2720000000000002,5.2720000000000002,3.2199999999999993,3.2199999999999993,3.2199999999999993,3.2199999999999993,0.61077389984825481,0.61077389984825481,0.61077389984825481,0.61077389984825481,0.61077389984825481,0.61077389984825481,0.61077389984825481,0.61077389984825481,0,0,0,0,0.61077389984825481,0,1287.3360855835242,1386.3436980402721,857.65486797996175,857.65486797996175,null,null,null,null,8.9785714285714278,1,1,0.20359129994941827,0.20359129994941827,0.20359129994941827,0.20359129994941827,0.21769665574298605,0.21769665574298605,0.15932189790267012,null,null,3.2199999999999993,3.2199999999999993,3.2199999999999993,3.2199999999999993,null,8.1000000000000014,null,4.8999999999999986,5.6999999999999993,10.399999999999999,8.8999999999999986,null,null,{"$f":"SUM(BB219:BB238)/30","v":5.87},0,6.3666666666666663,5.5133333333333336,5.7933333333333339,4.956666666666667,0,null,null,null,"2016-08-07",10.1,0,19.899999999999999]
["2015-11-07",13.5,13.5,13.5,13.5,20.5,5.92,5.92,5.92,5.92,0.7,0.7,0.7,0.7,0.11824324324324324,0.11824324324324324,0.11824324324324324,0.11824324324324324,0.11824324324324324,0.11824324324324324,0.11824324324324324,0.11824324324324324,0,0,0,0,0.11824324324324324,0,1290.1739234213621,1389.18153587811,857.65486797996175,857.65486797996175,null,null,null,null,8.85,1,1,3.9414414414414414E-2,3.9414414414414414E-2,3.9414414414414414E-2,3.9414414414414414E-2,0.1521374415077846,0.1521374415077846,9.4140042926082357E-2,null,null,0.7,0.7,0.7,0.7,null,13.5,null,11.3,8.5,13.5,12.899999999999999,null,null,{"$f":"SUM(BB220:BB239)/30","v":5.9833333333333325},0,6.46,5.5933333333333337,5.8833333333333337,5.0366666666666662,0,null,null,null,"2016-08-08",10.5,0,19.5]
["2015-11-08",13.5,13.5,13.5,13.5,20.5,5.92,5.92,5.92,5.92,0.7,0.7,0.7,0.7,0.11824324324324324,0.11824324324324324,0.11824324324324324,0.11824324324324324,0.11824324324324324,0.11824324324324324,0.11824324324324324,0.11824324324324324,0,0,0,0,0.11824324324324324,0,1293.0117612592001,1392.0193737159479,857.65486797996175,857.65486797996175,null,null,null,null,8.9714285714285733,1,1,3.9414414414414414E-2,3.9414414414414414E-2,3.9414414414414414E-2,3.9414414414414414E-2,9.3431128071788688E-2,9.3431128071788688E-2,5.2418552070846898E-2,null,null,0.7,0.7,0.7,0.7,null,13.5,null,14,11.5,13.600000000000001,11.7,null,null,{"$f":"SUM(BB221:BB240)/30","v":6.0699999999999994},0,6.6,5.5366666666666662,5.9833333333333343,5.1366666666666667,0,null,null,null,"2016-08-09",9.1,0,20.9]
["2015-11-09",12.100000000000001,12.100000000000001,12.100000000000001,12.100000000000001,20.966666666666665,5.7520000000000007,5.7520000000000007,5.7520000000000007,5.7520000000000007,1.3533333333333326,1.3533333333333326,1.3533333333333326,1.3533333333333326,0.23528048215113567,0.23528048215113567,0.23528048215113567,0.23528048215113567,0.23528048215113567,0.23528048215113567,0.23528048215113567,0.23528048215113567,0,0,0,0,0.23528048215113567,0,1298.6584928308273,1397.6661052875752,857.65486797996175,857.65486797996175,null,null,null,null,9.5500000000000007,1,1,7.8426827383711886E-2,7.8426827383711886E-2,7.8426827383711886E-2,7.8426827383711886E-2,8.0067436938926387E-2,8.0067436938926387E-2,4.0987189833033053E-2,null,null,1.3533333333333326,1.3533333333333326,1.3533333333333326,1.3533333333333326,null,12.100000000000001,null,12.7,7.6999999999999993,12.3,11,null,null,{"$f":"SUM(BB222:BB241)/30","v":6.2199999999999989},0,6.8199999999999994,5.6500000000000012,6.1400000000000006,5.2866666666666662,0,null,null,null,"2016-08-10",11,0,19]
["2015-11-10",14.8,14.8,14.8,14.8,20.066666666666666,6.0759999999999996,6.0759999999999996,6.0759999999999996,6.0759999999999996,9.3333333333333005E-2,9.3333333333333005E-2,9.3333333333333005E-2,9.3333333333333005E-2,1.5360983102918533E-2,1.5360983102918533E-2,1.5360983102918533E-2,1.5360983102918533E-2,1.5360983102918533E-2,1.5360983102918533E-2,1.5360983102918533E-2,1.5360983102918533E-2,0,0,0,0,1.5360983102918533E-2,0,1299.0271564252973,1398.0347688820452,857.65486797996175,857.65486797996175,null,null,null,null,10.200000000000001,1,1,5.120327700972844E-3,5.120327700972844E-3,5.120327700972844E-3,5.120327700972844E-3,7.0292644494167944E-2,7.0292644494167944E-2,4.5545929460032074E-2,null,null,9.3333333333333005E-2,9.3333333333333005E-2,9.3333333333333005E-2,9.3333333333333005E-2,null,14.8,null,17.8,15,14,11.7,null,null,{"$f":"SUM(BB223:BB242)/30","v":6.2933333333333321},0,6.9800000000000013,5.6766666666666667,6.2166666666666668,5.3599999999999994,0,null,null,null,"2016-08-11",15.2,0,14.8]
["2015-11-11",13,13,13,13,20.666666666666668,5.8599999999999994,5.8599999999999994,5.8599999999999994,5.8599999999999994,0.93333333333333335,0.93333333333333335,0.93333333333333335,0.93333333333333335,0.15927189988623439,0.15927189988623439,0.15927189988623439,0.15927189988623439,0.15927189988623439,0.15927189988623439,0.15927189988623439,0.15927189988623439,0,0,0,0,0.15927189988623439,0,1302.8496820225669,1401.8572944793148,857.65486797996175,857.65486797996175,null,null,null,null,11.021428571428572,1,1,5.3090633295411464E-2,5.3090633295411464E-2,5.3090633295411464E-2,5.3090633295411464E-2,9.8227725198419838E-2,9.8227725198419838E-2,6.6541700803508588E-2,null,null,0.93333333333333335,0.93333333333333335,0.93333333333333335,0.93333333333333335,null,13,null,16.2,13.600000000000001,12.600000000000001,10.600000000000001,null,null,{"$f":"SUM(BB224:BB243)/30","v":6.2166666666666659},0,7.0700000000000021,5.7000000000000011,6.13,5.2633333333333336,0,null,null,null,"2016-08-12",15,0,15]
["2015-11-12",{"$f":"BB235+A$7","v":10},10,10,10,{"$f":"F$8+(H$7-F$8)*(M$6-B235)/30","v":21.666666666666668},{"$f":"IF((B235+35-$F235)*$H$5+$H$6>1,(B235+35-$F235)*$H$5+$H$6,1)","v":5.5},{"$f":"IF((C235+35-$F235)*$H$5+$H$6>1,(C235+35-$F235)*$H$5+$H$6,1)","v":5.5},{"$f":"IF((D235+35-$F235)*$H$5+$H$6>1,(D235+35-$F235)*$H$5+$H$6,1)","v":5.5},{"$f":"IF((E235+35-$F235)*$H$5+$H$6>1,(E235+35-$F235)*$H$5+$H$6,1)","v":5.5},{"$f":"$M$5*($M$6-B235)/30-$O$5","v":2.3333333333333335},{"$f":"$M$5*($M$6-C235)/30-$O$5","v":2.3333333333333335},{"$f":"$M$5*($M$6-D235)/30-$O$5","v":2.3333333333333335},{"$f":"$M$5*($M$6-E235)/30-$O$5","v":2.3333333333333335},{"$f":"IF(K235/G235>$M$7,$M$7+K235-$M$7*G235,K235/G235)","v":0.42424242424242425},{"$f":"IF(L235/H235>$M$7,$M$7+L235-$M$7*H235,L235/H235)","v":0.42424242424242425},{"$f":"IF(M235/I235>$M$7,$M$7+M235-$M$7*I235,M235/I235)","v":0.42424242424242425},{"$f":"IF(N235/J235>$M$7,$M$7+N235-$M$7*J235,N235/J235)","v":0.42424242424242425},{"$f":"IF(O235>0,O235,)","v":0.42424242424242425},{"$f":"IF(P235>0,P235,)","v":0.42424242424242425},{"$f":"IF(Q235>0,Q235,)","v":0.42424242424242425},{"$f":"IF(R235>0,R235,)","v":0.42424242424242425},{"$f":"IF(O235<0,-O235,0)","v":0},{"$f":"IF(P235<0,-P235,0)","v":0},{"$f":"IF(Q235<0,-Q235,0)","v":0},{"$f":"IF(R235<0,-R235,0)","v":0},{"$f":"IF(SUM(O235:R235)/4>0,SUM(O235:R235)/4,)","v":0.42424242424242425},{"$f":"IF(SUM(O235:R235)/4<0,-SUM(O235:R235)/4,)","v":0},{"$f":"6*SUM(S235:V235)+AC234","v":1313.0315002043851},{"$f":"AD234+AA235*24","v":1412.039112661133},{"$f":"6*SUM(W235:Z235)+AE234","v":857.65486797996175},{"$f":"AF234+AB235*24","v":857.65486797996175},null,null,null,null,{"$f":"IF(SUM(B229:B242)/14<$C$7,SUM(B229:B242)/14,0)","v":11.307142857142855},{"$f":"IF(SUM(B229:B242)/14<$C$7,1,0)","v":1},{"$f":"IF(SUM(AN232:AQ238)>0,1,0)","v":1},{"$f":"K235/G235/$M$7","v":0.14141414141414141},{"$f":"L235/H235/$M$7","v":0.14141414141414141},{"$f":"M235/I235/$M$7","v":0.14141414141414141},{"$f":"N235/J235/$M$7","v":0.14141414141414141},{"$f":"SUM(AO232:AO238)/7","v":0.11691295345338101},{"$f":"SUM(AQ232:AQ238)/7","v":0.11691295345338101},{"$f":"SUM(AN234:AQ236)/12","v":0.10989084251522065},null,null,{"$f":"IF(K235>0,K235,0)","v":2.3333333333333335},{"$f":"IF(L235>0,L235,0)","v":2.3333333333333335},{"$f":"IF(M235>0,M235,0)","v":2.3333333333333335},{"$f":"IF(N235>0,N235,0)","v":2.3333333333333335},null,10,null,10.199999999999999,9.6000000000000014,9.3000000000000007,7.8999999999999986,null,null,{"$f":"SUM(BB225:BB244)/30","v":6.0766666666666662},0,6.993333333333335,5.5933333333333346,6,5.1366666666666667,0,null,null,null,"2016-08-13",12.7,0,17.3]
["2015-11-13",10.199999999999999,10.199999999999999,10.199999999999999,10.199999999999999,21.6,5.524,5.524,5.524,5.524,2.2400000000000007,2.2400000000000007,2.2400000000000007,2.2400000000000007,0.40550325850832741,0.40550325850832741,0.40550325850832741,0.40550325850832741,0.40550325850832741,0.40550325850832741,0.40550325850832741,0.40550325850832741,0,0,0,0,0.40550325850832741,0,1322.7635784085849,1421.7711908653328,857.65486797996175,857.65486797996175,null,null,null,null,11.207142857142856,1,1,0.13516775283610913,0.13516775283610913,0.13516775283610913,0.13516775283610913,0.1181498332007688,0.1181498332007688,0.17051395786480938,null,null,2.2400000000000007,2.2400000000000007,2.2400000000000007,2.2400000000000007,null,10.199999999999999,null,8.1000000000000014,7,9.6000000000000014,6.6999999999999993,null,null,{"$f":"SUM(BB226:BB245)/30","v":5.9766666666666648},0,6.910000000000001,5.4500000000000011,5.9066666666666663,5.0199999999999996,0,null,null,null,"2016-08-14",9.9,0,20.100000000000001]
["2015-11-14",7.1999999999999993,7.1999999999999993,7.1999999999999993,7.1999999999999993,22.6,5.1639999999999997,5.1639999999999997,5.1639999999999997,5.1639999999999997,3.6400000000000006,3.6400000000000006,3.6400000000000006,3.6400000000000006,0.70487993803253302,0.70487993803253302,0.70487993803253302,0.70487993803253302,0.70487993803253302,0.70487993803253302,0.70487993803253302,0.70487993803253302,0,0,0,0,0.70487993803253302,0,1339.6806969213656,1438.6883093781134,857.65486797996175,857.65486797996175,null,null,null,null,10.47142857142857,1,1,0.23495997934417767,0.23495997934417767,0.23495997934417767,0.23495997934417767,0.13453074240581017,0.13453074240581017,0.18011291479314318,null,null,3.6400000000000006,3.6400000000000006,3.6400000000000006,3.6400000000000006,null,7.1999999999999993,null,11.100000000000001,7.8000000000000007,6.6000000000000014,4.8000000000000007,null,null,{"$f":"SUM(BB227:BB246)/30","v":5.9299999999999979},0,6.7733333333333343,5.2533333333333339,5.84,4.8566666666666674,0,null,null,null,"2016-08-15",10.8,0,19.2]
["2015-11-15",9.1000000000000014,9.1000000000000014,9.1000000000000014,9.1000000000000014,21.966666666666665,5.3920000000000003,5.3920000000000003,5.3920000000000003,5.3920000000000003,2.7533333333333325,2.7533333333333325,2.7533333333333325,2.7533333333333325,0.51063303659742809,0.51063303659742809,0.51063303659742809,0.51063303659742809,0.51063303659742809,0.51063303659742809,0.51063303659742809,0.51063303659742809,0,0,0,0,0.51063303659742809,0,1351.9358897997038,1450.9435022564517,857.65486797996175,857.65486797996175,null,null,null,null,9.5571428571428552,1,1,0.1702110121991427,0.1702110121991427,0.1702110121991427,0.1702110121991427,0.13413679916050311,0.13413679916050311,0.16408532571958231,null,null,2.7533333333333325,2.7533333333333325,2.7533333333333325,2.7533333333333325,null,9.1000000000000014,null,10.8,8.5,8.6000000000000014,7,null,null,{"$f":"SUM(BB228:BB247)/30","v":5.8466666666666649},0,6.6566666666666672,5.1200000000000019,5.7333333333333325,4.6566666666666663,0,null,null,null,"2016-08-16",11.7,0,18.3]
["2015-11-16",11.8,11.8,11.8,11.8,21.066666666666666,5.7159999999999993,5.7159999999999993,5.7159999999999993,5.7159999999999993,1.493333333333333,1.493333333333333,1.493333333333333,1.493333333333333,0.26125495684627942,0.26125495684627942,0.26125495684627942,0.26125495684627942,0.26125495684627942,0.26125495684627942,0.26125495684627942,0.26125495684627942,0,0,0,0,0.26125495684627942,0,1358.2060087640145,1457.2136212207624,857.65486797996175,857.65486797996175,null,null,null,null,8.7071428571428591,1,1,8.7084985615426477E-2,8.7084985615426477E-2,8.7084985615426477E-2,8.7084985615426477E-2,0.12889658697486217,0.12889658697486217,0.12569422998361054,null,null,1.493333333333333,1.493333333333333,1.493333333333333,1.493333333333333,null,11.8,null,13.3,11.8,10.8,9.1000000000000014,null,null,{"$f":"SUM(BB229:BB248)/30","v":5.6166666666666645},0,6.5600000000000005,4.9866666666666672,5.4333333333333318,4.3433333333333337,0,null,null,null,"2016-08-17",14.5,0,15.5]
["2015-11-17",10.7,10.7,10.7,10.7,21.433333333333334,5.5839999999999996,5.5839999999999996,5.5839999999999996,5.5839999999999996,2.0066666666666668,2.0066666666666668,2.0066666666666668,2.0066666666666668,0.35936007640878709,0.35936007640878709,0.35936007640878709,0.35936007640878709,0.35936007640878709,0.35936007640878709,0.35936007640878709,0.35936007640878709,0,0,0,0,0.35936007640878709,0,1366.8306505978255,1465.8382630545734,857.65486797996175,857.65486797996175,null,null,null,null,7.585714285714289,1,1,0.11978669213626236,0.11978669213626236,0.11978669213626236,0.11978669213626236,0.1457241424113716,0.1457241424113716,8.5734902776650315E-2,null,null,2.0066666666666668,2.0066666666666668,2.0066666666666668,2.0066666666666668,null,10.7,null,13.2,8.1000000000000014,10.3,9,null,null,{"$f":"SUM(BB230:BB249)/30","v":5.4099999999999984},0,6.4633333333333338,4.8566666666666682,5.1333333333333311,4.0733333333333333,0,null,null,null,"2016-08-18",13.6,0,16.399999999999999]
["2015-11-18",13.100000000000001,13.100000000000001,13.100000000000001,13.100000000000001,20.633333333333333,5.8719999999999999,5.8719999999999999,5.8719999999999999,5.8719999999999999,0.88666666666666605,0.88666666666666605,0.88666666666666605,0.88666666666666605,0.15099909173478646,0.15099909173478646,0.15099909173478646,0.15099909173478646,0.15099909173478646,0.15099909173478646,0.15099909173478646,0.15099909173478646,0,0,0,0,0.15099909173478646,0,1370.4546287994604,1469.4622412562082,857.65486797996175,857.65486797996175,null,null,null,null,6.6785714285714297,1,1,5.0333030578262154E-2,5.0333030578262154E-2,5.0333030578262154E-2,5.0333030578262154E-2,0.1681409721145383,0.1681409721145383,9.1617459609726379E-2,null,null,0.88666666666666605,0.88666666666666605,0.88666666666666605,0.88666666666666605,null,13.100000000000001,null,15.9,12.8,12.5,10.600000000000001,null,null,{"$f":"SUM(BB231:BB250)/30","v":5.0399999999999983},0,6.2,4.6700000000000017,4.7466666666666653,3.5933333333333333,0,null,null,null,"2016-08-19",12.4,0,17.600000000000001]
["2015-11-19",11.2,11.2,11.2,11.2,21.266666666666666,5.6440000000000001,5.6440000000000001,5.6440000000000001,5.6440000000000001,1.7733333333333337,1.7733333333333337,1.7733333333333337,1.7733333333333337,0.31419796834396413,0.31419796834396413,0.31419796834396413,0.31419796834396413,0.31419796834396413,0.31419796834396413,0.31419796834396413,0.31419796834396413,0,0,0,0,0.31419796834396413,0,1377.9953800397154,1477.0029924964633,857.65486797996175,857.65486797996175,null,null,null,null,6.1000000000000005,1,1,0.10473265611465471,0.10473265611465471,0.10473265611465471,0.10473265611465471,0.21631092020380452,0.21631092020380452,0.13600877586153073,null,null,1.7733333333333337,1.7733333333333337,1.7733333333333337,1.7733333333333337,null,11.2,null,14.3,9.8000000000000007,10.7,9.1000000000000014,null,null,{"$f":"SUM(BB232:BB251)/30","v":4.6233333333333331},0,5.8533333333333335,4.3499999999999988,4.3033333333333337,3.1533333333333329,0,null,null,null,"2016-08-20",9.5,0,20.5]
["2015-11-20",6.6999999999999993,{"$f":"$B243+C$9","v":6.6999999999999993},6.6999999999999993,6.6999999999999993,22.766666666666666,5.1040000000000001,5.1040000000000001,5.1040000000000001,5.1040000000000001,3.873333333333334,3.873333333333334,3.873333333333334,3.873333333333334,0.75888192267502619,0.75888192267502619,0.75888192267502619,0.75888192267502619,0.75888192267502619,0.75888192267502619,0.75888192267502619,0.75888192267502619,0,0,0,0,0.75888192267502619,0,1396.208546183916,1495.2161586406639,857.65486797996175,857.65486797996175,null,null,null,null,5.5428571428571427,1,1,0.25296064089167541,0.25296064089167541,0.25296064089167541,0.25296064089167541,0.27993146812309611,0.27993146812309611,0.24985702809089139,null,null,3.873333333333334,3.873333333333334,3.873333333333334,3.873333333333334,null,6.6999999999999993,null,10.8,8.3999999999999986,6.1999999999999993,4.3999999999999986,null,null,{"$f":"SUM(BB233:BB252)/30","v":4.3566666666666674},0,5.666666666666667,4.1966666666666663,4.0200000000000005,2.873333333333334,0,null,null,null,"2016-08-21",7.7,0,22.3]
["2015-11-21",3.1999999999999993,3.1999999999999993,3.1999999999999993,3.1999999999999993,23.933333333333334,4.6840000000000002,4.6840000000000002,4.6840000000000002,4.6840000000000002,5.5066666666666668,5.5066666666666668,5.5066666666666668,5.5066666666666668,1.1756333617990322,1.1756333617990322,1.1756333617990322,1.1756333617990322,1.1756333617990322,1.1756333617990322,1.1756333617990322,1.1756333617990322,0,0,0,0,1.1756333617990322,0,1424.4237468670929,1523.4313593238408,857.65486797996175,857.65486797996175,null,null,null,null,5.1000000000000005,1,1,0.39187778726634409,0.39187778726634409,0.39187778726634409,0.39187778726634409,0.34710661533881726,0.34710661533881726,0.38407969232734201,null,null,5.5066666666666668,5.5066666666666668,5.5066666666666668,5.5066666666666668,null,3.1999999999999993,null,5.5,3.8000000000000007,2.6000000000000014,0.60000000000000142,null,null,{"$f":"SUM(BB234:BB253)/30","v":4.0966666666666676},0,5.4566666666666661,3.9399999999999991,3.7833333333333341,2.6633333333333344,0,null,null,null,"2016-08-22",11.9,0,18.100000000000001]
["2015-11-22",0.69999999999999929,0.69999999999999929,0.69999999999999929,0.69999999999999929,24.766666666666666,4.3840000000000003,4.3840000000000003,4.3840000000000003,4.3840000000000003,6.6733333333333338,6.6733333333333338,6.6733333333333338,6.6733333333333338,1.5222019464720193,1.5222019464720193,1.5222019464720193,1.5222019464720193,1.5222019464720193,1.5222019464720193,1.5222019464720193,1.5222019464720193,0,0,0,0,1.5222019464720193,0,1460.9565935824214,1559.9642060391693,857.65486797996175,857.65486797996175,null,null,null,null,4.7428571428571429,1,1,0.50740064882400648,0.50740064882400648,0.50740064882400648,0.50740064882400648,0.41525443578159937,0.41525443578159937,0.47723575238027283,null,null,6.6733333333333338,6.6733333333333338,6.6733333333333338,6.6733333333333338,null,0.69999999999999929,null,4,1.5,0.39999999999999858,-1.1000000000000014,null,null,{"$f":"SUM(BB235:BB254)/30","v":3.9166666666666665},0,5.2600000000000007,3.7633333333333328,3.6033333333333344,2.5066666666666664,0,null,null,null,"2016-08-23",11,0,19]
["2015-11-23",0.19999999999999929,0.19999999999999929,0.19999999999999929,0.19999999999999929,24.933333333333334,4.3239999999999998,4.3239999999999998,4.3239999999999998,4.3239999999999998,6.9066666666666672,6.9066666666666672,6.9066666666666672,6.9066666666666672,1.5972864631514032,1.5972864631514032,1.5972864631514032,1.5972864631514032,1.5972864631514032,1.5972864631514032,1.5972864631514032,1.5972864631514032,0,0,0,0,1.5972864631514032,0,1499.291468698055,1598.2990811548029,857.65486797996175,857.65486797996175,null,null,null,null,4.4000000000000012,1,1,0.53242882105046774,0.53242882105046774,0.53242882105046774,0.53242882105046774,0.46458395089046556,0.46458395089046556,0.54328073084026163,null,null,6.9066666666666672,6.9066666666666672,6.9066666666666672,6.9066666666666672,null,0.19999999999999929,null,2.6000000000000014,-0.60000000000000142,-0.30000000000000071,-2.1000000000000014,null,null,{"$f":"SUM(BB236:BB255)/30","v":3.8566666666666669},0,5.2099999999999991,3.676666666666665,3.5600000000000009,2.4666666666666672,0,null,null,null,"2016-08-24",9.8000000000000007,0,20.2]
["2015-11-24",-0.89999999999999858,-0.89999999999999858,-0.89999999999999858,-0.89999999999999858,25.3,4.1920000000000002,4.1920000000000002,4.1920000000000002,4.1920000000000002,7.419999999999999,7.419999999999999,7.419999999999999,7.419999999999999,1.770038167938931,1.770038167938931,1.770038167938931,1.770038167938931,1.770038167938931,1.770038167938931,1.770038167938931,1.770038167938931,0,0,0,0,1.770038167938931,0,1541.7723847285895,1640.7799971853374,857.65486797996175,857.65486797996175,null,null,null,null,4.1785714285714297,1,1,0.59001272264631033,0.59001272264631033,0.59001272264631033,0.59001272264631033,0.48947548718355921,0.48947548718355921,0.54993643912483836,null,null,7.419999999999999,7.419999999999999,7.419999999999999,7.419999999999999,null,-0.89999999999999858,null,0,-0.19999999999999929,-0.80000000000000071,-1.8999999999999986,null,null,{"$f":"SUM(BB237:BB256)/30","v":3.7366666666666664},0,5.1733333333333329,3.6599999999999984,3.4433333333333347,2.3866666666666663,0,null,null,null,"2016-08-25",9.8000000000000007,0,20.2]
["2015-11-25",0.30000000000000071,0.30000000000000071,0.30000000000000071,0.30000000000000071,24.9,4.3359999999999994,4.3359999999999994,4.3359999999999994,4.3359999999999994,6.8599999999999994,6.8599999999999994,6.8599999999999994,6.8599999999999994,1.5821033210332105,1.5821033210332105,1.5821033210332105,1.5821033210332105,1.5821033210332105,1.5821033210332105,1.5821033210332105,1.5821033210332105,0,0,0,0,1.5821033210332105,0,1579.7428644333866,1678.7504768901345,857.65486797996175,857.65486797996175,null,null,null,null,3.8285714285714283,1,1,0.5273677736777368,0.5273677736777368,0.5273677736777368,0.5273677736777368,0.50388007535616863,0.50388007535616863,0.52247325273358836,null,null,6.8599999999999994,6.8599999999999994,6.8599999999999994,6.8599999999999994,null,0.30000000000000071,null,0.10000000000000142,-0.69999999999999929,0.10000000000000142,-0.60000000000000142,null,null,{"$f":"SUM(BB238:BB257)/30","v":3.6100000000000003},0,5,3.5066666666666659,3.3333333333333339,2.3033333333333332,0,null,null,null,"2016-08-26",10.3,0,19.7]
["2015-11-26",1.8999999999999986,1.8999999999999986,1.8999999999999986,1.8999999999999986,24.366666666666667,4.5279999999999996,4.5279999999999996,4.5279999999999996,4.5279999999999996,6.1133333333333342,6.1133333333333342,6.1133333333333342,6.1133333333333342,1.3501177856301534,1.3501177856301534,1.3501177856301534,1.3501177856301534,1.3501177856301534,1.3501177856301534,1.3501177856301534,1.3501177856301534,0,0,0,0,1.3501177856301534,0,1612.1456912885103,1711.1533037452582,857.65486797996175,857.65486797996175,null,null,null,null,3.5000000000000004,1,1,0.45003926187671778,0.45003926187671778,0.45003926187671778,0.45003926187671778,0.48194147669145709,0.48194147669145709,0.46820281016592841,null,null,6.1133333333333342,6.1133333333333342,6.1133333333333342,6.1133333333333342,null,1.8999999999999986,null,2,1.8000000000000007,1.3999999999999986,0.80000000000000071,null,null,{"$f":"SUM(BB239:BB258)/30","v":3.4700000000000006},0,4.8299999999999992,3.3733333333333335,3.203333333333334,2.2199999999999998,0,null,null,null,"2016-08-27",9.9,0,20.100000000000001]
["2015-11-27",2.3999999999999986,2.3999999999999986,2.3999999999999986,2.3999999999999986,24.2,4.5880000000000001,4.5880000000000001,4.5880000000000001,4.5880000000000001,5.8800000000000008,5.8800000000000008,5.8800000000000008,5.8800000000000008,1.2816041848299915,1.2816041848299915,1.2816041848299915,1.2816041848299915,1.2816041848299915,1.2816041848299915,1.2816041848299915,1.2816041848299915,0,0,0,0,1.2816041848299915,0,1642.9041917244301,1741.911804181178,857.65486797996175,857.65486797996175,null,null,null,null,3.2642857142857147,1,1,0.42720139494333048,0.42720139494333048,0.42720139494333048,0.42720139494333048,0.44046733284056877,0.44046733284056877,0.45665018709821958,null,null,5.8800000000000008,5.8800000000000008,5.8800000000000008,5.8800000000000008,null,2.3999999999999986,null,3.3999999999999986,2.8999999999999986,1.8999999999999986,-1.5,null,null,{"$f":"SUM(BB240:BB259)/30","v":3.2800000000000011},0,4.4800000000000004,3.0766666666666671,3.0366666666666671,2.0866666666666664,0,null,null,null,"2016-08-28",8.9,0,21.1]
["2015-11-28",1,1,1,1,24.666666666666668,4.42,4.42,4.42,4.42,6.5333333333333332,6.5333333333333332,6.5333333333333332,6.5333333333333332,1.4781297134238311,1.4781297134238311,1.4781297134238311,1.4781297134238311,1.4781297134238311,1.4781297134238311,1.4781297134238311,1.4781297134238311,0,0,0,0,1.4781297134238311,0,1678.3793048466021,1777.3869173033499,857.65486797996175,857.65486797996175,null,null,null,null,3.3857142857142857,1,1,0.49270990447461038,0.49270990447461038,0.49270990447461038,0.49270990447461038,0.38773092237786028,0.38773092237786028,0.42458058586298891,null,null,6.5333333333333332,6.5333333333333332,6.5333333333333332,6.5333333333333332,null,1,null,3.6000000000000014,1.8999999999999986,0.30000000000000071,-1.5,null,null,{"$f":"SUM(BB241:BB260)/30","v":3.1433333333333335},0,4.0933333333333337,2.8899999999999997,2.9266666666666667,1.9533333333333334,0,null,null,null,"2016-08-29",8.4,0,21.6]
["2015-11-29",4.1000000000000014,4.1000000000000014,4.1000000000000014,4.1000000000000014,23.633333333333333,4.7919999999999998,4.7919999999999998,4.7919999999999998,4.7919999999999998,5.0866666666666651,5.0866666666666651,5.0866666666666651,5.0866666666666651,1.0614913745130772,1.0614913745130772,1.0614913745130772,1.0614913745130772,1.0614913745130772,1.0614913745130772,1.0614913745130772,1.0614913745130772,0,0,0,0,1.0614913745130772,0,1703.8550978349158,1802.8627102916637,857.65486797996175,857.65486797996175,null,null,null,null,3.7714285714285718,1,1,0.35383045817102571,0.35383045817102571,0.35383045817102571,0.35383045817102571,0.34099053256669487,0.34099053256669487,0.36288339224662874,null,null,5.0866666666666651,5.0866666666666651,5.0866666666666651,5.0866666666666651,null,4.1000000000000014,null,7.1000000000000014,3.1000000000000014,3.8000000000000007,2.6000000000000014,null,null,{"$f":"SUM(BB242:BB261)/30","v":2.7866666666666666},0,3.6466666666666669,2.58,2.5666666666666669,1.68,0,null,null,null,"2016-08-30",9.8000000000000007,0,20.2]
["2015-11-30",7,7,7,7,22.666666666666668,5.14,5.14,5.14,5.14,3.7333333333333334,3.7333333333333334,3.7333333333333334,3.7333333333333334,0.72632944228274976,0.72632944228274976,0.72632944228274976,0.72632944228274976,0.72632944228274976,0.72632944228274976,0.72632944228274976,0.72632944228274976,0,0,0,0,0.72632944228274976,0,1721.2870044497017,1820.2946169064496,857.65486797996175,857.65486797996175,null,null,null,null,4.2285714285714286,1,1,0.24210981409424992,0.24210981409424992,0.24210981409424992,0.24210981409424992,0.31335802064857177,0.31335802064857177,0.27226604055754194,null,null,3.7333333333333334,3.7333333333333334,3.7333333333333334,3.7333333333333334,null,7,null,11.5,7.3000000000000007,6.8999999999999986,5.3999999999999986,null,null,{"$f":"SUM(BB243:BB262)/30","v":2.5233333333333334},0,3.2866666666666666,2.3566666666666665,2.3033333333333332,1.4333333333333333,0,null,null,null,"2016-08-31",12.2,0,17.8]
["2015-12-01",7.6000000000000014,7.6000000000000014,7.6000000000000014,7.6000000000000014,22.466666666666665,5.2119999999999997,5.2119999999999997,5.2119999999999997,5.2119999999999997,3.4533333333333327,3.4533333333333327,3.4533333333333327,3.4533333333333327,0.66257354822205161,0.66257354822205161,0.66257354822205161,0.66257354822205161,0.66257354822205161,0.66257354822205161,0.66257354822205161,0.66257354822205161,0,0,0,0,0.66257354822205161,0,1737.188769607031,1836.1963820637789,857.65486797996175,857.65486797996175,null,null,null,null,4.4642857142857144,1,1,0.22085784940735054,0.22085784940735054,0.22085784940735054,0.22085784940735054,0.30708238880767008,0.30708238880767008,0.22105090283372664,null,null,3.4533333333333327,3.4533333333333327,3.4533333333333327,3.4533333333333327,null,7.6000000000000014,null,10.3,8.3000000000000007,7.1999999999999993,5.8999999999999986,null,null,{"$f":"SUM(BB244:BB263)/30","v":2.3633333333333337},0,3.08,2.1966666666666668,2.1333333333333333,1.2999999999999998,0,null,null,null,"2016-09-01",12.1,0,17.899999999999999]
["2015-12-02",8.1999999999999993,8.1999999999999993,8.1999999999999993,8.1999999999999993,22.266666666666666,5.2840000000000007,5.2840000000000007,5.2840000000000007,5.2840000000000007,3.1733333333333338,3.1733333333333338,3.1733333333333338,3.1733333333333338,0.60055513499873836,0.60055513499873836,0.60055513499873836,0.60055513499873836,0.60055513499873836,0.60055513499873836,0.60055513499873836,0.60055513499873836,0,0,0,0,0.60055513499873836,0,1751.6020928470007,1850.6097053037486,857.65486797996175,857.65486797996175,null,null,null,null,4.6785714285714288,1,1,0.20018504499957945,0.20018504499957945,0.20018504499957945,0.20018504499957945,0.2826126991314723,0.2826126991314723,0.22588485761892863,null,null,3.1733333333333338,3.1733333333333338,3.1733333333333338,3.1733333333333338,null,8.1999999999999993,null,8.6999999999999993,7,8,6.6999999999999993,null,null,{"$f":"SUM(BB245:BB264)/30","v":2.3199999999999998},0,2.8166666666666669,2.0099999999999998,2.1066666666666669,1.3066666666666669,0,null,null,null,"2016-09-02",10.7,0,19.3]
["2015-12-03",6.6000000000000014,6.6000000000000014,6.6000000000000014,6.6000000000000014,22.8,5.0919999999999996,5.0919999999999996,5.0919999999999996,5.0919999999999996,3.9199999999999995,3.9199999999999995,3.9199999999999995,3.9199999999999995,0.76983503534956788,0.76983503534956788,0.76983503534956788,0.76983503534956788,0.76983503534956788,0.76983503534956788,0.76983503534956788,0.76983503534956788,0,0,0,0,0.76983503534956788,0,1770.0781336953903,1869.0857461521382,857.65486797996175,857.65486797996175,null,null,null,null,4.6785714285714288,1,1,0.25661167844985594,0.25661167844985594,0.25661167844985594,0.25661167844985594,0.27136950071357097,0.27136950071357097,0.28002289850215151,null,null,3.9199999999999995,3.9199999999999995,3.9199999999999995,3.9199999999999995,null,6.6000000000000014,null,7,6.5,6.1000000000000014,4.3000000000000007,null,null,{"$f":"SUM(BB246:BB265)/30","v":2.4566666666666666},0,2.8833333333333333,2.04,2.2566666666666664,1.4533333333333331,0,null,null,null,"2016-09-03",10.5,0,19.5]
["2015-12-04",3.3999999999999986,3.3999999999999986,3.3999999999999986,3.3999999999999986,23.866666666666667,4.7080000000000002,4.7080000000000002,4.7080000000000002,4.7080000000000002,5.4133333333333349,5.4133333333333349,5.4133333333333349,5.4133333333333349,1.1498159161710566,1.1498159161710566,1.1498159161710566,1.1498159161710566,1.1498159161710566,1.1498159161710566,1.1498159161710566,1.1498159161710566,0,0,0,0,1.1498159161710566,0,1797.6737156834956,1896.6813281402435,857.65486797996175,857.65486797996175,null,null,null,null,4.6428571428571432,1,1,0.38327197205701885,0.38327197205701885,0.38327197205701885,0.38327197205701885,0.2734411956215147,0.2734411956215147,0.32043524241603355,null,null,5.4133333333333349,5.4133333333333349,5.4133333333333349,5.4133333333333349,null,3.3999999999999986,null,5.8999999999999986,3.1999999999999993,3.3000000000000007,2.3000000000000007,null,null,{"$f":"SUM(BB247:BB266)/30","v":2.6366666666666676},0,2.9366666666666661,2.2000000000000002,2.4366666666666665,1.65,0,null,null,null,"2016-09-04",9.1999999999999993,0,20.8]
["2015-12-05",4.8999999999999986,4.8999999999999986,4.8999999999999986,4.8999999999999986,23.366666666666667,4.8879999999999999,4.8879999999999999,4.8879999999999999,4.8879999999999999,4.7133333333333347,4.7133333333333347,4.7133333333333347,4.7133333333333347,0.9642662302236773,0.9642662302236773,0.9642662302236773,0.9642662302236773,0.9642662302236773,0.9642662302236773,0.9642662302236773,0.9642662302236773,0,0,0,0,0.9642662302236773,0,1820.816105208864,1919.8237176656119,857.65486797996175,857.65486797996175,null,null,null,null,4.9142857142857137,1,1,0.32142207674122575,0.32142207674122575,0.32142207674122575,0.32142207674122575,0.30291884498379756,0.30291884498379756,0.32660737268132034,null,null,4.7133333333333347,4.7133333333333347,4.7133333333333347,4.7133333333333347,null,4.8999999999999986,null,5.6999999999999993,4.5,4.6999999999999993,4.5,null,null,{"$f":"SUM(BB248:BB267)/30","v":2.7033333333333331},0,3.0766666666666662,2.2466666666666666,2.5033333333333334,1.743333333333333,0,null,null,null,"2016-09-05",13.6,0,16.399999999999999]
["2015-12-06",6.1000000000000014,6.1000000000000014,6.1000000000000014,6.1000000000000014,22.966666666666665,5.032,5.032,5.032,5.032,4.1533333333333324,4.1533333333333324,4.1533333333333324,4.1533333333333324,0.82538420773714871,0.82538420773714871,0.82538420773714871,0.82538420773714871,0.82538420773714871,0.82538420773714871,0.82538420773714871,0.82538420773714871,0,0,0,0,0.82538420773714871,0,1840.6253261945556,1939.6329386513034,857.65486797996175,857.65486797996175,null,null,null,null,5.0214285714285705,1,1,0.27512806924571626,0.27512806924571626,0.27512806924571626,0.27512806924571626,0.32968725057767606,0.32968725057767606,0.28438727481226594,null,null,4.1533333333333324,4.1533333333333324,4.1533333333333324,4.1533333333333324,null,6.1000000000000014,null,2.8000000000000007,2.8999999999999986,5.8000000000000007,5.1000000000000014,null,null,{"$f":"SUM(BB249:BB268)/30","v":2.8366666666666669},0,3.1633333333333331,2.3399999999999994,2.6233333333333331,1.8766666666666665,0,null,null,null,"2016-09-06",11.4,0,18.600000000000001]
["2015-12-07",6.6000000000000014,6.6000000000000014,6.6000000000000014,6.6000000000000014,22.8,5.0919999999999996,5.0919999999999996,5.0919999999999996,5.0919999999999996,3.9199999999999995,3.9199999999999995,3.9199999999999995,3.9199999999999995,0.76983503534956788,0.76983503534956788,0.76983503534956788,0.76983503534956788,0.76983503534956788,0.76983503534956788,0.76983503534956788,0.76983503534956788,0,0,0,0,0.76983503534956788,0,1859.1013670429452,1958.1089794996931,857.65486797996175,857.65486797996175,null,null,null,null,4.5999999999999996,1,1,0.25661167844985594,0.25661167844985594,0.25661167844985594,0.25661167844985594,0.35731976249579922,0.35731976249579922,0.31964704754630097,null,null,3.9199999999999995,3.9199999999999995,3.9199999999999995,3.9199999999999995,null,6.6000000000000014,null,1.6000000000000014,2.5,7,5,null,null,{"$f":"SUM(BB250:BB269)/30","v":2.92},0,3.1899999999999995,2.3666666666666667,2.7166666666666672,1.9899999999999995,0,null,null,null,"2016-09-07",8.4,0,21.6]
["2015-12-08",2.3999999999999986,2.3999999999999986,2.3999999999999986,2.3999999999999986,24.2,4.5880000000000001,4.5880000000000001,4.5880000000000001,4.5880000000000001,5.8800000000000008,5.8800000000000008,5.8800000000000008,5.8800000000000008,1.2816041848299915,1.2816041848299915,1.2816041848299915,1.2816041848299915,1.2816041848299915,1.2816041848299915,1.2816041848299915,1.2816041848299915,0,0,0,0,1.2816041848299915,0,1889.859867478865,1988.8674799356129,857.65486797996175,857.65486797996175,null,null,null,null,4.3642857142857139,1,1,0.42720139494333048,0.42720139494333048,0.42720139494333048,0.42720139494333048,0.36685794675575617,0.36685794675575617,0.35712565251663858,null,null,5.8800000000000008,5.8800000000000008,5.8800000000000008,5.8800000000000008,null,2.3999999999999986,null,2.5,3.5,1.6999999999999993,2.3999999999999986,null,null,{"$f":"SUM(BB251:BB270)/30","v":3.0966666666666662},0,3.1699999999999995,2.3366666666666664,2.9266666666666672,2.2966666666666664,0,null,null,null,"2016-09-08",9.5,0,20.5]
["2015-12-09",3.3000000000000007,3.3000000000000007,3.3000000000000007,3.3000000000000007,23.9,4.6959999999999997,4.6959999999999997,4.6959999999999997,4.6959999999999997,5.4599999999999991,5.4599999999999991,5.4599999999999991,5.4599999999999991,1.1626916524701874,1.1626916524701874,1.1626916524701874,1.1626916524701874,1.1626916524701874,1.1626916524701874,1.1626916524701874,1.1626916524701874,0,0,0,0,1.1626916524701874,0,1917.7644671381495,2016.7720795948974,857.65486797996175,857.65486797996175,null,null,null,null,4.0928571428571425,1,1,0.3875638841567291,0.3875638841567291,0.3875638841567291,0.3875638841567291,0.36742669808812606,0.36742669808812606,0.4216015136589259,null,null,5.4599999999999991,5.4599999999999991,5.4599999999999991,5.4599999999999991,null,3.3000000000000007,null,3.5,3.1000000000000014,2.8000000000000007,1.6999999999999993,null,null,{"$f":"SUM(BB252:BB271)/30","v":3.3099999999999996},0,3.1166666666666663,2.3600000000000003,3.21,2.626666666666666,0,null,null,null,"2016-09-09",8.9,0,21.1]
["2015-12-10",1.8999999999999986,1.8999999999999986,1.8999999999999986,1.8999999999999986,24.366666666666667,4.5279999999999996,4.5279999999999996,4.5279999999999996,4.5279999999999996,6.1133333333333342,6.1133333333333342,6.1133333333333342,6.1133333333333342,1.3501177856301534,1.3501177856301534,1.3501177856301534,1.3501177856301534,1.3501177856301534,1.3501177856301534,1.3501177856301534,1.3501177856301534,0,0,0,0,1.3501177856301534,0,1950.1672939932732,2049.1749064500209,857.65486797996175,857.65486797996175,null,null,null,null,4.1714285714285708,1,1,0.45003926187671778,0.45003926187671778,0.45003926187671778,0.45003926187671778,0.37013573905848929,0.37013573905848929,0.42921413597005498,null,null,6.1133333333333342,6.1133333333333342,6.1133333333333342,6.1133333333333342,null,1.8999999999999986,null,4.6000000000000014,3.6000000000000014,1.1000000000000014,0.39999999999999858,null,null,{"$f":"SUM(BB253:BB272)/30","v":3.4333333333333318},0,2.9833333333333334,2.3866666666666663,3.3400000000000007,2.7433333333333327,0,null,null,null,"2016-09-10",9,0,21]
["2015-12-11",1.8999999999999986,1.8999999999999986,1.8999999999999986,1.8999999999999986,24.366666666666667,4.5279999999999996,4.5279999999999996,4.5279999999999996,4.5279999999999996,6.1133333333333342,6.1133333333333342,6.1133333333333342,6.1133333333333342,1.3501177856301534,1.3501177856301534,1.3501177856301534,1.3501177856301534,1.3501177856301534,1.3501177856301534,1.3501177856301534,1.3501177856301534,0,0,0,0,1.3501177856301534,0,1982.570120848397,2081.5777333051446,857.65486797996175,857.65486797996175,null,null,null,null,4.4571428571428573,1,1,0.45003926187671778,0.45003926187671778,0.45003926187671778,0.45003926187671778,0.40317207426131485,0.40317207426131485,0.40849395327375021,null,null,6.1133333333333342,6.1133333333333342,6.1133333333333342,6.1133333333333342,null,1.8999999999999986,null,-2.3999999999999986,-1.8000000000000007,1.8000000000000007,0.80000000000000071,null,null,{"$f":"SUM(BB254:BB273)/30","v":3.316666666666666},0,2.73,2.246666666666667,3.2500000000000004,2.649999999999999,0,null,null,null,"2016-09-11",8.6,0,21.4]
["2015-12-12",4.8000000000000007,4.8000000000000007,4.8000000000000007,4.8000000000000007,23.4,4.8759999999999994,4.8759999999999994,4.8759999999999994,4.8759999999999994,4.76,4.76,4.76,4.76,0.9762100082034455,0.9762100082034455,0.9762100082034455,0.9762100082034455,0.9762100082034455,0.9762100082034455,0.9762100082034455,0.9762100082034455,0,0,0,0,0.9762100082034455,0,2005.9991610452796,2105.0067735020275,857.65486797996175,857.65486797996175,null,null,null,null,4.6642857142857137,1,1,0.32540333606781519,0.32540333606781519,0.32540333606781519,0.32540333606781519,0.39151576571828467,0.39151576571828467,0.35651131799426383,null,null,4.76,4.76,4.76,4.76,null,4.8000000000000007,null,6,2.3999999999999986,4.8999999999999986,3.3000000000000007,null,null,{"$f":"SUM(BB255:BB274)/30","v":3.2199999999999998},0,2.4900000000000007,2.0699999999999998,3.1666666666666674,2.5799999999999996,0,null,null,null,"2016-09-12",8.4,0,21.6]
["2015-12-13",5.6000000000000014,5.6000000000000014,5.6000000000000014,5.6000000000000014,23.133333333333333,4.9719999999999995,4.9719999999999995,4.9719999999999995,4.9719999999999995,4.3866666666666658,4.3866666666666658,4.3866666666666658,4.3866666666666658,0.88227406811477604,0.88227406811477604,0.88227406811477604,0.88227406811477604,0.88227406811477604,0.88227406811477604,0.88227406811477604,0.88227406811477604,0,0,0,0,0.88227406811477604,0,2027.1737386800341,2126.1813511367823,857.65486797996175,857.65486797996175,null,null,null,null,4.4785714285714286,1,1,0.2940913560382587,0.2940913560382587,0.2940913560382587,0.2940913560382587,0.38493896539221645,0.38493896539221645,0.36912023899190288,null,null,4.3866666666666658,4.3866666666666658,4.3866666666666658,4.3866666666666658,null,5.6000000000000014,null,4.1999999999999993,4.1999999999999993,5.1000000000000014,3.8000000000000007,null,null,{"$f":"SUM(BB256:BB275)/30","v":3.2533333333333325},0,2.3633333333333337,2.0433333333333334,3.1933333333333338,2.6066666666666669,0,null,null,null,"2016-09-13",9.3000000000000007,0,20.7]
["2015-12-14",1.1000000000000014,1.1000000000000014,1.1000000000000014,1.1000000000000014,24.633333333333333,4.4320000000000004,4.4320000000000004,4.4320000000000004,4.4320000000000004,6.4866666666666655,6.4866666666666655,6.4866666666666655,6.4866666666666655,1.4635980746089046,1.4635980746089046,1.4635980746089046,1.4635980746089046,1.4635980746089046,1.4635980746089046,1.4635980746089046,1.4635980746089046,0,0,0,0,1.4635980746089046,0,2062.300092470648,2161.3077049273961,857.65486797996175,857.65486797996175,null,null,null,null,4.3428571428571425,1,1,0.48786602486963487,0.48786602486963487,0.48786602486963487,0.48786602486963487,0.35170090073217442,0.35170090073217442,0.37585487201667078,null,null,6.4866666666666655,6.4866666666666655,6.4866666666666655,6.4866666666666655,null,1.1000000000000014,null,4.1999999999999993,1.1999999999999993,1.1999999999999993,0.89999999999999858,null,null,{"$f":"SUM(BB257:BB276)/30","v":3.3099999999999996},0,2.2966666666666669,1.9333333333333333,3.2633333333333341,2.69,0,null,null,null,"2016-09-14",9.6,0,{"$f":"30-BU267","v":20.399999999999999}]
["2015-12-15",4.3000000000000007,4.3000000000000007,4.3000000000000007,4.3000000000000007,23.566666666666666,4.8159999999999998,4.8159999999999998,4.8159999999999998,4.8159999999999998,4.9933333333333332,4.9933333333333332,4.9933333333333332,4.9933333333333332,1.0368217054263567,1.0368217054263567,1.0368217054263567,1.0368217054263567,1.0368217054263567,1.0368217054263567,1.0368217054263567,1.0368217054263567,0,0,0,0,1.0368217054263567,0,2087.1838134008804,2186.1914258576285,857.65486797996175,857.65486797996175,null,null,null,null,4.8285714285714292,1,1,0.34560723514211888,0.34560723514211888,0.34560723514211888,0.34560723514211888,0.31996333413909728,0.31996333413909728,0.39166651396200192,null,null,4.9933333333333332,4.9933333333333332,4.9933333333333332,4.9933333333333332,null,4.3000000000000007,null,2.6999999999999993,2.1000000000000014,3.6999999999999993,3.3999999999999986,null,null,{"$f":"SUM(BB258:BB277)/30","v":3.3033333333333337},0,2.2366666666666664,1.8633333333333333,3.2800000000000007,2.7733333333333334,0,null,null,null,"2016-09-15",10.4,0,19.600000000000001]
["2015-12-16",4.3999999999999986,4.3999999999999986,4.3999999999999986,4.3999999999999986,23.533333333333335,4.8279999999999994,4.8279999999999994,4.8279999999999994,4.8279999999999994,4.9466666666666681,4.9466666666666681,4.9466666666666681,4.9466666666666681,1.0245788456227565,1.0245788456227565,1.0245788456227565,1.0245788456227565,1.0245788456227565,1.0245788456227565,1.0245788456227565,1.0245788456227565,0,0,0,0,1.0245788456227565,0,2111.7737056958267,2210.7813181525748,857.65486797996175,857.65486797996175,null,null,null,null,5.1857142857142851,1,1,0.34152628187425216,0.34152628187425216,0.34152628187425216,0.34152628187425216,0.30403482088876771,0.30403482088876771,0.30150210875759814,null,null,4.9466666666666681,4.9466666666666681,4.9466666666666681,4.9466666666666681,null,4.3999999999999986,null,2.8000000000000007,2.6000000000000014,4.1999999999999993,4.1999999999999993,null,null,{"$f":"SUM(BB259:BB278)/30","v":3.4166666666666665},0,2.1266666666666665,1.7966666666666666,3.4066666666666667,2.8966666666666665,0,null,null,null,"2016-09-16",9.9,0,20.100000000000001]
["2015-12-17",7.6999999999999993,7.6999999999999993,7.6999999999999993,7.6999999999999993,22.433333333333334,5.2240000000000002,5.2240000000000002,5.2240000000000002,5.2240000000000002,3.4066666666666672,3.4066666666666672,3.4066666666666672,3.4066666666666672,0.65211842776927009,0.65211842776927009,0.65211842776927009,0.65211842776927009,0.65211842776927009,0.65211842776927009,0.65211842776927009,0.65211842776927009,0,0,0,0,0.65211842776927009,0,2127.4245479622891,2226.4321604190372,857.65486797996175,857.65486797996175,null,null,null,null,5.2785714285714294,1,1,0.21737280925642335,0.21737280925642335,0.21737280925642335,0.21737280925642335,0.31616489620318378,0.31616489620318378,0.26225846228528443,null,null,3.4066666666666672,3.4066666666666672,3.4066666666666672,3.4066666666666672,null,7.6999999999999993,null,2.8000000000000007,2,8.1999999999999993,7.6999999999999993,null,null,{"$f":"SUM(BB260:BB279)/30","v":3.5700000000000003},0,2.08,1.7733333333333334,3.5533333333333337,3.0066666666666664,0,null,null,null,"2016-09-17",10.7,0,19.3]
["2015-12-18",7.3999999999999986,7.3999999999999986,7.3999999999999986,7.3999999999999986,22.533333333333335,5.1879999999999997,5.1879999999999997,5.1879999999999997,5.1879999999999997,3.5466666666666673,3.5466666666666673,3.5466666666666673,3.5466666666666673,0.6836288871755335,0.6836288871755335,0.6836288871755335,0.6836288871755335,0.6836288871755335,0.6836288871755335,0.6836288871755335,0.6836288871755335,0,0,0,0,0.6836288871755335,0,2143.8316412545018,2242.83925371125,857.65486797996175,857.65486797996175,null,null,null,null,5.7357142857142858,1,1,0.22787629572517784,0.22787629572517784,0.22787629572517784,0.22787629572517784,0.29352749833124764,0.29352749833124764,0.21971761609903639,null,null,3.5466666666666673,3.5466666666666673,3.5466666666666673,3.5466666666666673,null,7.3999999999999986,null,2,2.6000000000000014,8.8000000000000007,8.3999999999999986,null,null,{"$f":"SUM(BB261:BB280)/30","v":3.6233333333333335},0,2.0300000000000002,1.6966666666666668,3.5733333333333337,2.9699999999999998,0,null,null,null,"2016-09-18",11.6,0,18.399999999999999]
["2015-12-19",7.8000000000000007,7.8000000000000007,7.8000000000000007,7.8000000000000007,22.4,5.2359999999999998,5.2359999999999998,5.2359999999999998,5.2359999999999998,3.3599999999999994,3.3599999999999994,3.3599999999999994,3.3599999999999994,0.64171122994652396,0.64171122994652396,0.64171122994652396,0.64171122994652396,0.64171122994652396,0.64171122994652396,0.64171122994652396,0.64171122994652396,0,0,0,0,0.64171122994652396,0,2159.2327107732185,2258.2403232299666,857.65486797996175,857.65486797996175,null,null,null,null,6.1571428571428575,1,1,0.21390374331550799,0.21390374331550799,0.21390374331550799,0.21390374331550799,0.26800568178039141,0.26800568178039141,0.27359397409328573,null,null,3.3599999999999994,3.3599999999999994,3.3599999999999994,3.3599999999999994,null,7.8000000000000007,null,3.1000000000000014,3.8999999999999986,7.6999999999999993,6.1000000000000014,null,null,{"$f":"SUM(BB262:BB281)/30","v":3.7966666666666669},0,1.9633333333333334,1.6466666666666669,3.7666666666666666,2.9966666666666666,0,null,null,null,"2016-09-19",14.4,0,15.6]
["2015-12-20",3.5,3.5,3.5,3.5,23.833333333333332,4.72,4.72,4.72,4.72,5.3666666666666663,5.3666666666666663,5.3666666666666663,5.3666666666666663,1.1370056497175141,1.1370056497175141,1.1370056497175141,1.1370056497175141,1.1370056497175141,1.1370056497175141,1.1370056497175141,1.1370056497175141,0,0,0,0,1.1370056497175141,0,2186.5208463664389,2285.5284588231871,857.65486797996175,857.65486797996175,null,null,null,null,6.3428571428571434,1,1,0.37900188323917133,0.37900188323917133,0.37900188323917133,0.37900188323917133,0.24732967383412965,0.24732967383412965,0.30743662210692041,null,null,5.3666666666666663,5.3666666666666663,5.3666666666666663,5.3666666666666663,null,3.5,null,3.8999999999999986,3.1000000000000014,4.1999999999999993,2.6000000000000014,null,null,{"$f":"SUM(BB263:BB282)/30","v":3.7966666666666664},0,1.8800000000000001,1.6166666666666667,3.8133333333333339,3.0833333333333335,0,null,null,null,"2016-09-20",16.899999999999999,0,13.100000000000001]
["2015-12-21",4.6999999999999993,4.6999999999999993,4.6999999999999993,4.6999999999999993,23.433333333333334,4.8639999999999999,4.8639999999999999,4.8639999999999999,4.8639999999999999,4.8066666666666675,4.8066666666666675,4.8066666666666675,4.8066666666666675,0.98821271929824583,0.98821271929824583,0.98821271929824583,0.98821271929824583,0.98821271929824583,0.98821271929824583,0.98821271929824583,0.98821271929824583,0,0,0,0,0.98821271929824583,0,2210.2379516295969,2309.245564086345,857.65486797996175,857.65486797996175,null,null,null,null,6.8071428571428578,1,1,0.32940423976608196,0.32940423976608196,0.32940423976608196,0.32940423976608196,0.27225895640697545,0.27225895640697545,0.291786880763793,null,null,4.8066666666666675,4.8066666666666675,4.8066666666666675,4.8066666666666675,null,4.6999999999999993,null,3.1000000000000014,3,4.6999999999999993,3.8000000000000007,null,null,{"$f":"SUM(BB264:BB283)/30","v":3.746666666666667},0,1.736666666666667,1.4500000000000002,3.8233333333333328,3.0733333333333328,0,null,null,null,"2016-09-21",18.7,0,11.3]
["2015-12-22",9.1999999999999993,9.1999999999999993,9.1999999999999993,9.1999999999999993,21.933333333333334,5.4039999999999999,5.4039999999999999,5.4039999999999999,5.4039999999999999,2.7066666666666674,2.7066666666666674,2.7066666666666674,2.7066666666666674,0.50086355785837666,0.50086355785837666,0.50086355785837666,0.50086355785837666,0.50086355785837666,0.50086355785837666,0.50086355785837666,0.50086355785837666,0,0,0,0,0.50086355785837666,0,2222.2586770181979,2321.266289474946,857.65486797996175,857.65486797996175,null,null,null,null,6.7357142857142858,1,1,0.16695451928612556,0.16695451928612556,0.16695451928612556,0.16695451928612556,0.26781866076772431,0.26781866076772431,0.23105099510087565,null,null,2.7066666666666674,2.7066666666666674,2.7066666666666674,2.7066666666666674,null,9.1999999999999993,null,4.8999999999999986,6.1999999999999993,8.8000000000000007,7.5,null,null,{"$f":"SUM(BB265:BB284)/30","v":3.5966666666666667},0,1.6966666666666665,1.3866666666666667,3.6566666666666667,2.8833333333333333,0,null,null,null,"2016-09-22",19.899999999999999,0,10.100000000000001]
["2015-12-23",8.3000000000000007,8.3000000000000007,8.3000000000000007,8.3000000000000007,22.233333333333334,5.2959999999999994,5.2959999999999994,5.2959999999999994,5.2959999999999994,3.126666666666666,3.126666666666666,3.126666666666666,3.126666666666666,0.59038267875125872,0.59038267875125872,0.59038267875125872,0.59038267875125872,0.59038267875125872,0.59038267875125872,0.59038267875125872,0.59038267875125872,0,0,0,0,0.59038267875125872,0,2236.4278613082279,2335.435473764976,857.65486797996175,857.65486797996175,null,null,null,null,6.4499999999999984,1,1,0.19679422625041956,0.19679422625041956,0.19679422625041956,0.19679422625041956,0.25437336774211783,0.25437336774211783,0.25187551093429644,null,null,3.126666666666666,3.126666666666666,3.126666666666666,3.126666666666666,null,8.3000000000000007,null,5,3.1999999999999993,8.1999999999999993,6.8000000000000007,null,null,{"$f":"SUM(BB266:BB285)/30","v":3.3966666666666665},0,1.4200000000000002,1.2100000000000004,3.4766666666666666,2.7233333333333332,-0.28333333333333333,0,null,null,"2016-09-23",18.399999999999999,0,11.600000000000001]
["2015-12-24",3.1999999999999993,3.1999999999999993,3.1999999999999993,3.1999999999999993,23.933333333333334,4.6840000000000002,4.6840000000000002,4.6840000000000002,4.6840000000000002,5.5066666666666668,5.5066666666666668,5.5066666666666668,5.5066666666666668,1.1756333617990322,1.1756333617990322,1.1756333617990322,1.1756333617990322,1.1756333617990322,1.1756333617990322,1.1756333617990322,1.1756333617990322,0,0,0,0,1.1756333617990322,0,2264.6430619914045,2363.6506744481526,857.65486797996175,857.65486797996175,null,null,null,null,5.7142857142857144,1,1,0.39187778726634409,0.39187778726634409,0.39187778726634409,0.39187778726634409,0.22882810513646179,0.22882810513646179,0.26182207992239437,null,null,5.5066666666666668,5.5066666666666668,5.5066666666666668,5.5066666666666668,null,3.1999999999999993,null,4.1000000000000014,1.1000000000000014,3.8000000000000007,4.8000000000000007,null,null,{"$f":"SUM(BB267:BB286)/30","v":3.18},0,1.18,0.95000000000000029,3.2966666666666669,2.5333333333333323,-0.6066666666666668,0,null,null,"2016-09-24",16.8,0,13.2]
["2015-12-25",8.3000000000000007,8.3000000000000007,8.3000000000000007,8.3000000000000007,22.233333333333334,5.2959999999999994,5.2959999999999994,5.2959999999999994,5.2959999999999994,3.126666666666666,3.126666666666666,3.126666666666666,3.126666666666666,0.59038267875125872,0.59038267875125872,0.59038267875125872,0.59038267875125872,0.59038267875125872,0.59038267875125872,0.59038267875125872,0.59038267875125872,0,0,0,0,0.59038267875125872,0,2278.8122462814345,2377.8198587381826,857.65486797996175,857.65486797996175,null,null,null,null,5.0999999999999996,1,1,0.19679422625041956,0.19679422625041956,0.19679422625041956,0.19679422625041956,0.21332147794235731,0.21332147794235731,0.23615290188434204,null,null,3.126666666666666,3.126666666666666,3.126666666666666,3.126666666666666,null,8.3000000000000007,null,2.3999999999999986,2.5,8.5,8.1999999999999993,null,null,{"$f":"SUM(BB268:BB287)/30","v":2.9866666666666668},0,0.85666666666666702,0.66666666666666685,3.1066666666666665,2.313333333333333,-0.93333333333333335,0,null,null,"2016-09-25",16.7,0,13.3]
["2015-12-26",10.7,10.7,10.7,10.7,21.433333333333334,5.5839999999999996,5.5839999999999996,5.5839999999999996,5.5839999999999996,2.0066666666666668,2.0066666666666668,2.0066666666666668,2.0066666666666668,0.35936007640878709,0.35936007640878709,0.35936007640878709,0.35936007640878709,0.35936007640878709,0.35936007640878709,0.35936007640878709,0.35936007640878709,0,0,0,0,0.35936007640878709,0,2287.4368881152454,2386.4445005719936,857.65486797996175,857.65486797996175,null,null,null,null,4.4785714285714295,1,1,0.11978669213626236,0.11978669213626236,0.11978669213626236,0.11978669213626236,0.24483710149530064,0.24483710149530064,0.17225532112875383,null,null,2.0066666666666668,2.0066666666666668,2.0066666666666668,2.0066666666666668,null,10.7,null,1.3999999999999986,2.1999999999999993,10.199999999999999,8.3999999999999986,null,null,{"$f":"SUM(BB269:BB288)/30","v":2.6300000000000003},0,0.54000000000000037,0.35000000000000048,2.7866666666666666,1.9666666666666661,-1.2933333333333332,0,null,null,"2016-09-26",16.7,0,13.3]
["2015-12-27",8.1999999999999993,8.1999999999999993,8.1999999999999993,8.1999999999999993,22.266666666666666,5.2840000000000007,5.2840000000000007,5.2840000000000007,5.2840000000000007,3.1733333333333338,3.1733333333333338,3.1733333333333338,3.1733333333333338,0.60055513499873836,0.60055513499873836,0.60055513499873836,0.60055513499873836,0.60055513499873836,0.60055513499873836,0.60055513499873836,0.60055513499873836,0,0,0,0,0.60055513499873836,0,2301.8502113552154,2400.8578238119635,857.65486797996175,857.65486797996175,null,null,null,null,3.8928571428571432,1,1,0.20018504499957945,0.20018504499957945,0.20018504499957945,0.20018504499957945,0.29134287805510767,0.29134287805510767,0.18027652884773079,null,null,3.1733333333333338,3.1733333333333338,3.1733333333333338,3.1733333333333338,null,8.1999999999999993,null,0.10000000000000142,0.19999999999999929,7.6000000000000014,3.8999999999999986,null,null,{"$f":"SUM(BB270:BB289)/30","v":2.2966666666666669},0,0.22333333333333366,4.3333333333333474E-2,2.4833333333333325,1.76,-1.5266666666666666,0,null,null,"2016-09-27",17.100000000000001,0,12.899999999999999]
["2015-12-28",7.6000000000000014,7.6000000000000014,7.6000000000000014,7.6000000000000014,22.466666666666665,5.2119999999999997,5.2119999999999997,5.2119999999999997,5.2119999999999997,3.4533333333333327,3.4533333333333327,3.4533333333333327,3.4533333333333327,0.66257354822205161,0.66257354822205161,0.66257354822205161,0.66257354822205161,0.66257354822205161,0.66257354822205161,0.66257354822205161,0.66257354822205161,0,0,0,0,0.66257354822205161,0,2317.7519765125448,2416.759588969293,857.65486797996175,857.65486797996175,null,null,null,null,3.1000000000000005,1,1,0.22085784940735054,0.22085784940735054,0.22085784940735054,0.22085784940735054,0.33343233077611351,0.33343233077611351,0.26953559285455309,null,null,3.4533333333333327,3.4533333333333327,3.4533333333333327,3.4533333333333327,null,7.6000000000000014,null,0.5,2,7.5,3.1999999999999993,null,null,{"$f":"SUM(BB271:BB290)/30","v":1.9233333333333336},0,2.6666666666666689E-2,-0.15333333333333315,2.0999999999999996,1.4833333333333332,-1.6199999999999999,0,null,null,"2016-09-28",16.399999999999999,0,13.600000000000001]
["2015-12-29",3.3000000000000007,3.3000000000000007,3.3000000000000007,3.3000000000000007,23.9,4.6959999999999997,4.6959999999999997,4.6959999999999997,4.6959999999999997,5.4599999999999991,5.4599999999999991,5.4599999999999991,5.4599999999999991,1.1626916524701874,1.1626916524701874,1.1626916524701874,1.1626916524701874,1.1626916524701874,1.1626916524701874,1.1626916524701874,1.1626916524701874,0,0,0,0,1.1626916524701874,0,2345.6565761718293,2444.6641886285774,857.65486797996175,857.65486797996175,null,null,null,null,2.0428571428571431,1,1,0.3875638841567291,0.3875638841567291,0.3875638841567291,0.3875638841567291,0.39194062156750825,0.39194062156750825,0.37691879857771621,null,null,5.4599999999999991,5.4599999999999991,5.4599999999999991,5.4599999999999991,null,3.3000000000000007,null,1,2.1999999999999993,4.1999999999999993,4.3000000000000007,null,null,{"$f":"SUM(BB272:BB291)/30","v":1.6233333333333333},0,-9.3333333333333351E-2,-0.26999999999999991,1.7833333333333328,1.1966666666666663,-1.5866666666666664,0,null,null,"2016-09-29",14.2,0,15.8]
["2015-12-30",0.39999999999999858,0.39999999999999858,0.39999999999999858,0.39999999999999858,24.866666666666667,4.3479999999999999,4.3479999999999999,4.3479999999999999,4.3479999999999999,6.8133333333333344,6.8133333333333344,6.8133333333333344,6.8133333333333344,1.5670039865072067,1.5670039865072067,1.5670039865072067,1.5670039865072067,1.5670039865072067,1.5670039865072067,1.5670039865072067,1.5670039865072067,0,0,0,0,1.5670039865072067,0,2383.2646718480023,2482.2722843047504,857.65486797996175,857.65486797996175,null,null,null,null,1.1999999999999993,1,1,0.52233466216906888,0.52233466216906888,0.52233466216906888,0.52233466216906888,0.45911576878322941,0.45911576878322941,0.53213416754639431,null,null,6.8133333333333344,6.8133333333333344,6.8133333333333344,6.8133333333333344,null,0.39999999999999858,null,0.30000000000000071,-1.3999999999999986,1.3999999999999986,0.10000000000000142,null,null,{"$f":"SUM(BB273:BB292)/30","v":1.4300000000000002},0,-0.14333333333333337,-0.4499999999999999,1.5899999999999999,1,-1.6766666666666665,0,null,null,"2016-09-30",14.3,0,15.7]
["2015-12-31",-2.6000000000000014,-2.6000000000000014,-2.6000000000000014,-2.6000000000000014,25.866666666666667,3.9879999999999995,3.9879999999999995,3.9879999999999995,3.9879999999999995,8.2133333333333347,8.2133333333333347,8.2133333333333347,8.2133333333333347,2.0595118689401546,2.0595118689401546,2.0595118689401546,2.0595118689401546,2.0595118689401546,2.0595118689401546,2.0595118689401546,2.0595118689401546,0,0,0,0,2.0595118689401546,0,2432.6929567025659,2531.700569159314,857.65486797996175,857.65486797996175,null,null,null,null,0.8571428571428561,1,1,0.6865039563133849,0.6865039563133849,0.6865039563133849,0.6865039563133849,0.54769611125516338,0.54769611125516338,0.60506362675754544,null,null,8.2133333333333347,8.2133333333333347,8.2133333333333347,8.2133333333333347,null,-2.6000000000000014,null,-3.6000000000000014,-3.7000000000000028,-3.2000000000000028,-4.8999999999999986,null,null,{"$f":"SUM(BB274:BB293)/30","v":1.2066666666666668},0,-0.24666666666666662,-0.57666666666666655,1.3666666666666669,0.84999999999999976,-1.6966666666666665,0,null,null,"2016-10-01",14.2,0,15.8]
["2016-01-01",-1.1999999999999993,-1.1999999999999993,-1.1999999999999993,-1.1999999999999993,25.4,4.1559999999999997,4.1559999999999997,4.1559999999999997,4.1559999999999997,7.56,7.56,7.56,7.56,1.8190567853705486,1.8190567853705486,1.8190567853705486,1.8190567853705486,1.8190567853705486,1.8190567853705486,1.8190567853705486,1.8190567853705486,0,0,0,0,1.8190567853705486,0,2476.3503195514591,2575.3579320082072,857.65486797996175,857.65486797996175,null,null,null,null,0.40714285714285686,1,1,0.60635226179018287,0.60635226179018287,0.60635226179018287,0.60635226179018287,0.65078699318293098,0.65078699318293098,0.62762298024995944,null,null,7.56,7.56,7.56,7.56,null,-1.1999999999999993,null,-2.2999999999999972,-2.8999999999999986,-0.5,-1.5,-8.5,null,{"$f":"SUM(BB275:BB294)/30","v":1.0666666666666667},0,-0.30666666666666664,-0.6366666666666666,1.2366666666666666,0.78333333333333321,-1.6366666666666665,0,null,null,"2016-10-02",13.9,0,16.100000000000001]
["2016-01-02",-0.89999999999999858,-0.89999999999999858,-0.89999999999999858,-0.89999999999999858,25.3,4.1920000000000002,4.1920000000000002,4.1920000000000002,4.1920000000000002,7.419999999999999,7.419999999999999,7.419999999999999,7.419999999999999,1.770038167938931,1.770038167938931,1.770038167938931,1.770038167938931,1.770038167938931,1.770038167938931,1.770038167938931,1.770038167938931,0,0,0,0,1.770038167938931,0,2518.8312355819935,2617.8388480387416,857.65486797996175,857.65486797996175,null,null,null,null,-0.58571428571428619,1,1,0.59001272264631033,0.59001272264631033,0.59001272264631033,0.59001272264631033,0.72159982483846075,0.72159982483846075,0.67220414224653668,null,null,7.419999999999999,7.419999999999999,7.419999999999999,7.419999999999999,null,-0.89999999999999858,null,-3,-3.6000000000000014,-0.30000000000000071,-1.8999999999999986,-9.7000000000000028,null,{"$f":"SUM(BB276:BB295)/30","v":0.83},0,-0.38333333333333319,-0.81666666666666654,1.0466666666666666,0.60666666666666658,-1.5766666666666667,0,null,null,"2016-10-03",15.9,0,14.1]
["2016-01-03",-4.7000000000000028,-4.7000000000000028,-4.7000000000000028,-4.7000000000000028,26.566666666666666,3.7359999999999998,3.7359999999999998,3.7359999999999998,3.7359999999999998,9.1933333333333351,9.1933333333333351,9.1933333333333351,9.1933333333333351,2.4607423269093509,2.4607423269093509,2.4607423269093509,2.4607423269093509,2.4607423269093509,2.4607423269093509,2.4607423269093509,2.4607423269093509,0,0,0,0,2.4607423269093509,0,2577.8890514278178,2676.8966638845659,857.65486797996175,857.65486797996175,null,null,null,null,-1.1357142857142861,1,1,0.82024744230311697,0.82024744230311697,0.82024744230311697,0.82024744230311697,0.75293705932158994,0.75293705932158994,0.78425139595038373,null,null,9.1933333333333351,9.1933333333333351,9.1933333333333351,9.1933333333333351,null,-4.7000000000000028,null,-5.5,-7.2999999999999972,-4.5,-5.7000000000000028,-9.7999999999999972,null,{"$f":"SUM(BB277:BB296)/30","v":0.69666666666666621},0,-0.29999999999999988,-0.84999999999999987,0.8933333333333332,0.44333333333333325,-1.4533333333333331,0,null,null,"2016-10-04",19.5,0,10.5]
["2016-01-04",-6.3999999999999986,-6.3999999999999986,-6.3999999999999986,-6.3999999999999986,27.133333333333333,3.532,3.532,3.532,3.532,9.9866666666666664,9.9866666666666664,9.9866666666666664,9.9866666666666664,2.8274820687051716,2.8274820687051716,2.8274820687051716,2.8274820687051716,2.8274820687051716,2.8274820687051716,2.8274820687051716,2.8274820687051716,0,0,0,0,2.8274820687051716,0,2645.748621076742,2744.7562335334901,857.65486797996175,857.65486797996175,null,null,null,null,-1.5285714285714289,1,1,0.9424940229017239,0.9424940229017239,0.9424940229017239,0.9424940229017239,0.74466275029692863,0.74466275029692863,0.88199839031675931,null,null,9.9866666666666664,9.9866666666666664,9.9866666666666664,9.9866666666666664,null,-6.3999999999999986,null,-6.7999999999999972,-7.3999999999999986,-5.8999999999999986,-7,-10.799999999999997,null,{"$f":"SUM(BB278:BB297)/30","v":0.6899999999999995},0,-0.23333333333333323,-0.78666666666666663,0.85,0.30999999999999989,-1.3866666666666665,0,null,null,"2016-10-05",23.7,0,6.3000000000000007]
["2016-01-05",-5.6000000000000014,-5.6000000000000014,-5.6000000000000014,-5.6000000000000014,26.866666666666667,3.6279999999999997,3.6279999999999997,3.6279999999999997,3.6279999999999997,9.6133333333333351,9.6133333333333351,9.6133333333333351,9.6133333333333351,2.6497611172363107,2.6497611172363107,2.6497611172363107,2.6497611172363107,2.6497611172363107,2.6497611172363107,2.6497611172363107,2.6497611172363107,0,0,0,0,2.6497611172363107,0,2709.3428878904133,2808.3505003471614,857.65486797996175,857.65486797996175,null,null,null,null,-1.4571428571428575,1,1,0.88325370574543693,0.88325370574543693,0.88325370574543693,0.88325370574543693,0.72167291246479492,0.72167291246479492,0.85581434406604462,null,null,9.6133333333333351,9.6133333333333351,9.6133333333333351,9.6133333333333351,null,-5.6000000000000014,null,-6.7000000000000028,-6.6000000000000014,-4.8999999999999986,-2,-7,null,{"$f":"SUM(BB279:BB298)/30","v":0.43666666666666648},0,-0.17666666666666644,-0.82333333333333314,0.59000000000000008,9.9999999999999048E-3,-1.3499999999999999,0,null,null,"2016-10-06",25,0,5]
["2016-01-06",-3.5,-3.5,-3.5,-3.5,26.166666666666668,3.88,3.88,3.88,3.88,8.6333333333333329,8.6333333333333329,8.6333333333333329,8.6333333333333329,2.2250859106529211,2.2250859106529211,2.2250859106529211,2.2250859106529211,2.2250859106529211,2.2250859106529211,2.2250859106529211,2.2250859106529211,0,0,0,0,2.2250859106529211,0,2762.7449497460834,2861.7525622028315,857.65486797996175,857.65486797996175,null,null,null,null,-1.2714285714285718,1,1,0.74169530355097368,0.74169530355097368,0.74169530355097368,0.74169530355097368,0.74066537157861956,0.74066537157861956,0.7511776008123886,null,null,8.6333333333333329,8.6333333333333329,8.6333333333333329,8.6333333333333329,null,-3.5,null,-3.1000000000000014,-3.8999999999999986,-3.2999999999999972,-0.60000000000000142,-2.7999999999999972,null,{"$f":"SUM(BB280:BB299)/30","v":9.9999999999999881E-2},0,-0.11666666666666643,-0.86666666666666681,0.25333333333333352,-0.31333333333333341,-1.3466666666666665,0,null,null,"2016-10-07",24.1,0,5.8999999999999986]
["2016-01-07",-1.6000000000000014,-1.6000000000000014,-1.6000000000000014,-1.6000000000000014,25.533333333333331,4.1079999999999997,4.1079999999999997,4.1079999999999997,4.1079999999999997,7.7466666666666679,7.7466666666666679,7.7466666666666679,7.7466666666666679,1.885751379422266,1.885751379422266,1.885751379422266,1.885751379422266,1.885751379422266,1.885751379422266,1.885751379422266,1.885751379422266,0,0,0,0,1.885751379422266,0,2808.0029828522179,2907.010595308966,857.65486797996175,857.65486797996175,null,null,null,null,-1.035714285714286,1,1,0.6285837931407553,0.6285837931407553,0.6285837931407553,0.6285837931407553,0.69739134494408372,0.69739134494408372,0.60523416455232548,null,null,7.7466666666666679,7.7466666666666679,7.7466666666666679,7.7466666666666679,null,-1.6000000000000014,null,-1.6000000000000014,-0.89999999999999858,-0.69999999999999929,-0.19999999999999929,1,null,{"$f":"SUM(BB281:BB300)/30","v":-0.23000000000000007},0,-8.6666666666666475E-2,-0.86999999999999966,-6.9999999999999923E-2,-0.54666666666666675,-1.3999999999999997,0,null,null,"2016-10-08",23.9,0,6.1000000000000014]
["2016-01-08",2,2,2,2,24.333333333333332,4.54,4.54,4.54,4.54,6.0666666666666664,6.0666666666666664,6.0666666666666664,6.0666666666666664,1.3362701908957415,1.3362701908957415,1.3362701908957415,1.3362701908957415,1.3362701908957415,1.3362701908957415,1.3362701908957415,1.3362701908957415,0,0,0,0,1.3362701908957415,0,2840.0734674337155,2939.081079890464,857.65486797996175,857.65486797996175,null,null,null,null,-0.90714285714285736,1,1,0.44542339696524719,0.44542339696524719,0.44542339696524719,0.44542339696524719,0.62572532292607019,0.62572532292607019,0.59898904218302829,null,null,6.0666666666666664,6.0666666666666664,6.0666666666666664,6.0666666666666664,null,2,null,1.6000000000000014,-1.5,1.8999999999999986,0.19999999999999929,-2.7000000000000028,null,{"$f":"SUM(BB282:BB301)/30","v":-0.59333333333333338},0,-0.17999999999999972,-1.0299999999999996,-0.41999999999999993,-0.79666666666666663,-1.5699999999999998,0,null,null,"2016-10-09",22.4,0,7.6000000000000014]
["2016-01-09",-3.2000000000000028,-3.2000000000000028,-3.2000000000000028,-3.2000000000000028,26.066666666666666,3.9159999999999995,3.9159999999999995,3.9159999999999995,3.9159999999999995,8.4933333333333341,8.4933333333333341,8.4933333333333341,8.4933333333333341,2.1688798093292481,2.1688798093292481,2.1688798093292481,2.1688798093292481,2.1688798093292481,2.1688798093292481,2.1688798093292481,2.1688798093292481,0,0,0,0,2.1688798093292481,0,2892.1265828576174,2991.134195314366,857.65486797996175,857.65486797996175,null,null,null,null,-0.96428571428571452,1,1,0.72295993644308265,0.72295993644308265,0.72295993644308265,0.72295993644308265,0.54891868426845336,0.54891868426845336,0.56190419642323197,null,null,8.4933333333333341,8.4933333333333341,8.4933333333333341,8.4933333333333341,null,-3.2000000000000028,null,0.80000000000000071,-0.69999999999999929,-2.5,-1.8999999999999986,-0.60000000000000142,null,{"$f":"SUM(BB283:BB302)/30","v":-0.94000000000000006},0,-0.33999999999999952,-1.2133333333333327,-0.77999999999999992,-1.2533333333333332,-1.6933333333333331,0,null,null,"2016-10-10",22.3,0,7.6999999999999993]
["2016-01-10",0.5,0.5,0.5,0.5,24.833333333333332,4.3600000000000003,4.3600000000000003,4.3600000000000003,4.3600000000000003,6.7666666666666666,6.7666666666666666,6.7666666666666666,6.7666666666666666,1.5519877675840976,1.5519877675840976,1.5519877675840976,1.5519877675840976,1.5519877675840976,1.5519877675840976,1.5519877675840976,1.5519877675840976,0,0,0,0,1.5519877675840976,0,2929.3742892796358,3028.3819017363844,857.65486797996175,857.65486797996175,null,null,null,null,-0.8642857142857141,1,1,0.51732925586136591,0.51732925586136591,0.51732925586136591,0.51732925586136591,0.50018681891342964,0.50018681891342964,0.56037368702669266,null,null,6.7666666666666666,6.7666666666666666,6.7666666666666666,6.7666666666666666,null,0.5,null,1.3000000000000007,1.1999999999999993,0.80000000000000071,1.8000000000000007,1.8000000000000007,null,{"$f":"SUM(BB284:BB303)/30","v":-1.2333333333333334},0,-0.5233333333333331,-1.3299999999999996,-1.1066666666666665,-1.6066666666666667,-1.88,0,null,null,"2016-10-11",22.3,0,7.6999999999999993]
["2016-01-11",2.1000000000000014,2.1000000000000014,2.1000000000000014,2.1000000000000014,24.3,4.5519999999999996,4.5519999999999996,4.5519999999999996,4.5519999999999996,6.0199999999999987,6.0199999999999987,6.0199999999999987,6.0199999999999987,1.3224956063268891,1.3224956063268891,1.3224956063268891,1.3224956063268891,1.3224956063268891,1.3224956063268891,1.3224956063268891,1.3224956063268891,0,0,0,0,1.3224956063268891,0,2961.1141838314811,3060.1217962882297,857.65486797996175,857.65486797996175,null,null,null,null,-0.91428571428571437,1,1,0.44083186877562969,0.44083186877562969,0.44083186877562969,0.44083186877562969,0.48287494115389418,0.48287494115389418,0.43458945325970477,null,null,6.0199999999999987,6.0199999999999987,6.0199999999999987,6.0199999999999987,null,2.1000000000000014,null,2.6000000000000014,0.80000000000000071,3.1000000000000014,2.1999999999999993,1.8000000000000007,null,{"$f":"SUM(BB285:BB304)/30","v":-1.3333333333333333},0,-0.483333333333333,-1.3633333333333331,-1.1866666666666665,-1.6833333333333333,-2.0533333333333332,0,null,null,"2016-10-12",21.6,0,8.3999999999999986]
["2016-01-12",4.3000000000000007,4.3000000000000007,4.3000000000000007,4.3000000000000007,23.566666666666666,4.8159999999999998,4.8159999999999998,4.8159999999999998,4.8159999999999998,4.9933333333333332,4.9933333333333332,4.9933333333333332,4.9933333333333332,1.0368217054263567,1.0368217054263567,1.0368217054263567,1.0368217054263567,1.0368217054263567,1.0368217054263567,1.0368217054263567,1.0368217054263567,0,0,0,0,1.0368217054263567,0,2985.9979047617135,3085.005517218462,857.65486797996175,857.65486797996175,null,null,null,null,-1.1142857142857141,1,1,0.34560723514211888,0.34560723514211888,0.34560723514211888,0.34560723514211888,0.49243607396228323,0.49243607396228323,0.39567044999451895,null,null,4.9933333333333332,4.9933333333333332,4.9933333333333332,4.9933333333333332,null,4.3000000000000007,null,7.5,2.1999999999999993,3.6000000000000014,1.8999999999999986,3.6999999999999993,null,{"$f":"SUM(BB286:BB305)/30","v":-1.4800000000000002},0,-0.483333333333333,-1.4066666666666665,-1.3666666666666665,-1.8900000000000001,-1.9633333333333334,0,null,null,"2016-10-13",23.3,0,6.6999999999999993]
["2016-01-13",3,3,3,3,24,4.66,4.66,4.66,4.66,5.6,5.6,5.6,5.6,1.2017167381974247,1.2017167381974247,1.2017167381974247,1.2017167381974247,1.2017167381974247,1.2017167381974247,1.2017167381974247,1.2017167381974247,0,0,0,0,1.2017167381974247,0,3014.8391064784519,3113.8467189352004,857.65486797996175,857.65486797996175,null,null,null,null,-1.2642857142857142,1,1,0.40057224606580827,0.40057224606580827,0.40057224606580827,0.40057224606580827,0.47975938165295401,0.47975938165295401,0.41786004334397786,null,null,5.6,5.6,5.6,5.6,null,3,null,6.1000000000000014,3,2.5,0.80000000000000071,2,null,{"$f":"SUM(BB287:BB306)/30","v":-1.7833333333333334},0,-0.57666666666666622,-1.513333333333333,-1.7199999999999998,-2.2200000000000002,-1.9033333333333331,0,null,null,"2016-10-14",23.6,0,6.3999999999999986]
["2016-01-14",0.69999999999999929,0.69999999999999929,0.69999999999999929,0.69999999999999929,24.766666666666666,4.3840000000000003,4.3840000000000003,4.3840000000000003,4.3840000000000003,6.6733333333333338,6.6733333333333338,6.6733333333333338,6.6733333333333338,1.5222019464720193,1.5222019464720193,1.5222019464720193,1.5222019464720193,1.5222019464720193,1.5222019464720193,1.5222019464720193,1.5222019464720193,0,0,0,0,1.5222019464720193,0,3051.3719531937804,3150.379565650529,857.65486797996175,857.65486797996175,null,null,null,null,-1.55,1,1,0.50740064882400648,0.50740064882400648,0.50740064882400648,0.50740064882400648,0.5100218689108541,0.5100218689108541,0.47344140717126176,null,null,6.6733333333333338,6.6733333333333338,6.6733333333333338,6.6733333333333338,null,0.69999999999999929,null,4.1000000000000014,1.3999999999999986,0.69999999999999929,-0.80000000000000071,1.1000000000000014,null,{"$f":"SUM(BB288:BB307)/30","v":-1.8833333333333335},0,-0.5499999999999996,-1.4766666666666666,-1.7666666666666662,-2.1700000000000004,-1.916666666666667,0,null,null,"2016-10-15",19.5,0,10.5]
["2016-01-15",{"$f":"BB299+A$7","v":0.60000000000000142},0.60000000000000142,0.60000000000000142,0.60000000000000142,{"$f":"F$8+(H$7-F$8)*(M$6-B299)/30","v":24.8},{"$f":"IF((B299+35-$F299)*$H$5+$H$6>1,(B299+35-$F299)*$H$5+$H$6,1)","v":4.3719999999999999},{"$f":"IF((C299+35-$F299)*$H$5+$H$6>1,(C299+35-$F299)*$H$5+$H$6,1)","v":4.3719999999999999},{"$f":"IF((D299+35-$F299)*$H$5+$H$6>1,(D299+35-$F299)*$H$5+$H$6,1)","v":4.3719999999999999},{"$f":"IF((E299+35-$F299)*$H$5+$H$6>1,(E299+35-$F299)*$H$5+$H$6,1)","v":4.3719999999999999},{"$f":"$M$5*($M$6-B299)/30-$O$5","v":6.7199999999999989},{"$f":"$M$5*($M$6-C299)/30-$O$5","v":6.7199999999999989},{"$f":"$M$5*($M$6-D299)/30-$O$5","v":6.7199999999999989},{"$f":"$M$5*($M$6-E299)/30-$O$5","v":6.7199999999999989},{"$f":"IF(K299/G299>$M$7,$M$7+K299-$M$7*G299,K299/G299)","v":1.5370539798719121},{"$f":"IF(L299/H299>$M$7,$M$7+L299-$M$7*H299,L299/H299)","v":1.5370539798719121},{"$f":"IF(M299/I299>$M$7,$M$7+M299-$M$7*I299,M299/I299)","v":1.5370539798719121},{"$f":"IF(N299/J299>$M$7,$M$7+N299-$M$7*J299,N299/J299)","v":1.5370539798719121},{"$f":"IF(O299>0,O299,)","v":1.5370539798719121},{"$f":"IF(P299>0,P299,)","v":1.5370539798719121},{"$f":"IF(Q299>0,Q299,)","v":1.5370539798719121},{"$f":"IF(R299>0,R299,)","v":1.5370539798719121},{"$f":"IF(O299<0,-O299,0)","v":0},{"$f":"IF(P299<0,-P299,0)","v":0},{"$f":"IF(Q299<0,-Q299,0)","v":0},{"$f":"IF(R299<0,-R299,0)","v":0},{"$f":"IF(SUM(O299:R299)/4>0,SUM(O299:R299)/4,)","v":1.5370539798719121},{"$f":"IF(SUM(O299:R299)/4<0,-SUM(O299:R299)/4,)","v":0},{"$f":"6*SUM(S299:V299)+AC298","v":3088.2612487107062},{"$f":"AD298+AA299*24","v":3187.2688611674548},{"$f":"6*SUM(W299:Z299)+AE298","v":857.65486797996175},{"$f":"AF298+AB299*24","v":857.65486797996175},null,null,null,null,{"$f":"IF(SUM(B293:B306)/14<$C$7,SUM(B293:B306)/14,0)","v":-2.4071428571428575},{"$f":"IF(SUM(B293:B306)/14<$C$7,1,0)","v":1},{"$f":"IF(SUM(AN296:AQ302)>0,1,0)","v":1},{"$f":"K299/G299/$M$7","v":0.51235132662397065},{"$f":"L299/H299/$M$7","v":0.51235132662397065},{"$f":"M299/I299/$M$7","v":0.51235132662397065},{"$f":"N299/J299/$M$7","v":0.51235132662397065},{"$f":"SUM(AO296:AO302)/7","v":0.58947950456876785},{"$f":"SUM(AQ296:AQ302)/7","v":0.58947950456876785},{"$f":"SUM(AN298:AQ300)/12","v":0.5513250219085849},null,null,{"$f":"IF(K299>0,K299,0)","v":6.7199999999999989},{"$f":"IF(L299>0,L299,0)","v":6.7199999999999989},{"$f":"IF(M299>0,M299,0)","v":6.7199999999999989},{"$f":"IF(N299>0,N299,0)","v":6.7199999999999989},null,0.60000000000000142,null,3.1999999999999993,0.89999999999999858,0.10000000000000142,-1.3000000000000007,0.10000000000000142,null,{"$f":"SUM(BB289:BB308)/30","v":-1.5933333333333337},0,-0.21333333333333304,-1.2766666666666666,-1.4933333333333327,-1.8966666666666669,-1.7633333333333334,0,null,null,"2016-10-16",21.4,0,8.6000000000000014]
["2016-01-16",-1.6999999999999993,-1.6999999999999993,-1.6999999999999993,-1.6999999999999993,25.566666666666666,4.0960000000000001,4.0960000000000001,4.0960000000000001,4.0960000000000001,7.793333333333333,7.793333333333333,7.793333333333333,7.793333333333333,1.9026692708333333,1.9026692708333333,1.9026692708333333,1.9026692708333333,1.9026692708333333,1.9026692708333333,1.9026692708333333,1.9026692708333333,0,0,0,0,1.9026692708333333,0,3133.9253112107062,3232.9329236674548,857.65486797996175,857.65486797996175,null,null,null,null,-2.7285714285714286,1,1,0.63422309027777779,0.63422309027777779,0.63422309027777779,0.63422309027777779,0.69806573013343309,0.69806573013343309,0.62524702785613817,null,null,7.793333333333333,7.793333333333333,7.793333333333333,7.793333333333333,null,-1.6999999999999993,null,1,0.10000000000000142,-2.1000000000000014,-3.1000000000000014,-1.6000000000000014,null,{"$f":"SUM(BB290:BB309)/30","v":-1.2533333333333334},0,0.10333333333333374,-1.0499999999999998,-1.1733333333333329,-1.716666666666667,-1.6566666666666667,0,null,null,"2016-10-17",22.8,0,7.1999999999999993]
["2016-01-17",-3.2999999999999972,-3.2999999999999972,-3.2999999999999972,-3.2999999999999972,26.099999999999998,3.9040000000000004,3.9040000000000004,3.9040000000000004,3.9040000000000004,8.5399999999999974,8.5399999999999974,8.5399999999999974,8.5399999999999974,2.1874999999999991,2.1874999999999991,2.1874999999999991,2.1874999999999991,2.1874999999999991,2.1874999999999991,2.1874999999999991,2.1874999999999991,0,0,0,0,2.1874999999999991,0,3186.4253112107062,3285.4329236674548,857.65486797996175,857.65486797996175,null,null,null,null,-2.6000000000000005,1,1,0.72916666666666641,0.72916666666666641,0.72916666666666641,0.72916666666666641,0.76702022437338002,0.76702022437338002,0.78680835844182351,null,null,8.5399999999999974,8.5399999999999974,8.5399999999999974,8.5399999999999974,null,-3.2999999999999972,null,-2.2999999999999972,-2.7999999999999972,-3,-4.2999999999999972,-5.1000000000000014,null,{"$f":"SUM(BB291:BB310)/30","v":-0.93333333333333335},0,0.37666666666666715,-0.83666666666666656,-0.85333333333333317,-1.6066666666666667,-1.6166666666666669,0,null,null,"2016-10-18",21.5,0,8.5]
["2016-01-18",-7.1000000000000014,-7.1000000000000014,-7.1000000000000014,-7.1000000000000014,27.366666666666667,3.448,3.448,3.448,3.448,10.313333333333334,10.313333333333334,10.313333333333334,10.313333333333334,2.9911059551430785,2.9911059551430785,2.9911059551430785,2.9911059551430785,2.9911059551430785,2.9911059551430785,2.9911059551430785,2.9911059551430785,0,0,0,0,2.9911059551430785,0,3258.2118541341401,3357.2194665908887,857.65486797996175,857.65486797996175,null,null,null,null,-2.4214285714285713,1,1,0.99703531838102621,0.99703531838102621,0.99703531838102621,0.99703531838102621,0.82071351821929872,0.82071351821929872,0.94397093304748936,null,null,10.313333333333334,10.313333333333334,10.313333333333334,10.313333333333334,null,-7.1000000000000014,null,-3.7999999999999972,-3.2999999999999972,-6.6000000000000014,-9.3999999999999986,-3.7000000000000028,null,{"$f":"SUM(BB292:BB311)/30","v":-0.56000000000000016},0,0.4966666666666672,-0.73,-0.5233333333333331,-1.3366666666666671,-1.6633333333333336,0,null,null,"2016-10-19",21.1,0,8.8999999999999986]
["2016-01-19",-8.3999999999999986,-8.3999999999999986,-8.3999999999999986,-8.3999999999999986,27.8,3.2919999999999998,3.2919999999999998,3.2919999999999998,3.2919999999999998,10.919999999999998,10.919999999999998,10.919999999999998,10.919999999999998,4.0439999999999987,4.0439999999999987,4.0439999999999987,4.0439999999999987,4.0439999999999987,4.0439999999999987,4.0439999999999987,4.0439999999999987,0,0,0,0,4.0439999999999987,0,3355.2678541341402,3454.2754665908888,857.65486797996175,857.65486797996175,null,null,null,null,-2.2928571428571423,1,1,1.1057108140947751,1.1057108140947751,1.1057108140947751,1.1057108140947751,0.92673194109278156,0.92673194109278156,0.99533327940707939,null,null,10.919999999999998,10.919999999999998,10.919999999999998,10.919999999999998,null,-8.3999999999999986,null,-5.2000000000000028,-4.8999999999999986,-8.3999999999999986,-10.5,-5.6000000000000014,null,{"$f":"SUM(BB293:BB312)/30","v":-0.36000000000000015},0,0.71000000000000052,-0.48666666666666658,-0.33999999999999986,-1.1633333333333336,-1.5666666666666667,0,null,null,"2016-10-20",20.3,0,9.6999999999999993]
["2016-01-20",-5.6000000000000014,-5.6000000000000014,-5.6000000000000014,-5.6000000000000014,26.866666666666667,3.6279999999999997,3.6279999999999997,3.6279999999999997,3.6279999999999997,9.6133333333333351,9.6133333333333351,9.6133333333333351,9.6133333333333351,2.6497611172363107,2.6497611172363107,2.6497611172363107,2.6497611172363107,2.6497611172363107,2.6497611172363107,2.6497611172363107,2.6497611172363107,0,0,0,0,2.6497611172363107,0,3418.8621209478115,3517.8697334045601,857.65486797996175,857.65486797996175,null,null,null,null,-1.821428571428571,1,1,0.88325370574543693,0.88325370574543693,0.88325370574543693,0.88325370574543693,0.98554939024365051,0.98554939024365051,0.95740607519521637,null,null,9.6133333333333351,9.6133333333333351,9.6133333333333351,9.6133333333333351,null,-5.6000000000000014,null,-2.3999999999999986,-4.7000000000000028,-5.6000000000000014,-7.2000000000000028,-5.2000000000000028,null,{"$f":"SUM(BB294:BB313)/30","v":-9.0000000000000094E-2},0,0.90000000000000047,-0.31666666666666665,-0.1,-1.0033333333333339,-1.5233333333333334,0,null,null,"2016-10-21",20.8,0,9.1999999999999993]
["2016-01-21",-5.6000000000000014,-5.6000000000000014,-5.6000000000000014,-5.6000000000000014,26.866666666666667,3.6279999999999997,3.6279999999999997,3.6279999999999997,3.6279999999999997,9.6133333333333351,9.6133333333333351,9.6133333333333351,9.6133333333333351,2.6497611172363107,2.6497611172363107,2.6497611172363107,2.6497611172363107,2.6497611172363107,2.6497611172363107,2.6497611172363107,2.6497611172363107,0,0,0,0,2.6497611172363107,0,3482.4563877614828,3581.4640002182314,857.65486797996175,857.65486797996175,null,null,null,null,-1.2999999999999996,1,1,0.88325370574543693,0.88325370574543693,0.88325370574543693,0.88325370574543693,0.9430571602514205,0.9430571602514205,1.0069958994097417,null,null,9.6133333333333351,9.6133333333333351,9.6133333333333351,9.6133333333333351,null,-5.6000000000000014,null,-2.2999999999999972,-4.2000000000000028,-5.8999999999999986,-7.7000000000000028,-5.7999999999999972,null,{"$f":"SUM(BB295:BB314)/30","v":0.1233333333333332},0,0.90666666666666706,-0.25333333333333324,8.6666666666666711E-2,-0.91333333333333377,-1.5799999999999998,0,null,null,"2016-10-22",21.1,0,8.8999999999999986]
["2016-01-22",-10,-10,-10,-10,28.333333333333336,3.0999999999999996,3.0999999999999996,3.0999999999999996,3.0999999999999996,11.666666666666666,11.666666666666666,11.666666666666666,11.666666666666666,5.3666666666666671,5.3666666666666671,5.3666666666666671,5.3666666666666671,5.3666666666666671,5.3666666666666671,5.3666666666666671,5.3666666666666671,0,0,0,0,5.3666666666666671,0,3611.256387761483,3710.2640002182316,857.65486797996175,857.65486797996175,null,null,null,null,-0.99285714285714322,1,1,1.2544802867383513,1.2544802867383513,1.2544802867383513,1.2544802867383513,0.84825567670981883,0.84825567670981883,1.0612264089392163,null,null,11.666666666666666,11.666666666666666,11.666666666666666,11.666666666666666,null,-10,null,-5.7999999999999972,-6.7999999999999972,-10.899999999999999,-11.799999999999997,-7.8999999999999986,null,{"$f":"SUM(BB296:BB315)/30","v":0.17333333333333342},0,1.0000000000000004,-0.14666666666666661,8.0000000000000307E-2,-0.94666666666666721,-1.5866666666666664,0,null,null,"2016-10-23",22.3,0,7.6999999999999993]
["2016-01-23",-7.7000000000000028,{"$f":"$B307+C$9","v":-7.7000000000000028},-7.7000000000000028,-7.7000000000000028,27.566666666666666,3.3759999999999999,3.3759999999999999,3.3759999999999999,3.3759999999999999,10.593333333333335,10.593333333333335,10.593333333333335,10.593333333333335,3.4653333333333354,3.4653333333333354,3.4653333333333354,3.4653333333333354,3.4653333333333354,3.4653333333333354,3.4653333333333354,3.4653333333333354,0,0,0,0,3.4653333333333354,0,3694.4243877614831,3793.4320002182317,857.65486797996175,857.65486797996175,null,null,null,null,-0.37857142857142889,1,1,1.0459452343338602,1.0459452343338602,1.0459452343338602,1.0459452343338602,0.72960099887423902,0.72960099887423902,0.91071552593108918,null,null,10.593333333333335,10.593333333333335,10.593333333333335,10.593333333333335,null,-7.7000000000000028,null,-4.7000000000000028,-6.2000000000000028,-5.8999999999999986,-4.2000000000000028,-10.200000000000003,null,{"$f":"SUM(BB297:BB316)/30","v":0.30333333333333351},0,1.0766666666666671,-3.9999999999999973E-2,0.23333333333333334,-0.75333333333333363,-1.6166666666666667,8.9999999999999983E-2,null,null,"2016-10-24",20.3,0,9.6999999999999993]
["2016-01-24",2.3000000000000007,2.3000000000000007,2.3000000000000007,2.3000000000000007,24.233333333333334,4.5759999999999996,4.5759999999999996,4.5759999999999996,4.5759999999999996,5.9266666666666659,5.9266666666666659,5.9266666666666659,5.9266666666666659,1.2951631701631701,1.2951631701631701,1.2951631701631701,1.2951631701631701,1.2951631701631701,1.2951631701631701,1.2951631701631701,1.2951631701631701,0,0,0,0,1.2951631701631701,0,3725.508303845399,3824.5159163021476,857.65486797996175,857.65486797996175,null,null,null,null,0.11428571428571388,1,1,0.43172105672105671,0.43172105672105671,0.43172105672105671,0.43172105672105671,0.62543216951347691,0.62543216951347691,0.60369707488157709,null,null,5.9266666666666659,5.9266666666666659,5.9266666666666659,5.9266666666666659,null,2.3000000000000007,null,3.3000000000000007,-1.3999999999999986,2.3000000000000007,1.1999999999999993,-6.2000000000000028,null,{"$f":"SUM(BB298:BB317)/30","v":0.54333333333333345},0,1.2000000000000004,0.13333333333333333,0.47333333333333322,-0.52333333333333398,-1.5599999999999998,0.31666666666666665,null,null,"2016-10-25",18.100000000000001,0,11.899999999999999]
["2016-01-25",4.6000000000000014,4.6000000000000014,4.6000000000000014,4.6000000000000014,23.466666666666665,4.8520000000000003,4.8520000000000003,4.8520000000000003,4.8520000000000003,4.8533333333333326,4.8533333333333326,4.8533333333333326,4.8533333333333326,1.000274800769442,1.000274800769442,1.000274800769442,1.000274800769442,1.000274800769442,1.000274800769442,1.000274800769442,1.000274800769442,0,0,0,0,1.000274800769442,0,3749.5148990638659,3848.5225115206144,857.65486797996175,857.65486797996175,null,null,null,null,1.2071428571428573,1,1,0.33342493358981401,0.33342493358981401,0.33342493358981401,0.33342493358981401,0.52882636822797691,0.52882636822797691,0.34675801985219562,null,null,4.8533333333333326,4.8533333333333326,4.8533333333333326,4.8533333333333326,null,4.6000000000000014,null,2.8000000000000007,0.19999999999999929,4.6999999999999993,3.3999999999999986,-3.7999999999999972,null,{"$f":"SUM(BB299:BB318)/30","v":0.67333333333333345},0,1.3100000000000003,0.28000000000000019,0.57999999999999974,-0.43333333333333368,-1.4600000000000002,0.47000000000000003,null,null,"2016-10-26",20.2,0,9.8000000000000007]
["2016-01-26",6.1000000000000014,6.1000000000000014,6.1000000000000014,6.1000000000000014,22.966666666666665,5.032,5.032,5.032,5.032,4.1533333333333324,4.1533333333333324,4.1533333333333324,4.1533333333333324,0.82538420773714871,0.82538420773714871,0.82538420773714871,0.82538420773714871,0.82538420773714871,0.82538420773714871,0.82538420773714871,0.82538420773714871,0,0,0,0,0.82538420773714871,0,3769.3241200495572,3868.3317325063058,857.65486797996175,857.65486797996175,null,null,null,null,2.5357142857142856,1,1,0.27512806924571626,0.27512806924571626,0.27512806924571626,0.27512806924571626,0.39553233822838757,0.39553233822838757,0.25420830101854425,null,null,4.1533333333333324,4.1533333333333324,4.1533333333333324,4.1533333333333324,null,6.1000000000000014,null,5.1000000000000014,2.5,6.3000000000000007,2.6999999999999993,-1.6000000000000014,null,{"$f":"SUM(BB300:BB319)/30","v":0.73333333333333306},0,1.3533333333333337,0.36000000000000004,0.63333333333333319,-0.39000000000000046,-1.3833333333333333,0.44333333333333336,null,null,"2016-10-27",23.6,0,6.3999999999999986]
["2016-01-27",9.6000000000000014,9.6000000000000014,9.6000000000000014,9.6000000000000014,21.8,5.452,5.452,5.452,5.452,2.5199999999999991,2.5199999999999991,2.5199999999999991,2.5199999999999991,0.46221570066030798,0.46221570066030798,0.46221570066030798,0.46221570066030798,0.46221570066030798,0.46221570066030798,0.46221570066030798,0.46221570066030798,0,0,0,0,0.46221570066030798,0,3780.4172968654048,3879.4249093221533,857.65486797996175,857.65486797996175,null,null,null,null,3.2642857142857138,1,1,0.15407190022010267,0.15407190022010267,0.15407190022010267,0.15407190022010267,0.28121299452256976,0.28121299452256976,0.21207102207091869,null,null,2.5199999999999991,2.5199999999999991,2.5199999999999991,2.5199999999999991,null,9.6000000000000014,null,2,2.3000000000000007,9.1999999999999993,7.8999999999999986,-0.39999999999999858,null,{"$f":"SUM(BB301:BB320)/30","v":0.8966666666666665},0,1.4500000000000002,0.43666666666666681,0.7866666666666664,-0.26333333333333397,-1.3166666666666669,0.36999999999999994,null,null,"2016-10-28",25,0,5]
["2016-01-28",8,8,8,8,22.333333333333332,5.26,5.26,5.26,5.26,3.2666666666666666,3.2666666666666666,3.2666666666666666,3.2666666666666666,0.62103929024081117,0.62103929024081117,0.62103929024081117,0.62103929024081117,0.62103929024081117,0.62103929024081117,0.62103929024081117,0.62103929024081117,0,0,0,0,0.62103929024081117,0,3795.3222398311841,3894.3298522879327,857.65486797996175,857.65486797996175,null,null,null,null,3.8357142857142859,1,1,0.20701309674693705,0.20701309674693705,0.20701309674693705,0.20701309674693705,0.27307476523049429,0.27307476523049429,0.22750235790275519,null,null,3.2666666666666666,3.2666666666666666,3.2666666666666666,3.2666666666666666,null,8,null,8,5.8000000000000007,7.3999999999999986,5.3999999999999986,0.19999999999999929,null,{"$f":"SUM(BB302:BB321)/30","v":1.1866666666666665},0,1.6800000000000002,0.67333333333333334,1.0733333333333333,-1.0000000000000734E-2,-1.1099999999999999,0.32333333333333331,null,null,"2016-10-29",22.4,0,7.6000000000000014]
["2016-01-29",4.8999999999999986,4.8999999999999986,4.8999999999999986,4.8999999999999986,23.366666666666667,4.8879999999999999,4.8879999999999999,4.8879999999999999,4.8879999999999999,4.7133333333333347,4.7133333333333347,4.7133333333333347,4.7133333333333347,0.9642662302236773,0.9642662302236773,0.9642662302236773,0.9642662302236773,0.9642662302236773,0.9642662302236773,0.9642662302236773,0.9642662302236773,0,0,0,0,0.9642662302236773,0,3818.4646293565525,3917.472241813301,857.65486797996175,857.65486797996175,null,null,null,null,4.7785714285714294,1,1,0.32142207674122575,0.32142207674122575,0.32142207674122575,0.32142207674122575,0.25404049543188939,0.25404049543188939,0.25804833396043281,null,null,4.7133333333333347,4.7133333333333347,4.7133333333333347,4.7133333333333347,null,4.8999999999999986,null,6.5,4.3999999999999986,4.6999999999999993,2.8999999999999986,0.69999999999999929,null,{"$f":"SUM(BB303:BB322)/30","v":1.5166666666666666},0,2.0933333333333333,0.97999999999999987,1.3733333333333335,0.32999999999999946,-0.8899999999999999,0.41999999999999993,null,null,"2016-10-30",24.1,0,5.8999999999999986]
["2016-01-30",6.8999999999999986,6.8999999999999986,6.8999999999999986,6.8999999999999986,22.7,5.1280000000000001,5.1280000000000001,5.1280000000000001,5.1280000000000001,3.7800000000000007,3.7800000000000007,3.7800000000000007,3.7800000000000007,0.73712948517940724,0.73712948517940724,0.73712948517940724,0.73712948517940724,0.73712948517940724,0.73712948517940724,0.73712948517940724,0.73712948517940724,0,0,0,0,0.73712948517940724,0,3836.1557370008582,3935.1633494576067,857.65486797996175,857.65486797996175,null,null,null,null,5.7142857142857144,1,1,0.24570982839313574,0.24570982839313574,0.24570982839313574,0.24570982839313574,0.2340461645162312,0.2340461645162312,0.31396178560362992,null,null,3.7800000000000007,3.7800000000000007,3.7800000000000007,3.7800000000000007,null,6.8999999999999986,null,1.5,3.1000000000000014,6.3999999999999986,4.5,0.10000000000000142,null,{"$f":"SUM(BB304:BB323)/30","v":2.0533333333333337},0,2.5766666666666667,1.3533333333333331,1.8866666666666665,0.84333333333333271,-0.62333333333333341,0.59333333333333327,null,null,"2016-10-31",24.1,0,5.8999999999999986]
["2016-01-31",3.6000000000000014,3.6000000000000014,3.6000000000000014,3.6000000000000014,23.8,4.7320000000000002,4.7320000000000002,4.7320000000000002,4.7320000000000002,5.3199999999999985,5.3199999999999985,5.3199999999999985,5.3199999999999985,1.1242603550295855,1.1242603550295855,1.1242603550295855,1.1242603550295855,1.1242603550295855,1.1242603550295855,1.1242603550295855,1.1242603550295855,0,0,0,0,1.1242603550295855,0,3863.1379855215682,3962.1455979783168,857.65486797996175,857.65486797996175,null,null,null,null,5.7500000000000009,1,1,0.37475345167652852,0.37475345167652852,0.37475345167652852,0.37475345167652852,0.25966802642618997,0.25966802642618997,0.27354944168974793,null,null,5.3199999999999985,5.3199999999999985,5.3199999999999985,5.3199999999999985,null,3.6000000000000014,null,5.3999999999999986,4,2.8999999999999986,1.1999999999999993,1.6000000000000014,null,{"$f":"SUM(BB305:BB324)/30","v":2.5066666666666668},0,2.9833333333333334,1.7933333333333332,2.3199999999999998,1.2433333333333327,-0.2233333333333333,0.80666666666666653,null,null,"2016-11-01",23.2,0,6.8000000000000007]
["2016-02-01",8.1999999999999993,8.1999999999999993,8.1999999999999993,8.1999999999999993,22.266666666666666,5.2840000000000007,5.2840000000000007,5.2840000000000007,5.2840000000000007,3.1733333333333338,3.1733333333333338,3.1733333333333338,3.1733333333333338,0.60055513499873836,0.60055513499873836,0.60055513499873836,0.60055513499873836,0.60055513499873836,0.60055513499873836,0.60055513499873836,0.60055513499873836,0,0,0,0,0.60055513499873836,0,3877.5513087615382,3976.5589212182867,857.65486797996175,857.65486797996175,null,null,null,null,5.9714285714285706,1,1,0.20018504499957945,0.20018504499957945,0.20018504499957945,0.20018504499957945,0.29112349759710332,0.29112349759710332,0.23670208317073901,null,null,3.1733333333333338,3.1733333333333338,3.1733333333333338,3.1733333333333338,null,8.1999999999999993,null,9.8000000000000007,5.3999999999999986,8.1999999999999993,7.6999999999999993,2.8000000000000007,2.6999999999999993,{"$f":"SUM(BB306:BB325)/30","v":2.8500000000000005},0,3.2433333333333327,2.1,2.6433333333333331,1.5366666666666662,0.17666666666666658,0.8966666666666665,null,null,"2016-11-02",23.7,0,6.3000000000000007]
["2016-02-02",10.199999999999999,10.199999999999999,10.199999999999999,10.199999999999999,21.6,5.524,5.524,5.524,5.524,2.2400000000000007,2.2400000000000007,2.2400000000000007,2.2400000000000007,0.40550325850832741,0.40550325850832741,0.40550325850832741,0.40550325850832741,0.40550325850832741,0.40550325850832741,0.40550325850832741,0.40550325850832741,0,0,0,0,0.40550325850832741,0,3887.2833869657379,3986.2909994224865,857.65486797996175,857.65486797996175,null,null,null,null,6.1071428571428568,1,1,0.13516775283610913,0.13516775283610913,0.13516775283610913,0.13516775283610913,0.30118859910069162,0.30118859910069162,0.22292591047516749,null,null,2.2400000000000007,2.2400000000000007,2.2400000000000007,2.2400000000000007,null,10.199999999999999,null,9.8000000000000007,8.1999999999999993,9.6999999999999993,7.6999999999999993,3.6999999999999993,6.8000000000000007,{"$f":"SUM(BB307:BB326)/30","v":3.3000000000000003},0,3.5933333333333333,2.4399999999999995,3.0900000000000003,1.9533333333333327,0.5199999999999998,0.88666666666666649,null,null,"2016-11-03",27.2,0,2.8000000000000007]
["2016-02-03",4.6000000000000014,4.6000000000000014,4.6000000000000014,4.6000000000000014,23.466666666666665,4.8520000000000003,4.8520000000000003,4.8520000000000003,4.8520000000000003,4.8533333333333326,4.8533333333333326,4.8533333333333326,4.8533333333333326,1.000274800769442,1.000274800769442,1.000274800769442,1.000274800769442,1.000274800769442,1.000274800769442,1.000274800769442,1.000274800769442,0,0,0,0,1.000274800769442,0,3911.2899821842047,4010.2975946409533,857.65486797996175,857.65486797996175,null,null,null,null,5.757142857142858,1,1,0.33342493358981401,0.33342493358981401,0.33342493358981401,0.33342493358981401,0.3092022583697786,0.3092022583697786,0.29859802712308459,null,null,4.8533333333333326,4.8533333333333326,4.8533333333333326,4.8533333333333326,null,4.6000000000000014,null,7.3999999999999986,5.8000000000000007,3.8999999999999986,1.8999999999999986,4.1000000000000014,4.6000000000000014,{"$f":"SUM(BB308:BB327)/30","v":3.5966666666666667},0,3.8466666666666658,2.7033333333333336,3.33,2.086666666666666,0.92333333333333323,0.82333333333333314,null,null,"2016-11-04",29.2,0,0.80000000000000071]
["2016-02-04",2.3999999999999986,2.3999999999999986,2.3999999999999986,2.3999999999999986,24.2,4.5880000000000001,4.5880000000000001,4.5880000000000001,4.5880000000000001,5.8800000000000008,5.8800000000000008,5.8800000000000008,5.8800000000000008,1.2816041848299915,1.2816041848299915,1.2816041848299915,1.2816041848299915,1.2816041848299915,1.2816041848299915,1.2816041848299915,1.2816041848299915,0,0,0,0,1.2816041848299915,0,3942.0484826201246,4041.0560950768731,857.65486797996175,857.65486797996175,null,null,null,null,5.4357142857142859,1,1,0.42720139494333048,0.42720139494333048,0.42720139494333048,0.42720139494333048,0.31414558315116015,0.31414558315116015,0.38416803859982956,null,null,5.8800000000000008,5.8800000000000008,5.8800000000000008,5.8800000000000008,null,2.3999999999999986,null,4.5,3.3000000000000007,1.6999999999999993,0,2.3999999999999986,-0.80000000000000071,{"$f":"SUM(BB309:BB328)/30","v":3.5733333333333337},0,3.8633333333333328,2.8633333333333337,3.2966666666666664,2.0299999999999994,1.2333333333333334,0.82666666666666655,null,null,"2016-11-05",27.4,0,2.6000000000000014]
["2016-02-05",3.1999999999999993,3.1999999999999993,3.1999999999999993,3.1999999999999993,23.933333333333334,4.6840000000000002,4.6840000000000002,4.6840000000000002,4.6840000000000002,5.5066666666666668,5.5066666666666668,5.5066666666666668,5.5066666666666668,1.1756333617990322,1.1756333617990322,1.1756333617990322,1.1756333617990322,1.1756333617990322,1.1756333617990322,1.1756333617990322,1.1756333617990322,0,0,0,0,1.1756333617990322,0,3970.2636833033011,4069.2712957600497,857.65486797996175,857.65486797996175,null,null,null,null,5.1714285714285717,1,1,0.39187778726634409,0.39187778726634409,0.39187778726634409,0.39187778726634409,0.31660097804499499,0.31660097804499499,0.37362820849547318,null,null,5.5066666666666668,5.5066666666666668,5.5066666666666668,5.5066666666666668,null,3.1999999999999993,null,3.8999999999999986,2.3999999999999986,2.5,0.69999999999999929,0.39999999999999858,-2.2000000000000028,{"$f":"SUM(BB310:BB329)/30","v":3.6233333333333331},0,3.9433333333333329,3.02,3.3366666666666664,2.0299999999999994,1.5033333333333332,0.88333333333333319,null,null,"2016-11-06",20.6,0,9.3999999999999986]
["2016-02-06",5.3999999999999986,5.3999999999999986,5.3999999999999986,5.3999999999999986,23.2,4.9479999999999995,4.9479999999999995,4.9479999999999995,4.9479999999999995,4.4800000000000013,4.4800000000000013,4.4800000000000013,4.4800000000000013,0.90541632983023479,0.90541632983023479,0.90541632983023479,0.90541632983023479,0.90541632983023479,0.90541632983023479,0.90541632983023479,0.90541632983023479,0,0,0,0,0.90541632983023479,0,3991.9936752192266,4091.0012876759752,857.65486797996175,857.65486797996175,null,null,null,null,4.7928571428571445,1,1,0.30180544327674491,0.30180544327674491,0.30180544327674491,0.30180544327674491,0.32686459860368472,0.32686459860368472,0.36767998522976258,null,null,4.4800000000000013,4.4800000000000013,4.4800000000000013,4.4800000000000013,null,5.3999999999999986,null,4.6000000000000014,4.3000000000000007,5.6000000000000014,3.3000000000000007,1.1000000000000014,-1.3999999999999986,{"$f":"SUM(BB311:BB330)/30","v":3.5899999999999994},0,4.01,3.1466666666666665,3.2899999999999996,2.0199999999999991,1.8,0.98666666666666658,null,null,"2016-11-07",23.4,0,6.6000000000000014]
["2016-02-07",2.8000000000000007,2.8000000000000007,2.8000000000000007,2.8000000000000007,24.066666666666666,4.6359999999999992,4.6359999999999992,4.6359999999999992,4.6359999999999992,5.6933333333333325,5.6933333333333325,5.6933333333333325,5.6933333333333325,1.2280701754385965,1.2280701754385965,1.2280701754385965,1.2280701754385965,1.2280701754385965,1.2280701754385965,1.2280701754385965,1.2280701754385965,0,0,0,0,1.2280701754385965,0,4021.4673594297528,4120.4749718865014,857.65486797996175,857.65486797996175,null,null,null,null,4.9714285714285724,1,1,0.40935672514619886,0.40935672514619886,0.40935672514619886,0.40935672514619886,0.32629021377172301,0.32629021377172301,0.30951165922645568,null,null,5.6933333333333325,5.6933333333333325,5.6933333333333325,5.6933333333333325,null,2.8000000000000007,null,8.6000000000000014,5.8999999999999986,2.3999999999999986,0.80000000000000071,2.8999999999999986,2.8999999999999986,{"$f":"SUM(BB312:BB331)/30","v":3.3033333333333332},0,4.1166666666666663,3.2066666666666674,2.9999999999999991,1.7266666666666663,1.9899999999999995,1.02,null,null,"2016-11-08",25.6,0,4.3999999999999986]
["2016-02-08",7.6999999999999993,7.6999999999999993,7.6999999999999993,7.6999999999999993,22.433333333333334,5.2240000000000002,5.2240000000000002,5.2240000000000002,5.2240000000000002,3.4066666666666672,3.4066666666666672,3.4066666666666672,3.4066666666666672,0.65211842776927009,0.65211842776927009,0.65211842776927009,0.65211842776927009,0.65211842776927009,0.65211842776927009,0.65211842776927009,0.65211842776927009,0,0,0,0,0.65211842776927009,0,4037.1182016962152,4136.1258141529643,857.65486797996175,857.65486797996175,null,null,null,null,4.75,1,1,0.21737280925642335,0.21737280925642335,0.21737280925642335,0.21737280925642335,0.31940456924255739,0.31940456924255739,0.27791421038318642,null,null,3.4066666666666672,3.4066666666666672,3.4066666666666672,3.4066666666666672,null,7.6999999999999993,null,9.3000000000000007,6.3000000000000007,7,4.8999999999999986,2.3999999999999986,5.1999999999999993,{"$f":"SUM(BB313:BB332)/30","v":3.0133333333333332},0,3.9799999999999991,3.1233333333333335,2.7333333333333334,1.4766666666666661,2.2000000000000002,1.0533333333333332,null,null,"2016-11-09",25.7,0,4.3000000000000007]
["2016-02-09",8,8,8,8,22.333333333333332,5.26,5.26,5.26,5.26,3.2666666666666666,3.2666666666666666,3.2666666666666666,3.2666666666666666,0.62103929024081117,0.62103929024081117,0.62103929024081117,0.62103929024081117,0.62103929024081117,0.62103929024081117,0.62103929024081117,0.62103929024081117,0,0,0,0,0.62103929024081117,0,4052.0231446619946,4151.0307571187441,857.65486797996175,857.65486797996175,null,null,null,null,4.0928571428571434,1,1,0.20701309674693705,0.20701309674693705,0.20701309674693705,0.20701309674693705,0.33242892889457726,0.33242892889457726,0.25126338192314746,null,null,3.2666666666666666,3.2666666666666666,3.2666666666666666,3.2666666666666666,null,8,null,9.8000000000000007,8.5,7.3999999999999986,4.8000000000000007,6.8000000000000007,6.3999999999999986,{"$f":"SUM(BB314:BB333)/30","v":2.9033333333333333},0,3.9099999999999993,3.18,2.6000000000000005,1.3899999999999997,2.4466666666666668,1.2533333333333332,null,null,"2016-11-10",28,0,2]
["2016-02-10",4.6999999999999993,4.6999999999999993,4.6999999999999993,4.6999999999999993,23.433333333333334,4.8639999999999999,4.8639999999999999,4.8639999999999999,4.8639999999999999,4.8066666666666675,4.8066666666666675,4.8066666666666675,4.8066666666666675,0.98821271929824583,0.98821271929824583,0.98821271929824583,0.98821271929824583,0.98821271929824583,0.98821271929824583,0.98821271929824583,0.98821271929824583,0,0,0,0,0.98821271929824583,0,4075.7402499251525,4174.7478623819015,857.65486797996175,857.65486797996175,null,null,null,null,3.7142857142857144,1,1,0.32940423976608196,0.32940423976608196,0.32940423976608196,0.32940423976608196,0.35560455519038264,0.35560455519038264,0.30513973991739679,null,null,4.8066666666666675,4.8066666666666675,4.8066666666666675,4.8066666666666675,null,4.6999999999999993,null,5.5,5,3.8000000000000007,1.1000000000000014,6.1999999999999993,2.6999999999999993,{"$f":"SUM(BB315:BB334)/30","v":2.7400000000000007},0,3.9933333333333327,3.186666666666667,2.4333333333333331,1.2099999999999997,2.6666666666666661,1.3566666666666665,null,null,"2016-11-11",26.1,0,3.8999999999999986]
["2016-02-11",3.5,3.5,3.5,3.5,23.833333333333332,4.72,4.72,4.72,4.72,5.3666666666666663,5.3666666666666663,5.3666666666666663,5.3666666666666663,1.1370056497175141,1.1370056497175141,1.1370056497175141,1.1370056497175141,1.1370056497175141,1.1370056497175141,1.1370056497175141,1.1370056497175141,0,0,0,0,1.1370056497175141,0,4103.0283855183725,4202.035997975122,857.65486797996175,857.65486797996175,null,null,null,null,3.6571428571428579,1,1,0.37900188323917133,0.37900188323917133,0.37900188323917133,0.37900188323917133,0.33642903291888515,0.33642903291888515,0.39715147594524547,null,null,5.3666666666666663,5.3666666666666663,5.3666666666666663,5.3666666666666663,null,3.5,null,4.6999999999999993,3.3999999999999986,2.5,0.69999999999999929,2.3999999999999986,-0.30000000000000071,{"$f":"SUM(BB316:BB335)/30","v":2.7133333333333338},0,4.0133333333333336,3.2033333333333327,2.4099999999999997,1.1899999999999997,2.6799999999999997,1.3366666666666664,null,null,"2016-11-12",26.5,0,3.5]
["2016-02-12",1.1999999999999993,1.1999999999999993,1.1999999999999993,1.1999999999999993,24.6,4.444,4.444,4.444,4.444,6.44,6.44,6.44,6.44,1.4491449144914492,1.4491449144914492,1.4491449144914492,1.4491449144914492,1.4491449144914492,1.4491449144914492,1.4491449144914492,1.4491449144914492,0,0,0,0,1.4491449144914492,0,4137.807863466167,4236.8154759229164,857.65486797996175,857.65486797996175,null,null,null,null,3.5714285714285721,1,1,0.48304830483048306,0.48304830483048306,0.48304830483048306,0.48304830483048306,0.35016404806931695,0.35016404806931695,0.44202833847234579,null,null,6.44,6.44,6.44,6.44,null,1.1999999999999993,null,2.8999999999999986,1.6999999999999993,1.3000000000000007,-0.19999999999999929,1.8999999999999986,-1.8999999999999986,{"$f":"SUM(BB317:BB336)/30","v":2.7566666666666668},0,4.0699999999999994,3.3166666666666669,2.4499999999999988,1.1900000000000002,2.6999999999999988,1.3433333333333333,null,null,"2016-11-13",29,0,1]
["2016-02-13",1.6000000000000014,1.6000000000000014,1.6000000000000014,1.6000000000000014,24.466666666666669,4.492,4.492,4.492,4.492,6.2533333333333321,6.2533333333333321,6.2533333333333321,6.2533333333333321,1.3921044820421486,1.3921044820421486,1.3921044820421486,1.3921044820421486,1.3921044820421486,1.3921044820421486,1.3921044820421486,1.3921044820421486,0,0,0,0,1.3921044820421486,0,4171.2183710351783,4270.2259834919278,857.65486797996175,857.65486797996175,null,null,null,null,3.3857142857142861,1,1,0.46403482734738288,0.46403482734738288,0.46403482734738288,0.46403482734738288,0.39097787774469889,0.39097787774469889,0.40740373380786071,null,null,6.2533333333333321,6.2533333333333321,6.2533333333333321,6.2533333333333321,null,1.6000000000000014,null,3.8000000000000007,3.3999999999999986,1.3000000000000007,-0.5,3.1000000000000014,0.10000000000000142,{"$f":"SUM(BB318:BB337)/30","v":2.7833333333333337},0,4.2333333333333334,3.4233333333333329,2.4666666666666659,1.1900000000000002,2.8933333333333326,1.4233333333333333,null,null,"2016-11-14",29.1,0,0.89999999999999858]
["2016-02-14",6.1000000000000014,6.1000000000000014,6.1000000000000014,6.1000000000000014,22.966666666666665,5.032,5.032,5.032,5.032,4.1533333333333324,4.1533333333333324,4.1533333333333324,4.1533333333333324,0.82538420773714871,0.82538420773714871,0.82538420773714871,0.82538420773714871,0.82538420773714871,0.82538420773714871,0.82538420773714871,0.82538420773714871,0,0,0,0,0.82538420773714871,0,4191.0275920208696,4290.0352044776191,857.65486797996175,857.65486797996175,null,null,null,null,3.8642857142857148,1,1,0.27512806924571626,0.27512806924571626,0.27512806924571626,0.27512806924571626,0.42667366072682211,0.42667366072682211,0.35089360396751507,null,null,4.1533333333333324,4.1533333333333324,4.1533333333333324,4.1533333333333324,null,6.1000000000000014,null,5.1999999999999993,4.8999999999999986,5.8999999999999986,3.3999999999999986,4.3000000000000007,1.6999999999999993,{"$f":"SUM(BB319:BB338)/30","v":2.7066666666666666},0,4.3866666666666676,3.48,2.399999999999999,1.1633333333333333,2.9999999999999996,1.51,null,null,"2016-11-15",31.2,0,-1.1999999999999993]
["2016-02-15",5.1000000000000014,5.1000000000000014,5.1000000000000014,5.1000000000000014,23.3,4.9119999999999999,4.9119999999999999,4.9119999999999999,4.9119999999999999,4.6199999999999992,4.6199999999999992,4.6199999999999992,4.6199999999999992,0.94055374592833862,0.94055374592833862,0.94055374592833862,0.94055374592833862,0.94055374592833862,0.94055374592833862,0.94055374592833862,0.94055374592833862,0,0,0,0,0.94055374592833862,0,4213.6008819231502,4312.6084943798996,857.65486797996175,857.65486797996175,null,null,null,null,4.1000000000000005,1,1,0.31351791530944623,0.31351791530944623,0.31351791530944623,0.31351791530944623,0.43882122417085234,0.43882122417085234,0.36045196300992427,null,null,4.6199999999999992,4.6199999999999992,4.6199999999999992,4.6199999999999992,null,5.1000000000000014,null,7.1000000000000014,6.3000000000000007,4.8999999999999986,2.3999999999999986,7.3000000000000007,3.1000000000000014,{"$f":"SUM(BB320:BB339)/30","v":2.6900000000000004},0,4.3833333333333337,3.45,2.3933333333333326,1.1366666666666665,3.026666666666666,1.5366666666666664,null,null,"2016-11-16",30.3,0,-0.30000000000000071]
["2016-02-16",1,1,1,1,24.666666666666668,4.42,4.42,4.42,4.42,6.5333333333333332,6.5333333333333332,6.5333333333333332,6.5333333333333332,1.4781297134238311,1.4781297134238311,1.4781297134238311,1.4781297134238311,1.4781297134238311,1.4781297134238311,1.4781297134238311,1.4781297134238311,0,0,0,0,1.4781297134238311,0,4249.0759950453221,4348.0836075020716,857.65486797996175,857.65486797996175,null,null,null,null,3.6928571428571431,1,1,0.49270990447461038,0.49270990447461038,0.49270990447461038,0.49270990447461038,0.43344623733296156,0.43344623733296156,0.46183418014166716,null,null,6.5333333333333332,6.5333333333333332,6.5333333333333332,6.5333333333333332,null,1,null,5.1999999999999993,4.1000000000000014,0.5,-0.89999999999999858,5.3000000000000007,1,{"$f":"SUM(BB321:BB340)/30","v":2.5766666666666667},0,4.3733333333333331,3.4166666666666665,2.2899999999999996,1.0266666666666668,3.0433333333333339,1.5166666666666666,null,null,"2016-11-17",29.1,0,{"$f":"30-BU331","v":0.89999999999999858}]
["2016-02-17",-0.69999999999999929,-0.69999999999999929,-0.69999999999999929,-0.69999999999999929,25.233333333333334,4.2159999999999993,4.2159999999999993,4.2159999999999993,4.2159999999999993,7.3266666666666662,7.3266666666666662,7.3266666666666662,7.3266666666666662,1.7378241619228338,1.7378241619228338,1.7378241619228338,1.7378241619228338,1.7378241619228338,1.7378241619228338,1.7378241619228338,1.7378241619228338,0,0,0,0,1.7378241619228338,0,4290.7837749314704,4389.7913873882198,857.65486797996175,857.65486797996175,null,null,null,null,3.4928571428571429,1,1,0.57927472064094465,0.57927472064094465,0.57927472064094465,0.57927472064094465,0.42563507987564947,0.42563507987564947,0.51200648415431271,null,null,7.3266666666666662,7.3266666666666662,7.3266666666666662,7.3266666666666662,null,-0.69999999999999929,null,3.8999999999999986,3.3000000000000007,-0.60000000000000142,-2.1000000000000014,6.5,1,{"$f":"SUM(BB322:BB341)/30","v":2.3733333333333331},0,4.3133333333333335,3.2966666666666673,2.0766666666666662,0.83666666666666667,3.063333333333333,1.4833333333333336,null,null,"2016-11-18",26.2,0,3.8000000000000007]
["2016-02-18",1.6000000000000014,1.6000000000000014,1.6000000000000014,1.6000000000000014,24.466666666666669,4.492,4.492,4.492,4.492,6.2533333333333321,6.2533333333333321,6.2533333333333321,6.2533333333333321,1.3921044820421486,1.3921044820421486,1.3921044820421486,1.3921044820421486,1.3921044820421486,1.3921044820421486,1.3921044820421486,1.3921044820421486,0,0,0,0,1.3921044820421486,0,4324.1942825004817,4423.2018949572312,857.65486797996175,857.65486797996175,null,null,null,null,3.2285714285714286,1,1,0.46403482734738288,0.46403482734738288,0.46403482734738288,0.46403482734738288,0.40879839024484227,0.40879839024484227,0.49624431498452487,null,null,6.2533333333333321,6.2533333333333321,6.2533333333333321,6.2533333333333321,null,1.6000000000000014,null,4.3999999999999986,6.1000000000000014,0.69999999999999929,0.30000000000000071,8.1000000000000014,6,{"$f":"SUM(BB323:BB342)/30","v":2.2600000000000002},0,4.1433333333333335,3.1466666666666669,1.9699999999999993,0.7333333333333335,3.0166666666666671,1.31,null,null,"2016-11-19",20.6,0,9.3999999999999986]
["2016-02-19",2,2,2,2,24.333333333333332,4.54,4.54,4.54,4.54,6.0666666666666664,6.0666666666666664,6.0666666666666664,6.0666666666666664,1.3362701908957415,1.3362701908957415,1.3362701908957415,1.3362701908957415,1.3362701908957415,1.3362701908957415,1.3362701908957415,1.3362701908957415,0,0,0,0,1.3362701908957415,0,4356.2647670819797,4455.2723795387292,857.65486797996175,857.65486797996175,null,null,null,null,3.0928571428571439,1,1,0.44542339696524719,0.44542339696524719,0.44542339696524719,0.44542339696524719,0.37982664490125134,0.37982664490125134,0.439604983152943,null,null,6.0666666666666664,6.0666666666666664,6.0666666666666664,6.0666666666666664,null,2,null,4,3.3000000000000007,1.3999999999999986,-0.89999999999999858,6.6999999999999993,3.1000000000000014,{"$f":"SUM(BB324:BB343)/30","v":2.0433333333333334},0,4.0599999999999996,3.1466666666666665,1.7566666666666666,0.54333333333333345,3.1266666666666669,1.2166666666666666,null,null,"2016-11-20",21.1,0,8.8999999999999986]
["2016-02-20",2.8000000000000007,2.8000000000000007,2.8000000000000007,2.8000000000000007,24.066666666666666,4.6359999999999992,4.6359999999999992,4.6359999999999992,4.6359999999999992,5.6933333333333325,5.6933333333333325,5.6933333333333325,5.6933333333333325,1.2280701754385965,1.2280701754385965,1.2280701754385965,1.2280701754385965,1.2280701754385965,1.2280701754385965,1.2280701754385965,1.2280701754385965,0,0,0,0,1.2280701754385965,0,4385.7384512925064,4484.7460637492559,857.65486797996175,857.65486797996175,null,null,null,null,2.9357142857142859,1,1,0.40935672514619886,0.40935672514619886,0.40935672514619886,0.40935672514619886,0.37111395236502936,0.37111395236502936,0.33735045464717045,null,null,5.6933333333333325,5.6933333333333325,5.6933333333333325,5.6933333333333325,null,2.8000000000000007,null,6,4.5,2.1999999999999993,0.60000000000000142,2,-0.60000000000000142,{"$f":"SUM(BB325:BB344)/30","v":1.8366666666666664},0,3.9833333333333325,3.02,1.5666666666666667,0.39000000000000007,3.1333333333333333,1.1000000000000003,null,null,"2016-11-21",22.3,0,7.6999999999999993]
["2016-02-21",9.5,9.5,9.5,9.5,21.833333333333332,5.4399999999999995,5.4399999999999995,5.4399999999999995,5.4399999999999995,2.5666666666666669,2.5666666666666669,2.5666666666666669,2.5666666666666669,0.47181372549019618,0.47181372549019618,0.47181372549019618,0.47181372549019618,0.47181372549019618,0.47181372549019618,0.47181372549019618,0.47181372549019618,0,0,0,0,0.47181372549019618,0,4397.0619807042713,4496.0695931610207,857.65486797996175,857.65486797996175,null,null,null,null,2.5857142857142859,1,1,0.15727124183006538,0.15727124183006538,0.15727124183006538,0.15727124183006538,0.35265174397013987,0.35265174397013987,0.22578122162685801,null,null,2.5666666666666669,2.5666666666666669,2.5666666666666669,2.5666666666666669,null,9.5,null,11.5,8.8000000000000007,9.3999999999999986,7.6999999999999993,3.3999999999999986,2.8999999999999986,{"$f":"SUM(BB326:BB345)/30","v":1.6566666666666663},0,3.9266666666666654,2.92,1.4066666666666663,0.29000000000000009,3.1300000000000003,1.0533333333333335,null,null,"2016-11-22",24.9,0,5.1000000000000014]
["2016-02-22",11,11,11,11,21.333333333333332,5.62,5.62,5.62,5.62,1.8666666666666667,1.8666666666666667,1.8666666666666667,1.8666666666666667,0.33214709371293,0.33214709371293,0.33214709371293,0.33214709371293,0.33214709371293,0.33214709371293,0.33214709371293,0.33214709371293,0,0,0,0,0.33214709371293,0,4405.0335109533817,4504.0411234101311,857.65486797996175,857.65486797996175,null,null,null,null,2.3500000000000005,1,1,0.11071569790431,0.11071569790431,0.11071569790431,0.11071569790431,0.36535492193041769,0.36535492193041769,0.23323599881847737,null,null,1.8666666666666667,1.8666666666666667,1.8666666666666667,1.8666666666666667,null,11,null,14.7,11.399999999999999,10.199999999999999,7.6999999999999993,9.5,9.1999999999999993,{"$f":"SUM(BB327:BB346)/30","v":1.5966666666666665},0,3.9499999999999988,2.9033333333333342,1.4033333333333329,0.31000000000000016,3.1266666666666665,1.0933333333333333,null,null,"2016-11-23",26.3,0,3.6999999999999993]
["2016-02-23",2.3000000000000007,2.3000000000000007,2.3000000000000007,2.3000000000000007,24.233333333333334,4.5759999999999996,4.5759999999999996,4.5759999999999996,4.5759999999999996,5.9266666666666659,5.9266666666666659,5.9266666666666659,5.9266666666666659,1.2951631701631701,1.2951631701631701,1.2951631701631701,1.2951631701631701,1.2951631701631701,1.2951631701631701,1.2951631701631701,1.2951631701631701,0,0,0,0,1.2951631701631701,0,4436.1174270372976,4535.1250394940471,857.65486797996175,857.65486797996175,null,null,null,null,2.2285714285714286,1,1,0.43172105672105671,0.43172105672105671,0.43172105672105671,0.43172105672105671,0.38447653959837436,0.38447653959837436,0.3308253388340282,null,null,5.9266666666666659,5.9266666666666659,5.9266666666666659,5.9266666666666659,null,2.3000000000000007,null,12,7.5,1.8999999999999986,1.1000000000000014,7.3000000000000007,7.1999999999999993,{"$f":"SUM(BB328:BB347)/30","v":1.6533333333333333},0,3.9966666666666653,2.9666666666666668,1.4333333333333329,0.31000000000000016,3.2400000000000007,1.2233333333333336,null,null,"2016-11-24",26.9,0,3.1000000000000014]
["2016-02-24",1.8999999999999986,1.8999999999999986,1.8999999999999986,1.8999999999999986,24.366666666666667,4.5279999999999996,4.5279999999999996,4.5279999999999996,4.5279999999999996,6.1133333333333342,6.1133333333333342,6.1133333333333342,6.1133333333333342,1.3501177856301534,1.3501177856301534,1.3501177856301534,1.3501177856301534,1.3501177856301534,1.3501177856301534,1.3501177856301534,1.3501177856301534,0,0,0,0,1.3501177856301534,0,4468.5202538924214,4567.5278663491708,857.65486797996175,857.65486797996175,null,null,null,null,2.4,1,1,0.45003926187671778,0.45003926187671778,0.45003926187671778,0.45003926187671778,0.40799006956014416,0.40799006956014416,0.47823913055570072,null,null,6.1133333333333342,6.1133333333333342,6.1133333333333342,6.1133333333333342,null,1.8999999999999986,null,4.3999999999999986,2.3999999999999986,1.5,-0.80000000000000071,3.1999999999999993,0,{"$f":"SUM(BB329:BB348)/30","v":1.6999999999999997},0,4.0133333333333328,2.9733333333333332,1.4633333333333332,0.29666666666666686,3.3366666666666664,1.2800000000000002,null,null,"2016-11-25",24.1,0,5.8999999999999986]
["2016-02-25",-0.19999999999999929,-0.19999999999999929,-0.19999999999999929,-0.19999999999999929,25.066666666666666,4.2759999999999998,4.2759999999999998,4.2759999999999998,4.2759999999999998,7.0933333333333328,7.0933333333333328,7.0933333333333328,7.0933333333333328,1.6588712192079824,1.6588712192079824,1.6588712192079824,1.6588712192079824,1.6588712192079824,1.6588712192079824,1.6588712192079824,1.6588712192079824,0,0,0,0,1.6588712192079824,0,4508.3331631534129,4607.3407756101624,857.65486797996175,857.65486797996175,null,null,null,null,2.4928571428571429,1,1,0.55295707306932751,0.55295707306932751,0.55295707306932751,0.55295707306932751,0.45452964998877532,0.45452964998877532,0.52742368519566341,null,null,7.0933333333333328,7.0933333333333328,7.0933333333333328,7.0933333333333328,null,-0.19999999999999929,null,3.6000000000000014,1.3999999999999986,-0.60000000000000142,-2.6000000000000014,0.89999999999999858,-2.7999999999999972,{"$f":"SUM(BB330:BB349)/30","v":1.6},0,4.0933333333333319,2.9899999999999998,1.3733333333333329,0.21000000000000027,3.3066666666666671,1.31,null,null,"2016-11-26",26.1,0,3.8999999999999986]
["2016-02-26",-0.69999999999999929,-0.69999999999999929,-0.69999999999999929,-0.69999999999999929,25.233333333333334,4.2159999999999993,4.2159999999999993,4.2159999999999993,4.2159999999999993,7.3266666666666662,7.3266666666666662,7.3266666666666662,7.3266666666666662,1.7378241619228338,1.7378241619228338,1.7378241619228338,1.7378241619228338,1.7378241619228338,1.7378241619228338,1.7378241619228338,1.7378241619228338,0,0,0,0,1.7378241619228338,0,4550.0409430395612,4649.0485554963107,857.65486797996175,857.65486797996175,null,null,null,null,2.5642857142857141,1,1,0.57927472064094465,0.57927472064094465,0.57927472064094465,0.57927472064094465,0.50366735850444877,0.50366735850444877,0.56872774286295324,null,null,7.3266666666666662,7.3266666666666662,7.3266666666666662,7.3266666666666662,null,-0.69999999999999929,null,2.8000000000000007,0.69999999999999929,-0.80000000000000071,-2.3999999999999986,1.6999999999999993,-2.3999999999999986,{"$f":"SUM(BB331:BB350)/30","v":1.5366666666666668},0,4.1166666666666654,2.996666666666667,1.306666666666666,0.15000000000000036,3.2566666666666668,1.3233333333333335,null,null,"2016-11-27",26,0,4]
["2016-02-27",-0.60000000000000142,-0.60000000000000142,-0.60000000000000142,-0.60000000000000142,25.2,4.2279999999999998,4.2279999999999998,4.2279999999999998,4.2279999999999998,7.2800000000000011,7.2800000000000011,7.2800000000000011,7.2800000000000011,1.7218543046357619,1.7218543046357619,1.7218543046357619,1.7218543046357619,1.7218543046357619,1.7218543046357619,1.7218543046357619,1.7218543046357619,0,0,0,0,1.7218543046357619,0,4591.3654463508192,4690.3730588075687,857.65486797996175,857.65486797996175,null,null,null,null,2.5857142857142854,1,1,0.57395143487858735,0.57395143487858735,0.57395143487858735,0.57395143487858735,0.52474645335014702,0.52474645335014702,0.54542482011667159,null,null,7.2800000000000011,7.2800000000000011,7.2800000000000011,7.2800000000000011,null,-0.60000000000000142,null,3.5,1.3999999999999986,-0.80000000000000071,-2.2999999999999972,1.5,-2.2999999999999972,{"$f":"SUM(BB332:BB351)/30","v":1.5600000000000003},0,4.0733333333333324,2.9633333333333334,1.3533333333333326,0.19333333333333361,3.2666666666666666,1.3633333333333335,null,null,"2016-11-28",29.1,0,0.89999999999999858]
["2016-02-28",1.1999999999999993,1.1999999999999993,1.1999999999999993,1.1999999999999993,24.6,4.444,4.444,4.444,4.444,6.44,6.44,6.44,6.44,1.4491449144914492,1.4491449144914492,1.4491449144914492,1.4491449144914492,1.4491449144914492,1.4491449144914492,1.4491449144914492,1.4491449144914492,0,0,0,0,1.4491449144914492,0,4626.1449242986137,4725.1525367553631,857.65486797996175,857.65486797996175,null,null,null,null,2.1357142857142857,1,1,0.48304830483048306,0.48304830483048306,0.48304830483048306,0.48304830483048306,0.52607581307471418,0.52607581307471418,0.50389313240769817,null,null,6.44,6.44,6.44,6.44,null,1.1999999999999993,null,6.8000000000000007,6.3000000000000007,0.60000000000000142,-0.80000000000000071,5.6999999999999993,2.3999999999999986,{"$f":"SUM(BB333:BB352)/30","v":1.6166666666666667},0,4.0599999999999987,2.9299999999999997,1.4066666666666663,0.21000000000000027,3.2666666666666666,1.4333333333333336,null,null,"2016-11-29",30.3,0,-0.30000000000000071]
["2016-02-29",1.8000000000000007,1.8000000000000007,1.8000000000000007,1.8000000000000007,24.4,4.516,4.516,4.516,4.516,6.1599999999999993,6.1599999999999993,6.1599999999999993,6.1599999999999993,1.3640389725420725,1.3640389725420725,1.3640389725420725,1.3640389725420725,1.3640389725420725,1.3640389725420725,1.3640389725420725,1.3640389725420725,0,0,0,0,1.3640389725420725,0,4658.8818596396231,4757.8894720963726,857.65486797996175,857.65486797996175,null,null,null,null,1.4714285714285713,1,1,0.45467965751402417,0.45467965751402417,0.45467965751402417,0.45467965751402417,0.50493239491009612,0.50493239491009612,0.50566756099515076,null,null,6.1599999999999993,6.1599999999999993,6.1599999999999993,6.1599999999999993,null,1.8000000000000007,null,7.5,4.6999999999999993,1.6999999999999993,0.19999999999999929,7,2.8999999999999986,{"$f":"SUM(BB334:BB353)/30","v":1.5700000000000003},0,4.01,2.82,1.3899999999999997,0.1300000000000002,3.2566666666666668,1.3233333333333335,null,null,"2016-11-30",29.9,0,0.10000000000000142]
["2016-03-01",-0.69999999999999929,-0.69999999999999929,-0.69999999999999929,-0.69999999999999929,25.233333333333334,4.2159999999999993,4.2159999999999993,4.2159999999999993,4.2159999999999993,7.3266666666666662,7.3266666666666662,7.3266666666666662,7.3266666666666662,1.7378241619228338,1.7378241619228338,1.7378241619228338,1.7378241619228338,1.7378241619228338,1.7378241619228338,1.7378241619228338,1.7378241619228338,0,0,0,0,1.7378241619228338,0,4700.5896395257714,4799.5972519825209,857.65486797996175,857.65486797996175,null,null,null,null,1.3785714285714283,1,1,0.57927472064094465,0.57927472064094465,0.57927472064094465,0.57927472064094465,0.47940346997079092,0.47940346997079092,0.49776638603455209,null,null,7.3266666666666662,7.3266666666666662,7.3266666666666662,7.3266666666666662,null,-0.69999999999999929,null,3.8000000000000007,2,-1,-1.8999999999999986,6.1000000000000014,1.3000000000000007,{"$f":"SUM(BB335:BB354)/30","v":1.6433333333333338},0,4.0233333333333325,2.8966666666666669,1.4799999999999995,0.21666666666666679,3.2799999999999994,1.3133333333333335,null,null,"2016-12-01",30.5,0,-0.5]
["2016-03-02",1.6999999999999993,1.6999999999999993,1.6999999999999993,1.6999999999999993,24.433333333333334,4.5039999999999996,4.5039999999999996,4.5039999999999996,4.5039999999999996,6.206666666666667,6.206666666666667,6.206666666666667,6.206666666666667,1.378034339846063,1.378034339846063,1.378034339846063,1.378034339846063,1.378034339846063,1.378034339846063,1.378034339846063,1.378034339846063,0,0,0,0,1.378034339846063,0,4733.662463682077,4832.6700761388265,857.65486797996175,857.65486797996175,null,null,null,null,1.2571428571428569,1,1,0.45934477994868766,0.45934477994868766,0.45934477994868766,0.45934477994868766,0.45401238653629822,0.45401238653629822,0.48119088216887779,null,null,6.206666666666667,6.206666666666667,6.206666666666667,6.206666666666667,null,1.6999999999999993,null,5.3999999999999986,2.8999999999999986,2.3999999999999986,1.3000000000000007,2.3000000000000007,0.89999999999999858,{"$f":"SUM(BB336:BB355)/30","v":1.6900000000000002},0,4.04,2.9466666666666659,1.5233333333333332,0.26666666666666677,3.5166666666666657,1.5066666666666668,null,null,"2016-12-02",27.4,0,2.6000000000000014]
["2016-03-03",2.8999999999999986,2.8999999999999986,2.8999999999999986,2.8999999999999986,24.033333333333335,4.6479999999999997,4.6479999999999997,4.6479999999999997,4.6479999999999997,5.6466666666666674,5.6466666666666674,5.6466666666666674,5.6466666666666674,1.2148594377510042,1.2148594377510042,1.2148594377510042,1.2148594377510042,1.2148594377510042,1.2148594377510042,1.2148594377510042,1.2148594377510042,0,0,0,0,1.2148594377510042,0,4762.8190901881007,4861.8267026448502,857.65486797996175,857.65486797996175,null,null,null,null,1.5714285714285712,1,1,0.40495314591700143,0.40495314591700143,0.40495314591700143,0.40495314591700143,0.44098802688427835,0.44098802688427835,0.42162339064383242,null,null,5.6466666666666674,5.6466666666666674,5.6466666666666674,5.6466666666666674,null,2.8999999999999986,null,4.3000000000000007,3.6000000000000014,2.1999999999999993,-0.19999999999999929,5.3000000000000007,2,{"$f":"SUM(BB337:BB356)/30","v":1.4766666666666668},0,3.8466666666666662,2.8266666666666667,1.2999999999999996,3.6666666666666833E-2,3.6166666666666667,1.5166666666666671,null,null,"2016-12-03",30.3,0,-0.30000000000000071]
["2016-03-04",3,3,3,3,24,4.66,4.66,4.66,4.66,5.6,5.6,5.6,5.6,1.2017167381974247,1.2017167381974247,1.2017167381974247,1.2017167381974247,1.2017167381974247,1.2017167381974247,1.2017167381974247,1.2017167381974247,0,0,0,0,1.2017167381974247,0,4791.6602919048391,4890.6679043615886,857.65486797996175,857.65486797996175,null,null,null,null,1.921428571428571,1,1,0.40057224606580827,0.40057224606580827,0.40057224606580827,0.40057224606580827,0.44165447294637322,0.44165447294637322,0.40057974760664927,null,null,5.6,5.6,5.6,5.6,null,3,null,4.3000000000000007,3.6000000000000014,2.1999999999999993,-0.89999999999999858,6,1.8000000000000007,{"$f":"SUM(BB338:BB357)/30","v":1.2033333333333331},0,3.5333333333333332,2.6099999999999994,1.0399999999999996,-0.16666666666666644,3.5,1.2633333333333339,null,null,"2016-12-04",32.799999999999997,0,-2.7999999999999972]
["2016-03-05",3.1000000000000014,3.1000000000000014,3.1000000000000014,3.1000000000000014,23.966666666666665,4.6720000000000006,4.6720000000000006,4.6720000000000006,4.6720000000000006,5.5533333333333319,5.5533333333333319,5.5533333333333319,5.5533333333333319,1.1886415525114151,1.1886415525114151,1.1886415525114151,1.1886415525114151,1.1886415525114151,1.1886415525114151,1.1886415525114151,1.1886415525114151,0,0,0,0,1.1886415525114151,0,4820.1876891651127,4919.1953016218622,857.65486797996175,857.65486797996175,null,null,null,null,2.1857142857142855,1,1,0.39621385083713839,0.39621385083713839,0.39621385083713839,0.39621385083713839,0.42928807063689683,0.42928807063689683,0.39622129472309692,null,null,5.5533333333333319,5.5533333333333319,5.5533333333333319,5.5533333333333319,null,3.1000000000000014,null,7.6000000000000014,5.3999999999999986,3.1999999999999993,0.80000000000000071,3.3999999999999986,2.6000000000000014,{"$f":"SUM(BB339:BB358)/30","v":1.2133333333333334},0,3.2866666666666675,2.5133333333333328,1.0466666666666664,-0.1733333333333332,3.416666666666667,1.0233333333333337,null,null,"2016-12-05",34.799999999999997,0,-4.7999999999999972]
["2016-03-06",3.1999999999999993,3.1999999999999993,3.1999999999999993,3.1999999999999993,23.933333333333334,4.6840000000000002,4.6840000000000002,4.6840000000000002,4.6840000000000002,5.5066666666666668,5.5066666666666668,5.5066666666666668,5.5066666666666668,1.1756333617990322,1.1756333617990322,1.1756333617990322,1.1756333617990322,1.1756333617990322,1.1756333617990322,1.1756333617990322,1.1756333617990322,0,0,0,0,1.1756333617990322,0,4848.4028898482893,4947.4105023050388,857.65486797996175,857.65486797996175,null,null,null,null,2.3000000000000003,1,1,0.39187778726634409,0.39187778726634409,0.39187778726634409,0.39187778726634409,0.43972864793715111,0.43972864793715111,0.41581213935072342,null,null,5.5066666666666668,5.5066666666666668,5.5066666666666668,5.5066666666666668,null,3.1999999999999993,null,7.8000000000000007,6.5,2.8999999999999986,0.60000000000000142,5.8000000000000007,3.5,{"$f":"SUM(BB340:BB359)/30","v":1.22},0,3.2300000000000009,2.5233333333333334,1.0599999999999996,-0.1233333333333332,3.3766666666666665,0.99666666666666681,null,null,"2016-12-06",34.9,0,-4.8999999999999986]
["2016-03-07",1.6999999999999993,1.6999999999999993,1.6999999999999993,1.6999999999999993,24.433333333333334,4.5039999999999996,4.5039999999999996,4.5039999999999996,4.5039999999999996,6.206666666666667,6.206666666666667,6.206666666666667,6.206666666666667,1.378034339846063,1.378034339846063,1.378034339846063,1.378034339846063,1.378034339846063,1.378034339846063,1.378034339846063,1.378034339846063,0,0,0,0,1.378034339846063,0,4881.4757140045949,4980.4833264613444,857.65486797996175,857.65486797996175,null,null,null,null,2.3571428571428572,1,1,0.45934477994868766,0.45934477994868766,0.45934477994868766,0.45934477994868766,0.43183656654708119,0.43183656654708119,0.44797749056321406,null,null,6.206666666666667,6.206666666666667,6.206666666666667,6.206666666666667,null,1.6999999999999993,null,3.8999999999999986,3.1000000000000014,1.8999999999999986,0.39999999999999858,5.6000000000000014,2.1999999999999993,{"$f":"SUM(BB341:BB360)/30","v":1.3133333333333332},0,3.2366666666666664,2.58,1.1633333333333331,-9.9999999999997868E-3,3.5099999999999993,1.1066666666666667,null,null,"2016-12-07",32.6,0,-2.6000000000000014]
["2016-03-08",1,1,1,1,24.666666666666668,4.42,4.42,4.42,4.42,6.5333333333333332,6.5333333333333332,6.5333333333333332,6.5333333333333332,1.4781297134238311,1.4781297134238311,1.4781297134238311,1.4781297134238311,1.4781297134238311,1.4781297134238311,1.4781297134238311,1.4781297134238311,0,0,0,0,1.4781297134238311,0,4916.9508271267669,5015.9584395835163,857.65486797996175,857.65486797996175,null,null,null,null,2.5571428571428574,1,1,0.49270990447461038,0.49270990447461038,0.49270990447461038,0.49270990447461038,0.42457032799289596,0.42457032799289596,0.494827835157922,null,null,6.5333333333333332,6.5333333333333332,6.5333333333333332,6.5333333333333332,null,1,null,3.5,2.3000000000000007,1,-1.6000000000000014,6.5,3.1000000000000014,{"$f":"SUM(BB342:BB361)/30","v":1.45},0,3.3033333333333328,2.7033333333333331,1.2899999999999996,0.17666666666666681,3.6233333333333331,1.2499999999999998,null,null,"2016-12-08",33,0,-3]
["2016-03-09",0.19999999999999929,0.19999999999999929,0.19999999999999929,0.19999999999999929,24.933333333333334,4.3239999999999998,4.3239999999999998,4.3239999999999998,4.3239999999999998,6.9066666666666672,6.9066666666666672,6.9066666666666672,6.9066666666666672,1.5972864631514032,1.5972864631514032,1.5972864631514032,1.5972864631514032,1.5972864631514032,1.5972864631514032,1.5972864631514032,1.5972864631514032,0,0,0,0,1.5972864631514032,0,4955.2857022424005,5054.29331469915,857.65486797996175,857.65486797996175,null,null,null,null,2.6214285714285714,1,1,0.53242882105046774,0.53242882105046774,0.53242882105046774,0.53242882105046774,0.4245703279928959,0.4245703279928959,0.45828243390386331,null,null,6.9066666666666672,6.9066666666666672,6.9066666666666672,6.9066666666666672,null,0.19999999999999929,null,2.8999999999999986,2.8000000000000007,0.19999999999999929,-2.1000000000000014,7.8000000000000007,2.6999999999999993,{"$f":"SUM(BB343:BB362)/30","v":1.6166666666666667},0,3.4299999999999993,2.873333333333334,1.4733333333333329,0.38000000000000006,3.7833333333333328,1.4799999999999998,null,null,"2016-12-09",32.4,0,-2.3999999999999986]
["2016-03-10",4.1999999999999993,4.1999999999999993,4.1999999999999993,4.1999999999999993,23.6,4.8040000000000003,4.8040000000000003,4.8040000000000003,4.8040000000000003,5.0400000000000009,5.0400000000000009,5.0400000000000009,5.0400000000000009,1.0491257285595339,1.0491257285595339,1.0491257285595339,1.0491257285595339,1.0491257285595339,1.0491257285595339,1.0491257285595339,1.0491257285595339,0,0,0,0,1.0491257285595339,0,4980.4647197278291,5079.4723321845786,857.65486797996175,857.65486797996175,null,null,null,null,2.6571428571428575,1,1,0.3497085761865113,0.3497085761865113,0.3497085761865113,0.3497085761865113,0.42706731911858936,0.42706731911858936,0.41061532447449695,null,null,5.0400000000000009,5.0400000000000009,5.0400000000000009,5.0400000000000009,null,4.1999999999999993,null,4.3999999999999986,5.6000000000000014,4.1000000000000014,1.6999999999999993,7.3999999999999986,2.8000000000000007,{"$f":"SUM(BB344:BB363)/30","v":1.7233333333333334},0,3.4166666666666665,2.7866666666666671,1.5533333333333332,0.47333333333333344,3.6966666666666668,1.4166666666666667,null,null,"2016-12-10",31.6,0,-1.6000000000000014]
["2016-03-11",4.1999999999999993,4.1999999999999993,4.1999999999999993,4.1999999999999993,23.6,4.8040000000000003,4.8040000000000003,4.8040000000000003,4.8040000000000003,5.0400000000000009,5.0400000000000009,5.0400000000000009,5.0400000000000009,1.0491257285595339,1.0491257285595339,1.0491257285595339,1.0491257285595339,1.0491257285595339,1.0491257285595339,1.0491257285595339,1.0491257285595339,0,0,0,0,1.0491257285595339,0,5005.6437372132577,5104.6513496700072,857.65486797996175,857.65486797996175,null,null,null,null,2.7571428571428571,1,1,0.3497085761865113,0.3497085761865113,0.3497085761865113,0.3497085761865113,0.42119415481941763,0.42119415481941763,0.36521033440338702,null,null,5.0400000000000009,5.0400000000000009,5.0400000000000009,5.0400000000000009,null,4.1999999999999993,null,6.5,6,3.5,2.1000000000000014,9.1000000000000014,5.1999999999999993,{"$f":"SUM(BB345:BB364)/30","v":1.79},0,3.4099999999999997,2.7400000000000007,1.6066666666666662,0.52666666666666684,3.5733333333333324,1.3533333333333337,null,null,"2016-12-11",30.2,0,-0.19999999999999929]
["2016-03-12",3.1000000000000014,3.1000000000000014,3.1000000000000014,3.1000000000000014,23.966666666666665,4.6720000000000006,4.6720000000000006,4.6720000000000006,4.6720000000000006,5.5533333333333319,5.5533333333333319,5.5533333333333319,5.5533333333333319,1.1886415525114151,1.1886415525114151,1.1886415525114151,1.1886415525114151,1.1886415525114151,1.1886415525114151,1.1886415525114151,1.1886415525114151,0,0,0,0,1.1886415525114151,0,5034.1711344735313,5133.1787469302808,857.65486797996175,857.65486797996175,null,null,null,null,2.85,1,1,0.39621385083713839,0.39621385083713839,0.39621385083713839,0.39621385083713839,0.41378300686242042,0.41378300686242042,0.38509305072328287,null,null,5.5533333333333319,5.5533333333333319,5.5533333333333319,5.5533333333333319,null,3.1000000000000014,null,5.6999999999999993,5.1999999999999993,2.6999999999999993,0.80000000000000071,6.3999999999999986,3.1999999999999993,{"$f":"SUM(BB346:BB365)/30","v":2.0066666666666668},0,3.546666666666666,2.9033333333333333,1.803333333333333,0.69666666666666677,3.546666666666666,1.3900000000000001,null,null,"2016-12-12",30.4,0,-0.39999999999999858]
["2016-03-13",2.8000000000000007,2.8000000000000007,2.8000000000000007,2.8000000000000007,24.066666666666666,4.6359999999999992,4.6359999999999992,4.6359999999999992,4.6359999999999992,5.6933333333333325,5.6933333333333325,5.6933333333333325,5.6933333333333325,1.2280701754385965,1.2280701754385965,1.2280701754385965,1.2280701754385965,1.2280701754385965,1.2280701754385965,1.2280701754385965,1.2280701754385965,0,0,0,0,1.2280701754385965,0,5063.644818684058,5162.6524311408075,857.65486797996175,857.65486797996175,null,null,null,null,2.8928571428571428,1,1,0.40935672514619886,0.40935672514619886,0.40935672514619886,0.40935672514619886,0.39746926526299442,0.39746926526299442,0.40793440194594099,null,null,5.6933333333333325,5.6933333333333325,5.6933333333333325,5.6933333333333325,null,2.8000000000000007,null,5.3000000000000007,4.8999999999999986,2.3999999999999986,1.6000000000000014,6,1.6000000000000014,{"$f":"SUM(BB347:BB366)/30","v":2.1333333333333333},0,3.6199999999999988,3.0266666666666668,1.8833333333333333,0.7400000000000001,3.6633333333333331,1.4466666666666665,null,null,"2016-12-13",34.5,0,-4.5]
["2016-03-14",2.6000000000000014,2.6000000000000014,2.6000000000000014,2.6000000000000014,24.133333333333333,4.6120000000000001,4.6120000000000001,4.6120000000000001,4.6120000000000001,5.7866666666666653,5.7866666666666653,5.7866666666666653,5.7866666666666653,1.2546978895634573,1.2546978895634573,1.2546978895634573,1.2546978895634573,1.2546978895634573,1.2546978895634573,1.2546978895634573,1.2546978895634573,0,0,0,0,1.2546978895634573,0,5093.7575680335813,5192.7651804903307,857.65486797996175,857.65486797996175,null,null,null,null,3.1857142857142855,1,1,0.41823262985448578,0.41823262985448578,0.41823262985448578,0.41823262985448578,0.40226403610163841,0.40226403610163841,0.4228070745921047,null,null,5.7866666666666653,5.7866666666666653,5.7866666666666653,5.7866666666666653,null,2.6000000000000014,null,4.6000000000000014,4.6000000000000014,2.1000000000000014,0.89999999999999858,4.8000000000000007,0,{"$f":"SUM(BB348:BB367)/30","v":2.1866666666666665},0,3.6866666666666652,3.066666666666666,1.94,0.81666666666666676,3.6666666666666656,1.4100000000000001,null,null,"2016-12-14",34.700000000000003,0,-4.7000000000000028]
["2016-03-15",2.1000000000000014,2.1000000000000014,2.1000000000000014,2.1000000000000014,24.3,4.5519999999999996,4.5519999999999996,4.5519999999999996,4.5519999999999996,6.0199999999999987,6.0199999999999987,6.0199999999999987,6.0199999999999987,1.3224956063268891,1.3224956063268891,1.3224956063268891,1.3224956063268891,1.3224956063268891,1.3224956063268891,1.3224956063268891,1.3224956063268891,0,0,0,0,1.3224956063268891,0,5125.4974625854265,5224.505075042176,857.65486797996175,857.65486797996175,null,null,null,null,3.5071428571428567,1,1,0.44083186877562969,0.44083186877562969,0.44083186877562969,0.44083186877562969,0.40109513691417281,0.40109513691417281,0.42576570949486708,null,null,6.0199999999999987,6.0199999999999987,6.0199999999999987,6.0199999999999987,null,2.1000000000000014,null,2.6999999999999993,2.6999999999999993,1.8999999999999986,0.69999999999999929,2,-0.80000000000000071,{"$f":"SUM(BB349:BB368)/30","v":2.2233333333333332},0,3.7633333333333328,3.1233333333333331,1.9933333333333332,0.92666666666666664,3.5833333333333326,1.4,null,null,"2016-12-15",31.2,0,-1.1999999999999993]
["2016-03-16",2.6000000000000014,2.6000000000000014,2.6000000000000014,2.6000000000000014,24.133333333333333,4.6120000000000001,4.6120000000000001,4.6120000000000001,4.6120000000000001,5.7866666666666653,5.7866666666666653,5.7866666666666653,5.7866666666666653,1.2546978895634573,1.2546978895634573,1.2546978895634573,1.2546978895634573,1.2546978895634573,1.2546978895634573,1.2546978895634573,1.2546978895634573,0,0,0,0,1.2546978895634573,0,5155.6102119349498,5254.6178243916993,857.65486797996175,857.65486797996175,null,null,null,null,3.8142857142857136,1,1,0.41823262985448578,0.41823262985448578,0.41823262985448578,0.41823262985448578,0.39328262706233186,0.39328262706233186,0.41411215689571135,null,null,5.7866666666666653,5.7866666666666653,5.7866666666666653,5.7866666666666653,null,2.6000000000000014,null,3.8000000000000007,3.1000000000000014,2.5,0.80000000000000071,4.8999999999999986,0.5,{"$f":"SUM(BB350:BB369)/30","v":2.2800000000000002},0,3.7499999999999996,3.1399999999999997,2.0433333333333334,0.99,3.6133333333333328,1.3633333333333333,null,null,"2016-12-16",31.2,0,-1.1999999999999993]
["2016-03-17",3.3999999999999986,3.3999999999999986,3.3999999999999986,3.3999999999999986,23.866666666666667,4.7080000000000002,4.7080000000000002,4.7080000000000002,4.7080000000000002,5.4133333333333349,5.4133333333333349,5.4133333333333349,5.4133333333333349,1.1498159161710566,1.1498159161710566,1.1498159161710566,1.1498159161710566,1.1498159161710566,1.1498159161710566,1.1498159161710566,1.1498159161710566,0,0,0,0,1.1498159161710566,0,5183.2057939230554,5282.2134063798048,857.65486797996175,857.65486797996175,null,null,null,null,3.8071428571428574,1,1,0.38327197205701885,0.38327197205701885,0.38327197205701885,0.38327197205701885,0.38713465269692576,0.38713465269692576,0.38101029459525226,null,null,5.4133333333333349,5.4133333333333349,5.4133333333333349,5.4133333333333349,null,3.3999999999999986,null,4.8000000000000007,4.3999999999999986,3,3.1999999999999993,5.1000000000000014,1.8999999999999986,{"$f":"SUM(BB351:BB370)/30","v":2.3699999999999997},0,3.74,3.1466666666666665,2.1233333333333335,1.0866666666666664,3.5999999999999992,1.3433333333333333,null,null,"2016-12-17",35.299999999999997,0,-5.2999999999999972]
["2016-03-18",4.3999999999999986,4.3999999999999986,4.3999999999999986,4.3999999999999986,23.533333333333335,4.8279999999999994,4.8279999999999994,4.8279999999999994,4.8279999999999994,4.9466666666666681,4.9466666666666681,4.9466666666666681,4.9466666666666681,1.0245788456227565,1.0245788456227565,1.0245788456227565,1.0245788456227565,1.0245788456227565,1.0245788456227565,1.0245788456227565,1.0245788456227565,0,0,0,0,1.0245788456227565,0,5207.7956862180017,5306.8032986747512,857.65486797996175,857.65486797996175,null,null,null,null,3.8500000000000005,1,1,0.34152628187425216,0.34152628187425216,0.34152628187425216,0.34152628187425216,0.36830876033612575,0.36830876033612575,0.35544151193517431,null,null,4.9466666666666681,4.9466666666666681,4.9466666666666681,4.9466666666666681,null,4.3999999999999986,null,7.3000000000000007,6.5,4.6999999999999993,3.8000000000000007,6.3000000000000007,4.6000000000000014,{"$f":"SUM(BB352:BB371)/30","v":2.6133333333333337},0,3.9099999999999997,3.3166666666666669,2.3366666666666664,1.2833333333333334,3.6799999999999993,1.4033333333333333,null,null,"2016-12-18",35,0,-5]
["2016-03-19",{"$f":"BB363+A$7","v":4.3999999999999986},4.3999999999999986,4.3999999999999986,4.3999999999999986,{"$f":"F$8+(H$7-F$8)*(M$6-B363)/30","v":23.533333333333335},{"$f":"IF((B363+35-$F363)*$H$5+$H$6>1,(B363+35-$F363)*$H$5+$H$6,1)","v":4.8279999999999994},{"$f":"IF((C363+35-$F363)*$H$5+$H$6>1,(C363+35-$F363)*$H$5+$H$6,1)","v":4.8279999999999994},{"$f":"IF((D363+35-$F363)*$H$5+$H$6>1,(D363+35-$F363)*$H$5+$H$6,1)","v":4.8279999999999994},{"$f":"IF((E363+35-$F363)*$H$5+$H$6>1,(E363+35-$F363)*$H$5+$H$6,1)","v":4.8279999999999994},{"$f":"$M$5*($M$6-B363)/30-$O$5","v":4.9466666666666681},{"$f":"$M$5*($M$6-C363)/30-$O$5","v":4.9466666666666681},{"$f":"$M$5*($M$6-D363)/30-$O$5","v":4.9466666666666681},{"$f":"$M$5*($M$6-E363)/30-$O$5","v":4.9466666666666681},{"$f":"IF(K363/G363>$M$7,$M$7+K363-$M$7*G363,K363/G363)","v":1.0245788456227565},{"$f":"IF(L363/H363>$M$7,$M$7+L363-$M$7*H363,L363/H363)","v":1.0245788456227565},{"$f":"IF(M363/I363>$M$7,$M$7+M363-$M$7*I363,M363/I363)","v":1.0245788456227565},{"$f":"IF(N363/J363>$M$7,$M$7+N363-$M$7*J363,N363/J363)","v":1.0245788456227565},{"$f":"IF(O363>0,O363,)","v":1.0245788456227565},{"$f":"IF(P363>0,P363,)","v":1.0245788456227565},{"$f":"IF(Q363>0,Q363,)","v":1.0245788456227565},{"$f":"IF(R363>0,R363,)","v":1.0245788456227565},{"$f":"IF(O363<0,-O363,0)","v":0},{"$f":"IF(P363<0,-P363,0)","v":0},{"$f":"IF(Q363<0,-Q363,0)","v":0},{"$f":"IF(R363<0,-R363,0)","v":0},{"$f":"IF(SUM(O363:R363)/4>0,SUM(O363:R363)/4,)","v":1.0245788456227565},{"$f":"IF(SUM(O363:R363)/4<0,-SUM(O363:R363)/4,)","v":0},{"$f":"6*SUM(S363:V363)+AC362","v":5232.3855785129481},{"$f":"AD362+AA363*24","v":5331.3931909696976},{"$f":"6*SUM(W363:Z363)+AE362","v":857.65486797996175},{"$f":"AF362+AB363*24","v":857.65486797996175},null,null,null,null,{"$f":"IF(SUM(B357:B370)/14<$C$7,SUM(B357:B370)/14,0)","v":4.0500000000000007},{"$f":"IF(SUM(B357:B370)/14<$C$7,1,0)","v":1},{"$f":"IF(SUM(AN360:AQ366)>0,1,0)","v":1},{"$f":"K363/G363/$M$7","v":0.34152628187425216},{"$f":"L363/H363/$M$7","v":0.34152628187425216},{"$f":"M363/I363/$M$7","v":0.34152628187425216},{"$f":"N363/J363/$M$7","v":0.34152628187425216},{"$f":"SUM(AO360:AO366)/7","v":0.34789550309680134},{"$f":"SUM(AQ360:AQ366)/7","v":0.34789550309680134},{"$f":"SUM(AN362:AQ364)/12","v":0.34979115611228684},null,null,{"$f":"IF(K363>0,K363,0)","v":4.9466666666666681},{"$f":"IF(L363>0,L363,0)","v":4.9466666666666681},{"$f":"IF(M363>0,M363,0)","v":4.9466666666666681},{"$f":"IF(N363>0,N363,0)","v":4.9466666666666681},null,4.3999999999999986,null,6.3999999999999986,3.6999999999999993,3,2,3.1000000000000014,0.5,{"$f":"SUM(BB353:BB372)/30","v":2.9166666666666665},0,4.1133333333333333,3.5399999999999996,2.6266666666666665,1.5599999999999998,3.6666666666666656,1.4266666666666665,null,null,"2016-12-19",32.9,0,-2.8999999999999986]
["2016-03-20",3.8000000000000007,3.8000000000000007,3.8000000000000007,3.8000000000000007,23.733333333333334,4.7559999999999993,4.7559999999999993,4.7559999999999993,4.7559999999999993,5.2266666666666657,5.2266666666666657,5.2266666666666657,5.2266666666666657,1.0989627137650686,1.0989627137650686,1.0989627137650686,1.0989627137650686,1.0989627137650686,1.0989627137650686,1.0989627137650686,1.0989627137650686,0,0,0,0,1.0989627137650686,0,5258.7606836433097,5357.7682961000592,857.65486797996175,857.65486797996175,null,null,null,null,4.4928571428571429,1,1,0.3663209045883562,0.3663209045883562,0.3663209045883562,0.3663209045883562,0.33635735093734503,0.33635735093734503,0.33143285659716465,null,null,5.2266666666666657,5.2266666666666657,5.2266666666666657,5.2266666666666657,null,3.8000000000000007,null,7.3000000000000007,3.3000000000000007,3.3000000000000007,1.8000000000000007,3.3000000000000007,1,{"$f":"SUM(BB354:BB373)/30","v":3.2166666666666663},0,4.38,3.7800000000000002,2.9,1.8233333333333335,3.6733333333333329,1.5666666666666664,null,null,"2016-12-20",32.9,0,-2.8999999999999986]
["2016-03-21",5.8000000000000007,5.8000000000000007,5.8000000000000007,5.8000000000000007,23.066666666666666,4.9959999999999996,4.9959999999999996,4.9959999999999996,4.9959999999999996,4.293333333333333,4.293333333333333,4.293333333333333,4.293333333333333,0.85935414998665605,0.85935414998665605,0.85935414998665605,0.85935414998665605,0.85935414998665605,0.85935414998665605,0.85935414998665605,0.85935414998665605,0,0,0,0,0.85935414998665605,0,5279.3851832429891,5378.3927956997386,857.65486797996175,857.65486797996175,null,null,null,null,5.0285714285714294,1,1,0.28645138332888537,0.28645138332888537,0.28645138332888537,0.28645138332888537,0.33215142038220319,0.33215142038220319,0.31690378533920011,null,null,4.293333333333333,4.293333333333333,4.293333333333333,4.293333333333333,null,5.8000000000000007,null,7.8999999999999986,6.8999999999999986,4.8999999999999986,3.1999999999999993,5.3000000000000007,2.3999999999999986,{"$f":"SUM(BB355:BB374)/30","v":3.3466666666666667},0,4.6300000000000008,3.9166666666666661,3.0300000000000002,1.9533333333333334,3.7433333333333327,1.7466666666666664,null,null,"2016-12-21",33.200000000000003,0,-3.2000000000000028]
["2016-03-22",5.5,5.5,5.5,5.5,23.166666666666668,4.96,4.96,4.96,4.96,4.4333333333333336,4.4333333333333336,4.4333333333333336,4.4333333333333336,0.89381720430107536,0.89381720430107536,0.89381720430107536,0.89381720430107536,0.89381720430107536,0.89381720430107536,0.89381720430107536,0.89381720430107536,0,0,0,0,0.89381720430107536,0,5300.8367961462145,5399.844408602964,857.65486797996175,857.65486797996175,null,null,null,null,5.5357142857142856,1,1,0.29793906810035847,0.29793906810035847,0.29793906810035847,0.29793906810035847,0.32984814240985499,0.32984814240985499,0.30728533872251196,null,null,4.4333333333333336,4.4333333333333336,4.4333333333333336,4.4333333333333336,null,5.5,null,7.6000000000000014,6.6000000000000014,4.8000000000000007,2.6000000000000014,5.8000000000000007,2.6000000000000014,{"$f":"SUM(BB356:BB375)/30","v":3.5500000000000003},0,4.9000000000000012,4.1666666666666661,3.25,2.15,3.8833333333333329,1.9833333333333329,null,null,"2016-12-22",34.200000000000003,0,-4.2000000000000028]
["2016-03-23",4.5,4.5,4.5,4.5,23.5,4.84,4.84,4.84,4.84,4.9000000000000004,4.9000000000000004,4.9000000000000004,4.9000000000000004,1.0123966942148761,1.0123966942148761,1.0123966942148761,1.0123966942148761,1.0123966942148761,1.0123966942148761,1.0123966942148761,1.0123966942148761,0,0,0,0,1.0123966942148761,0,5325.1343168073718,5424.1419292641212,857.65486797996175,857.65486797996175,null,null,null,null,5.9285714285714288,1,1,0.33746556473829203,0.33746556473829203,0.33746556473829203,0.33746556473829203,0.32143851027639142,0.32143851027639142,0.32974503033655883,null,null,4.9000000000000004,4.9000000000000004,4.9000000000000004,4.9000000000000004,null,4.5,null,6.3000000000000007,4.8000000000000007,3.8999999999999986,2.1000000000000014,5.3999999999999986,0.89999999999999858,{"$f":"SUM(BB357:BB376)/30","v":3.6066666666666674},0,5.1066666666666674,4.29,3.316666666666666,2.2399999999999998,3.9899999999999998,2.13,null,null,"2016-12-23",35,0,-5]
["2016-03-24",4.1000000000000014,4.1000000000000014,4.1000000000000014,4.1000000000000014,23.633333333333333,4.7919999999999998,4.7919999999999998,4.7919999999999998,4.7919999999999998,5.0866666666666651,5.0866666666666651,5.0866666666666651,5.0866666666666651,1.0614913745130772,1.0614913745130772,1.0614913745130772,1.0614913745130772,1.0614913745130772,1.0614913745130772,1.0614913745130772,1.0614913745130772,0,0,0,0,1.0614913745130772,0,5350.6101097956853,5449.6177222524348,857.65486797996175,857.65486797996175,null,null,null,null,6.4214285714285708,1,1,0.35383045817102571,0.35383045817102571,0.35383045817102571,0.35383045817102571,0.29389009993778226,0.29389009993778226,0.33889978632571099,null,null,5.0866666666666651,5.0866666666666651,5.0866666666666651,5.0866666666666651,null,4.1000000000000014,null,6.6000000000000014,5.3000000000000007,3.8000000000000007,2.3999999999999986,3.5,1.5,{"$f":"SUM(BB358:BB377)/30","v":3.7333333333333334},0,5.2166666666666677,4.370000000000001,3.4833333333333325,2.3833333333333333,4.03,2.1899999999999995,null,null,"2016-12-24",33.700000000000003,0,-3.7000000000000028]
["2016-03-25",4.8000000000000007,4.8000000000000007,4.8000000000000007,4.8000000000000007,23.4,4.8759999999999994,4.8759999999999994,4.8759999999999994,4.8759999999999994,4.76,4.76,4.76,4.76,0.9762100082034455,0.9762100082034455,0.9762100082034455,0.9762100082034455,0.9762100082034455,0.9762100082034455,0.9762100082034455,0.9762100082034455,0,0,0,0,0.9762100082034455,0,5374.0391499925681,5473.0467624493176,857.65486797996175,857.65486797996175,null,null,null,null,6.4500000000000011,1,1,0.32540333606781519,0.32540333606781519,0.32540333606781519,0.32540333606781519,0.27272335199338577,0.27272335199338577,0.32063088372628262,null,null,4.76,4.76,4.76,4.76,null,4.8000000000000007,null,7.1999999999999993,5.8999999999999986,4.6999999999999993,2.6999999999999993,4.3000000000000007,1.5,{"$f":"SUM(BB359:BB378)/30","v":3.9866666666666668},0,5.5266666666666673,4.62,3.7566666666666659,2.6566666666666663,4.1800000000000006,2.4366666666666665,null,null,"2016-12-25",32,0,-2]
["2016-03-26",5.8999999999999986,5.8999999999999986,5.8999999999999986,5.8999999999999986,23.033333333333335,5.0079999999999991,5.0079999999999991,5.0079999999999991,5.0079999999999991,4.246666666666667,4.246666666666667,4.246666666666667,4.246666666666667,0.84797657082002154,0.84797657082002154,0.84797657082002154,0.84797657082002154,0.84797657082002154,0.84797657082002154,0.84797657082002154,0.84797657082002154,0,0,0,0,0.84797657082002154,0,5394.390587692249,5493.3982001489985,857.65486797996175,857.65486797996175,null,null,null,null,6.6071428571428568,1,1,0.2826588569400072,0.2826588569400072,0.2826588569400072,0.2826588569400072,0.2540112735913525,0.2540112735913525,0.26051474174197137,null,null,4.246666666666667,4.246666666666667,4.246666666666667,4.246666666666667,null,5.8999999999999986,null,7.5,6.6999999999999993,5.3000000000000007,3.5,5.3999999999999986,2.8999999999999986,{"$f":"SUM(BB360:BB379)/30","v":4.3466666666666658},0,5.9700000000000006,5.0366666666666662,4.1099999999999985,3.02,4.5566666666666675,2.8433333333333337,null,null,"2016-12-26",30.7,0,-0.69999999999999929]
["2016-03-27",9,{"$f":"$B371+C$9","v":9},9,9,22,5.38,5.38,5.38,5.38,2.8,2.8,2.8,2.8,0.5204460966542751,0.5204460966542751,0.5204460966542751,0.5204460966542751,0.5204460966542751,0.5204460966542751,0.5204460966542751,0.5204460966542751,0,0,0,0,0.5204460966542751,0,5406.8812940119515,5505.888906468701,857.65486797996175,857.65486797996175,null,null,null,null,7.0642857142857141,1,1,0.17348203221809169,0.17348203221809169,0.17348203221809169,0.17348203221809169,0.23488637862151338,0.23488637862151338,0.19814167895873624,null,null,2.8,2.8,2.8,2.8,null,9,null,9,8.1999999999999993,8.3000000000000007,6.3000000000000007,8,4,{"$f":"SUM(BB361:BB380)/30","v":4.79},0,6.3666666666666663,5.47,4.5433333333333321,3.4599999999999995,4.9200000000000008,3.2800000000000002,null,null,"2016-12-27",29.4,0,0.60000000000000142]
["2016-03-28",10.100000000000001,10.100000000000001,10.100000000000001,10.100000000000001,21.633333333333333,5.5120000000000005,5.5120000000000005,5.5120000000000005,5.5120000000000005,2.2866666666666662,2.2866666666666662,2.2866666666666662,2.2866666666666662,0.41485244315432984,0.41485244315432984,0.41485244315432984,0.41485244315432984,0.41485244315432984,0.41485244315432984,0.41485244315432984,0.41485244315432984,0,0,0,0,0.41485244315432984,0,5416.8377526476552,5515.8453651044047,857.65486797996175,857.65486797996175,null,null,null,null,7.5714285714285712,1,1,0.13828414771810996,0.13828414771810996,0.13828414771810996,0.13828414771810996,0.20320558007373032,0.20320558007373032,0.15957356640744239,null,null,2.2866666666666662,2.2866666666666662,2.2866666666666662,2.2866666666666662,null,10.100000000000001,null,9.6000000000000014,9,9.6999999999999993,6.6999999999999993,6.1000000000000014,3.8000000000000007,{"$f":"SUM(BB362:BB381)/30","v":5.1233333333333331},0,6.72,5.7866666666666662,4.8566666666666656,3.6866666666666665,5.3100000000000005,3.6366666666666663,null,null,"2016-12-28",28.9,0,1.1000000000000014]
["2016-03-29",9.1999999999999993,9.1999999999999993,9.1999999999999993,9.1999999999999993,21.933333333333334,5.4039999999999999,5.4039999999999999,5.4039999999999999,5.4039999999999999,2.7066666666666674,2.7066666666666674,2.7066666666666674,2.7066666666666674,0.50086355785837666,0.50086355785837666,0.50086355785837666,0.50086355785837666,0.50086355785837666,0.50086355785837666,0.50086355785837666,0.50086355785837666,0,0,0,0,0.50086355785837666,0,5428.8584780362562,5527.8660904930057,857.65486797996175,857.65486797996175,null,null,null,null,8.3142857142857149,1,1,0.16695451928612556,0.16695451928612556,0.16695451928612556,0.16695451928612556,0.20320558007373038,0.20320558007373038,0.16960998898455126,null,null,2.7066666666666674,2.7066666666666674,2.7066666666666674,2.7066666666666674,null,9.1999999999999993,null,10.899999999999999,10,8.3999999999999986,5.8000000000000007,8,6.8999999999999986,{"$f":"SUM(BB363:BB382)/30","v":5.3933333333333335},0,6.9466666666666672,5.9399999999999995,5.0833333333333321,3.8533333333333326,5.63,3.9099999999999997,null,null,"2016-12-29",30.3,0,-0.30000000000000071]
["2016-03-30",8.1000000000000014,8.1000000000000014,8.1000000000000014,8.1000000000000014,22.3,5.2720000000000002,5.2720000000000002,5.2720000000000002,5.2720000000000002,3.2199999999999993,3.2199999999999993,3.2199999999999993,3.2199999999999993,0.61077389984825481,0.61077389984825481,0.61077389984825481,0.61077389984825481,0.61077389984825481,0.61077389984825481,0.61077389984825481,0.61077389984825481,0,0,0,0,0.61077389984825481,0,5443.5170516326143,5542.5246640893638,857.65486797996175,857.65486797996175,null,null,null,null,8.9500000000000011,1,1,0.20359129994941827,0.20359129994941827,0.20359129994941827,0.20359129994941827,0.19948455457513734,0.19948455457513734,0.16753689585736284,null,null,3.2199999999999993,3.2199999999999993,3.2199999999999993,3.2199999999999993,null,8.1000000000000014,null,11.899999999999999,9.6999999999999993,8,5.6000000000000014,9.5,8.1999999999999993,{"$f":"SUM(BB364:BB383)/30","v":5.5666666666666664},0,7.0666666666666664,6.1566666666666663,5.2833333333333323,4.0200000000000005,6.03,4.2300000000000004,null,null,"2016-12-30",32.799999999999997,0,-2.7999999999999972]
["2016-03-31",10.3,10.3,10.3,10.3,21.566666666666666,5.5359999999999996,5.5359999999999996,5.5359999999999996,5.5359999999999996,2.1933333333333329,2.1933333333333329,2.1933333333333329,2.1933333333333329,0.39619460500963388,0.39619460500963388,0.39619460500963388,0.39619460500963388,0.39619460500963388,0.39619460500963388,0.39619460500963388,0.39619460500963388,0,0,0,0,0.39619460500963388,0,5453.0257221528454,5552.0333346095949,857.65486797996175,857.65486797996175,null,null,null,null,9.5500000000000007,1,1,0.13206486833654463,0.13206486833654463,0.13206486833654463,0.13206486833654463,0.19401108609199696,0.19401108609199696,0.22035316811792602,null,null,2.1933333333333329,2.1933333333333329,2.1933333333333329,2.1933333333333329,null,10.3,null,14.6,13.5,10.100000000000001,8,13.3,12.3,{"$f":"SUM(BB365:BB384)/30","v":5.6799999999999988},0,7.0966666666666658,6.2733333333333325,5.3966666666666656,4.13,6.3866666666666676,4.5,null,null,"2016-12-31",36.1,0,-6.1000000000000014]
["2016-04-01",4.8000000000000007,4.8000000000000007,4.8000000000000007,4.8000000000000007,23.4,4.8759999999999994,4.8759999999999994,4.8759999999999994,4.8759999999999994,4.76,4.76,4.76,4.76,0.9762100082034455,0.9762100082034455,0.9762100082034455,0.9762100082034455,0.9762100082034455,0.9762100082034455,0.9762100082034455,0.9762100082034455,0,0,0,0,0.9762100082034455,0,5476.4547623497283,5575.4623748064778,857.65486797996175,857.65486797996175,null,null,null,null,9.8928571428571423,1,1,0.32540333606781519,0.32540333606781519,0.32540333606781519,0.32540333606781519,0.18223614400706339,0.18223614400706339,0.23802662761807189,null,null,4.76,4.76,4.76,4.76,null,4.8000000000000007,null,11.899999999999999,8.8999999999999986,4.6999999999999993,3.5,9.6000000000000014,7.6000000000000014,{"$f":"SUM(BB366:BB385)/30","v":5.6866666666666665},0,7.133333333333332,6.2866666666666671,5.419999999999999,4.21,6.5900000000000007,4.6566666666666663,null,null,"2017-01-01",35.200000000000003,0,-5.2000000000000028]
["2016-04-02",6.6000000000000014,6.6000000000000014,6.6000000000000014,6.6000000000000014,22.8,5.0919999999999996,5.0919999999999996,5.0919999999999996,5.0919999999999996,3.9199999999999995,3.9199999999999995,3.9199999999999995,3.9199999999999995,0.76983503534956788,0.76983503534956788,0.76983503534956788,0.76983503534956788,0.76983503534956788,0.76983503534956788,0.76983503534956788,0.76983503534956788,0,0,0,0,0.76983503534956788,0,5494.9308031981182,5593.9384156548676,857.65486797996175,857.65486797996175,null,null,null,null,9.985714285714284,1,1,0.25661167844985594,0.25661167844985594,0.25661167844985594,0.25661167844985594,0.15516384891022367,0.15516384891022367,0.23906092245126007,null,null,3.9199999999999995,3.9199999999999995,3.9199999999999995,3.9199999999999995,null,6.6000000000000014,null,8.6000000000000014,7.3000000000000007,7.3999999999999986,5.8999999999999986,7.1999999999999993,3.3999999999999986,{"$f":"SUM(BB367:BB386)/30","v":5.7766666666666664},0,7.1799999999999988,6.3833333333333346,5.5133333333333328,4.3366666666666669,6.8066666666666675,4.8266666666666662,null,null,"2017-01-02",35.1,0,-5.1000000000000014]
["2016-04-03",10.199999999999999,10.199999999999999,10.199999999999999,10.199999999999999,21.6,5.524,5.524,5.524,5.524,2.2400000000000007,2.2400000000000007,2.2400000000000007,2.2400000000000007,0.40550325850832741,0.40550325850832741,0.40550325850832741,0.40550325850832741,0.40550325850832741,0.40550325850832741,0.40550325850832741,0.40550325850832741,0,0,0,0,0.40550325850832741,0,5504.6628814023179,5603.6704938590674,857.65486797996175,857.65486797996175,null,null,null,null,9.7714285714285705,1,1,0.13516775283610913,0.13516775283610913,0.13516775283610913,0.13516775283610913,0.13209758255921597,0.13209758255921597,0.14921299480318001,null,null,2.2400000000000007,2.2400000000000007,2.2400000000000007,2.2400000000000007,null,10.199999999999999,null,13.899999999999999,12.100000000000001,10.3,9.1000000000000014,9.3000000000000007,7.3999999999999986,{"$f":"SUM(BB368:BB387)/30","v":6.0233333333333325},0,7.3199999999999985,6.5766666666666671,5.7733333333333317,4.5666666666666664,7.0633333333333335,5.1166666666666654,null,null,"2017-01-03",36,0,-6]
["2016-04-04",12.899999999999999,12.899999999999999,12.899999999999999,12.899999999999999,20.7,5.8479999999999999,5.8479999999999999,5.8479999999999999,5.8479999999999999,0.98000000000000065,0.98000000000000065,0.98000000000000065,0.98000000000000065,0.16757865937072514,0.16757865937072514,0.16757865937072514,0.16757865937072514,0.16757865937072514,0.16757865937072514,0.16757865937072514,0.16757865937072514,0,0,0,0,0.16757865937072514,0,5508.6847692272149,5607.6923816839644,857.65486797996175,857.65486797996175,null,null,null,null,9.6357142857142861,1,1,5.5859553123575045E-2,5.5859553123575045E-2,5.5859553123575045E-2,5.5859553123575045E-2,0.12280971685815513,0.12280971685815513,5.6158586522643855E-2,null,null,0.98000000000000065,0.98000000000000065,0.98000000000000065,0.98000000000000065,null,12.899999999999999,null,16,15.2,12.5,11.600000000000001,13.3,11.399999999999999,{"$f":"SUM(BB369:BB388)/30","v":6.293333333333333},0,7.5299999999999994,6.8033333333333337,6.0366666666666644,4.8166666666666664,7.3699999999999992,5.3899999999999988,null,null,"2017-01-04",30.2,0,-0.19999999999999929]
["2016-04-05",15.9,15.9,15.9,15.9,19.7,6.2080000000000002,6.2080000000000002,6.2080000000000002,6.2080000000000002,-0.42000000000000015,-0.42000000000000015,-0.42000000000000015,-0.42000000000000015,-6.7654639175257755E-2,-6.7654639175257755E-2,-6.7654639175257755E-2,-6.7654639175257755E-2,0,0,0,0,6.7654639175257755E-2,6.7654639175257755E-2,6.7654639175257755E-2,6.7654639175257755E-2,0,6.7654639175257755E-2,5508.6847692272149,5607.6923816839644,859.27857932016798,859.27857932016798,null,null,null,null,9.8285714285714274,1,1,-2.2551546391752584E-2,-2.2551546391752584E-2,-2.2551546391752584E-2,-2.2551546391752584E-2,9.833379745133905E-2,9.833379745133905E-2,2.5145147408062302E-2,null,null,0,0,0,0,null,15.9,null,15.7,16.100000000000001,15.5,14,15.8,13.600000000000001,{"$f":"SUM(BB370:BB389)/30","v":6.4799999999999995},0,7.7066666666666661,7.0000000000000009,6.1999999999999984,4.9633333333333338,7.6466666666666656,5.6266666666666652,null,null,"2017-01-05",33.4,0,-3.3999999999999986]
["2016-04-06",13.399999999999999,13.399999999999999,13.399999999999999,13.399999999999999,20.533333333333335,5.9079999999999995,5.9079999999999995,5.9079999999999995,5.9079999999999995,0.74666666666666737,0.74666666666666737,0.74666666666666737,0.74666666666666737,0.12638230647709334,0.12638230647709334,0.12638230647709334,0.12638230647709334,0.12638230647709334,0.12638230647709334,0.12638230647709334,0.12638230647709334,0,0,0,0,0.12638230647709334,0,5511.717944582665,5610.7255570394145,859.27857932016798,859.27857932016798,null,null,null,null,10.12142857142857,1,1,4.2127435492364446E-2,4.2127435492364446E-2,4.2127435492364446E-2,4.2127435492364446E-2,9.5240697579099295E-2,9.5240697579099295E-2,2.8875232509910215E-2,null,null,0.74666666666666737,0.74666666666666737,0.74666666666666737,0.74666666666666737,null,13.399999999999999,null,15.4,13.899999999999999,12.399999999999999,10,16.8,12.600000000000001,{"$f":"SUM(BB371:BB390)/30","v":6.5633333333333326},0,7.8633333333333324,7.1033333333333344,6.2733333333333317,5.0600000000000005,7.8966666666666656,5.8233333333333324,null,null,"2017-01-06",41.6,0,-11.600000000000001]
["2016-04-07",12.5,12.5,12.5,12.5,20.833333333333332,5.8,5.8,5.8,5.8,1.1666666666666667,1.1666666666666667,1.1666666666666667,1.1666666666666667,0.20114942528735635,0.20114942528735635,0.20114942528735635,0.20114942528735635,0.20114942528735635,0.20114942528735635,0.20114942528735635,0.20114942528735635,0,0,0,0,0.20114942528735635,0,5516.5455307895618,5615.5531432463113,859.27857932016798,859.27857932016798,null,null,null,null,10.12857142857143,1,1,6.7049808429118785E-2,6.7049808429118785E-2,6.7049808429118785E-2,6.7049808429118785E-2,0.11577165605271149,0.11577165605271149,8.7749714713861962E-2,null,null,1.1666666666666667,1.1666666666666667,1.1666666666666667,1.1666666666666667,null,12.5,null,14.1,11.100000000000001,11.5,8.8000000000000007,15.9,12.8,{"$f":"SUM(BB372:BB391)/30","v":6.6633333333333322},0,8.0533333333333328,7.2766666666666682,6.3666666666666654,5.1533333333333333,8.1033333333333335,6.0633333333333317,null,null,"2017-01-07",43.6,0,-13.600000000000001]
["2016-04-08",9.6000000000000014,9.6000000000000014,9.6000000000000014,9.6000000000000014,21.8,5.452,5.452,5.452,5.452,2.5199999999999991,2.5199999999999991,2.5199999999999991,2.5199999999999991,0.46221570066030798,0.46221570066030798,0.46221570066030798,0.46221570066030798,0.46221570066030798,0.46221570066030798,0.46221570066030798,0.46221570066030798,0,0,0,0,0.46221570066030798,0,5527.6387076054089,5626.6463200621583,859.27857932016798,859.27857932016798,null,null,null,null,10.385714285714286,1,1,0.15407190022010267,0.15407190022010267,0.15407190022010267,0.15407190022010267,0.13638958346356927,0.13638958346356927,0.15202722933113302,null,null,2.5199999999999991,2.5199999999999991,2.5199999999999991,2.5199999999999991,null,9.6000000000000014,null,10,10.199999999999999,9,7,15.1,10.100000000000001,{"$f":"SUM(BB373:BB392)/30","v":6.6700000000000008},0,8.2399999999999984,7.4500000000000011,6.3633333333333315,5.1733333333333338,8.42,6.3766666666666652,null,null,"2017-01-08",39.5,0,-9.5]
["2016-04-09",7.1999999999999993,7.1999999999999993,7.1999999999999993,7.1999999999999993,22.6,5.1639999999999997,5.1639999999999997,5.1639999999999997,5.1639999999999997,3.6400000000000006,3.6400000000000006,3.6400000000000006,3.6400000000000006,0.70487993803253302,0.70487993803253302,0.70487993803253302,0.70487993803253302,0.70487993803253302,0.70487993803253302,0.70487993803253302,0.70487993803253302,0,0,0,0,0.70487993803253302,0,5544.5558261181895,5643.563438574939,859.27857932016798,859.27857932016798,null,null,null,null,10.771428571428572,1,1,0.23495997934417767,0.23495997934417767,0.23495997934417767,0.23495997934417767,0.15163792444407059,0.15163792444407059,0.2226387805718916,null,null,3.6400000000000006,3.6400000000000006,3.6400000000000006,3.6400000000000006,null,7.1999999999999993,null,8.1999999999999993,6.8000000000000007,6.6999999999999993,5.1000000000000014,14,9.1000000000000014,{"$f":"SUM(BB374:BB393)/30","v":6.66},0,8.2333333333333325,7.46,6.3533333333333326,5.19,8.5466666666666651,6.3866666666666658,null,null,"2017-01-09",36.799999999999997,0,-6.7999999999999972]
["2016-04-10",6,6,6,6,23,5.0199999999999996,5.0199999999999996,5.0199999999999996,5.0199999999999996,4.2,4.2,4.2,4.2,0.83665338645418341,0.83665338645418341,0.83665338645418341,0.83665338645418341,0.83665338645418341,0.83665338645418341,0.83665338645418341,0.83665338645418341,0,0,0,0,0.83665338645418341,0,5564.6355073930899,5663.6431198498394,859.27857932016798,859.27857932016798,null,null,null,null,10.778571428571428,1,1,0.27888446215139445,0.27888446215139445,0.27888446215139445,0.27888446215139445,0.15641469200076652,0.15641469200076652,0.23800982883171717,null,null,4.2,4.2,4.2,4.2,null,6,null,9,7.3000000000000007,5.6000000000000014,5.6000000000000014,11.399999999999999,7.1000000000000014,{"$f":"SUM(BB375:BB394)/30","v":6.6766666666666667},0,8.2299999999999986,7.4466666666666672,6.3266666666666662,5.1700000000000008,8.6033333333333335,6.3533333333333308,null,null,"2017-01-10",41.6,0,-11.600000000000001]
["2016-04-11",8.1999999999999993,8.1999999999999993,8.1999999999999993,8.1999999999999993,22.266666666666666,5.2840000000000007,5.2840000000000007,5.2840000000000007,5.2840000000000007,3.1733333333333338,3.1733333333333338,3.1733333333333338,3.1733333333333338,0.60055513499873836,0.60055513499873836,0.60055513499873836,0.60055513499873836,0.60055513499873836,0.60055513499873836,0.60055513499873836,0.60055513499873836,0,0,0,0,0.60055513499873836,0,5579.0488306330599,5678.0564430898094,859.27857932016798,859.27857932016798,null,null,null,null,10.492857142857144,1,1,0.20018504499957945,0.20018504499957945,0.20018504499957945,0.20018504499957945,0.16526120601845129,0.16526120601845129,0.18775211587424359,null,null,3.1733333333333338,3.1733333333333338,3.1733333333333338,3.1733333333333338,null,8.1999999999999993,null,9,9.5,7.6000000000000014,6.3999999999999986,12.3,7.6999999999999993,{"$f":"SUM(BB376:BB395)/30","v":6.5933333333333346},0,8.1066666666666656,7.2933333333333348,6.2166666666666659,5.0900000000000007,8.4966666666666661,6.14,null,null,"2017-01-11",39,0,-9]
["2016-04-12",11.899999999999999,11.899999999999999,11.899999999999999,11.899999999999999,21.033333333333335,5.7279999999999998,5.7279999999999998,5.7279999999999998,5.7279999999999998,1.4466666666666674,1.4466666666666674,1.4466666666666674,1.4466666666666674,0.25256052141527019,0.25256052141527019,0.25256052141527019,0.25256052141527019,0.25256052141527019,0.25256052141527019,0.25256052141527019,0.25256052141527019,0,0,0,0,0.25256052141527019,0,5585.1102831470262,5684.1178956037757,859.27857932016798,859.27857932016798,null,null,null,null,9.9714285714285715,1,1,8.418684047175673E-2,8.418684047175673E-2,8.418684047175673E-2,8.418684047175673E-2,0.17088218298847929,0.17088218298847929,0.11997889795352405,null,null,1.4466666666666674,1.4466666666666674,1.4466666666666674,1.4466666666666674,null,11.899999999999999,null,10.5,10.600000000000001,11.7,9,13.100000000000001,9.6000000000000014,{"$f":"SUM(BB377:BB396)/30","v":6.7200000000000006},0,8.0633333333333326,7.2966666666666677,6.34,5.2266666666666675,8.49,6.1133333333333333,null,null,"2017-01-12",38.6,0,-8.6000000000000014]
["2016-04-13",12.2,12.2,12.2,12.2,20.933333333333334,5.7640000000000002,5.7640000000000002,5.7640000000000002,5.7640000000000002,1.3066666666666671,1.3066666666666671,1.3066666666666671,1.3066666666666671,0.22669442516770769,0.22669442516770769,0.22669442516770769,0.22669442516770769,0.22669442516770769,0.22669442516770769,0.22669442516770769,0.22669442516770769,0,0,0,0,0.22669442516770769,0,5590.5509493510508,5689.5585618078003,859.27857932016798,859.27857932016798,null,null,null,null,9.5714285714285712,1,1,7.5564808389235891E-2,7.5564808389235891E-2,7.5564808389235891E-2,7.5564808389235891E-2,0.14893087351190104,0.14893087351190104,9.6242351804634876E-2,null,null,1.3066666666666671,1.3066666666666671,1.3066666666666671,1.3066666666666671,null,12.2,null,12.899999999999999,12.100000000000001,11.7,9.8999999999999986,12.7,9.6999999999999993,{"$f":"SUM(BB378:BB397)/30","v":6.8166666666666673},0,8.2133333333333312,7.4400000000000013,6.39,5.2833333333333323,8.6599999999999984,6.3199999999999994,null,null,"2017-01-13",34,0,-4]
["2016-04-14",10.399999999999999,10.399999999999999,10.399999999999999,10.399999999999999,21.533333333333335,5.548,5.548,5.548,5.548,2.1466666666666674,2.1466666666666674,2.1466666666666674,2.1466666666666674,0.38692621965873603,0.38692621965873603,0.38692621965873603,0.38692621965873603,0.38692621965873603,0.38692621965873603,0.38692621965873603,0.38692621965873603,0,0,0,0,0.38692621965873603,0,5599.8371786228608,5698.8447910796103,859.27857932016798,859.27857932016798,null,null,null,null,9.2928571428571427,1,1,0.12897540655291201,0.12897540655291201,0.12897540655291201,0.12897540655291201,0.12795664582406538,0.12795664582406538,0.13265298465081565,null,null,2.1466666666666674,2.1466666666666674,2.1466666666666674,2.1466666666666674,null,10.399999999999999,null,12.5,11.8,9.6000000000000014,7.1000000000000014,12.600000000000001,8.6000000000000014,{"$f":"SUM(BB379:BB398)/30","v":6.7333333333333334},0,8.1333333333333329,7.4,6.2833333333333323,5.1199999999999992,8.7466666666666661,6.2966666666666669,null,null,"2017-01-14",31.2,0,-1.1999999999999993]
["2016-04-15",8.3999999999999986,8.3999999999999986,8.3999999999999986,8.3999999999999986,22.2,5.3079999999999998,5.3079999999999998,5.3079999999999998,5.3079999999999998,3.0800000000000005,3.0800000000000005,3.0800000000000005,3.0800000000000005,0.58025621703089691,0.58025621703089691,0.58025621703089691,0.58025621703089691,0.58025621703089691,0.58025621703089691,0.58025621703089691,0.58025621703089691,0,0,0,0,0.58025621703089691,0,5613.7633278316025,5712.770940288352,859.27857932016798,859.27857932016798,null,null,null,null,9.2857142857142865,1,1,0.19341873901029896,0.19341873901029896,0.19341873901029896,0.19341873901029896,0.12461130750522216,0.12461130750522216,0.13456498619044702,null,null,3.0800000000000005,3.0800000000000005,3.0800000000000005,3.0800000000000005,null,8.3999999999999986,null,12.2,9.8000000000000007,7.5,6.3999999999999986,12.899999999999999,8.8000000000000007,{"$f":"SUM(BB380:BB399)/30","v":6.4233333333333329},0,7.8366666666666651,7.1066666666666674,5.9633333333333338,4.7766666666666664,8.5400000000000009,6.0466666666666669,null,null,"2017-01-15",35.4,0,-5.3999999999999986]
["2016-04-16",12,12,12,12,21,5.74,5.74,5.74,5.74,1.4,1.4,1.4,1.4,0.24390243902439021,0.24390243902439021,0.24390243902439021,0.24390243902439021,0.24390243902439021,0.24390243902439021,0.24390243902439021,0.24390243902439021,0,0,0,0,0.24390243902439021,0,5619.616986368188,5718.6245988249375,859.27857932016798,859.27857932016798,null,null,null,null,9.3214285714285694,1,1,8.1300813008130066E-2,8.1300813008130066E-2,8.1300813008130066E-2,8.1300813008130066E-2,0.13925795100967367,0.13925795100967367,0.13559480678499122,null,null,1.4,1.4,1.4,1.4,null,12,null,14.7,13.399999999999999,11.100000000000001,9.1000000000000014,14.2,11.2,{"$f":"SUM(BB381:BB400)/30","v":6.01},0,7.5066666666666659,6.7233333333333336,5.5233333333333343,4.3499999999999988,8.1833333333333336,5.6366666666666676,null,null,"2017-01-16",35.5,0,-5.5]
["2016-04-17",10.3,10.3,10.3,10.3,21.566666666666666,5.5359999999999996,5.5359999999999996,5.5359999999999996,5.5359999999999996,2.1933333333333329,2.1933333333333329,2.1933333333333329,2.1933333333333329,0.39619460500963388,0.39619460500963388,0.39619460500963388,0.39619460500963388,0.39619460500963388,0.39619460500963388,0.39619460500963388,0.39619460500963388,0,0,0,0,0.39619460500963388,0,5629.1256568884191,5728.1332693451686,859.27857932016798,859.27857932016798,null,null,null,null,9.15,1,1,0.13206486833654463,0.13206486833654463,0.13206486833654463,0.13206486833654463,0.15902065599914111,0.15902065599914111,0.13004445270411721,null,null,2.1933333333333329,2.1933333333333329,2.1933333333333329,2.1933333333333329,null,10.3,null,15.2,14.2,9.6000000000000014,7.3000000000000007,15.6,13.2,{"$f":"SUM(BB382:BB401)/30","v":5.7399999999999993},0,7.2766666666666664,6.4633333333333338,5.2533333333333339,4.083333333333333,7.8633333333333333,5.3433333333333337,null,null,"2017-01-17",33.1,0,-3.1000000000000014]
["2016-04-18",8.8999999999999986,8.8999999999999986,8.8999999999999986,8.8999999999999986,22.033333333333335,5.3679999999999994,5.3679999999999994,5.3679999999999994,5.3679999999999994,2.8466666666666671,2.8466666666666671,2.8466666666666671,2.8466666666666671,0.5303030303030305,0.5303030303030305,0.5303030303030305,0.5303030303030305,0.5303030303030305,0.5303030303030305,0.5303030303030305,0.5303030303030305,0,0,0,0,0.5303030303030305,0,5641.8529296156921,5740.8605420724416,859.27857932016798,859.27857932016798,null,null,null,null,8.8142857142857149,1,1,0.17676767676767682,0.17676767676767682,0.17676767676767682,0.17676767676767682,0.16726893292057046,0.16726893292057046,0.16518196336904631,null,null,2.8466666666666671,2.8466666666666671,2.8466666666666671,2.8466666666666671,null,8.8999999999999986,null,10.7,10.3,8.1000000000000014,6.3000000000000007,11.8,7.1999999999999993,{"$f":"SUM(BB383:BB402)/30","v":5.4899999999999993},0,6.9933333333333341,6.26,5.0066666666666668,3.8499999999999992,7.5833333333333339,5.0200000000000005,null,null,"2017-01-18",33.9,0,-3.8999999999999986]
["2016-04-19",8.6000000000000014,8.6000000000000014,8.6000000000000014,8.6000000000000014,22.133333333333333,5.3319999999999999,5.3319999999999999,5.3319999999999999,5.3319999999999999,2.9866666666666659,2.9866666666666659,2.9866666666666659,2.9866666666666659,0.56014003500875209,0.56014003500875209,0.56014003500875209,0.56014003500875209,0.56014003500875209,0.56014003500875209,0.56014003500875209,0.56014003500875209,0,0,0,0,0.56014003500875209,0,5655.2962904559017,5754.3039029126512,859.27857932016798,859.27857932016798,null,null,null,null,8.3428571428571434,1,1,0.18671334500291736,0.18671334500291736,0.18671334500291736,0.18671334500291736,0.16210500475196565,0.16210500475196565,0.19246158836203409,null,null,2.9866666666666659,2.9866666666666659,2.9866666666666659,2.9866666666666659,null,8.6000000000000014,null,11.8,9.3000000000000007,7.1999999999999993,5,11.2,7.1999999999999993,{"$f":"SUM(BB384:BB403)/30","v":5.35},0,6.8333333333333321,6.083333333333333,4.8466666666666667,3.7166666666666668,7.3666666666666654,4.8333333333333339,null,null,"2017-01-19",36.700000000000003,0,-6.7000000000000028]
["2016-04-20",7.8000000000000007,7.8000000000000007,7.8000000000000007,7.8000000000000007,22.4,5.2359999999999998,5.2359999999999998,5.2359999999999998,5.2359999999999998,3.3599999999999994,3.3599999999999994,3.3599999999999994,3.3599999999999994,0.64171122994652396,0.64171122994652396,0.64171122994652396,0.64171122994652396,0.64171122994652396,0.64171122994652396,0.64171122994652396,0.64171122994652396,0,0,0,0,0.64171122994652396,0,5670.6973599746179,5769.7049724313674,859.27857932016798,859.27857932016798,null,null,null,null,7.8285714285714292,1,1,0.21390374331550799,0.21390374331550799,0.21390374331550799,0.21390374331550799,0.18154386135886469,0.18154386135886469,0.19577681110711428,null,null,3.3599999999999994,3.3599999999999994,3.3599999999999994,3.3599999999999994,null,7.8000000000000007,null,10.899999999999999,8.8999999999999986,6.8000000000000007,5.6000000000000014,10.100000000000001,5.8999999999999986,{"$f":"SUM(BB385:BB404)/30","v":5.34},0,6.81,6.1099999999999994,4.8533333333333335,3.6833333333333322,7.1966666666666672,4.706666666666667,null,null,"2017-01-20",40.700000000000003,0,{"$f":"30-BU395","v":-10.700000000000003}]
["2016-04-21",8.6000000000000014,8.6000000000000014,8.6000000000000014,8.6000000000000014,22.133333333333333,5.3319999999999999,5.3319999999999999,5.3319999999999999,5.3319999999999999,2.9866666666666659,2.9866666666666659,2.9866666666666659,2.9866666666666659,0.56014003500875209,0.56014003500875209,0.56014003500875209,0.56014003500875209,0.56014003500875209,0.56014003500875209,0.56014003500875209,0.56014003500875209,0,0,0,0,0.56014003500875209,0,5684.1407208148275,5783.148333271577,859.27857932016798,859.27857932016798,null,null,null,null,7.4714285714285706,1,1,0.18671334500291736,0.18671334500291736,0.18671334500291736,0.18671334500291736,0.21621365897886238,0.21621365897886238,0.18596277671616365,null,null,2.9866666666666659,2.9866666666666659,2.9866666666666659,2.9866666666666659,null,8.6000000000000014,null,10.600000000000001,9,8.3999999999999986,7.6000000000000014,9.3999999999999986,6.8000000000000007,{"$f":"SUM(BB386:BB405)/30","v":5.49},0,6.87,6.2133333333333329,5.0199999999999996,3.8033333333333328,7.22,4.7333333333333343,null,null,"2017-01-21",36.9,0,-6.8999999999999986]
["2016-04-22",9.5,9.5,9.5,9.5,21.833333333333332,5.4399999999999995,5.4399999999999995,5.4399999999999995,5.4399999999999995,2.5666666666666669,2.5666666666666669,2.5666666666666669,2.5666666666666669,0.47181372549019618,0.47181372549019618,0.47181372549019618,0.47181372549019618,0.47181372549019618,0.47181372549019618,0.47181372549019618,0.47181372549019618,0,0,0,0,0.47181372549019618,0,5695.4642502265924,5794.4718626833419,859.27857932016798,859.27857932016798,null,null,null,null,7.3642857142857139,1,1,0.15727124183006538,0.15727124183006538,0.15727124183006538,0.15727124183006538,0.24510425990336163,0.24510425990336163,0.18711913202980204,null,null,2.5666666666666669,2.5666666666666669,2.5666666666666669,2.5666666666666669,null,9.5,null,13.100000000000001,11.600000000000001,8.8999999999999986,7.6000000000000014,12.3,9.6000000000000014,{"$f":"SUM(BB387:BB406)/30","v":5.6100000000000012},0,6.9866666666666664,6.3199999999999985,5.13,3.9399999999999991,7.2799999999999994,4.793333333333333,null,null,"2017-01-22",33.5,0,-3.5]
["2016-04-23",7.6999999999999993,7.6999999999999993,7.6999999999999993,7.6999999999999993,22.433333333333334,5.2240000000000002,5.2240000000000002,5.2240000000000002,5.2240000000000002,3.4066666666666672,3.4066666666666672,3.4066666666666672,3.4066666666666672,0.65211842776927009,0.65211842776927009,0.65211842776927009,0.65211842776927009,0.65211842776927009,0.65211842776927009,0.65211842776927009,0.65211842776927009,0,0,0,0,0.65211842776927009,0,5711.1150924930553,5810.1227049498048,859.27857932016798,859.27857932016798,null,null,null,null,7.2571428571428571,1,1,0.21737280925642335,0.21737280925642335,0.21737280925642335,0.21737280925642335,0.26210101314353551,0.26210101314353551,0.24979916758767237,null,null,3.4066666666666672,3.4066666666666672,3.4066666666666672,3.4066666666666672,null,7.6999999999999993,null,11.5,10.899999999999999,7.1000000000000014,4.1999999999999993,11.899999999999999,6.6999999999999993,{"$f":"SUM(BB388:BB407)/30","v":5.62},0,7.08,6.4333333333333327,5.1066666666666665,3.9666666666666668,7.3666666666666645,4.8433333333333328,null,null,"2017-01-23",34.6,0,-4.6000000000000014]
["2016-04-24",3.6000000000000014,3.6000000000000014,3.6000000000000014,3.6000000000000014,23.8,4.7320000000000002,4.7320000000000002,4.7320000000000002,4.7320000000000002,5.3199999999999985,5.3199999999999985,5.3199999999999985,5.3199999999999985,1.1242603550295855,1.1242603550295855,1.1242603550295855,1.1242603550295855,1.1242603550295855,1.1242603550295855,1.1242603550295855,1.1242603550295855,0,0,0,0,1.1242603550295855,0,5738.0973410137649,5837.1049534705144,859.27857932016798,859.27857932016798,null,null,null,null,7.3642857142857148,1,1,0.37475345167652852,0.37475345167652852,0.37475345167652852,0.37475345167652852,0.27689480944993689,0.27689480944993689,0.32370938139070771,null,null,5.3199999999999985,5.3199999999999985,5.3199999999999985,5.3199999999999985,null,3.6000000000000014,null,7.1000000000000014,6.3999999999999986,2.8999999999999986,1.3000000000000007,7.1000000000000014,3.8999999999999986,{"$f":"SUM(BB389:BB408)/30","v":5.6},0,7.083333333333333,6.4266666666666659,5.09,3.9233333333333329,7.4499999999999984,4.8666666666666654,null,null,"2017-01-24",35.200000000000003,0,-5.2000000000000028]
["2016-04-25",3.5,3.5,3.5,3.5,23.833333333333332,4.72,4.72,4.72,4.72,5.3666666666666663,5.3666666666666663,5.3666666666666663,5.3666666666666663,1.1370056497175141,1.1370056497175141,1.1370056497175141,1.1370056497175141,1.1370056497175141,1.1370056497175141,1.1370056497175141,1.1370056497175141,0,0,0,0,1.1370056497175141,0,5765.3854766069853,5864.3930890637348,859.27857932016798,859.27857932016798,null,null,null,null,7.6000000000000005,1,1,0.37900188323917133,0.37900188323917133,0.37900188323917133,0.37900188323917133,0.29333653777476937,0.29333653777476937,0.35314865086661151,null,null,5.3666666666666663,5.3666666666666663,5.3666666666666663,5.3666666666666663,null,3.5,null,5.8000000000000007,4.6000000000000014,2.3000000000000007,1.1999999999999993,5.1000000000000014,1.3000000000000007,{"$f":"SUM(BB390:BB409)/30","v":5.503333333333333},0,6.9966666666666661,6.4033333333333333,5.0133333333333328,3.8733333333333331,7.549999999999998,4.9566666666666661,null,null,"2017-01-25",30.5,0,-0.5]
["2016-04-26",5.3000000000000007,5.3000000000000007,5.3000000000000007,5.3000000000000007,23.233333333333334,4.9359999999999999,4.9359999999999999,4.9359999999999999,4.9359999999999999,4.5266666666666664,4.5266666666666664,4.5266666666666664,4.5266666666666664,0.91707185305240402,0.91707185305240402,0.91707185305240402,0.91707185305240402,0.91707185305240402,0.91707185305240402,0.91707185305240402,0.91707185305240402,0,0,0,0,0.91707185305240402,0,5787.3952010802432,5886.4028135369927,859.27857932016798,859.27857932016798,null,null,null,null,7.8142857142857149,1,1,0.30569061768413469,0.30569061768413469,0.30569061768413469,0.30569061768413469,0.30597062156949367,0.30597062156949367,0.33405093946120773,null,null,4.5266666666666664,4.5266666666666664,4.5266666666666664,4.5266666666666664,null,5.3000000000000007,null,8.5,6.1000000000000014,4.3000000000000007,2,7.1999999999999993,3.8000000000000007,{"$f":"SUM(BB391:BB410)/30","v":5.6133333333333324},0,6.9933333333333341,6.54,5.1366666666666658,3.9866666666666659,7.629999999999999,5.0333333333333323,null,null,"2017-01-26",34.6,0,-4.6000000000000014]
["2016-04-27",5,5,5,5,23.333333333333332,4.9000000000000004,4.9000000000000004,4.9000000000000004,4.9000000000000004,4.666666666666667,4.666666666666667,4.666666666666667,4.666666666666667,0.95238095238095233,0.95238095238095233,0.95238095238095233,0.95238095238095233,0.95238095238095233,0.95238095238095233,0.95238095238095233,0.95238095238095233,0,0,0,0,0.95238095238095233,0,5810.2523439373863,5909.2599563941358,859.27857932016798,859.27857932016798,null,null,null,null,7.7928571428571427,1,1,0.31746031746031744,0.31746031746031744,0.31746031746031744,0.31746031746031744,0.29290297461508175,0.29290297461508175,0.3083187928070657,null,null,4.666666666666667,4.666666666666667,4.666666666666667,4.666666666666667,null,5,null,5.6000000000000014,5,4.1000000000000014,1.8000000000000007,7.5,3.1000000000000014,{"$f":"SUM(BB392:BB411)/30","v":5.6999999999999993},0,7.0133333333333345,6.6099999999999994,5.2533333333333321,4.1499999999999995,7.676666666666665,5.0299999999999994,null,null,"2017-01-27",45.2,0,-15.200000000000003]
["2016-04-28",5.3999999999999986,5.3999999999999986,5.3999999999999986,5.3999999999999986,23.2,4.9479999999999995,4.9479999999999995,4.9479999999999995,4.9479999999999995,4.4800000000000013,4.4800000000000013,4.4800000000000013,4.4800000000000013,0.90541632983023479,0.90541632983023479,0.90541632983023479,0.90541632983023479,0.90541632983023479,0.90541632983023479,0.90541632983023479,0.90541632983023479,0,0,0,0,0.90541632983023479,0,5831.9823358533122,5930.9899483100617,859.27857932016798,859.27857932016798,null,null,null,null,8.0142857142857142,1,1,0.30180544327674491,0.30180544327674491,0.30180544327674491,0.30180544327674491,0.2518074794634958,0.2518074794634958,0.28832519637673265,null,null,4.4800000000000013,4.4800000000000013,4.4800000000000013,4.4800000000000013,null,5.3999999999999986,null,5.1999999999999993,4.8999999999999986,4.1999999999999993,3,8.6000000000000014,4.5,{"$f":"SUM(BB393:BB412)/30","v":5.8599999999999994},0,7.0200000000000005,6.6633333333333331,5.4399999999999986,4.4000000000000004,7.6266666666666652,4.9333333333333345,null,null,"2017-01-28",43.5,0,-13.5]
["2016-04-29",6.8999999999999986,6.8999999999999986,6.8999999999999986,6.8999999999999986,22.7,5.1280000000000001,5.1280000000000001,5.1280000000000001,5.1280000000000001,3.7800000000000007,3.7800000000000007,3.7800000000000007,3.7800000000000007,0.73712948517940724,0.73712948517940724,0.73712948517940724,0.73712948517940724,0.73712948517940724,0.73712948517940724,0.73712948517940724,0.73712948517940724,0,0,0,0,0.73712948517940724,0,5849.6734434976179,5948.6810559543674,859.27857932016798,859.27857932016798,null,null,null,null,8.3785714285714281,1,1,0.24570982839313574,0.24570982839313574,0.24570982839313574,0.24570982839313574,0.20845932591350502,0.20845932591350502,0.22447151741514013,null,null,3.7800000000000007,3.7800000000000007,3.7800000000000007,3.7800000000000007,null,6.8999999999999986,null,7.5,7.6000000000000014,6.8999999999999986,4.1000000000000014,8.8999999999999986,5.3000000000000007,{"$f":"SUM(BB394:BB413)/30","v":6.0333333333333323},0,7.1733333333333347,6.8199999999999994,5.6566666666666663,4.6566666666666663,7.673333333333332,5.0200000000000005,null,null,"2017-01-29",41.4,0,-11.399999999999999]
["2016-04-30",10.5,10.5,10.5,10.5,21.5,5.5600000000000005,5.5600000000000005,5.5600000000000005,5.5600000000000005,2.1,2.1,2.1,2.1,0.37769784172661869,0.37769784172661869,0.37769784172661869,0.37769784172661869,0.37769784172661869,0.37769784172661869,0.37769784172661869,0.37769784172661869,0,0,0,0,0.37769784172661869,0,5858.7381916990571,5957.7458041558066,859.27857932016798,859.27857932016798,null,null,null,null,8.9071428571428566,1,1,0.12589928057553956,0.12589928057553956,0.12589928057553956,0.12589928057553956,0.17806322845920305,0.17806322845920305,0.15289803152803397,null,null,2.1,2.1,2.1,2.1,null,10.5,null,10.8,10.399999999999999,10.600000000000001,9.1999999999999993,12.100000000000001,7.8999999999999986,{"$f":"SUM(BB395:BB414)/30","v":6.2533333333333321},0,7.3033333333333328,7.0233333333333343,5.9299999999999988,4.9733333333333327,7.7499999999999991,5.073333333333335,null,null,"2017-01-30",40.200000000000003,0,-10.200000000000003]
["2016-05-01",11.8,11.8,11.8,11.8,21.066666666666666,5.7159999999999993,5.7159999999999993,5.7159999999999993,5.7159999999999993,1.493333333333333,1.493333333333333,1.493333333333333,1.493333333333333,0.26125495684627942,0.26125495684627942,0.26125495684627942,0.26125495684627942,0.26125495684627942,0.26125495684627942,0.26125495684627942,0.26125495684627942,0,0,0,0,0.26125495684627942,0,5865.0083106633674,5964.0159231201169,859.27857932016798,859.27857932016798,null,null,null,null,9.6571428571428566,1,1,8.7084985615426477E-2,8.7084985615426477E-2,8.7084985615426477E-2,8.7084985615426477E-2,0.16476303658758257,0.16476303658758257,9.6183024860067301E-2,null,null,1.493333333333333,1.493333333333333,1.493333333333333,1.493333333333333,null,11.8,null,12.5,12.7,10.899999999999999,10.5,14.1,9.5,{"$f":"SUM(BB396:BB415)/30","v":6.503333333333333},0,7.4300000000000006,7.2133333333333338,6.2133333333333338,5.2666666666666666,7.8933333333333326,5.206666666666667,null,null,"2017-01-31",35.5,0,-5.5]
["2016-05-02",12.2,12.2,12.2,12.2,20.933333333333334,5.7640000000000002,5.7640000000000002,5.7640000000000002,5.7640000000000002,1.3066666666666671,1.3066666666666671,1.3066666666666671,1.3066666666666671,0.22669442516770769,0.22669442516770769,0.22669442516770769,0.22669442516770769,0.22669442516770769,0.22669442516770769,0.22669442516770769,0.22669442516770769,0,0,0,0,0.22669442516770769,0,5870.448976867392,5969.4565893241415,859.27857932016798,859.27857932016798,null,null,null,null,10.492857142857142,1,1,7.5564808389235891E-2,7.5564808389235891E-2,7.5564808389235891E-2,7.5564808389235891E-2,0.13450444825064561,0.13450444825064561,8.5189243169561182E-2,null,null,1.3066666666666671,1.3066666666666671,1.3066666666666671,1.3066666666666671,null,12.2,null,13.3,14,11,9.8000000000000007,15.7,11.100000000000001,{"$f":"SUM(BB397:BB416)/30","v":6.7233333333333327},0,7.5799999999999992,7.4133333333333331,6.42,5.4533333333333331,8.09,5.3433333333333337,null,null,"2017-02-01",30.5,0,-0.5]
["2016-05-03",11.600000000000001,11.600000000000001,11.600000000000001,11.600000000000001,21.133333333333333,5.6920000000000002,5.6920000000000002,5.6920000000000002,5.6920000000000002,1.586666666666666,1.586666666666666,1.586666666666666,1.586666666666666,0.27875380651206361,0.27875380651206361,0.27875380651206361,0.27875380651206361,0.27875380651206361,0.27875380651206361,0.27875380651206361,0.27875380651206361,0,0,0,0,0.27875380651206361,0,5877.1390682236815,5976.146680680431,859.27857932016798,859.27857932016798,null,null,null,null,11.207142857142857,1,1,9.2917935504021207E-2,9.2917935504021207E-2,9.2917935504021207E-2,9.2917935504021207E-2,0.10087179648940883,0.10087179648940883,0.13094723941741052,null,null,1.586666666666666,1.586666666666666,1.586666666666666,1.586666666666666,null,11.600000000000001,null,13,11.899999999999999,11.2,8.6000000000000014,15.2,10.399999999999999,{"$f":"SUM(BB398:BB417)/30","v":6.89},0,7.6066666666666665,7.5033333333333339,6.5733333333333341,5.6133333333333324,8.2166666666666668,5.41,null,null,"2017-02-02",29.4,0,0.60000000000000142]
["2016-05-04",7.5,7.5,7.5,7.5,22.5,5.1999999999999993,5.1999999999999993,5.1999999999999993,5.1999999999999993,3.5,3.5,3.5,3.5,0.67307692307692313,0.67307692307692313,0.67307692307692313,0.67307692307692313,0.67307692307692313,0.67307692307692313,0.67307692307692313,0.67307692307692313,0,0,0,0,0.67307692307692313,0,5893.2929143775273,5992.3005268342768,859.27857932016798,859.27857932016798,null,null,null,null,11.935714285714285,1,1,0.22435897435897437,0.22435897435897437,0.22435897435897437,0.22435897435897437,8.2522601499850731E-2,8.2522601499850731E-2,0.13575741159372726,null,null,3.5,3.5,3.5,3.5,null,7.5,null,9.8999999999999986,11.100000000000001,7.3000000000000007,5.6000000000000014,15.6,11.3,{"$f":"SUM(BB399:BB418)/30","v":7.1899999999999995},0,7.7066666666666652,7.61,6.84,5.9433333333333325,8.32,5.5333333333333323,null,null,"2017-02-03",28.8,0,1.1999999999999993]
["2016-05-05",11.7,11.7,11.7,11.7,21.1,5.7039999999999997,5.7039999999999997,5.7039999999999997,5.7039999999999997,1.5400000000000003,1.5400000000000003,1.5400000000000003,1.5400000000000003,0.26998597475455827,0.26998597475455827,0.26998597475455827,0.26998597475455827,0.26998597475455827,0.26998597475455827,0.26998597475455827,0.26998597475455827,0,0,0,0,0.26998597475455827,0,5899.7725777716369,5998.7801902283863,859.27857932016798,859.27857932016798,null,null,null,null,12.585714285714285,1,1,8.9995324918186084E-2,8.9995324918186084E-2,8.9995324918186084E-2,8.9995324918186084E-2,7.3419672980691006E-2,7.3419672980691006E-2,0.10821185511387958,null,null,1.5400000000000003,1.5400000000000003,1.5400000000000003,1.5400000000000003,null,11.7,null,12.100000000000001,13.899999999999999,11.2,9.8000000000000007,15.3,11.100000000000001,{"$f":"SUM(BB400:BB419)/30","v":7.5166666666666657},0,7.9866666666666655,7.92,7.15,6.2166666666666668,8.52,5.7566666666666659,null,null,"2017-02-04",28,0,2]
["2016-05-06",14.6,14.6,14.6,14.6,20.133333333333333,6.0519999999999996,6.0519999999999996,6.0519999999999996,6.0519999999999996,0.18666666666666684,0.18666666666666684,0.18666666666666684,0.18666666666666684,3.0843798193434708E-2,3.0843798193434708E-2,3.0843798193434708E-2,3.0843798193434708E-2,3.0843798193434708E-2,3.0843798193434708E-2,3.0843798193434708E-2,3.0843798193434708E-2,0,0,0,0,3.0843798193434708E-2,0,5900.5128289282793,5999.5204413850288,859.27857932016798,859.27857932016798,null,null,null,null,13.285714285714283,1,1,1.0281266064478236E-2,1.0281266064478236E-2,1.0281266064478236E-2,1.0281266064478236E-2,6.1898958282389442E-2,6.1898958282389442E-2,3.2577168877099071E-2,null,null,0.18666666666666684,0.18666666666666684,0.18666666666666684,0.18666666666666684,null,14.6,null,15.3,15.5,14.6,14,15.6,11.100000000000001,{"$f":"SUM(BB401:BB420)/30","v":7.6599999999999993},0,8.1666666666666661,8.1,7.29,6.3299999999999992,8.7333333333333325,5.9833333333333325,null,null,"2017-02-05",28.3,0,1.6999999999999993]
["2016-05-07",15.1,15.1,15.1,15.1,19.966666666666669,6.1120000000000001,6.1120000000000001,6.1120000000000001,6.1120000000000001,-4.6666666666666502E-2,-4.6666666666666502E-2,-4.6666666666666502E-2,-4.6666666666666502E-2,-7.6352530541011947E-3,-7.6352530541011947E-3,-7.6352530541011947E-3,-7.6352530541011947E-3,0,0,0,0,7.6352530541011947E-3,7.6352530541011947E-3,7.6352530541011947E-3,7.6352530541011947E-3,0,7.6352530541011947E-3,5900.5128289282793,5999.5204413850288,859.46182539346637,859.46182539346637,null,null,null,null,13.492857142857142,1,1,-2.5450843513670648E-3,-2.5450843513670648E-3,-2.5450843513670648E-3,-2.5450843513670648E-3,4.7538483358769104E-2,4.7538483358769104E-2,1.0366889231473195E-2,null,null,0,0,0,0,null,15.1,null,15.4,15.8,15.2,14.8,14.1,10.3,{"$f":"SUM(BB402:BB421)/30","v":7.7633333333333336},0,8.2099999999999991,8.1533333333333324,7.3866666666666658,6.4499999999999993,8.83,6.0566666666666666,null,null,"2017-02-06",27.6,0,2.3999999999999986]
["2016-05-08",14.1,14.1,14.1,14.1,20.3,5.992,5.992,5.992,5.992,0.42000000000000015,0.42000000000000015,0.42000000000000015,0.42000000000000015,7.0093457943925255E-2,7.0093457943925255E-2,7.0093457943925255E-2,7.0093457943925255E-2,7.0093457943925255E-2,7.0093457943925255E-2,7.0093457943925255E-2,7.0093457943925255E-2,0,0,0,0,7.0093457943925255E-2,0,5902.1950719189335,6001.202684375683,859.46182539346637,859.46182539346637,null,null,null,null,13.207142857142857,1,1,2.3364485981308417E-2,2.3364485981308417E-2,2.3364485981308417E-2,2.3364485981308417E-2,1.4761459236219191E-2,1.4761459236219191E-2,5.2464023770220913E-3,null,null,0.42000000000000015,0.42000000000000015,0.42000000000000015,0.42000000000000015,null,14.1,null,15.3,15,14.6,14,13.2,9.8000000000000007,{"$f":"SUM(BB403:BB422)/30","v":7.9233333333333338},0,8.4033333333333324,8.2899999999999991,7.5333333333333323,6.6166666666666663,8.8533333333333317,6.1399999999999988,null,null,"2017-02-07",31,0,-1]
["2016-05-09",15.2,15.2,15.2,15.2,19.933333333333334,6.1240000000000006,6.1240000000000006,6.1240000000000006,6.1240000000000006,-9.3333333333333005E-2,-9.3333333333333005E-2,-9.3333333333333005E-2,-9.3333333333333005E-2,-1.5240583496625245E-2,-1.5240583496625245E-2,-1.5240583496625245E-2,-1.5240583496625245E-2,0,0,0,0,1.5240583496625245E-2,1.5240583496625245E-2,1.5240583496625245E-2,1.5240583496625245E-2,0,1.5240583496625245E-2,5902.1950719189335,6001.202684375683,859.82759939738537,859.82759939738537,null,null,null,null,12.935714285714287,1,1,-5.0801944988750816E-3,-5.0801944988750816E-3,-5.0801944988750816E-3,-5.0801944988750816E-3,3.7445721802100559E-3,3.7445721802100559E-3,3.5596341737040536E-3,null,null,0,0,0,0,null,15.2,null,15.7,15.4,15.4,14.5,13.5,8.8000000000000007,{"$f":"SUM(BB404:BB423)/30","v":8.1766666666666676},0,8.6833333333333336,8.5299999999999976,7.8033333333333319,6.8433333333333337,8.8633333333333333,6.2166666666666659,null,null,"2017-02-08",34.299999999999997,0,-4.2999999999999972]
["2016-05-10",15.3,15.3,15.3,15.3,19.899999999999999,6.1359999999999992,6.1359999999999992,6.1359999999999992,6.1359999999999992,-0.14000000000000032,-0.14000000000000032,-0.14000000000000032,-0.14000000000000032,-2.281616688396355E-2,-2.281616688396355E-2,-2.281616688396355E-2,-2.281616688396355E-2,0,0,0,0,2.281616688396355E-2,2.281616688396355E-2,2.281616688396355E-2,2.281616688396355E-2,0,2.281616688396355E-2,5902.1950719189335,6001.202684375683,860.37518740260055,860.37518740260055,null,null,null,null,12.80714285714286,1,0,-7.6053889613211835E-3,-7.6053889613211835E-3,-7.6053889613211835E-3,-7.6053889613211835E-3,-3.7168479094136539E-3,-3.7168479094136539E-3,-5.9219259863571147E-3,null,null,0,0,0,0,null,15.3,null,14.7,14.6,15.3,14.4,14.4,9.8999999999999986,{"$f":"SUM(BB405:BB424)/30","v":8.4233333333333338},0,8.9266666666666659,8.7533333333333321,8.0299999999999994,7.0833333333333339,8.9633333333333312,6.3133333333333326,null,null,"2017-02-09",32.700000000000003,0,-2.7000000000000028]
["2016-05-11",15.2,15.2,15.2,15.2,19.933333333333334,6.1240000000000006,6.1240000000000006,6.1240000000000006,6.1240000000000006,-9.3333333333333005E-2,-9.3333333333333005E-2,-9.3333333333333005E-2,-9.3333333333333005E-2,-1.5240583496625245E-2,-1.5240583496625245E-2,-1.5240583496625245E-2,-1.5240583496625245E-2,0,0,0,0,1.5240583496625245E-2,1.5240583496625245E-2,1.5240583496625245E-2,1.5240583496625245E-2,0,1.5240583496625245E-2,5902.1950719189335,6001.202684375683,860.74096140651955,860.74096140651955,null,null,null,null,13.200000000000003,1,1,-5.0801944988750816E-3,-5.0801944988750816E-3,-5.0801944988750816E-3,-5.0801944988750816E-3,2.6649406396908474E-3,2.6649406396908474E-3,6.3844021975293798E-5,null,null,0,0,0,0,null,15.2,null,15.1,15,14.6,13.2,15.3,10.899999999999999,{"$f":"SUM(BB406:BB425)/30","v":8.620000000000001},0,9.0866666666666678,8.9133333333333322,8.173333333333332,7.2200000000000006,9.0233333333333334,6.4133333333333322,null,null,"2017-02-10",29.4,0,0.60000000000000142]
["2016-05-12",14.5,14.5,14.5,14.5,20.166666666666668,6.0399999999999991,6.0399999999999991,6.0399999999999991,6.0399999999999991,0.23333333333333334,0.23333333333333334,0.23333333333333334,0.23333333333333334,3.8631346578366449E-2,3.8631346578366449E-2,3.8631346578366449E-2,3.8631346578366449E-2,3.8631346578366449E-2,3.8631346578366449E-2,3.8631346578366449E-2,3.8631346578366449E-2,0,0,0,0,3.8631346578366449E-2,0,5903.122224236814,6002.1298366935634,860.74096140651955,860.74096140651955,null,null,null,null,13.385714285714288,1,1,1.2877115526122149E-2,1.2877115526122149E-2,1.2877115526122149E-2,1.2877115526122149E-2,2.9884834544576497E-2,2.9884834544576497E-2,-1.1383917845213554E-2,null,null,0.23333333333333334,0.23333333333333334,0.23333333333333334,0.23333333333333334,null,14.5,null,13.899999999999999,14.3,13.5,12.399999999999999,16.100000000000001,11.600000000000001,{"$f":"SUM(BB407:BB426)/30","v":8.7700000000000014},0,9.2800000000000011,9.0533333333333328,8.33,7.3200000000000021,9.086666666666666,6.5266666666666664,null,null,"2017-02-11",30.6,0,-0.60000000000000142]
["2016-05-13",16.7,16.7,16.7,16.7,19.433333333333334,6.3040000000000003,6.3040000000000003,6.3040000000000003,6.3040000000000003,-0.793333333333333,-0.793333333333333,-0.793333333333333,-0.793333333333333,-0.12584602368866321,-0.12584602368866321,-0.12584602368866321,-0.12584602368866321,0,0,0,0,0.12584602368866321,0.12584602368866321,0.12584602368866321,0.12584602368866321,0,0.12584602368866321,5903.122224236814,6002.1298366935634,863.76126597504742,863.76126597504742,null,null,null,null,13.514285714285716,1,1,-4.1948674562887735E-2,-4.1948674562887735E-2,-4.1948674562887735E-2,-4.1948674562887735E-2,5.8241825045887076E-2,5.8241825045887076E-2,4.3519588185329527E-3,null,null,0,0,0,0,null,16.7,null,14.5,14.1,15.1,14.1,15,10.399999999999999,{"$f":"SUM(BB408:BB427)/30","v":9.0166666666666693},0,9.48,9.2099999999999991,8.6199999999999992,7.6066666666666682,9.1766666666666659,6.6533333333333333,null,null,"2017-02-12",32.5,0,-2.5]
["2016-05-14",13.399999999999999,13.399999999999999,13.399999999999999,13.399999999999999,20.533333333333335,5.9079999999999995,5.9079999999999995,5.9079999999999995,5.9079999999999995,0.74666666666666737,0.74666666666666737,0.74666666666666737,0.74666666666666737,0.12638230647709334,0.12638230647709334,0.12638230647709334,0.12638230647709334,0.12638230647709334,0.12638230647709334,0.12638230647709334,0.12638230647709334,0,0,0,0,0.12638230647709334,0,5906.1553995922641,6005.1630120490136,863.76126597504742,863.76126597504742,null,null,null,null,13.600000000000003,1,1,4.2127435492364446E-2,4.2127435492364446E-2,4.2127435492364446E-2,4.2127435492364446E-2,8.0430492447564103E-2,8.0430492447564103E-2,7.1360834748328231E-2,null,null,0.74666666666666737,0.74666666666666737,0.74666666666666737,0.74666666666666737,null,13.399999999999999,null,15.5,15.7,12.2,9.5,13.100000000000001,10.600000000000001,{"$f":"SUM(BB409:BB428)/30","v":9.2300000000000022},0,9.7000000000000011,9.4933333333333323,8.7933333333333312,7.823333333333335,9.2999999999999989,6.8366666666666669,null,null,"2017-02-13",34.200000000000003,0,-4.2000000000000028]
["2016-05-15",7.8000000000000007,7.8000000000000007,7.8000000000000007,7.8000000000000007,22.4,5.2359999999999998,5.2359999999999998,5.2359999999999998,5.2359999999999998,3.3599999999999994,3.3599999999999994,3.3599999999999994,3.3599999999999994,0.64171122994652396,0.64171122994652396,0.64171122994652396,0.64171122994652396,0.64171122994652396,0.64171122994652396,0.64171122994652396,0.64171122994652396,0,0,0,0,0.64171122994652396,0,5921.5564691109803,6020.5640815677298,863.76126597504742,863.76126597504742,null,null,null,null,13.992857142857146,1,1,0.21390374331550799,0.21390374331550799,0.21390374331550799,0.21390374331550799,8.8740610703890749E-2,8.8740610703890749E-2,0.14981663927272382,null,null,3.3599999999999994,3.3599999999999994,3.3599999999999994,3.3599999999999994,null,7.8000000000000007,null,11.2,10,6.5,4.6000000000000014,11.5,8.1000000000000014,{"$f":"SUM(BB410:BB429)/30","v":9.5066666666666695},0,9.7966666666666686,9.6066666666666638,9.0499999999999989,8.07,9.3699999999999992,6.9733333333333336,null,null,"2017-02-14",33.799999999999997,0,-3.7999999999999972]
["2016-05-16",8.3999999999999986,8.3999999999999986,8.3999999999999986,8.3999999999999986,22.2,5.3079999999999998,5.3079999999999998,5.3079999999999998,5.3079999999999998,3.0800000000000005,3.0800000000000005,3.0800000000000005,3.0800000000000005,0.58025621703089691,0.58025621703089691,0.58025621703089691,0.58025621703089691,0.58025621703089691,0.58025621703089691,0.58025621703089691,0.58025621703089691,0,0,0,0,0.58025621703089691,0,5935.482618319722,6034.4902307764714,863.76126597504742,863.76126597504742,null,null,null,null,14.192857142857141,1,1,0.19341873901029896,0.19341873901029896,0.19341873901029896,0.19341873901029896,8.9486720171114781E-2,8.9486720171114781E-2,0.18501258839207502,null,null,3.0800000000000005,3.0800000000000005,3.0800000000000005,3.0800000000000005,null,8.3999999999999986,null,9.8000000000000007,7.6999999999999993,7.1999999999999993,5.6000000000000014,10.100000000000001,6,{"$f":"SUM(BB411:BB430)/30","v":9.5833333333333357},0,9.9433333333333351,9.7433333333333323,9.1266666666666652,8.1866666666666692,9.4600000000000009,7.0400000000000009,null,null,"2017-02-15",33.1,0,-3.1000000000000014]
["2016-05-17",9.8000000000000007,9.8000000000000007,9.8000000000000007,9.8000000000000007,21.733333333333334,5.4759999999999991,5.4759999999999991,5.4759999999999991,5.4759999999999991,2.4266666666666663,2.4266666666666663,2.4266666666666663,2.4266666666666663,0.44314584855125394,0.44314584855125394,0.44314584855125394,0.44314584855125394,0.44314584855125394,0.44314584855125394,0.44314584855125394,0.44314584855125394,0,0,0,0,0.44314584855125394,0,5946.1181186849517,6045.1257311417012,863.76126597504742,863.76126597504742,null,null,null,null,14.22857142857143,1,1,0.14771528285041799,0.14771528285041799,0.14771528285041799,0.14771528285041799,9.0515905018922274E-2,9.0515905018922274E-2,0.13140821838537617,null,null,2.4266666666666663,2.4266666666666663,2.4266666666666663,2.4266666666666663,null,9.8000000000000007,null,11.399999999999999,9.1000000000000014,8.5,6.8000000000000007,8.1999999999999993,5.6000000000000014,{"$f":"SUM(BB412:BB431)/30","v":9.6300000000000008},0,10.026666666666667,9.8033333333333328,9.1699999999999982,8.2099999999999991,9.5466666666666651,7.1366666666666667,null,null,"2017-02-16",33.200000000000003,0,-3.2000000000000028]
["2016-05-18",13,13,13,13,20.666666666666668,5.8599999999999994,5.8599999999999994,5.8599999999999994,5.8599999999999994,0.93333333333333335,0.93333333333333335,0.93333333333333335,0.93333333333333335,0.15927189988623439,0.15927189988623439,0.15927189988623439,0.15927189988623439,0.15927189988623439,0.15927189988623439,0.15927189988623439,0.15927189988623439,0,0,0,0,0.15927189988623439,0,5949.940644282221,6048.9482567389705,863.76126597504742,863.76126597504742,null,null,null,null,14.142857142857142,1,1,5.3090633295411464E-2,5.3090633295411464E-2,5.3090633295411464E-2,5.3090633295411464E-2,7.9879910803941148E-2,7.9879910803941148E-2,7.2968599314173238E-2,null,null,0.93333333333333335,0.93333333333333335,0.93333333333333335,0.93333333333333335,null,13,null,13.600000000000001,12.100000000000001,12.3,9.8000000000000007,8.8999999999999986,6.8000000000000007,{"$f":"SUM(BB413:BB432)/30","v":9.6833333333333353},0,10.150000000000002,9.8766666666666669,9.2133333333333329,8.2133333333333329,9.706666666666667,7.28,null,null,"2017-02-17",32.299999999999997,0,-2.2999999999999972]
["2016-05-19",14.3,14.3,14.3,14.3,20.233333333333334,6.016,6.016,6.016,6.016,0.32666666666666633,0.32666666666666633,0.32666666666666633,0.32666666666666633,5.4299645390070865E-2,5.4299645390070865E-2,5.4299645390070865E-2,5.4299645390070865E-2,5.4299645390070865E-2,5.4299645390070865E-2,5.4299645390070865E-2,5.4299645390070865E-2,0,0,0,0,5.4299645390070865E-2,0,5951.2438357715828,6050.2514482283323,863.76126597504742,863.76126597504742,null,null,null,null,14.25,1,1,1.8099881796690288E-2,1.8099881796690288E-2,1.8099881796690288E-2,1.8099881796690288E-2,3.3955092143810692E-2,3.3955092143810692E-2,1.2148711487955552E-2,null,null,0.32666666666666633,0.32666666666666633,0.32666666666666633,0.32666666666666633,null,14.3,null,14.8,14.3,13.7,11.3,11.899999999999999,8.1999999999999993,{"$f":"SUM(BB414:BB433)/30","v":9.793333333333333},0,10.363333333333335,10.07,9.2866666666666671,8.2733333333333334,9.9466666666666654,7.4733333333333336,null,null,"2017-02-18",30.5,0,-0.5]
["2016-05-20",16.399999999999999,16.399999999999999,16.399999999999999,16.399999999999999,19.533333333333335,6.2679999999999989,6.2679999999999989,6.2679999999999989,6.2679999999999989,-0.65333333333333266,-0.65333333333333266,-0.65333333333333266,-0.65333333333333266,-0.1042331418847053,-0.1042331418847053,-0.1042331418847053,-0.1042331418847053,0,0,0,0,0.1042331418847053,0.1042331418847053,0.1042331418847053,0.1042331418847053,0,0.1042331418847053,5951.2438357715828,6050.2514482283323,866.26286138028036,866.26286138028036,null,null,null,null,14.25,1,0,-3.4744380628235101E-2,-3.4744380628235101E-2,-3.4744380628235101E-2,-3.4744380628235101E-2,-3.9960737268924995E-3,-3.9960737268924995E-3,-1.6323007614682795E-2,null,null,0,0,0,0,null,16.399999999999999,null,15.6,15.2,14.9,13.3,13.899999999999999,10.899999999999999,{"$f":"SUM(BB415:BB434)/30","v":9.9099999999999984},0,10.57666666666667,10.273333333333333,9.3733333333333331,8.3666666666666671,10.216666666666667,7.7566666666666668,null,null,"2017-02-19",29.3,0,0.69999999999999929]
["2016-05-21",16.3,16.3,16.3,16.3,19.566666666666666,6.2560000000000002,6.2560000000000002,6.2560000000000002,6.2560000000000002,-0.60666666666666702,-0.60666666666666702,-0.60666666666666702,-0.60666666666666702,-9.6973572037510711E-2,-9.6973572037510711E-2,-9.6973572037510711E-2,-9.6973572037510711E-2,0,0,0,0,9.6973572037510711E-2,9.6973572037510711E-2,9.6973572037510711E-2,9.6973572037510711E-2,0,9.6973572037510711E-2,5951.2438357715828,6050.2514482283323,868.59022710918066,868.59022710918066,null,null,null,null,14.535714285714286,1,0,-3.2324524012503568E-2,-3.2324524012503568E-2,-3.2324524012503568E-2,-3.2324524012503568E-2,-2.7967491622899934E-2,-2.7967491622899934E-2,-5.821296398204797E-2,null,null,0,0,0,0,null,16.3,null,18.3,16.899999999999999,15.6,13.5,16,12.899999999999999,{"$f":"SUM(BB416:BB435)/30","v":10.046666666666665},0,10.733333333333336,10.466666666666667,9.4866666666666681,8.4233333333333338,10.413333333333334,7.9733333333333336,null,null,"2017-02-20",30.3,0,-0.30000000000000071]
["2016-05-22",{"$f":"BB427+A$7","v":19.600000000000001},19.600000000000001,19.600000000000001,19.600000000000001,{"$f":"F$8+(H$7-F$8)*(M$6-B427)/30","v":18.466666666666665},{"$f":"IF((B427+35-$F427)*$H$5+$H$6>1,(B427+35-$F427)*$H$5+$H$6,1)","v":6.652000000000001},{"$f":"IF((C427+35-$F427)*$H$5+$H$6>1,(C427+35-$F427)*$H$5+$H$6,1)","v":6.652000000000001},{"$f":"IF((D427+35-$F427)*$H$5+$H$6>1,(D427+35-$F427)*$H$5+$H$6,1)","v":6.652000000000001},{"$f":"IF((E427+35-$F427)*$H$5+$H$6>1,(E427+35-$F427)*$H$5+$H$6,1)","v":6.652000000000001},{"$f":"$M$5*($M$6-B427)/30-$O$5","v":-2.1466666666666674},{"$f":"$M$5*($M$6-C427)/30-$O$5","v":-2.1466666666666674},{"$f":"$M$5*($M$6-D427)/30-$O$5","v":-2.1466666666666674},{"$f":"$M$5*($M$6-E427)/30-$O$5","v":-2.1466666666666674},{"$f":"IF(K427/G427>$M$7,$M$7+K427-$M$7*G427,K427/G427)","v":-0.32270996191621576},{"$f":"IF(L427/H427>$M$7,$M$7+L427-$M$7*H427,L427/H427)","v":-0.32270996191621576},{"$f":"IF(M427/I427>$M$7,$M$7+M427-$M$7*I427,M427/I427)","v":-0.32270996191621576},{"$f":"IF(N427/J427>$M$7,$M$7+N427-$M$7*J427,N427/J427)","v":-0.32270996191621576},{"$f":"IF(O427>0,O427,)","v":0},{"$f":"IF(P427>0,P427,)","v":0},{"$f":"IF(Q427>0,Q427,)","v":0},{"$f":"IF(R427>0,R427,)","v":0},{"$f":"IF(O427<0,-O427,0)","v":0.32270996191621576},{"$f":"IF(P427<0,-P427,0)","v":0.32270996191621576},{"$f":"IF(Q427<0,-Q427,0)","v":0.32270996191621576},{"$f":"IF(R427<0,-R427,0)","v":0.32270996191621576},{"$f":"IF(SUM(O427:R427)/4>0,SUM(O427:R427)/4,)","v":0},{"$f":"IF(SUM(O427:R427)/4<0,-SUM(O427:R427)/4,)","v":0.32270996191621576},{"$f":"6*SUM(S427:V427)+AC426","v":5951.2438357715828},{"$f":"AD426+AA427*24","v":6050.2514482283323},{"$f":"6*SUM(W427:Z427)+AE426","v":876.33526619516988},{"$f":"AF426+AB427*24","v":876.33526619516988},null,null,null,null,{"$f":"IF(SUM(B421:B434)/14<$C$7,SUM(B421:B434)/14,0)","v":0},{"$f":"IF(SUM(B421:B434)/14<$C$7,1,0)","v":0},{"$f":"IF(SUM(AN424:AQ430)>0,1,0)","v":0},{"$f":"K427/G427/$M$7","v":-0.10756998730540525},{"$f":"L427/H427/$M$7","v":-0.10756998730540525},{"$f":"M427/I427/$M$7","v":-0.10756998730540525},{"$f":"N427/J427/$M$7","v":-0.10756998730540525},{"$f":"SUM(AO424:AO430)/7","v":-3.1835777135346306E-2},{"$f":"SUM(AQ424:AQ430)/7","v":-3.1835777135346306E-2},{"$f":"SUM(AN426:AQ428)/12","v":-7.0711311134177376E-2},null,null,{"$f":"IF(K427>0,K427,0)","v":0},{"$f":"IF(L427>0,L427,0)","v":0},{"$f":"IF(M427>0,M427,0)","v":0},{"$f":"IF(N427>0,N427,0)","v":0},null,19.600000000000001,null,19.3,18.7,19.7,18.399999999999999,18.399999999999999,14.9,{"$f":"SUM(BB417:BB436)/30","v":10.133333333333333},0,10.83,10.6,9.5399999999999991,8.4666666666666668,10.57,8.1833333333333336,null,null,"2017-02-21",28.9,0,1.1000000000000014]
["2016-05-23",18,18,18,18,19,6.46,6.46,6.46,6.46,-1.4,-1.4,-1.4,-1.4,-0.21671826625386995,-0.21671826625386995,-0.21671826625386995,-0.21671826625386995,0,0,0,0,0.21671826625386995,0.21671826625386995,0.21671826625386995,0.21671826625386995,0,0.21671826625386995,5951.2438357715828,6050.2514482283323,881.53650458526272,881.53650458526272,null,null,null,null,0,0,0,-7.223942208462332E-2,-7.223942208462332E-2,-7.223942208462332E-2,-7.223942208462332E-2,-3.7994179072208249E-2,-3.7994179072208249E-2,-6.6631350603887557E-2,null,null,0,0,0,0,null,18,null,19.600000000000001,20.399999999999999,16.399999999999999,15.1,18.899999999999999,15.9,{"$f":"SUM(BB418:BB437)/30","v":10.213333333333333},0,10.95,10.683333333333334,9.629999999999999,8.51,10.63,8.2666666666666675,null,null,"2017-02-22",27.2,0,2.8000000000000007]
["2016-05-24",15.8,15.8,15.8,15.8,19.733333333333334,6.1959999999999997,6.1959999999999997,6.1959999999999997,6.1959999999999997,-0.37333333333333368,-0.37333333333333368,-0.37333333333333368,-0.37333333333333368,-6.0253927264902148E-2,-6.0253927264902148E-2,-6.0253927264902148E-2,-6.0253927264902148E-2,0,0,0,0,6.0253927264902148E-2,6.0253927264902148E-2,6.0253927264902148E-2,6.0253927264902148E-2,0,6.0253927264902148E-2,5951.2438357715828,6050.2514482283323,882.98259883962032,882.98259883962032,null,null,null,null,0,0,0,-2.008464242163405E-2,-2.008464242163405E-2,-2.008464242163405E-2,-2.008464242163405E-2,-3.9023363920015763E-2,-3.9023363920015763E-2,-2.2103809932656832E-2,null,null,0,0,0,0,null,15.8,null,12.8,14.5,15,13,17.7,15.4,{"$f":"SUM(BB419:BB438)/30","v":10.206666666666667},0,11.06,10.776666666666667,9.6533333333333342,8.4733333333333345,10.629999999999999,{"$f":"SUM(BI419:BI438)/30","v":8.2966666666666686},null,null,"2017-02-23",22.9,0,7.1000000000000014]
["2016-05-25",14,14,14,14,20.333333333333332,5.98,5.98,5.98,5.98,0.46666666666666667,0.46666666666666667,0.46666666666666667,0.46666666666666667,7.8037904124860641E-2,7.8037904124860641E-2,7.8037904124860641E-2,7.8037904124860641E-2,7.8037904124860641E-2,7.8037904124860641E-2,7.8037904124860641E-2,7.8037904124860641E-2,0,0,0,0,7.8037904124860641E-2,0,5953.1167454705792,6052.1243579273287,882.98259883962032,882.98259883962032,null,null,null,null,0,0,0,2.601263470828688E-2,2.601263470828688E-2,2.601263470828688E-2,2.601263470828688E-2,-4.2754562460615556E-2,-4.2754562460615556E-2,-6.3603131582301688E-3,null,null,0.46666666666666667,0.46666666666666667,0.46666666666666667,0.46666666666666667,null,14,null,16.5,18,13.5,13.3,18,13.100000000000001,{"$f":"SUM(BB420:BB439)/30","v":10.289999999999997},0,11.163333333333334,10.836666666666668,9.7666666666666693,8.6166666666666671,10.786666666666665,8.4266666666666676,null,null,"2017-02-24",23.2,0,6.8000000000000007]
["2016-05-26",16,16,16,16,19.666666666666668,6.22,6.22,6.22,6.22,-0.46666666666666667,-0.46666666666666667,-0.46666666666666667,-0.46666666666666667,-7.5026795284030015E-2,-7.5026795284030015E-2,-7.5026795284030015E-2,-7.5026795284030015E-2,0,0,0,0,7.5026795284030015E-2,7.5026795284030015E-2,7.5026795284030015E-2,7.5026795284030015E-2,0,7.5026795284030015E-2,5953.1167454705792,6052.1243579273287,884.78324192643709,884.78324192643709,null,null,null,null,0,0,0,-2.5008931761343337E-2,-2.5008931761343337E-2,-2.5008931761343337E-2,-2.5008931761343337E-2,-3.9951941927717019E-2,-3.9951941927717019E-2,-1.3648323871981395E-2,null,null,0,0,0,0,null,16,null,17.8,17.3,15.9,14.7,18.2,14,{"$f":"SUM(BB421:BB440)/30","v":10.633333333333333},0,11.436666666666666,11.156666666666668,10.133333333333333,8.9933333333333341,11.053333333333333,8.663333333333334,null,null,"2017-02-25",27.6,0,2.3999999999999986]
["2016-05-27",16.7,16.7,16.7,16.7,19.433333333333334,6.3040000000000003,6.3040000000000003,6.3040000000000003,6.3040000000000003,-0.793333333333333,-0.793333333333333,-0.793333333333333,-0.793333333333333,-0.12584602368866321,-0.12584602368866321,-0.12584602368866321,-0.12584602368866321,0,0,0,0,0.12584602368866321,0.12584602368866321,0.12584602368866321,0.12584602368866321,0,0.12584602368866321,5953.1167454705792,6052.1243579273287,887.80354649496496,887.80354649496496,null,null,null,null,0,0,0,-4.1948674562887735E-2,-4.1948674562887735E-2,-4.1948674562887735E-2,-4.1948674562887735E-2,-4.4384254085393558E-2,-4.4384254085393558E-2,-4.1800173373644396E-2,null,null,0,0,0,0,null,16.7,null,19.100000000000001,18,16.5,14.9,18.899999999999999,14.6,{"$f":"SUM(BB422:BB441)/30","v":11.003333333333332},0,11.733333333333333,11.583333333333336,10.526666666666667,9.3966666666666665,11.366666666666667,8.9666666666666668,null,null,"2017-02-26",28.5,0,1.5]
["2016-05-28",17.399999999999999,17.399999999999999,17.399999999999999,17.399999999999999,19.2,6.3879999999999999,6.3879999999999999,6.3879999999999999,6.3879999999999999,-1.1199999999999994,-1.1199999999999994,-1.1199999999999994,-1.1199999999999994,-0.17532874139010637,-0.17532874139010637,-0.17532874139010637,-0.17532874139010637,0,0,0,0,0.17532874139010637,0.17532874139010637,0.17532874139010637,0.17532874139010637,0,0.17532874139010637,5953.1167454705792,6052.1243579273287,892.01143628832756,892.01143628832756,null,null,null,null,0,0,0,-5.8442913796702127E-2,-5.8442913796702127E-2,-5.8442913796702127E-2,-5.8442913796702127E-2,-5.1182860072473357E-2,-5.1182860072473357E-2,-6.2781077311568428E-2,null,null,0,0,0,0,null,17.399999999999999,null,21.7,20.8,16.8,15.8,20.399999999999999,15.6,{"$f":"SUM(BB423:BB442)/30","v":11.289999999999997},0,11.98,11.906666666666668,10.856666666666666,9.7266666666666666,11.67,9.2266666666666648,null,null,"2017-02-27",25.4,0,4.6000000000000014]
["2016-05-29",18.7,18.7,18.7,18.7,18.766666666666666,6.5440000000000005,6.5440000000000005,6.5440000000000005,6.5440000000000005,-1.7266666666666663,-1.7266666666666663,-1.7266666666666663,-1.7266666666666663,-0.26385493072534633,-0.26385493072534633,-0.26385493072534633,-0.26385493072534633,0,0,0,0,0.26385493072534633,0.26385493072534633,0.26385493072534633,0.26385493072534633,0,0.26385493072534633,5953.1167454705792,6052.1243579273287,898.34395462573582,898.34395462573582,null,null,null,null,0,0,0,-8.7951643575115437E-2,-8.7951643575115437E-2,-8.7951643575115437E-2,-8.7951643575115437E-2,-6.1571236178433145E-2,-6.1571236178433145E-2,-8.322005485339222E-2,null,null,0,0,0,0,null,18.7,null,22.1,21.5,18,17.3,21.6,17.3,{"$f":"SUM(BB424:BB443)/30","v":11.436666666666666},0,12.103333333333332,12.07666666666667,11.02,9.9466666666666654,11.890000000000002,9.3466666666666658,null,null,"2017-02-28",21.1,0,8.8999999999999986]
["2016-05-30",19.399999999999999,{"$f":"$B435+C$9","v":19.399999999999999},19.399999999999999,19.399999999999999,18.533333333333335,6.6279999999999992,6.6279999999999992,6.6279999999999992,6.6279999999999992,-2.0533333333333328,-2.0533333333333328,-2.0533333333333328,-2.0533333333333328,-0.30979682156507743,-0.30979682156507743,-0.30979682156507743,-0.30979682156507743,0,0,0,0,0.30979682156507743,0.30979682156507743,0.30979682156507743,0.30979682156507743,0,0.30979682156507743,5953.1167454705792,6052.1243579273287,905.77907834329767,905.77907834329767,null,null,null,null,0,0,0,-0.10326560718835914,-0.10326560718835914,-0.10326560718835914,-0.10326560718835914,-6.3306387267425351E-2,-6.3306387267425351E-2,-8.6297378364889057E-2,null,null,0,0,0,0,null,19.399999999999999,null,19.399999999999999,20.399999999999999,18.7,16.100000000000001,20.3,16.399999999999999,{"$f":"SUM(BB425:BB444)/30","v":11.593333333333334},0,12.19,12.203333333333337,11.156666666666665,10.113333333333335,12.046666666666669,9.4966666666666644,null,null,"2017-03-01",24.6,0,5.3999999999999986]
["2016-05-31",17.8,17.8,17.8,17.8,19.066666666666666,6.4359999999999999,6.4359999999999999,6.4359999999999999,6.4359999999999999,-1.3066666666666671,-1.3066666666666671,-1.3066666666666671,-1.3066666666666671,-0.20302465299357786,-0.20302465299357786,-0.20302465299357786,-0.20302465299357786,0,0,0,0,0.20302465299357786,0.20302465299357786,0.20302465299357786,0.20302465299357786,0,0.20302465299357786,5953.1167454705792,6052.1243579273287,910.65167001514351,910.65167001514351,null,null,null,null,0,0,0,-6.767488433119262E-2,-6.767488433119262E-2,-6.767488433119262E-2,-6.767488433119262E-2,-6.0535368957263185E-2,-6.0535368957263185E-2,-7.2548829850994478E-2,null,null,0,0,0,0,null,17.8,null,18,19,16.2,14.5,20,17.2,{"$f":"SUM(BB426:BB445)/30","v":11.633333333333333},0,12.296666666666665,12.276666666666669,11.206666666666665,10.129999999999999,12.150000000000002,9.5766666666666644,null,null,"2017-03-02",25.9,0,4.1000000000000014]
["2016-06-01",16.899999999999999,16.899999999999999,16.899999999999999,16.899999999999999,19.366666666666667,6.3279999999999994,6.3279999999999994,6.3279999999999994,6.3279999999999994,-0.88666666666666605,-0.88666666666666605,-0.88666666666666605,-0.88666666666666605,-0.14011799410029491,-0.14011799410029491,-0.14011799410029491,-0.14011799410029491,0,0,0,0,0.14011799410029491,0.14011799410029491,0.14011799410029491,0.14011799410029491,0,0.14011799410029491,5953.1167454705792,6052.1243579273287,914.01450187355056,914.01450187355056,null,null,null,null,0,0,0,-4.6705998033431638E-2,-4.6705998033431638E-2,-4.6705998033431638E-2,-4.6705998033431638E-2,-6.2830523560167259E-2,-6.2830523560167259E-2,-5.0511957249637661E-2,null,null,0,0,0,0,null,16.899999999999999,null,17.5,16.8,16.2,13.7,17.899999999999999,14.1,{"$f":"SUM(BB427:BB446)/30","v":11.666666666666666},0,12.336666666666668,12.326666666666666,11.226666666666665,10.136666666666665,12.186666666666669,9.6533333333333324,null,null,"2017-03-03",25.4,0,4.6000000000000014]
["2016-06-02",16.5,16.5,16.5,16.5,19.5,6.2799999999999994,6.2799999999999994,6.2799999999999994,6.2799999999999994,-0.7,-0.7,-0.7,-0.7,-0.11146496815286625,-0.11146496815286625,-0.11146496815286625,-0.11146496815286625,0,0,0,0,0.11146496815286625,0.11146496815286625,0.11146496815286625,0.11146496815286625,0,0.11146496815286625,5953.1167454705792,6052.1243579273287,916.6896611092194,916.6896611092194,null,null,null,null,0,0,0,-3.7154989384288746E-2,-3.7154989384288746E-2,-3.7154989384288746E-2,-3.7154989384288746E-2,-6.5326244013291915E-2,-6.5326244013291915E-2,-3.5470844603157664E-2,null,null,0,0,0,0,null,16.5,null,17.8,16.899999999999999,15.8,13,15,11.3,{"$f":"SUM(BB428:BB447)/30","v":11.543333333333333},0,12.276666666666669,12.273333333333335,11.073333333333332,9.9600000000000009,12.123333333333337,9.5766666666666644,null,null,"2017-03-04",22,0,8]
["2016-06-03",15.9,15.9,15.9,15.9,19.7,6.2080000000000002,6.2080000000000002,6.2080000000000002,6.2080000000000002,-0.42000000000000015,-0.42000000000000015,-0.42000000000000015,-0.42000000000000015,-6.7654639175257755E-2,-6.7654639175257755E-2,-6.7654639175257755E-2,-6.7654639175257755E-2,0,0,0,0,6.7654639175257755E-2,6.7654639175257755E-2,6.7654639175257755E-2,6.7654639175257755E-2,0,6.7654639175257755E-2,5953.1167454705792,6052.1243579273287,918.31337244942563,918.31337244942563,null,null,null,null,0,0,0,-2.2551546391752584E-2,-2.2551546391752584E-2,-2.2551546391752584E-2,-2.2551546391752584E-2,-6.218365724770774E-2,-6.218365724770774E-2,-4.4738510597690663E-2,null,null,0,0,0,0,null,15.9,null,18.600000000000001,17.5,15.6,13.8,17.8,14.5,{"$f":"SUM(BB429:BB448)/30","v":11.473333333333333},0,12.19,12.19,11.056666666666665,9.9033333333333324,12.096666666666669,9.5033333333333339,null,null,"2017-03-05",19.899999999999999,0,10.100000000000001]
["2016-06-04",18.100000000000001,18.100000000000001,18.100000000000001,18.100000000000001,18.966666666666665,6.4720000000000004,6.4720000000000004,6.4720000000000004,6.4720000000000004,-1.4466666666666674,-1.4466666666666674,-1.4466666666666674,-1.4466666666666674,-0.22352698805109197,-0.22352698805109197,-0.22352698805109197,-0.22352698805109197,0,0,0,0,0.22352698805109197,0.22352698805109197,0.22352698805109197,0.22352698805109197,0,0.22352698805109197,5953.1167454705792,6052.1243579273287,923.67802016265182,923.67802016265182,null,null,null,null,0,0,0,-7.4508996017030663E-2,-7.4508996017030663E-2,-7.4508996017030663E-2,-7.4508996017030663E-2,-6.0864804314209098E-2,-6.0864804314209098E-2,-6.7494076385257062E-2,null,null,0,0,0,0,null,18.100000000000001,null,19.399999999999999,19.600000000000001,17.5,15.9,19.5,15.2,{"$f":"SUM(BB430:BB449)/30","v":11.52},0,12.389999999999999,12.29,11.096666666666666,9.9266666666666676,12.146666666666668,9.4699999999999989,null,null,"2017-03-06",23.2,0,6.8000000000000007]
["2016-06-05",19.5,19.5,19.5,19.5,18.5,6.64,6.64,6.64,6.64,-2.1,-2.1,-2.1,-2.1,-0.3162650602409639,-0.3162650602409639,-0.3162650602409639,-0.3162650602409639,0,0,0,0,0.3162650602409639,0.3162650602409639,0.3162650602409639,0.3162650602409639,0,0.3162650602409639,5953.1167454705792,6052.1243579273287,931.26838160843499,931.26838160843499,null,null,null,null,0,0,0,-0.10542168674698797,-0.10542168674698797,-0.10542168674698797,-0.10542168674698797,-6.7701468560024167E-2,-6.7701468560024167E-2,-8.7066060864429515E-2,null,null,0,0,0,0,null,19.5,null,18.7,20.5,19,17.7,19.5,15.1,{"$f":"SUM(BB431:BB450)/30","v":11.636666666666665},0,12.490000000000002,12.3,11.193333333333332,9.9633333333333329,12.150000000000002,9.5266666666666655,null,null,"2017-03-07",25,0,5]
["2016-06-06",18.399999999999999,18.399999999999999,18.399999999999999,18.399999999999999,18.866666666666667,6.5079999999999991,6.5079999999999991,6.5079999999999991,6.5079999999999991,-1.586666666666666,-1.586666666666666,-1.586666666666666,-1.586666666666666,-0.2438024994878098,-0.2438024994878098,-0.2438024994878098,-0.2438024994878098,0,0,0,0,0.2438024994878098,0.2438024994878098,0.2438024994878098,0.2438024994878098,0,0.2438024994878098,5953.1167454705792,6052.1243579273287,937.1196415961424,937.1196415961424,null,null,null,null,0,0,0,-8.1267499829269937E-2,-8.1267499829269937E-2,-8.1267499829269937E-2,-8.1267499829269937E-2,-7.1404495307025001E-2,-7.1404495307025001E-2,-8.1710700124319996E-2,null,null,0,0,0,0,null,18.399999999999999,null,18.8,18.8,18.399999999999999,16.7,17.3,13.399999999999999,{"$f":"SUM(BB432:BB451)/30","v":11.626666666666663},0,12.456666666666669,12.246666666666664,11.163333333333332,9.9233333333333302,12.113333333333337,9.5266666666666655,null,null,"2017-03-08",23.9,0,6.1000000000000014]
["2016-06-07",17.399999999999999,17.399999999999999,17.399999999999999,17.399999999999999,19.2,6.3879999999999999,6.3879999999999999,6.3879999999999999,6.3879999999999999,-1.1199999999999994,-1.1199999999999994,-1.1199999999999994,-1.1199999999999994,-0.17532874139010637,-0.17532874139010637,-0.17532874139010637,-0.17532874139010637,0,0,0,0,0.17532874139010637,0.17532874139010637,0.17532874139010637,0.17532874139010637,0,0.17532874139010637,5953.1167454705792,6052.1243579273287,941.327531389505,941.327531389505,null,null,null,null,0,0,0,-5.8442913796702127E-2,-5.8442913796702127E-2,-5.8442913796702127E-2,-5.8442913796702127E-2,-7.6199017577682007E-2,-7.6199017577682007E-2,-7.8091020460036395E-2,null,null,0,0,0,0,null,17.399999999999999,null,17.3,17.2,17.2,16.399999999999999,15.5,10.399999999999999,{"$f":"SUM(BB433:BB452)/30","v":11.656666666666666},0,12.486666666666668,12.293333333333331,11.2,9.9033333333333342,12.133333333333335,9.6033333333333317,null,null,"2017-03-09",25,0,5]
["2016-06-08",19,19,19,19,18.666666666666668,6.5799999999999992,6.5799999999999992,6.5799999999999992,6.5799999999999992,-1.8666666666666667,-1.8666666666666667,-1.8666666666666667,-1.8666666666666667,-0.28368794326241137,-0.28368794326241137,-0.28368794326241137,-0.28368794326241137,0,0,0,0,0.28368794326241137,0.28368794326241137,0.28368794326241137,0.28368794326241137,0,0.28368794326241137,5953.1167454705792,6052.1243579273287,948.13604202780289,948.13604202780289,null,null,null,null,0,0,0,-9.4562647754137127E-2,-9.4562647754137127E-2,-9.4562647754137127E-2,-9.4562647754137127E-2,-6.8776524774070855E-2,-6.8776524774070855E-2,-7.2027246054711266E-2,null,null,0,0,0,0,null,19,null,17.399999999999999,18.100000000000001,17.8,16.3,16.600000000000001,12.7,{"$f":"SUM(BB434:BB453)/30","v":11.583333333333334},0,12.413333333333336,12.249999999999998,11.123333333333333,9.8033333333333346,12.23666666666667,9.7233333333333327,null,null,"2017-03-10",24.9,0,5.1000000000000014]
["2016-06-09",17.600000000000001,17.600000000000001,17.600000000000001,17.600000000000001,19.133333333333333,6.4119999999999999,6.4119999999999999,6.4119999999999999,6.4119999999999999,-1.213333333333334,-1.213333333333334,-1.213333333333334,-1.213333333333334,-0.18922852983988367,-0.18922852983988367,-0.18922852983988367,-0.18922852983988367,0,0,0,0,0.18922852983988367,0.18922852983988367,0.18922852983988367,0.18922852983988367,0,0.18922852983988367,5953.1167454705792,6052.1243579273287,952.67752674396013,952.67752674396013,null,null,null,null,0,0,0,-6.3076176613294552E-2,-6.3076176613294552E-2,-6.3076176613294552E-2,-6.3076176613294552E-2,-5.6937933294751511E-2,-5.6937933294751511E-2,-7.1250675551261106E-2,null,null,0,0,0,0,null,17.600000000000001,null,18.8,17.399999999999999,16.399999999999999,13.8,17,13.3,{"$f":"SUM(BB435:BB454)/30","v":11.543333333333333},0,12.24666666666667,12.143333333333334,11.066666666666666,9.6833333333333336,12.223333333333334,9.6966666666666654,null,null,"2017-03-11",24.3,0,5.6999999999999993]
["2016-06-10",17.3,17.3,17.3,17.3,19.233333333333334,6.3759999999999994,6.3759999999999994,6.3759999999999994,6.3759999999999994,-1.0733333333333337,-1.0733333333333337,-1.0733333333333337,-1.0733333333333337,-0.16833960685905486,-0.16833960685905486,-0.16833960685905486,-0.16833960685905486,0,0,0,0,0.16833960685905486,0.16833960685905486,0.16833960685905486,0.16833960685905486,0,0.16833960685905486,5953.1167454705792,6052.1243579273287,956.71767730857744,956.71767730857744,null,null,null,null,0,0,0,-5.6113202286351617E-2,-5.6113202286351617E-2,-5.6113202286351617E-2,-5.6113202286351617E-2,-5.3010391167355175E-2,-5.3010391167355175E-2,-4.724697509713293E-2,null,null,0,0,0,0,null,17.3,null,19.5,18.399999999999999,16.2,13.7,17.100000000000001,15.2,{"$f":"SUM(BB436:BB455)/30","v":11.46},0,12.223333333333334,12.106666666666666,10.976666666666667,9.5933333333333337,12.303333333333333,9.74,null,null,"2017-03-12",25.3,0,4.6999999999999993]
["2016-06-11",15.9,15.9,15.9,15.9,19.7,6.2080000000000002,6.2080000000000002,6.2080000000000002,6.2080000000000002,-0.42000000000000015,-0.42000000000000015,-0.42000000000000015,-0.42000000000000015,-6.7654639175257755E-2,-6.7654639175257755E-2,-6.7654639175257755E-2,-6.7654639175257755E-2,0,0,0,0,6.7654639175257755E-2,6.7654639175257755E-2,6.7654639175257755E-2,6.7654639175257755E-2,0,6.7654639175257755E-2,5953.1167454705792,6052.1243579273287,958.34138864878366,958.34138864878366,null,null,null,null,0,0,0,-2.2551546391752584E-2,-2.2551546391752584E-2,-2.2551546391752584E-2,-2.2551546391752584E-2,-5.3341959037667565E-2,-5.3341959037667565E-2,-3.3738765023285607E-2,null,null,0,0,0,0,null,15.9,null,17.5,17.100000000000001,15.1,13.100000000000001,16.5,12.600000000000001,{"$f":"SUM(BB437:BB456)/30","v":11.4},0,12.166666666666668,12.036666666666667,10.96,9.6033333333333317,12.363333333333333,9.759999999999998,null,null,"2017-03-13",24.5,0,5.5]
["2016-06-12",15.9,15.9,15.9,15.9,19.7,6.2080000000000002,6.2080000000000002,6.2080000000000002,6.2080000000000002,-0.42000000000000015,-0.42000000000000015,-0.42000000000000015,-0.42000000000000015,-6.7654639175257755E-2,-6.7654639175257755E-2,-6.7654639175257755E-2,-6.7654639175257755E-2,0,0,0,0,6.7654639175257755E-2,6.7654639175257755E-2,6.7654639175257755E-2,6.7654639175257755E-2,0,6.7654639175257755E-2,5953.1167454705792,6052.1243579273287,959.96509998898989,959.96509998898989,null,null,null,null,0,0,0,-2.2551546391752584E-2,-2.2551546391752584E-2,-2.2551546391752584E-2,-2.2551546391752584E-2,-4.2348461421175813E-2,-4.2348461421175813E-2,-3.2959265907000261E-2,null,null,0,0,0,0,null,15.9,null,17,17.899999999999999,15.9,13.399999999999999,18.100000000000001,13.7,{"$f":"SUM(BB438:BB457)/30","v":11.436666666666666},0,12.23,12.116666666666667,10.986666666666668,9.6533333333333324,12.529999999999998,9.92,null,null,"2017-03-14",24.7,0,5.3000000000000007]
["2016-06-13",17.2,17.2,17.2,17.2,19.266666666666666,6.3640000000000008,6.3640000000000008,6.3640000000000008,6.3640000000000008,-1.0266666666666664,-1.0266666666666664,-1.0266666666666664,-1.0266666666666664,-0.16132411481248685,-0.16132411481248685,-0.16132411481248685,-0.16132411481248685,0,0,0,0,0.16132411481248685,0.16132411481248685,0.16132411481248685,0.16132411481248685,0,0.16132411481248685,5953.1167454705792,6052.1243579273287,963.83687874448958,963.83687874448958,null,null,null,null,0,0,0,-5.3774704937495615E-2,-5.3774704937495615E-2,-5.3774704937495615E-2,-5.3774704937495615E-2,-4.2348461421175806E-2,-4.2348461421175806E-2,-4.5696713406045697E-2,null,null,0,0,0,0,null,17.2,null,18.8,17.5,16.2,13.7,19.2,14.4,{"$f":"SUM(BB439:BB458)/30","v":11.556666666666667},0,12.376666666666667,12.266666666666667,11.123333333333331,9.8233333333333341,12.876666666666663,10.199999999999998,null,null,"2017-03-15",26.2,0,3.8000000000000007]
["2016-06-14",17.5,17.5,17.5,17.5,19.166666666666668,6.3999999999999995,6.3999999999999995,6.3999999999999995,6.3999999999999995,-1.1666666666666667,-1.1666666666666667,-1.1666666666666667,-1.1666666666666667,-0.18229166666666669,-0.18229166666666669,-0.18229166666666669,-0.18229166666666669,0,0,0,0,0.18229166666666669,0.18229166666666669,0.18229166666666669,0.18229166666666669,0,0.18229166666666669,5953.1167454705792,6052.1243579273287,968.21187874448958,968.21187874448958,null,null,null,null,0,0,0,-6.0763888888888895E-2,-6.0763888888888895E-2,-6.0763888888888895E-2,-6.0763888888888895E-2,-3.505803173725059E-2,-3.505803173725059E-2,-4.4048919421693117E-2,null,null,0,0,0,0,null,17.5,null,19.5,18.3,16.399999999999999,14.4,18.100000000000001,14.8,{"$f":"SUM(BB440:BB459)/30","v":11.806666666666665},0,12.563333333333333,12.496666666666666,11.389999999999999,10.086666666666668,13.133333333333331,10.433333333333334,null,null,"2017-03-16",24.4,0,5.6000000000000014]
["2016-06-15",15.7,15.7,15.7,15.7,19.766666666666666,6.1840000000000002,6.1840000000000002,6.1840000000000002,6.1840000000000002,-0.32666666666666633,-0.32666666666666633,-0.32666666666666633,-0.32666666666666633,-5.2824493316084464E-2,-5.2824493316084464E-2,-5.2824493316084464E-2,-5.2824493316084464E-2,0,0,0,0,5.2824493316084464E-2,5.2824493316084464E-2,5.2824493316084464E-2,5.2824493316084464E-2,0,5.2824493316084464E-2,5953.1167454705792,6052.1243579273287,969.47966658407563,969.47966658407563,null,null,null,null,0,0,0,-1.7608164438694823E-2,-1.7608164438694823E-2,-1.7608164438694823E-2,-1.7608164438694823E-2,-4.0516937808270058E-2,-4.0516937808270058E-2,-4.7149409980292767E-2,null,null,0,0,0,0,null,15.7,null,16.8,15.7,15,13.5,17.100000000000001,14,{"$f":"SUM(BB441:BB460)/30","v":12.03},0,12.776666666666667,12.703333333333331,11.629999999999999,10.34,13.359999999999998,10.653333333333332,null,null,"2017-03-17",24,0,6]
["2016-06-16",17.600000000000001,17.600000000000001,17.600000000000001,17.600000000000001,19.133333333333333,6.4119999999999999,6.4119999999999999,6.4119999999999999,6.4119999999999999,-1.213333333333334,-1.213333333333334,-1.213333333333334,-1.213333333333334,-0.18922852983988367,-0.18922852983988367,-0.18922852983988367,-0.18922852983988367,0,0,0,0,0.18922852983988367,0.18922852983988367,0.18922852983988367,0.18922852983988367,0,0.18922852983988367,5953.1167454705792,6052.1243579273287,974.02115130023287,974.02115130023287,null,null,null,null,0,0,0,-6.3076176613294552E-2,-6.3076176613294552E-2,-6.3076176613294552E-2,-6.3076176613294552E-2,-4.3967573757081359E-2,-4.3967573757081359E-2,-2.8588178516954822E-2,null,null,0,0,0,0,null,17.600000000000001,null,20,19.399999999999999,17.600000000000001,14.3,19.5,16.899999999999999,{"$f":"SUM(BB442:BB461)/30","v":12.200000000000001},0,13.036666666666665,12.913333333333332,11.809999999999999,10.483333333333333,13.596666666666666,10.886666666666667,null,null,"2017-03-18",23.9,0,6.1000000000000014]
["2016-06-17",15.2,15.2,15.2,15.2,19.933333333333334,6.1240000000000006,6.1240000000000006,6.1240000000000006,6.1240000000000006,-9.3333333333333005E-2,-9.3333333333333005E-2,-9.3333333333333005E-2,-9.3333333333333005E-2,-1.5240583496625245E-2,-1.5240583496625245E-2,-1.5240583496625245E-2,-1.5240583496625245E-2,0,0,0,0,1.5240583496625245E-2,1.5240583496625245E-2,1.5240583496625245E-2,1.5240583496625245E-2,0,1.5240583496625245E-2,5953.1167454705792,6052.1243579273287,974.38692530415187,974.38692530415187,null,null,null,null,0,0,0,-5.0801944988750816E-3,-5.0801944988750816E-3,-5.0801944988750816E-3,-5.0801944988750816E-3,-3.9858177589059608E-2,-3.9858177589059608E-2,-4.2973420000352848E-2,null,null,0,0,0,0,null,15.2,null,19.5,19.5,14.5,12.8,23.5,19.2,{"$f":"SUM(BB443:BB462)/30","v":12.216666666666667},0,13.106666666666666,12.973333333333334,11.816666666666666,10.47,13.873333333333333,11.166666666666666,null,null,"2017-03-19",23.3,0,6.6999999999999993]
["2016-06-18",17.5,17.5,17.5,17.5,19.166666666666668,6.3999999999999995,6.3999999999999995,6.3999999999999995,6.3999999999999995,-1.1666666666666667,-1.1666666666666667,-1.1666666666666667,-1.1666666666666667,-0.18229166666666669,-0.18229166666666669,-0.18229166666666669,-0.18229166666666669,0,0,0,0,0.18229166666666669,0.18229166666666669,0.18229166666666669,0.18229166666666669,0,0.18229166666666669,5953.1167454705792,6052.1243579273287,978.76192530415187,978.76192530415187,null,null,null,null,0,0,0,-6.0763888888888895E-2,-6.0763888888888895E-2,-6.0763888888888895E-2,-6.0763888888888895E-2,-4.149753947416452E-2,-4.149753947416452E-2,-3.7516693807065203E-2,null,null,0,0,0,0,null,17.5,null,17.100000000000001,18.3,16.3,13.7,21.2,16.5,{"$f":"SUM(BB444:BB463)/30","v":12.21},0,13.129999999999999,12.996666666666668,11.8,10.45,14.036666666666667,11.353333333333333,null,null,"2017-03-20",23.1,0,6.8999999999999986]
["2016-06-19",16.899999999999999,16.899999999999999,16.899999999999999,16.899999999999999,19.366666666666667,6.3279999999999994,6.3279999999999994,6.3279999999999994,6.3279999999999994,-0.88666666666666605,-0.88666666666666605,-0.88666666666666605,-0.88666666666666605,-0.14011799410029491,-0.14011799410029491,-0.14011799410029491,-0.14011799410029491,0,0,0,0,0.14011799410029491,0.14011799410029491,0.14011799410029491,0.14011799410029491,0,0.14011799410029491,5953.1167454705792,6052.1243579273287,982.12475716255892,982.12475716255892,null,null,null,null,0,0,0,-4.6705998033431638E-2,-4.6705998033431638E-2,-4.6705998033431638E-2,-4.6705998033431638E-2,-5.5867268182252676E-2,-5.5867268182252676E-2,-4.4159606227887949E-2,null,null,0,0,0,0,null,16.899999999999999,null,18.7,19.3,16,13.399999999999999,22.7,17.7,{"$f":"SUM(BB445:BB464)/30","v":12.180000000000001},0,13.229999999999997,13.05,11.763333333333332,10.456666666666669,14.15,11.446666666666667,null,null,"2017-03-21",20.5,0,9.5]
["2016-06-20",16,16,16,16,19.666666666666668,6.22,6.22,6.22,6.22,-0.46666666666666667,-0.46666666666666667,-0.46666666666666667,-0.46666666666666667,-7.5026795284030015E-2,-7.5026795284030015E-2,-7.5026795284030015E-2,-7.5026795284030015E-2,0,0,0,0,7.5026795284030015E-2,7.5026795284030015E-2,7.5026795284030015E-2,7.5026795284030015E-2,0,7.5026795284030015E-2,5953.1167454705792,6052.1243579273287,983.92540024937568,983.92540024937568,null,null,null,null,0,0,0,-2.5008931761343337E-2,-2.5008931761343337E-2,-2.5008931761343337E-2,-2.5008931761343337E-2,-7.3117875210538072E-2,-7.3117875210538072E-2,-4.7984783959799431E-2,null,null,0,0,0,0,null,16,null,16.3,16.899999999999999,15.7,14.8,21.8,17.8,{"$f":"SUM(BB446:BB465)/30","v":12.323333333333332},0,13.343333333333332,13.196666666666667,11.87,10.59,14.296666666666665,11.583333333333334,null,null,"2017-03-22",18.8,0,11.2]
["2016-06-21",18,18,18,18,19,6.46,6.46,6.46,6.46,-1.4,-1.4,-1.4,-1.4,-0.21671826625386995,-0.21671826625386995,-0.21671826625386995,-0.21671826625386995,0,0,0,0,0.21671826625386995,0.21671826625386995,0.21671826625386995,0.21671826625386995,0,0.21671826625386995,5953.1167454705792,6052.1243579273287,989.12663863946852,989.12663863946852,null,null,null,null,0,0,0,-7.223942208462332E-2,-7.223942208462332E-2,-7.223942208462332E-2,-7.223942208462332E-2,-0.10232310864473722,-0.10232310864473722,-7.1814873080426181E-2,null,null,0,0,0,0,null,18,null,19.399999999999999,19.2,17,15.2,22.9,18.899999999999999,{"$f":"SUM(BB447:BB466)/30","v":12.423333333333334},0,13.473333333333329,13.366666666666669,11.956666666666667,10.693333333333333,14.516666666666667,11.73,null,null,"2017-03-23",18.2,0,11.8]
["2016-06-22",20.100000000000001,20.100000000000001,20.100000000000001,20.100000000000001,18.3,6.7119999999999997,6.7119999999999997,6.7119999999999997,6.7119999999999997,-2.3800000000000008,-2.3800000000000008,-2.3800000000000008,-2.3800000000000008,-0.35458879618593575,-0.35458879618593575,-0.35458879618593575,-0.35458879618593575,0,0,0,0,0.35458879618593575,0.35458879618593575,0.35458879618593575,0.35458879618593575,0,0.35458879618593575,5953.1167454705792,6052.1243579273287,997.636769747931,997.636769747931,null,null,null,null,0,0,0,-0.11819626539531192,-0.11819626539531192,-0.11819626539531192,-0.11819626539531192,-0.12305972536349678,-0.12305972536349678,-0.12475537109707587,null,null,0,0,0,0,null,20.100000000000001,null,22.2,21.4,19.899999999999999,18.100000000000001,25.4,19.7,{"$f":"SUM(BB448:BB467)/30","v":12.633333333333333},0,13.663333333333329,13.566666666666668,12.153333333333334,10.879999999999999,14.756666666666666,11.946666666666667,null,null,"2017-03-24",20.5,0,9.5]
["2016-06-23",23.4,23.4,23.4,23.4,17.2,7.1080000000000005,7.1080000000000005,7.1080000000000005,7.1080000000000005,-3.9199999999999995,-3.9199999999999995,-3.9199999999999995,-3.9199999999999995,-0.55149127743387716,-0.55149127743387716,-0.55149127743387716,-0.55149127743387716,0,0,0,0,0.55149127743387716,0.55149127743387716,0.55149127743387716,0.55149127743387716,0,0.55149127743387716,5953.1167454705792,6052.1243579273287,1010.8725604063441,1010.8725604063441,null,null,null,null,0,0,0,-0.18383042581129239,-0.18383042581129239,-0.18383042581129239,-0.18383042581129239,-0.12958273022653594,-0.12958273022653594,-0.1705145065816244,null,null,0,0,0,0,null,23.4,null,24.2,24.4,23.6,21.7,25.5,21.5,{"$f":"SUM(BB449:BB468)/30","v":12.776666666666666},0,13.879999999999995,13.76,12.263333333333332,10.973333333333334,14.966666666666667,12.126666666666669,null,null,"2017-03-25",21.5,0,{"$f":"30-BU459","v":8.5}]
["2016-06-24",24.8,24.8,24.8,24.8,16.733333333333334,7.2759999999999998,7.2759999999999998,7.2759999999999998,7.2759999999999998,-4.5733333333333341,-4.5733333333333341,-4.5733333333333341,-4.5733333333333341,-0.62855048561480675,-0.62855048561480675,-0.62855048561480675,-0.62855048561480675,0,0,0,0,0.62855048561480675,0.62855048561480675,0.62855048561480675,0.62855048561480675,0,0.62855048561480675,5953.1167454705792,6052.1243579273287,1025.9577720610994,1025.9577720610994,null,null,null,null,0,0,0,-0.20951682853826892,-0.20951682853826892,-0.20951682853826892,-0.20951682853826892,-0.13369212639455769,-0.13369212639455769,-0.19975582008992246,null,null,0,0,0,0,null,24.8,null,25.8,25.8,24.7,23.5,26.3,21.8,{"$f":"SUM(BB450:BB469)/30","v":12.743333333333334},0,13.859999999999996,13.803333333333335,12.219999999999999,10.943333333333333,14.973333333333331,12.136666666666668,null,null,"2017-03-26",23.9,0,6.1000000000000014]
["2016-06-25",24.6,24.6,24.6,24.6,16.8,7.2519999999999989,7.2519999999999989,7.2519999999999989,7.2519999999999989,-4.4800000000000013,-4.4800000000000013,-4.4800000000000013,-4.4800000000000013,-0.61776061776061808,-0.61776061776061808,-0.61776061776061808,-0.61776061776061808,0,0,0,0,0.61776061776061808,0.61776061776061808,0.61776061776061808,0.61776061776061808,0,0.61776061776061808,5953.1167454705792,6052.1243579273287,1040.7840268873542,1040.7840268873542,null,null,null,null,0,0,0,-0.20592020592020602,-0.20592020592020602,-0.20592020592020602,-0.20592020592020602,-0.13401635124204445,-0.13401635124204445,-0.16926802217772688,null,null,0,0,0,0,null,24.6,null,26.5,26.8,24.4,22,26.6,22.1,{"$f":"SUM(BB451:BB470)/30","v":12.729999999999999},0,13.856666666666662,13.813333333333334,12.206666666666667,10.93,15.029999999999998,12.106666666666666,null,null,"2017-03-27",24.1,0,5.8999999999999986]
["2016-06-26",18.899999999999999,18.899999999999999,18.899999999999999,18.899999999999999,18.7,6.5679999999999996,6.5679999999999996,6.5679999999999996,6.5679999999999996,-1.8199999999999994,-1.8199999999999994,-1.8199999999999994,-1.8199999999999994,-0.27710109622411683,-0.27710109622411683,-0.27710109622411683,-0.27710109622411683,0,0,0,0,0.27710109622411683,0.27710109622411683,0.27710109622411683,0.27710109622411683,0,0.27710109622411683,5953.1167454705792,6052.1243579273287,1047.4344531967331,1047.4344531967331,null,null,null,null,0,0,0,-9.2367032074705605E-2,-9.2367032074705605E-2,-9.2367032074705605E-2,-9.2367032074705605E-2,-0.13926358001709005,-0.13926358001709005,-0.11735398097746912,null,null,0,0,0,0,null,18.899999999999999,null,20.9,20.6,18.600000000000001,16.3,25.6,21.8,{"$f":"SUM(BB452:BB471)/30","v":12.853333333333332},0,14.026666666666664,13.990000000000004,12.336666666666664,11.086666666666668,15.159999999999997,12.203333333333335,null,null,"2017-03-28",19.899999999999999,0,10.100000000000001]
["2016-06-27",17.2,17.2,17.2,17.2,19.266666666666666,6.3640000000000008,6.3640000000000008,6.3640000000000008,6.3640000000000008,-1.0266666666666664,-1.0266666666666664,-1.0266666666666664,-1.0266666666666664,-0.16132411481248685,-0.16132411481248685,-0.16132411481248685,-0.16132411481248685,0,0,0,0,0.16132411481248685,0.16132411481248685,0.16132411481248685,0.16132411481248685,0,0.16132411481248685,5953.1167454705792,6052.1243579273287,1051.3062319522328,1051.3062319522328,null,null,null,null,0,0,0,-5.3774704937495615E-2,-5.3774704937495615E-2,-5.3774704937495615E-2,-5.3774704937495615E-2,-0.13048691510742724,-0.13048691510742724,-7.355024434307729E-2,null,null,0,0,0,0,null,17.2,null,18,17.899999999999999,16.7,15.8,20.399999999999999,16,{"$f":"SUM(BB453:BB472)/30","v":12.846666666666664},0,14.086666666666666,13.99666666666667,12.289999999999996,11.096666666666668,15.213333333333331,12.190000000000001,null,null,"2017-03-29",16.2,0,13.8]
["2016-06-28",18.100000000000001,18.100000000000001,18.100000000000001,18.100000000000001,18.966666666666665,6.4720000000000004,6.4720000000000004,6.4720000000000004,6.4720000000000004,-1.4466666666666674,-1.4466666666666674,-1.4466666666666674,-1.4466666666666674,-0.22352698805109197,-0.22352698805109197,-0.22352698805109197,-0.22352698805109197,0,0,0,0,0.22352698805109197,0.22352698805109197,0.22352698805109197,0.22352698805109197,0,0.22352698805109197,5953.1167454705792,6052.1243579273287,1056.6708796654591,1056.6708796654591,null,null,null,null,0,0,0,-7.4508996017030663E-2,-7.4508996017030663E-2,-7.4508996017030663E-2,-7.4508996017030663E-2,-0.1235312411527931,-0.1235312411527931,-9.440352259171915E-2,null,null,0,0,0,0,null,18.100000000000001,null,20.399999999999999,19.7,16.7,16.5,20,15.5,{"$f":"SUM(BB454:BB473)/30","v":12.909999999999998},0,14.083333333333332,13.930000000000003,12.339999999999998,11.163333333333334,15.023333333333332,12.03,null,null,"2017-03-30",18.100000000000001,0,11.899999999999999]
["2016-06-29",21.9,21.9,21.9,21.9,17.7,6.9279999999999999,6.9279999999999999,6.9279999999999999,6.9279999999999999,-3.2199999999999993,-3.2199999999999993,-3.2199999999999993,-3.2199999999999993,-0.46478060046189368,-0.46478060046189368,-0.46478060046189368,-0.46478060046189368,0,0,0,0,0.46478060046189368,0.46478060046189368,0.46478060046189368,0.46478060046189368,0,0.46478060046189368,5953.1167454705792,6052.1243579273287,1067.8256140765445,1067.8256140765445,null,null,null,null,0,0,0,-0.15492686682063123,-0.15492686682063123,-0.15492686682063123,-0.15492686682063123,-0.11129960658751359,-0.11129960658751359,-0.11727654476043819,null,null,0,0,0,0,null,21.9,null,22.2,21.8,19.600000000000001,17.8,21.4,17.399999999999999,{"$f":"SUM(BB455:BB474)/30","v":13.020000000000001},0,14.213333333333331,13.993333333333336,12.456666666666665,11.32,14.963333333333333,12.00333333333333,null,null,"2017-03-31",19.7,0,10.3]
["2016-06-30",20.3,20.3,20.3,20.3,18.233333333333334,6.7359999999999989,6.7359999999999989,6.7359999999999989,6.7359999999999989,-2.473333333333334,-2.473333333333334,-2.473333333333334,-2.473333333333334,-0.36718131433095819,-0.36718131433095819,-0.36718131433095819,-0.36718131433095819,0,0,0,0,0.36718131433095819,0.36718131433095819,0.36718131433095819,0.36718131433095819,0,0.36718131433095819,5953.1167454705792,6052.1243579273287,1076.6379656204874,1076.6379656204874,null,null,null,null,0,0,0,-0.12239377144365272,-0.12239377144365272,-0.12239377144365272,-0.12239377144365272,-0.10237508289373223,-0.10237508289373223,-0.1460492497067046,null,null,0,0,0,0,null,20.3,null,23.4,23.5,18.8,16.8,23.7,19.600000000000001,{"$f":"SUM(BB456:BB475)/30","v":13.143333333333334},0,14.369999999999997,14.090000000000002,12.576666666666664,11.486666666666668,14.860000000000001,11.973333333333331,null,null,"2017-04-01",17.8,0,12.2]
["2016-07-01",22.2,22.2,22.2,22.2,17.600000000000001,6.9640000000000004,6.9640000000000004,6.9640000000000004,6.9640000000000004,-3.3599999999999994,-3.3599999999999994,-3.3599999999999994,-3.3599999999999994,-0.48248133256748982,-0.48248133256748982,-0.48248133256748982,-0.48248133256748982,0,0,0,0,0.48248133256748982,0.48248133256748982,0.48248133256748982,0.48248133256748982,0,0.48248133256748982,5953.1167454705792,6052.1243579273287,1088.2175176021071,1088.2175176021071,null,null,null,null,0,0,0,-0.16082711085582993,-0.16082711085582993,-0.16082711085582993,-0.16082711085582993,-0.10203974961070991,-0.10203974961070991,-0.134506548754244,null,null,0,0,0,0,null,22.2,null,23.2,23.1,21,18.7,23.7,19.100000000000001,{"$f":"SUM(BB457:BB476)/30","v":13.366666666666667},0,14.599999999999996,14.26,12.786666666666665,11.653333333333334,14.803333333333335,11.926666666666664,null,null,"2017-04-02",15.9,0,14.1]
["2016-07-02",20.2,20.2,20.2,20.2,18.266666666666666,6.7240000000000002,6.7240000000000002,6.7240000000000002,6.7240000000000002,-2.4266666666666663,-2.4266666666666663,-2.4266666666666663,-2.4266666666666663,-0.36089629188974809,-0.36089629188974809,-0.36089629188974809,-0.36089629188974809,0,0,0,0,0.36089629188974809,0.36089629188974809,0.36089629188974809,0.36089629188974809,0,0.36089629188974809,5953.1167454705792,6052.1243579273287,1096.8790286074611,1096.8790286074611,null,null,null,null,0,0,0,-0.12029876396324936,-0.12029876396324936,-0.12029876396324936,-0.12029876396324936,-0.10614783692089969,-0.10614783692089969,-0.10367374701243849,null,null,0,0,0,0,null,20.2,null,23.5,23.7,19.2,16.2,24.4,19.100000000000001,{"$f":"SUM(BB458:BB477)/30","v":13.636666666666667},0,14.819999999999997,14.48,13.043333333333333,11.889999999999999,14.803333333333335,11.993333333333331,null,null,"2017-04-03",14.1,0,15.9]
["2016-07-03",16.2,16.2,16.2,16.2,19.600000000000001,6.2439999999999998,6.2439999999999998,6.2439999999999998,6.2439999999999998,-0.55999999999999972,-0.55999999999999972,-0.55999999999999972,-0.55999999999999972,-8.9686098654708474E-2,-8.9686098654708474E-2,-8.9686098654708474E-2,-8.9686098654708474E-2,0,0,0,0,8.9686098654708474E-2,8.9686098654708474E-2,8.9686098654708474E-2,8.9686098654708474E-2,0,8.9686098654708474E-2,5953.1167454705792,6052.1243579273287,1099.0314949751742,1099.0314949751742,null,null,null,null,0,0,0,-2.9895366218236158E-2,-2.9895366218236158E-2,-2.9895366218236158E-2,-2.9895366218236158E-2,-9.2364415060338365E-2,-9.2364415060338365E-2,-6.7207167379274943E-2,null,null,0,0,0,0,null,16.2,null,18.2,18.8,14.9,12.8,19.399999999999999,14.7,{"$f":"SUM(BB459:BB478)/30","v":13.683333333333335},0,14.84333333333333,14.536666666666667,13.046666666666669,11.886666666666665,14.783333333333335,12.109999999999996,null,null,"2017-04-04",14.2,0,15.8]
["2016-07-04",17.100000000000001,17.100000000000001,17.100000000000001,17.100000000000001,19.3,6.3519999999999994,6.3519999999999994,6.3519999999999994,6.3519999999999994,-0.98000000000000065,-0.98000000000000065,-0.98000000000000065,-0.98000000000000065,-0.15428211586901774,-0.15428211586901774,-0.15428211586901774,-0.15428211586901774,0,0,0,0,0.15428211586901774,0.15428211586901774,0.15428211586901774,0.15428211586901774,0,0.15428211586901774,5953.1167454705792,6052.1243579273287,1102.7342657560305,1102.7342657560305,null,null,null,null,0,0,0,-5.142737195633925E-2,-5.142737195633925E-2,-5.142737195633925E-2,-5.142737195633925E-2,-8.2226357990722171E-2,-8.2226357990722171E-2,-6.1529448454311499E-2,null,null,0,0,0,0,null,17.100000000000001,null,19.399999999999999,18.600000000000001,16,14,19.8,13.899999999999999,{"$f":"SUM(BB460:BB479)/30","v":13.533333333333335},0,14.70333333333333,14.393333333333334,12.863333333333335,11.69,14.746666666666668,12.066666666666665,null,null,"2017-04-05",17.899999999999999,0,12.100000000000001]
["2016-07-05",19.399999999999999,19.399999999999999,19.399999999999999,19.399999999999999,18.533333333333335,6.6279999999999992,6.6279999999999992,6.6279999999999992,6.6279999999999992,-2.0533333333333328,-2.0533333333333328,-2.0533333333333328,-2.0533333333333328,-0.30979682156507743,-0.30979682156507743,-0.30979682156507743,-0.30979682156507743,0,0,0,0,0.30979682156507743,0.30979682156507743,0.30979682156507743,0.30979682156507743,0,0.30979682156507743,5953.1167454705792,6052.1243579273287,1110.1693894735924,1110.1693894735924,null,null,null,null,0,0,0,-0.10326560718835914,-0.10326560718835914,-0.10326560718835914,-0.10326560718835914,-7.8216460926188461E-2,-7.8216460926188461E-2,-7.1045297647133479E-2,null,null,0,0,0,0,null,19.399999999999999,null,21.9,21,18.899999999999999,18.2,21,16.899999999999999,{"$f":"SUM(BB461:BB480)/30","v":13.169999999999998},0,14.379999999999997,14.050000000000002,12.483333333333336,11.283333333333335,14.513333333333334,11.896666666666665,null,null,"2017-04-06",22.3,0,7.6999999999999993]
["2016-07-06",17.399999999999999,17.399999999999999,17.399999999999999,17.399999999999999,19.2,6.3879999999999999,6.3879999999999999,6.3879999999999999,6.3879999999999999,-1.1199999999999994,-1.1199999999999994,-1.1199999999999994,-1.1199999999999994,-0.17532874139010637,-0.17532874139010637,-0.17532874139010637,-0.17532874139010637,0,0,0,0,0.17532874139010637,0.17532874139010637,0.17532874139010637,0.17532874139010637,0,0.17532874139010637,5953.1167454705792,6052.1243579273287,1114.3772792669549,1114.3772792669549,null,null,null,null,0,0,0,-5.8442913796702127E-2,-5.8442913796702127E-2,-5.8442913796702127E-2,-5.8442913796702127E-2,-7.9407244015210196E-2,-7.9407244015210196E-2,-7.1045297647133507E-2,null,null,0,0,0,0,null,17.399999999999999,null,21.8,19.600000000000001,16.2,14.6,21.1,16.5,{"$f":"SUM(BB462:BB481)/30","v":12.839999999999998},0,14.056666666666667,13.646666666666668,12.126666666666667,10.936666666666669,14.236666666666668,11.616666666666665,null,null,"2017-04-07",24.7,0,5.3000000000000007]
["2016-07-07",17.100000000000001,17.100000000000001,17.100000000000001,17.100000000000001,19.3,6.3519999999999994,6.3519999999999994,6.3519999999999994,6.3519999999999994,-0.98000000000000065,-0.98000000000000065,-0.98000000000000065,-0.98000000000000065,-0.15428211586901774,-0.15428211586901774,-0.15428211586901774,-0.15428211586901774,0,0,0,0,0.15428211586901774,0.15428211586901774,0.15428211586901774,0.15428211586901774,0,0.15428211586901774,5953.1167454705792,6052.1243579273287,1118.0800500478113,1118.0800500478113,null,null,null,null,0,0,0,-5.142737195633925E-2,-5.142737195633925E-2,-5.142737195633925E-2,-5.142737195633925E-2,-9.9497398698355485E-2,-9.9497398698355485E-2,-8.0876039052378432E-2,null,null,0,0,0,0,null,17.100000000000001,null,19.399999999999999,17.5,16,14.8,17.8,14.4,{"$f":"SUM(BB463:BB482)/30","v":12.776666666666666},0,13.870000000000001,13.49,12.040000000000001,10.876666666666669,13.923333333333336,11.303333333333333,null,null,"2017-04-08",20.9,0,9.1000000000000014]
["2016-07-08",20.8,20.8,20.8,20.8,18.066666666666666,6.7959999999999994,6.7959999999999994,6.7959999999999994,6.7959999999999994,-2.7066666666666674,-2.7066666666666674,-2.7066666666666674,-2.7066666666666674,-0.39827349421228186,-0.39827349421228186,-0.39827349421228186,-0.39827349421228186,0,0,0,0,0.39827349421228186,0.39827349421228186,0.39827349421228186,0.39827349421228186,0,0.39827349421228186,5953.1167454705792,6052.1243579273287,1127.6386139089061,1127.6386139089061,null,null,null,null,0,0,0,-0.13275783140409395,-0.13275783140409395,-0.13275783140409395,-0.13275783140409395,-0.12534044110738121,-0.12534044110738121,-0.10427314964894491,null,null,0,0,0,0,null,20.8,null,21,20.2,19.8,18.399999999999999,19.399999999999999,15.7,{"$f":"SUM(BB464:BB483)/30","v":12.793333333333331},0,13.870000000000001,13.509999999999998,12.066666666666666,10.90666666666667,13.82,11.199999999999998,null,null,"2017-04-09",18.899999999999999,0,11.100000000000001]
["2016-07-09",20.6,20.6,20.6,20.6,18.133333333333333,6.7720000000000002,6.7720000000000002,6.7720000000000002,6.7720000000000002,-2.6133333333333342,-2.6133333333333342,-2.6133333333333342,-2.6133333333333342,-0.38590273675920467,-0.38590273675920467,-0.38590273675920467,-0.38590273675920467,0,0,0,0,0.38590273675920467,0.38590273675920467,0.38590273675920467,0.38590273675920467,0,0.38590273675920467,5953.1167454705792,6052.1243579273287,1136.9002795911269,1136.9002795911269,null,null,null,null,0,0,0,-0.12863424558640155,-0.12863424558640155,-0.12863424558640155,-0.12863424558640155,-0.13158304355038783,-0.13158304355038783,-0.14397284199691621,null,null,0,0,0,0,null,20.6,null,23.4,22.2,19.600000000000001,18.399999999999999,19.600000000000001,16.8,{"$f":"SUM(BB465:BB484)/30","v":12.856666666666664},0,13.940000000000001,13.549999999999999,12.156666666666666,10.966666666666669,13.763333333333334,11.183333333333332,null,null,"2017-04-10",18.7,0,11.3]
["2016-07-10",22.7,22.7,22.7,22.7,17.433333333333334,7.0239999999999991,7.0239999999999991,7.0239999999999991,7.0239999999999991,-3.5933333333333328,-3.5933333333333328,-3.5933333333333328,-3.5933333333333328,-0.51157934700075924,-0.51157934700075924,-0.51157934700075924,-0.51157934700075924,0,0,0,0,0.51157934700075924,0.51157934700075924,0.51157934700075924,0.51157934700075924,0,0.51157934700075924,5953.1167454705792,6052.1243579273287,1149.1781839191451,1149.1781839191451,null,null,null,null,0,0,0,-0.17052644900025307,-0.17052644900025307,-0.17052644900025307,-0.17052644900025307,-0.13642934616153121,-0.13642934616153121,-0.17716312113539126,null,null,0,0,0,0,null,22.7,null,23.2,22,22,19.8,20.100000000000001,16.399999999999999,{"$f":"SUM(BB466:BB485)/30","v":12.83},0,13.933333333333334,13.523333333333332,12.196666666666665,11.000000000000002,13.653333333333334,11.103333333333332,null,null,"2017-04-11",21.5,0,8.5]
["2016-07-11",26.1,26.1,26.1,26.1,16.3,7.4320000000000004,7.4320000000000004,7.4320000000000004,7.4320000000000004,-5.1800000000000015,-5.1800000000000015,-5.1800000000000015,-5.1800000000000015,-0.69698600645855779,-0.69698600645855779,-0.69698600645855779,-0.69698600645855779,0,0,0,0,0.69698600645855779,0.69698600645855779,0.69698600645855779,0.69698600645855779,0,0.69698600645855779,5953.1167454705792,6052.1243579273287,1165.9058480741505,1165.9058480741505,null,null,null,null,0,0,0,-0.23232866881951927,-0.23232866881951927,-0.23232866881951927,-0.23232866881951927,-0.12498665976392147,-0.12498665976392147,-0.18327298070305931,null,null,0,0,0,0,null,26.1,null,26,25.8,24.7,22.3,22.9,20.9,{"$f":"SUM(BB467:BB486)/30","v":12.866666666666665},0,13.880000000000003,13.426666666666666,12.263333333333332,11.110000000000003,13.506666666666669,10.983333333333331,null,null,"2017-04-12",22.3,0,7.6999999999999993]
["2016-07-12",21.5,21.5,21.5,21.5,17.833333333333332,6.8800000000000008,6.8800000000000008,6.8800000000000008,6.8800000000000008,-3.0333333333333332,-3.0333333333333332,-3.0333333333333332,-3.0333333333333332,-0.440891472868217,-0.440891472868217,-0.440891472868217,-0.440891472868217,0,0,0,0,0.440891472868217,0.440891472868217,0.440891472868217,0.440891472868217,0,0.440891472868217,5953.1167454705792,6052.1243579273287,1176.4872434229878,1176.4872434229878,null,null,null,null,0,0,0,-0.14696382428940566,-0.14696382428940566,-0.14696382428940566,-0.14696382428940566,-0.10492187093285542,-0.10492187093285542,-0.15721984172787684,null,null,0,0,0,0,null,21.5,null,22.9,23.1,20,18,24.8,23.2,{"$f":"SUM(BB468:BB487)/30","v":12.836666666666668},0,13.866666666666669,13.35333333333333,12.263333333333332,11.053333333333336,13.400000000000002,10.916666666666666,null,null,"2017-04-13",20.6,0,9.3999999999999986]
["2016-07-13",18.899999999999999,18.899999999999999,18.899999999999999,18.899999999999999,18.7,6.5679999999999996,6.5679999999999996,6.5679999999999996,6.5679999999999996,-1.8199999999999994,-1.8199999999999994,-1.8199999999999994,-1.8199999999999994,-0.27710109622411683,-0.27710109622411683,-0.27710109622411683,-0.27710109622411683,0,0,0,0,0.27710109622411683,0.27710109622411683,0.27710109622411683,0.27710109622411683,0,0.27710109622411683,5953.1167454705792,6052.1243579273287,1183.1376697323667,1183.1376697323667,null,null,null,null,0,0,0,-9.2367032074705605E-2,-9.2367032074705605E-2,-9.2367032074705605E-2,-9.2367032074705605E-2,-9.3555714873669413E-2,-9.3555714873669413E-2,-7.0219807845727483E-2,null,null,0,0,0,0,null,18.899999999999999,null,20,20.100000000000001,18.100000000000001,15.8,24.4,20.2,{"$f":"SUM(BB469:BB488)/30","v":12.906666666666666},0,13.856666666666666,13.319999999999999,12.35,11.183333333333337,13.330000000000004,10.913333333333332,null,null,"2017-04-14",22.3,0,7.6999999999999993]
["2016-07-14",13.899999999999999,13.899999999999999,13.899999999999999,13.899999999999999,20.366666666666667,5.968,5.968,5.968,5.968,0.51333333333333397,0.51333333333333397,0.51333333333333397,0.51333333333333397,8.6014298480786525E-2,8.6014298480786525E-2,8.6014298480786525E-2,8.6014298480786525E-2,8.6014298480786525E-2,8.6014298480786525E-2,8.6014298480786525E-2,8.6014298480786525E-2,0,0,0,0,8.6014298480786525E-2,0,5955.1810886341182,6054.1887010908677,1183.1376697323667,1183.1376697323667,null,null,null,null,0,0,0,2.8671432826928842E-2,2.8671432826928842E-2,2.8671432826928842E-2,2.8671432826928842E-2,-7.8534768681318701E-2,-7.8534768681318701E-2,-1.866663627813607E-2,null,null,0.51333333333333397,0.51333333333333397,0.51333333333333397,0.51333333333333397,null,13.899999999999999,null,16.100000000000001,15.5,13.3,11.3,19.3,16.7,{"$f":"SUM(BB470:BB489)/30","v":13.113333333333333},0,14.043333333333333,13.493333333333332,12.583333333333334,11.406666666666668,13.450000000000005,11.04,null,null,"2017-04-15",20.399999999999999,0,9.6000000000000014]
["2016-07-15",14.7,14.7,14.7,14.7,20.100000000000001,6.0640000000000001,6.0640000000000001,6.0640000000000001,6.0640000000000001,0.14000000000000032,0.14000000000000032,0.14000000000000032,0.14000000000000032,2.3087071240105592E-2,2.3087071240105592E-2,2.3087071240105592E-2,2.3087071240105592E-2,2.3087071240105592E-2,2.3087071240105592E-2,2.3087071240105592E-2,2.3087071240105592E-2,0,0,0,0,2.3087071240105592E-2,0,5955.7351783438808,6054.7427908006302,1183.1376697323667,1183.1376697323667,null,null,null,null,0,0,0,7.6956904133685311E-3,7.6956904133685311E-3,7.6956904133685311E-3,7.6956904133685311E-3,-6.1928706776990319E-2,-6.1928706776990319E-2,-4.234676643934056E-3,null,null,0.14000000000000032,0.14000000000000032,0.14000000000000032,0.14000000000000032,null,14.7,null,16.8,14.7,13.7,11.600000000000001,18.3,13.7,{"$f":"SUM(BB471:BB490)/30","v":13.23},0,14.203333333333335,13.65,12.723333333333333,11.546666666666669,13.590000000000003,11.193333333333332,null,null,"2017-04-16",21.7,0,8.3000000000000007]
["2016-07-16",17,17,17,17,19.333333333333332,6.34,6.34,6.34,6.34,-0.93333333333333335,-0.93333333333333335,-0.93333333333333335,-0.93333333333333335,-0.14721345951629863,-0.14721345951629863,-0.14721345951629863,-0.14721345951629863,0,0,0,0,0.14721345951629863,0.14721345951629863,0.14721345951629863,0.14721345951629863,0,0.14721345951629863,5955.7351783438808,6054.7427908006302,1186.6707927607579,1186.6707927607579,null,null,null,null,0,0,0,-4.9071153172099542E-2,-4.9071153172099542E-2,-4.9071153172099542E-2,-4.9071153172099542E-2,-6.0775144576916504E-2,-6.0775144576916504E-2,-3.558509613750975E-2,null,null,0,0,0,0,null,17,null,15.3,15.9,16,14.5,16.2,12.399999999999999,{"$f":"SUM(BB472:BB491)/30","v":13.34},0,14.283333333333335,13.733333333333333,12.826666666666666,11.610000000000001,13.676666666666671,11.266666666666667,null,null,"2017-04-17",23.8,0,6.1999999999999993]
["2016-07-17",17.7,17.7,17.7,17.7,19.100000000000001,6.4239999999999995,6.4239999999999995,6.4239999999999995,6.4239999999999995,-1.2599999999999996,-1.2599999999999996,-1.2599999999999996,-1.2599999999999996,-0.19613947696139472,-0.19613947696139472,-0.19613947696139472,-0.19613947696139472,0,0,0,0,0.19613947696139472,0.19613947696139472,0.19613947696139472,0.19613947696139472,0,0.19613947696139472,5955.7351783438808,6054.7427908006302,1191.3781402078314,1191.3781402078314,null,null,null,null,0,0,0,-6.537982565379824E-2,-6.537982565379824E-2,-6.537982565379824E-2,-6.537982565379824E-2,-6.8287807428785971E-2,-6.8287807428785971E-2,-7.684573810503946E-2,null,null,0,0,0,0,null,17.7,null,18,18.5,17.5,16.7,17.3,12.899999999999999,{"$f":"SUM(BB473:BB492)/30","v":13.496666666666668},0,14.386666666666667,13.85,13.030000000000001,11.773333333333335,13.750000000000004,11.386666666666667,null,null,"2017-04-18",25.3,0,4.6999999999999993]
["2016-07-18",20,20,20,20,18.333333333333332,6.7,6.7,6.7,6.7,-2.3333333333333335,-2.3333333333333335,-2.3333333333333335,-2.3333333333333335,-0.34825870646766172,-0.34825870646766172,-0.34825870646766172,-0.34825870646766172,0,0,0,0,0.34825870646766172,0.34825870646766172,0.34825870646766172,0.34825870646766172,0,0.34825870646766172,5955.7351783438808,6054.7427908006302,1199.7363491630554,1199.7363491630554,null,null,null,null,0,0,0,-0.11608623548922058,-0.11608623548922058,-0.11608623548922058,-0.11608623548922058,-9.2803796415730139E-2,-9.2803796415730139E-2,-0.10678498334396923,null,null,0,0,0,0,null,20,null,22.5,20.9,19.399999999999999,18.3,18.3,15,{"$f":"SUM(BB474:BB493)/30","v":13.613333333333335},0,14.533333333333333,14.013333333333332,13.183333333333335,11.866666666666669,13.910000000000002,11.506666666666668,null,null,"2017-04-19",26.1,0,3.8999999999999986]
["2016-07-19",21.1,21.1,21.1,21.1,17.966666666666665,6.8320000000000007,6.8320000000000007,6.8320000000000007,6.8320000000000007,-2.8466666666666671,-2.8466666666666671,-2.8466666666666671,-2.8466666666666671,-0.41666666666666669,-0.41666666666666669,-0.41666666666666669,-0.41666666666666669,0,0,0,0,0.41666666666666669,0.41666666666666669,0.41666666666666669,0.41666666666666669,0,0.41666666666666669,5955.7351783438808,6054.7427908006302,1209.7363491630554,1209.7363491630554,null,null,null,null,0,0,0,-0.1388888888888889,-0.1388888888888889,-0.1388888888888889,-0.1388888888888889,-0.11715751307446243,-0.11715751307446243,-0.13331026547196714,null,null,0,0,0,0,null,21.1,null,22,21,20.8,18.8,18.100000000000001,15,{"$f":"SUM(BB475:BB494)/30","v":13.613333333333335},0,14.58,14.063333333333333,13.206666666666669,11.866666666666667,13.956666666666671,11.580000000000002,null,null,"2017-04-20",27,0,3]
["2016-07-20",21.4,21.4,21.4,21.4,17.866666666666667,6.8679999999999994,6.8679999999999994,6.8679999999999994,6.8679999999999994,-2.9866666666666659,-2.9866666666666659,-2.9866666666666659,-2.9866666666666659,-0.43486701611337597,-0.43486701611337597,-0.43486701611337597,-0.43486701611337597,0,0,0,0,0.43486701611337597,0.43486701611337597,0.43486701611337597,0.43486701611337597,0,0.43486701611337597,5955.7351783438808,6054.7427908006302,1220.1731575497763,1220.1731575497763,null,null,null,null,0,0,0,-0.144955672037792,-0.144955672037792,-0.144955672037792,-0.144955672037792,-0.13367975309295291,-0.13367975309295291,-0.14226168366945377,null,null,0,0,0,0,null,21.4,null,21.8,20.6,20.8,20.100000000000001,19.3,16,{"$f":"SUM(BB476:BB495)/30","v":13.616666666666669},0,14.610000000000001,14.05,13.223333333333336,11.846666666666668,13.98666666666667,11.640000000000002,null,null,"2017-04-21",24.5,0,5.5]
["2016-07-21",21.3,21.3,21.3,21.3,17.899999999999999,6.8559999999999999,6.8559999999999999,6.8559999999999999,6.8559999999999999,-2.9400000000000004,-2.9400000000000004,-2.9400000000000004,-2.9400000000000004,-0.42882147024504091,-0.42882147024504091,-0.42882147024504091,-0.42882147024504091,0,0,0,0,0.42882147024504091,0.42882147024504091,0.42882147024504091,0.42882147024504091,0,0.42882147024504091,5955.7351783438808,6054.7427908006302,1230.4648728356574,1230.4648728356574,null,null,null,null,0,0,0,-0.1429404900816803,-0.1429404900816803,-0.1429404900816803,-0.1429404900816803,-0.14271609879761052,-0.14271609879761052,-0.15022549610574323,null,null,0,0,0,0,null,21.3,null,22.8,20.9,21,17,20.5,17.100000000000001,{"$f":"SUM(BB477:BB496)/30","v":13.610000000000003},0,14.643333333333333,14.073333333333334,13.233333333333338,11.82,14.05666666666667,11.723333333333333,null,null,"2017-04-22",22.9,0,7.1000000000000014]
["2016-07-22",22.3,22.3,22.3,22.3,17.566666666666666,6.976,6.976,6.976,6.976,-3.4066666666666672,-3.4066666666666672,-3.4066666666666672,-3.4066666666666672,-0.48834097859327225,-0.48834097859327225,-0.48834097859327225,-0.48834097859327225,0,0,0,0,0.48834097859327225,0.48834097859327225,0.48834097859327225,0.48834097859327225,0,0.48834097859327225,5955.7351783438808,6054.7427908006302,1242.1850563218959,1242.1850563218959,null,null,null,null,0,0,0,-0.16278032619775742,-0.16278032619775742,-0.16278032619775742,-0.16278032619775742,-0.15049327215632943,-0.15049327215632943,-0.15681588319365683,null,null,0,0,0,0,null,22.3,null,23.2,22.7,21.8,20.100000000000001,22.3,19,{"$f":"SUM(BB478:BB497)/30","v":13.386666666666668},0,14.553333333333335,13.95,13.033333333333335,11.623333333333333,14.020000000000003,11.663333333333332,null,null,"2017-04-23",24.2,0,5.8000000000000007]
["2016-07-23",22.4,22.4,22.4,22.4,17.533333333333335,6.9879999999999995,6.9879999999999995,6.9879999999999995,6.9879999999999995,-3.4533333333333327,-3.4533333333333327,-3.4533333333333327,-3.4533333333333327,-0.49418049990459828,-0.49418049990459828,-0.49418049990459828,-0.49418049990459828,0,0,0,0,0.49418049990459828,0.49418049990459828,0.49418049990459828,0.49418049990459828,0,0.49418049990459828,5955.7351783438808,6054.7427908006302,1254.0453883196062,1254.0453883196062,null,null,null,null,0,0,0,-0.16472683330153276,-0.16472683330153276,-0.16472683330153276,-0.16472683330153276,-0.15334730982049366,-0.15334730982049366,-0.15204713502856393,null,null,0,0,0,0,null,22.4,null,23.8,24,21.9,19.5,23,18.5,{"$f":"SUM(BB479:BB498)/30","v":13.283333333333333},0,14.49,13.836666666666668,12.956666666666669,11.516666666666664,13.886666666666668,11.45,null,null,"2017-04-24",23.6,0,6.3999999999999986]
["2016-07-24",20.6,20.6,20.6,20.6,18.133333333333333,6.7720000000000002,6.7720000000000002,6.7720000000000002,6.7720000000000002,-2.6133333333333342,-2.6133333333333342,-2.6133333333333342,-2.6133333333333342,-0.38590273675920467,-0.38590273675920467,-0.38590273675920467,-0.38590273675920467,0,0,0,0,0.38590273675920467,0.38590273675920467,0.38590273675920467,0.38590273675920467,0,0.38590273675920467,5955.7351783438808,6054.7427908006302,1263.3070540018271,1263.3070540018271,null,null,null,null,0,0,0,-0.12863424558640155,-0.12863424558640155,-0.12863424558640155,-0.12863424558640155,-0.15101567747029504,-0.15101567747029504,-0.15462917596272915,null,null,0,0,0,0,null,20.6,null,24.2,23.3,20.2,18.2,24,18.5,{"$f":"SUM(BB480:BB499)/30","v":13.203333333333335},0,14.51,13.8,12.890000000000002,11.403333333333332,13.786666666666667,11.323333333333332,null,null,"2017-04-25",18.3,0,11.7]
["2016-07-25",{"$f":"BB491+A$7","v":22.7},22.7,22.7,22.7,{"$f":"F$8+(H$7-F$8)*(M$6-B491)/30","v":17.433333333333334},{"$f":"IF((B491+35-$F491)*$H$5+$H$6>1,(B491+35-$F491)*$H$5+$H$6,1)","v":7.0239999999999991},{"$f":"IF((C491+35-$F491)*$H$5+$H$6>1,(C491+35-$F491)*$H$5+$H$6,1)","v":7.0239999999999991},{"$f":"IF((D491+35-$F491)*$H$5+$H$6>1,(D491+35-$F491)*$H$5+$H$6,1)","v":7.0239999999999991},{"$f":"IF((E491+35-$F491)*$H$5+$H$6>1,(E491+35-$F491)*$H$5+$H$6,1)","v":7.0239999999999991},{"$f":"$M$5*($M$6-B491)/30-$O$5","v":-3.5933333333333328},{"$f":"$M$5*($M$6-C491)/30-$O$5","v":-3.5933333333333328},{"$f":"$M$5*($M$6-D491)/30-$O$5","v":-3.5933333333333328},{"$f":"$M$5*($M$6-E491)/30-$O$5","v":-3.5933333333333328},{"$f":"IF(K491/G491>$M$7,$M$7+K491-$M$7*G491,K491/G491)","v":-0.51157934700075924},{"$f":"IF(L491/H491>$M$7,$M$7+L491-$M$7*H491,L491/H491)","v":-0.51157934700075924},{"$f":"IF(M491/I491>$M$7,$M$7+M491-$M$7*I491,M491/I491)","v":-0.51157934700075924},{"$f":"IF(N491/J491>$M$7,$M$7+N491-$M$7*J491,N491/J491)","v":-0.51157934700075924},{"$f":"IF(O491>0,O491,)","v":0},{"$f":"IF(P491>0,P491,)","v":0},{"$f":"IF(Q491>0,Q491,)","v":0},{"$f":"IF(R491>0,R491,)","v":0},{"$f":"IF(O491<0,-O491,0)","v":0.51157934700075924},{"$f":"IF(P491<0,-P491,0)","v":0.51157934700075924},{"$f":"IF(Q491<0,-Q491,0)","v":0.51157934700075924},{"$f":"IF(R491<0,-R491,0)","v":0.51157934700075924},{"$f":"IF(SUM(O491:R491)/4>0,SUM(O491:R491)/4,)","v":0},{"$f":"IF(SUM(O491:R491)/4<0,-SUM(O491:R491)/4,)","v":0.51157934700075924},{"$f":"6*SUM(S491:V491)+AC490","v":5955.7351783438808},{"$f":"AD490+AA491*24","v":6054.7427908006302},{"$f":"6*SUM(W491:Z491)+AE490","v":1275.5849583298452},{"$f":"AF490+AB491*24","v":1275.5849583298452},null,null,null,null,{"$f":"IF(SUM(B485:B498)/14<$C$7,SUM(B485:B498)/14,0)","v":0},{"$f":"IF(SUM(B485:B498)/14<$C$7,1,0)","v":0},{"$f":"IF(SUM(AN488:AQ494)>0,1,0)","v":0},{"$f":"K491/G491/$M$7","v":-0.17052644900025307},{"$f":"L491/H491/$M$7","v":-0.17052644900025307},{"$f":"M491/I491/$M$7","v":-0.17052644900025307},{"$f":"N491/J491/$M$7","v":-0.17052644900025307},{"$f":"SUM(AO488:AO494)/7","v":-0.14956101194492558},{"$f":"SUM(AQ488:AQ494)/7","v":-0.14956101194492558},{"$f":"SUM(AN490:AQ492)/12","v":-0.15267594904156445},null,null,{"$f":"IF(K491>0,K491,0)","v":0},{"$f":"IF(L491>0,L491,0)","v":0},{"$f":"IF(M491>0,M491,0)","v":0},{"$f":"IF(N491>0,N491,0)","v":0},null,22.7,null,24.3,23.5,22,20.100000000000001,23.6,19.100000000000001,{"$f":"SUM(BB481:BB500)/30","v":13.376666666666667},0,14.719999999999999,13.973333333333333,13.073333333333334,11.573333333333331,13.836666666666668,11.313333333333333,null,null,"2017-04-26",15.2,0,14.8]
["2016-07-26",22.1,22.1,22.1,22.1,17.633333333333333,6.952,6.952,6.952,6.952,-3.3133333333333339,-3.3133333333333339,-3.3133333333333339,-3.3133333333333339,-0.47660145761411593,-0.47660145761411593,-0.47660145761411593,-0.47660145761411593,0,0,0,0,0.47660145761411593,0.47660145761411593,0.47660145761411593,0.47660145761411593,0,0.47660145761411593,5955.7351783438808,6054.7427908006302,1287.0233933125839,1287.0233933125839,null,null,null,null,0,0,0,-0.15886715253803865,-0.15886715253803865,-0.15886715253803865,-0.15886715253803865,-0.14497806327875895,-0.14497806327875895,-0.15267594904156442,null,null,0,0,0,0,null,22.1,null,24.9,23.1,22.3,19.5,23.3,20.100000000000001,{"$f":"SUM(BB482:BB501)/30","v":13.673333333333334},0,14.956666666666667,14.276666666666667,13.396666666666668,11.856666666666664,13.956666666666667,11.493333333333334,null,null,"2017-04-27",16.8,0,13.2]
["2016-07-27",20.6,20.6,20.6,20.6,18.133333333333333,6.7720000000000002,6.7720000000000002,6.7720000000000002,6.7720000000000002,-2.6133333333333342,-2.6133333333333342,-2.6133333333333342,-2.6133333333333342,-0.38590273675920467,-0.38590273675920467,-0.38590273675920467,-0.38590273675920467,0,0,0,0,0.38590273675920467,0.38590273675920467,0.38590273675920467,0.38590273675920467,0,0.38590273675920467,5955.7351783438808,6054.7427908006302,1296.2850589948048,1296.2850589948048,null,null,null,null,0,0,0,-0.12863424558640155,-0.12863424558640155,-0.12863424558640155,-0.12863424558640155,-0.14525518233092094,-0.14525518233092094,-0.14008640984284473,null,null,0,0,0,0,null,20.6,null,23.8,22.4,20.6,17.600000000000001,22.6,18,{"$f":"SUM(BB483:BB502)/30","v":13.666666666666666},0,15.133333333333333,14.430000000000001,13.409999999999998,11.889999999999999,14.21,11.746666666666666,null,null,"2017-04-28",16.899999999999999,0,13.100000000000001]
["2016-07-28",20.8,20.8,20.8,20.8,18.066666666666666,6.7959999999999994,6.7959999999999994,6.7959999999999994,6.7959999999999994,-2.7066666666666674,-2.7066666666666674,-2.7066666666666674,-2.7066666666666674,-0.39827349421228186,-0.39827349421228186,-0.39827349421228186,-0.39827349421228186,0,0,0,0,0.39827349421228186,0.39827349421228186,0.39827349421228186,0.39827349421228186,0,0.39827349421228186,5955.7351783438808,6054.7427908006302,1305.8436228558996,1305.8436228558996,null,null,null,null,0,0,0,-0.13275783140409395,-0.13275783140409395,-0.13275783140409395,-0.13275783140409395,-0.14163109113120059,-0.14163109113120059,-0.13069725417502889,null,null,0,0,0,0,null,20.8,null,22.4,21.7,20.5,18.399999999999999,20.8,17.899999999999999,{"$f":"SUM(BB484:BB503)/30","v":13.680000000000001},0,15.183333333333334,14.443333333333333,13.399999999999999,11.836666666666668,14.33,11.826666666666664,null,null,"2017-04-29",21.2,0,8.8000000000000007]
["2016-07-29",20.7,20.7,20.7,20.7,18.100000000000001,6.7839999999999998,6.7839999999999998,6.7839999999999998,6.7839999999999998,-2.6599999999999993,-2.6599999999999993,-2.6599999999999993,-2.6599999999999993,-0.39209905660377348,-0.39209905660377348,-0.39209905660377348,-0.39209905660377348,0,0,0,0,0.39209905660377348,0.39209905660377348,0.39209905660377348,0.39209905660377348,0,0.39209905660377348,5955.7351783438808,6054.7427908006302,1315.2540002143901,1315.2540002143901,null,null,null,null,0,0,0,-0.13069968553459116,-0.13069968553459116,-0.13069968553459116,-0.13069968553459116,-0.128879812678203,-0.128879812678203,-0.14337472786845062,null,null,0,0,0,0,null,20.7,null,24.3,21.8,20.100000000000001,17.8,20.5,18.600000000000001,{"$f":"SUM(BB485:BB504)/30","v":13.640000000000002},0,15.123333333333333,14.413333333333332,13.366666666666665,11.756666666666666,14.383333333333333,11.85,null,null,"2017-04-30",20.6,0,9.3999999999999986]
["2016-07-30",22.5,22.5,22.5,22.5,17.5,7,7,7,7,-3.5,-3.5,-3.5,-3.5,-0.5,-0.5,-0.5,-0.5,0,0,0,0,0.5,0.5,0.5,0.5,0,0.5,5955.7351783438808,6054.7427908006302,1327.2540002143901,1327.2540002143901,null,null,null,null,0,0,0,-0.16666666666666666,-0.16666666666666666,-0.16666666666666666,-0.16666666666666666,-0.11149236079909587,-0.11149236079909587,-0.13354398646320564,null,null,0,0,0,0,null,22.5,null,24.2,22.7,22.3,19,22.2,18.899999999999999,{"$f":"SUM(BB486:BB505)/30","v":13.673333333333336},0,15.07,14.393333333333333,13.386666666666663,11.753333333333334,14.429999999999998,11.879999999999999,null,null,"2017-05-01",18,0,12]
["2016-07-31",19.399999999999999,19.399999999999999,19.399999999999999,19.399999999999999,18.533333333333335,6.6279999999999992,6.6279999999999992,6.6279999999999992,6.6279999999999992,-2.0533333333333328,-2.0533333333333328,-2.0533333333333328,-2.0533333333333328,-0.30979682156507743,-0.30979682156507743,-0.30979682156507743,-0.30979682156507743,0,0,0,0,0.30979682156507743,0.30979682156507743,0.30979682156507743,0.30979682156507743,0,0.30979682156507743,5955.7351783438808,6054.7427908006302,1334.6891239319521,1334.6891239319521,null,null,null,null,0,0,0,-0.10326560718835914,-0.10326560718835914,-0.10326560718835914,-0.10326560718835914,-0.10693750709920465,-0.10693750709920465,-0.11706659122809858,null,null,0,0,0,0,null,19.399999999999999,null,23.3,22.1,18.7,16.399999999999999,21.8,19.100000000000001,{"$f":"SUM(BB487:BB506)/30","v":13.503333333333337},0,14.976666666666665,14.343333333333332,13.196666666666664,11.530000000000001,14.483333333333331,11.909999999999998,null,null,"2017-05-02",13.9,0,16.100000000000001]
["2016-08-01",18.399999999999999,18.399999999999999,18.399999999999999,18.399999999999999,18.866666666666667,6.5079999999999991,6.5079999999999991,6.5079999999999991,6.5079999999999991,-1.586666666666666,-1.586666666666666,-1.586666666666666,-1.586666666666666,-0.2438024994878098,-0.2438024994878098,-0.2438024994878098,-0.2438024994878098,0,0,0,0,0.2438024994878098,0.2438024994878098,0.2438024994878098,0.2438024994878098,0,0.2438024994878098,5955.7351783438808,6054.7427908006302,1340.5403839196595,1340.5403839196595,null,null,null,null,0,0,0,-8.1267499829269937E-2,-8.1267499829269937E-2,-8.1267499829269937E-2,-8.1267499829269937E-2,-0.1147683885230445,-0.1147683885230445,-7.3896032133972611E-2,null,null,0,0,0,0,null,18.399999999999999,null,21,19.7,17.7,14.8,20.8,16.8,{"$f":"SUM(BB488:BB507)/30","v":13.233333333333338},0,14.693333333333333,14.126666666666665,12.903333333333331,11.296666666666669,14.433333333333332,11.773333333333333,null,null,"2017-05-03",13.6,0,16.399999999999999]
["2016-08-02",16.5,{"$f":"$B499+C$9","v":16.5},16.5,16.5,19.5,6.2799999999999994,6.2799999999999994,6.2799999999999994,6.2799999999999994,-0.7,-0.7,-0.7,-0.7,-0.11146496815286625,-0.11146496815286625,-0.11146496815286625,-0.11146496815286625,0,0,0,0,0.11146496815286625,0.11146496815286625,0.11146496815286625,0.11146496815286625,0,0.11146496815286625,5955.7351783438808,6054.7427908006302,1343.2155431553283,1343.2155431553283,null,null,null,null,0,0,0,-3.7154989384288746E-2,-3.7154989384288746E-2,-3.7154989384288746E-2,-3.7154989384288746E-2,-0.10243012710450479,-0.10243012710450479,-7.1724252966907195E-2,null,null,0,0,0,0,null,16.5,null,20.6,19,16.100000000000001,12.399999999999999,21.4,16.399999999999999,{"$f":"SUM(BB489:BB508)/30","v":12.923333333333337},0,14.409999999999998,13.846666666666666,12.576666666666663,10.946666666666667,14.183333333333332,11.469999999999997,null,null,"2017-05-04",15,0,15]
["2016-08-03",19.100000000000001,19.100000000000001,19.100000000000001,19.100000000000001,18.633333333333333,6.5920000000000005,6.5920000000000005,6.5920000000000005,6.5920000000000005,-1.913333333333334,-1.913333333333334,-1.913333333333334,-1.913333333333334,-0.29025080906148876,-0.29025080906148876,-0.29025080906148876,-0.29025080906148876,0,0,0,0,0.29025080906148876,0.29025080906148876,0.29025080906148876,0.29025080906148876,0,0.29025080906148876,5955.7351783438808,6054.7427908006302,1350.1815625728041,1350.1815625728041,null,null,null,null,0,0,0,-9.6750269687162924E-2,-9.6750269687162924E-2,-9.6750269687162924E-2,-9.6750269687162924E-2,-8.9264745583128219E-2,-8.9264745583128219E-2,-0.10715975348080815,null,null,0,0,0,0,null,19.100000000000001,null,22.4,20.7,18.8,16.399999999999999,20.8,16.399999999999999,{"$f":"SUM(BB490:BB509)/30","v":12.656666666666668},0,14.106666666666666,13.51333333333333,12.319999999999997,10.696666666666667,13.916666666666666,11.206666666666667,null,null,"2017-05-05",15,0,15]
["2016-08-04",23.6,23.6,23.6,23.6,17.133333333333333,7.1319999999999997,7.1319999999999997,7.1319999999999997,7.1319999999999997,-4.0133333333333336,-4.0133333333333336,-4.0133333333333336,-4.0133333333333336,-0.56272200411291839,-0.56272200411291839,-0.56272200411291839,-0.56272200411291839,0,0,0,0,0.56272200411291839,0.56272200411291839,0.56272200411291839,0.56272200411291839,0,0.56272200411291839,5955.7351783438808,6054.7427908006302,1363.6868906715142,1363.6868906715142,null,null,null,null,0,0,0,-0.1875740013709728,-0.1875740013709728,-0.1875740013709728,-0.1875740013709728,-8.739299866393159E-2,-8.739299866393159E-2,-0.10955204222098296,null,null,0,0,0,0,null,23.6,null,23.9,23.8,23.4,20.100000000000001,21.9,19.100000000000001,{"$f":"SUM(BB491:BB510)/30","v":12.626666666666667},0,13.93,13.333333333333332,12.29,10.683333333333334,13.693333333333333,11.06,null,null,"2017-05-06",12.6,0,17.399999999999999]
["2016-08-10",13.2,13.2,13.2,13.2,20.6,5.8840000000000003,5.8840000000000003,5.8840000000000003,5.8840000000000003,0.8400000000000003,0.8400000000000003,0.8400000000000003,0.8400000000000003,0.14276002719238617,0.14276002719238617,0.14276002719238617,0.14276002719238617,0.14276002719238617,0.14276002719238617,0.14276002719238617,0.14276002719238617,0,0,0,0,0.14276002719238617,0,5959.1614189964985,6058.169031453248,1392.5009959702129,1392.5009959702129,null,null,null,null,0,0,0,4.7586675730795391E-2,4.7586675730795391E-2,4.7586675730795391E-2,4.7586675730795391E-2,-3.9272142430072376E-2,-3.9272142430072376E-2,2.2784261671234429E-2,null,null,0.8400000000000003,0.8400000000000003,0.8400000000000003,0.8400000000000003,null,13.2,null,14.3,14.4,12.2,10,19,13,{"$f":"SUM(BB497:BB516)/30","v":11.896666666666668},0,13.049999999999999,12.686666666666666,11.54,9.9700000000000006,12.830000000000002,10.266666666666667,null,null,"2017-05-12",15,0,15]
["2016-08-15",19.100000000000001,19.100000000000001,19.100000000000001,19.100000000000001,18.633333333333333,6.5920000000000005,6.5920000000000005,6.5920000000000005,6.5920000000000005,-1.913333333333334,-1.913333333333334,-1.913333333333334,-1.913333333333334,-0.29025080906148876,-0.29025080906148876,-0.29025080906148876,-0.29025080906148876,0,0,0,0,0.29025080906148876,0.29025080906148876,0.29025080906148876,0.29025080906148876,0,0.29025080906148876,5964.0987422049157,6063.1063546616651,1415.4189012348975,1415.4189012348975,null,null,null,null,0,0,0,-9.6750269687162924E-2,-9.6750269687162924E-2,-9.6750269687162924E-2,-9.6750269687162924E-2,-5.9084215514702117E-2,-5.9084215514702117E-2,-8.5888280690788063E-2,null,null,0,0,0,0,null,19.100000000000001,null,20.7,20.399999999999999,18.5,15.8,19.2,15.2,{"$f":"SUM(BB502:BB521)/30","v":11.866666666666667},0,12.606666666666664,12.413333333333334,11.553333333333333,10.190000000000001,12.610000000000003,9.9699999999999989,null,null,"2017-05-17",12.8,0,17.2]
["2016-08-22",17,17,17,17,19.333333333333332,6.34,6.34,6.34,6.34,-0.93333333333333335,-0.93333333333333335,-0.93333333333333335,-0.93333333333333335,-0.14721345951629863,-0.14721345951629863,-0.14721345951629863,-0.14721345951629863,0,0,0,0,0.14721345951629863,0.14721345951629863,0.14721345951629863,0.14721345951629863,0,0.14721345951629863,5964.0987422049157,6063.1063546616651,1449.6760143855679,1449.6760143855679,null,null,null,null,0,0,0,-4.9071153172099542E-2,-4.9071153172099542E-2,-4.9071153172099542E-2,-4.9071153172099542E-2,-0.10214248731415236,-0.10214248731415236,-7.3413505568783122E-2,null,null,0,0,0,0,null,17,null,17.399999999999999,17.8,16.2,14.9,18.100000000000001,13.7,{"$f":"SUM(BB509:BB528)/30","v":12.623333333333331},0,13.199999999999998,13.006666666666666,12.523333333333333,11.200000000000001,12.673333333333336,10.059999999999999,null,null,"2017-05-24",14.6,0,15.4]
["2016-08-27",21.8,21.8,21.8,21.8,17.733333333333334,6.9159999999999995,6.9159999999999995,6.9159999999999995,6.9159999999999995,-3.1733333333333338,-3.1733333333333338,-3.1733333333333338,-3.1733333333333338,-0.45883940620782737,-0.45883940620782737,-0.45883940620782737,-0.45883940620782737,0,0,0,0,0.45883940620782737,0.45883940620782737,0.45883940620782737,0.45883940620782737,0,0.45883940620782737,5964.0987422049157,6063.1063546616651,1496.0323109400774,1496.0323109400774,null,null,null,null,0,0,0,-0.15294646873594245,-0.15294646873594245,-0.15294646873594245,-0.15294646873594245,-0.12918169167369511,-0.12918169167369511,-0.15607488489589874,null,null,0,0,0,0,null,21.8,null,22.7,21.7,22.1,20.5,20.100000000000001,16.5,{"$f":"SUM(BB514:BB533)/30","v":12.836666666666666},0,13.42,13.239999999999998,12.760000000000002,11.29,12.806666666666665,10.243333333333334,null,null,"2017-05-29",11.3,0,18.7]
["2016-09-01",19,19,19,19,18.666666666666668,6.5799999999999992,6.5799999999999992,6.5799999999999992,6.5799999999999992,-1.8666666666666667,-1.8666666666666667,-1.8666666666666667,-1.8666666666666667,-0.28368794326241137,-0.28368794326241137,-0.28368794326241137,-0.28368794326241137,0,0,0,0,0.28368794326241137,0.28368794326241137,0.28368794326241137,0.28368794326241137,0,0.28368794326241137,5964.0987422049157,6063.1063546616651,1531.7353579803089,1531.7353579803089,null,null,null,null,0,0,0,-9.4562647754137127E-2,-9.4562647754137127E-2,-9.4562647754137127E-2,-9.4562647754137127E-2,-9.922948875024809E-2,-9.922948875024809E-2,-9.2476521253758159E-2,null,null,0,0,0,0,null,19,null,19.5,19.2,19.100000000000001,16.899999999999999,17.899999999999999,14.9,{"$f":"SUM(BB519:BB538)/30","v":13.219999999999999},0,13.470000000000002,13.459999999999997,13.099999999999998,11.610000000000001,13.156666666666668,10.436666666666667,null,null,"2017-06-03",9.5,0,20.5]
["2016-09-08",21.2,21.2,21.2,21.2,17.933333333333334,6.8439999999999994,6.8439999999999994,6.8439999999999994,6.8439999999999994,-2.8933333333333326,-2.8933333333333326,-2.8933333333333326,-2.8933333333333326,-0.4227547243327488,-0.4227547243327488,-0.4227547243327488,-0.4227547243327488,0,0,0,0,0.4227547243327488,0.4227547243327488,0.4227547243327488,0.4227547243327488,0,0.4227547243327488,5964.0987422049157,6063.1063546616651,1581.4895691423103,1581.4895691423103,null,null,null,null,0,0,0,-0.14091824144424961,-0.14091824144424961,-0.14091824144424961,-0.14091824144424961,-0.1184914590533462,-0.1184914590533462,-0.1370895183158041,null,null,0,0,0,0,null,21.2,null,20.399999999999999,20.9,21.2,19.3,20.5,16.2,{"$f":"SUM(BB526:BB545)/30","v":13.35},0,13.596666666666668,13.680000000000001,13.126666666666667,11.563333333333334,13.313333333333333,10.676666666666666,null,null,"2017-06-10",12.5,0,17.5]
["2016-09-13",22.3,22.3,22.3,22.3,17.566666666666666,6.976,6.976,6.976,6.976,-3.4066666666666672,-3.4066666666666672,-3.4066666666666672,-3.4066666666666672,-0.48834097859327225,-0.48834097859327225,-0.48834097859327225,-0.48834097859327225,0,0,0,0,0.48834097859327225,0.48834097859327225,0.48834097859327225,0.48834097859327225,0,0.48834097859327225,5964.0987422049157,6063.1063546616651,1641.8981001215782,1641.8981001215782,null,null,null,null,0,0,0,-0.16278032619775742,-0.16278032619775742,-0.16278032619775742,-0.16278032619775742,-0.15225137076573744,-0.15225137076573744,-0.15882404768503458,null,null,0,0,0,0,null,22.3,null,22.1,22.8,21.7,20.6,20.7,17.399999999999999,{"$f":"SUM(BB531:BB550)/30","v":12.32},0,12.75,12.746666666666666,12.060000000000002,10.533333333333335,12.370000000000003,9.8566666666666656,null,null,"2017-06-15",12.3,0,17.7]
["2016-09-16",20,20,20,20,18.333333333333332,6.7,6.7,6.7,6.7,-2.3333333333333335,-2.3333333333333335,-2.3333333333333335,-2.3333333333333335,-0.34825870646766172,-0.34825870646766172,-0.34825870646766172,-0.34825870646766172,0,0,0,0,0.34825870646766172,0.34825870646766172,0.34825870646766172,0.34825870646766172,0,0.34825870646766172,5964.0987422049157,6063.1063546616651,1669.9444434944803,1669.9444434944803,null,null,null,null,0,0,0,-0.11608623548922058,-0.11608623548922058,-0.11608623548922058,-0.11608623548922058,-7.6935671822624105E-2,-7.6935671822624105E-2,-9.8893588525467313E-2,null,null,0,0,0,0,null,20,null,21.3,20.9,19.600000000000001,16.8,20.100000000000001,16.3,{"$f":"SUM(BB534:BB553)/30","v":11.786666666666665},0,12.109999999999998,12.126666666666667,11.576666666666666,10.126666666666669,11.750000000000004,9.2200000000000006,null,null,"2017-06-18",11.2,0,18.8]
["2016-09-25",13.5,13.5,13.5,13.5,20.5,5.92,5.92,5.92,5.92,0.7,0.7,0.7,0.7,0.11824324324324324,0.11824324324324324,0.11824324324324324,0.11824324324324324,0.11824324324324324,0.11824324324324324,0.11824324324324324,0.11824324324324324,0,0,0,0,0.11824324324324324,0,5994.7781047771532,6093.7857172339027,1673.9845940590976,1673.9845940590976,null,null,null,null,14.2,1,1,3.9414414414414414E-2,3.9414414414414414E-2,3.9414414414414414E-2,3.9414414414414414E-2,4.3014713857632371E-2,4.3014713857632371E-2,4.3098400923510076E-2,null,null,0.7,0.7,0.7,0.7,null,13.5,null,14.5,14.6,14,12,13.3,8.6000000000000014,{"$f":"SUM(BB543:BB562)/30","v":9.7633333333333301},0,10.533333333333331,10.276666666666666,9.5866666666666678,8.2233333333333345,9.7800000000000011,7.5666666666666682,null,null,"2017-06-27",6.9,0,23.1]
["2016-09-30",18.899999999999999,18.899999999999999,18.899999999999999,18.899999999999999,18.7,6.5679999999999996,6.5679999999999996,6.5679999999999996,6.5679999999999996,-1.8199999999999994,-1.8199999999999994,-1.8199999999999994,-1.8199999999999994,-0.27710109622411683,-0.27710109622411683,-0.27710109622411683,-0.27710109622411683,0,0,0,0,0.27710109622411683,0.27710109622411683,0.27710109622411683,0.27710109622411683,0,0.27710109622411683,6001.4432832291577,6100.4508956859072,1686.2020327624884,1686.2020327624884,null,null,null,null,12.87142857142857,1,0,-9.2367032074705605E-2,-9.2367032074705605E-2,-9.2367032074705605E-2,-9.2367032074705605E-2,-6.7659790062181797E-3,-6.7659790062181797E-3,-7.2793719698941509E-2,null,null,0,0,0,0,null,18.899999999999999,null,17.7,18.100000000000001,18.100000000000001,16.399999999999999,15.7,16.3,{"$f":"SUM(BB548:BB567)/30","v":8.1533333333333324},0,8.6766666666666676,8.3999999999999968,7.9666666666666659,6.6566666666666681,7.7099999999999991,5.6566666666666672,null,null,"2017-07-02",11.4,0,18.600000000000001]
["2016-10-03",11,11,11,11,21.333333333333332,5.62,5.62,5.62,5.62,1.8666666666666667,1.8666666666666667,1.8666666666666667,1.8666666666666667,0.33214709371293,0.33214709371293,0.33214709371293,0.33214709371293,0.33214709371293,0.33214709371293,0.33214709371293,0.33214709371293,0,0,0,0,0.33214709371293,0,6011.4791566418071,6110.4867690985566,1690.0738115179881,1690.0738115179881,null,null,null,null,11.542857142857141,1,1,0.11071569790431,0.11071569790431,0.11071569790431,0.11071569790431,8.5129500797703636E-2,8.5129500797703636E-2,8.9454179094716965E-2,null,null,1.8666666666666667,1.8666666666666667,1.8666666666666667,1.8666666666666667,null,11,null,13.3,12.899999999999999,10.600000000000001,8.8000000000000007,14.1,10.3,{"$f":"SUM(BB551:BB570)/30","v":7.5866666666666651},0,8.0666666666666664,7.8566666666666656,7.423333333333332,6.1900000000000013,7.3533333333333335,5.2900000000000009,null,null,"2017-07-05",9.5,0,20.5]
["2016-10-07",7.6000000000000014,7.6000000000000014,7.6000000000000014,7.6000000000000014,22.466666666666665,5.2119999999999997,5.2119999999999997,5.2119999999999997,5.2119999999999997,3.4533333333333327,3.4533333333333327,3.4533333333333327,3.4533333333333327,0.66257354822205161,0.66257354822205161,0.66257354822205161,0.66257354822205161,0.66257354822205161,0.66257354822205161,0.66257354822205161,0.66257354822205161,0,0,0,0,0.66257354822205161,0,6070.7725218534088,6169.7801343101582,1690.0738115179881,1690.0738115179881,null,null,null,null,8.8071428571428587,1,1,0.22085784940735054,0.22085784940735054,0.22085784940735054,0.22085784940735054,0.21892334690324217,0.21892334690324217,0.22672560103683417,null,null,3.4533333333333327,3.4533333333333327,3.4533333333333327,3.4533333333333327,null,7.6000000000000014,null,6.3000000000000007,5.1999999999999993,7.3999999999999986,5.8000000000000007,5.8999999999999986,2.6000000000000014,{"$f":"SUM(BB555:BB574)/30","v":6.9999999999999982},0,7.6333333333333346,7.3533333333333308,6.7733333333333343,5.6400000000000006,6.713333333333332,4.9099999999999993,null,null,"2017-07-09",9.3000000000000007,0,20.7]
["2016-10-12",6.1999999999999993,6.1999999999999993,6.1999999999999993,6.1999999999999993,22.933333333333334,5.0440000000000005,5.0440000000000005,5.0440000000000005,5.0440000000000005,4.1066666666666674,4.1066666666666674,4.1066666666666674,4.1066666666666674,0.81416864922019572,0.81416864922019572,0.81416864922019572,0.81416864922019572,0.81416864922019572,0.81416864922019572,0.81416864922019572,0.81416864922019572,0,0,0,0,0.81416864922019572,0,6159.5697372065279,6258.5773496632773,1690.0738115179881,1690.0738115179881,null,null,null,null,8.0928571428571434,1,1,0.27138954974006524,0.27138954974006524,0.27138954974006524,0.27138954974006524,0.23089764430691836,0.23089764430691836,0.26032062302719877,null,null,4.1066666666666674,4.1066666666666674,4.1066666666666674,4.1066666666666674,null,6.1999999999999993,null,7.6000000000000014,7.8000000000000007,6,4.1999999999999993,8.3999999999999986,4.3999999999999986,{"$f":"SUM(BB560:BB579)/30","v":5.71},0,6.1400000000000006,5.8866666666666685,5.44,4.2999999999999989,5.7033333333333323,3.7800000000000002,null,null,"2017-07-14",13.1,0,16.899999999999999]
["2016-10-20",8.5,8.5,8.5,8.5,22.166666666666668,5.32,5.32,5.32,5.32,3.0333333333333332,3.0333333333333332,3.0333333333333332,3.0333333333333332,0.57017543859649122,0.57017543859649122,0.57017543859649122,0.57017543859649122,0.57017543859649122,0.57017543859649122,0.57017543859649122,0.57017543859649122,0,0,0,0,0.57017543859649122,0,6259.6723317993565,6358.679944256106,1690.0738115179881,1690.0738115179881,null,null,null,null,8.735714285714284,1,1,0.19005847953216373,0.19005847953216373,0.19005847953216373,0.19005847953216373,0.20913742963782381,0.20913742963782381,0.18230339393675121,null,null,3.0333333333333332,3.0333333333333332,3.0333333333333332,3.0333333333333332,null,8.5,null,7.6999999999999993,7.8999999999999986,8,5.3999999999999986,9.6999999999999993,6.1000000000000014,{"$f":"SUM(BB568:BB587)/30","v":5.5933333333333346},0,6.1433333333333335,5.8166666666666664,5.37,4.18,5.5500000000000007,3.8366666666666664,null,null,"2017-07-22",6.8,0,23.2]
["2016-10-24",9.3000000000000007,9.3000000000000007,9.3000000000000007,9.3000000000000007,21.9,5.4160000000000004,5.4160000000000004,5.4160000000000004,5.4160000000000004,2.6599999999999993,2.6599999999999993,2.6599999999999993,2.6599999999999993,0.49113737075332331,0.49113737075332331,0.49113737075332331,0.49113737075332331,0.49113737075332331,0.49113737075332331,0.49113737075332331,0.49113737075332331,0,0,0,0,0.49113737075332331,0,6328.5813472056889,6427.5889596624384,1690.0738115179881,1690.0738115179881,null,null,null,null,8.35,1,1,0.16371245691777445,0.16371245691777445,0.16371245691777445,0.16371245691777445,0.20609780044594667,0.20609780044594667,0.18905562499812809,null,null,2.6599999999999993,2.6599999999999993,2.6599999999999993,2.6599999999999993,null,9.3000000000000007,null,9.3000000000000007,10.8,8.6999999999999993,6.3000000000000007,9.6999999999999993,9,{"$f":"SUM(BB572:BB591)/30","v":5.669999999999999},0,6.1766666666666676,5.7166666666666659,5.39,4.1633333333333331,5.3633333333333342,3.833333333333333,null,null,"2017-07-26",12.2,0,17.8]
["2016-10-30",6.3999999999999986,6.3999999999999986,6.3999999999999986,6.3999999999999986,22.866666666666667,5.0679999999999996,5.0679999999999996,5.0679999999999996,5.0679999999999996,4.0133333333333336,4.0133333333333336,4.0133333333333336,4.0133333333333336,0.79189686924493563,0.79189686924493563,0.79189686924493563,0.79189686924493563,0.79189686924493563,0.79189686924493563,0.79189686924493563,0.79189686924493563,0,0,0,0,0.79189686924493563,0,6404.2828407630632,6503.2904532198127,1690.0738115179881,1690.0738115179881,null,null,null,null,7.2857142857142865,1,1,0.26396562308164523,0.26396562308164523,0.26396562308164523,0.26396562308164523,0.20500285455401895,0.20500285455401895,0.23292853949851369,null,null,4.0133333333333336,4.0133333333333336,4.0133333333333336,4.0133333333333336,null,6.3999999999999986,null,8.6999999999999993,7,5.6999999999999993,4.8000000000000007,5.8999999999999986,3.3999999999999986,{"$f":"SUM(BB578:BB597)/30","v":4.4866666666666672},0,5.0766666666666662,4.5366666666666662,4.166666666666667,2.9299999999999997,4.58,2.9899999999999993,null,null,"2017-08-01",4.4000000000000004,0,25.6]
["2016-11-06",5.3000000000000007,5.3000000000000007,5.3000000000000007,5.3000000000000007,23.233333333333334,4.9359999999999999,4.9359999999999999,4.9359999999999999,4.9359999999999999,4.5266666666666664,4.5266666666666664,4.5266666666666664,4.5266666666666664,0.91707185305240402,0.91707185305240402,0.91707185305240402,0.91707185305240402,0.91707185305240402,0.91707185305240402,0.91707185305240402,0.91707185305240402,0,0,0,0,0.91707185305240402,0,6555.2162126743651,6654.2238251311146,1690.0738115179881,1690.0738115179881,null,null,null,null,3.2928571428571423,1,1,0.30569061768413469,0.30569061768413469,0.30569061768413469,0.30569061768413469,0.39294658733706489,0.39294658733706489,0.3489429887492303,null,null,4.5266666666666664,4.5266666666666664,4.5266666666666664,4.5266666666666664,null,5.3000000000000007,null,6.5,6.8999999999999986,4.6000000000000014,3,9.3999999999999986,6.6000000000000014,{"$f":"SUM(BB585:BB604)/30","v":2.5533333333333337},0,3.273333333333333,2.6499999999999995,2.2900000000000005,1.1700000000000002,2.8299999999999996,1.1600000000000001,null,null,"2017-08-08",11,0,19]
["2016-11-10",1.5,1.5,1.5,1.5,24.5,4.4800000000000004,4.4800000000000004,4.4800000000000004,4.4800000000000004,6.3,6.3,6.3,6.3,1.4062499999999998,1.4062499999999998,1.4062499999999998,1.4062499999999998,1.4062499999999998,1.4062499999999998,1.4062499999999998,1.4062499999999998,0,0,0,0,1.4062499999999998,0,6686.1714356175171,6785.1790480742666,1690.0738115179881,1690.0738115179881,null,null,null,null,2.2071428571428569,1,1,0.46874999999999994,0.46874999999999994,0.46874999999999994,0.46874999999999994,0.49374639066307335,0.49374639066307335,0.47058451808500784,null,null,6.3,6.3,6.3,6.3,null,1.5,null,3.3000000000000007,0.5,1.5,-0.30000000000000071,2,-1.6000000000000014,{"$f":"SUM(BB589:BB608)/30","v":2.4033333333333333},0,2.623333333333334,2.2133333333333329,2.1700000000000004,1.06,2.4600000000000004,1.0100000000000002,null,null,"2017-08-12",5.4,0,24.6]
["2016-11-16",5.6999999999999993,5.6999999999999993,5.6999999999999993,5.6999999999999993,23.1,4.984,4.984,4.984,4.984,4.3400000000000007,4.3400000000000007,4.3400000000000007,4.3400000000000007,0.87078651685393271,0.87078651685393271,0.87078651685393271,0.87078651685393271,0.87078651685393271,0.87078651685393271,0.87078651685393271,0.87078651685393271,0,0,0,0,0.87078651685393271,0,6920.1102726084173,7019.1178850651668,1690.0738115179881,1690.0738115179881,null,null,null,null,3.592857142857143,1,1,0.29026217228464424,0.29026217228464424,0.29026217228464424,0.29026217228464424,0.40632930322292332,0.40632930322292332,0.3622405169270177,null,null,4.3400000000000007,4.3400000000000007,4.3400000000000007,4.3400000000000007,null,5.6999999999999993,null,1.5,1.1999999999999993,5.6000000000000014,3.5,-0.30000000000000071,-0.80000000000000071,{"$f":"SUM(BB595:BB614)/30","v":2.4500000000000002},0,3.0833333333333335,2.7766666666666664,2.2066666666666674,1.2566666666666668,{"$f":"SUM(BH595:BH614)/30","v":2.7666666666666675},1.6300000000000001,null,null,"2017-08-18",5.9,0,24.1]
["2016-11-23",7.3999999999999986,7.3999999999999986,7.3999999999999986,7.3999999999999986,22.533333333333335,5.1879999999999997,5.1879999999999997,5.1879999999999997,5.1879999999999997,3.5466666666666673,3.5466666666666673,3.5466666666666673,3.5466666666666673,0.6836288871755335,0.6836288871755335,0.6836288871755335,0.6836288871755335,0.6836288871755335,0.6836288871755335,0.6836288871755335,0.6836288871755335,0,0,0,0,0.6836288871755335,0,7048.0664537424545,7147.074066199204,1690.0738115179881,1690.0738115179881,null,null,null,null,4.492857142857142,1,1,0.22787629572517784,0.22787629572517784,0.22787629572517784,0.22787629572517784,0.30411225252835894,0.30411225252835894,0.23268695869517667,null,null,3.5466666666666673,3.5466666666666673,3.5466666666666673,3.5466666666666673,null,7.3999999999999986,null,7.6999999999999993,8.3000000000000007,7,5.5,3.6999999999999993,4.6000000000000014,{"$f":"SUM(BB602:BB621)/30","v":2.3099999999999996},0,3.1633333333333336,2.7000000000000011,2.06,1.0933333333333333,1.9866666666666666,1.2700000000000002,null,null,"2017-08-25",10.7,0,19.3]
["2016-11-28",-0.39999999999999858,-0.39999999999999858,-0.39999999999999858,-0.39999999999999858,25.133333333333333,4.2519999999999998,4.2519999999999998,4.2519999999999998,4.2519999999999998,7.1866666666666656,7.1866666666666656,7.1866666666666656,7.1866666666666656,1.6901850109752272,1.6901850109752272,1.6901850109752272,1.6901850109752272,1.6901850109752272,1.6901850109752272,1.6901850109752272,1.6901850109752272,0,0,0,0,1.6901850109752272,0,7184.4155933451821,7283.4232058019315,1690.0738115179881,1690.0738115179881,null,null,null,null,1.8357142857142859,1,1,0.56339500365840911,0.56339500365840911,0.56339500365840911,0.56339500365840911,0.46734094049883901,0.46734094049883901,0.52412384853757177,null,null,7.1866666666666656,7.1866666666666656,7.1866666666666656,7.1866666666666656,null,-0.39999999999999858,null,1.6000000000000014,0.69999999999999929,-1.1000000000000014,-3,0.89999999999999858,-2.7999999999999972,{"$f":"SUM(BB607:BB626)/30","v":1.5399999999999998},0,2.74,2.25,1.263333333333333,0.23333333333333323,1.4300000000000002,0.66666666666666663,null,null,"2017-08-30",11.5,0,18.5]
["2016-12-03",-2.3999999999999986,-2.3999999999999986,-2.3999999999999986,-2.3999999999999986,25.8,4.0119999999999996,4.0119999999999996,4.0119999999999996,4.0119999999999996,8.1199999999999992,8.1199999999999992,8.1199999999999992,8.1199999999999992,2.0239282153539384,2.0239282153539384,2.0239282153539384,2.0239282153539384,2.0239282153539384,2.0239282153539384,2.0239282153539384,2.0239282153539384,0,0,0,0,2.0239282153539384,0,7377.7276715390853,7476.7352839958348,1690.0738115179881,1690.0738115179881,null,null,null,null,0.60714285714285743,1,1,0.67464273845131284,0.67464273845131284,0.67464273845131284,0.67464273845131284,0.61573272377794175,0.61573272377794175,0.6283274598937546,null,null,8.1199999999999992,8.1199999999999992,8.1199999999999992,8.1199999999999992,null,-2.3999999999999986,null,0.10000000000000142,-0.30000000000000071,-1.8000000000000007,-3.8999999999999986,-0.30000000000000071,-3.1000000000000014,{"$f":"SUM(BB612:BB631)/30","v":1.3533333333333337},0,2.02,1.2233333333333334,1.0799999999999996,-0.19666666666666674,1.3333333333333523E-2,-0.31666666666666643,null,null,"2017-09-04",16.100000000000001,0,13.899999999999999]
["2016-12-04",-4.7999999999999972,-4.7999999999999972,-4.7999999999999972,-4.7999999999999972,26.599999999999998,3.7240000000000002,3.7240000000000002,3.7240000000000002,3.7240000000000002,9.2399999999999984,9.2399999999999984,9.2399999999999984,9.2399999999999984,2.4812030075187965,2.4812030075187965,2.4812030075187965,2.4812030075187965,2.4812030075187965,2.4812030075187965,2.4812030075187965,2.4812030075187965,0,0,0,0,2.4812030075187965,0,7437.2765437195367,7536.2841561762862,1690.0738115179881,1690.0738115179881,null,null,null,null,0.77142857142857146,1,1,0.82706766917293217,0.82706766917293217,0.82706766917293217,0.82706766917293217,0.61495466334739113,0.61495466334739113,0.76283450772816142,null,null,9.2399999999999984,9.2399999999999984,9.2399999999999984,9.2399999999999984,null,-4.7999999999999972,null,-3.5,-3.6000000000000014,-4.2000000000000028,-4.7000000000000028,-2.7999999999999972,-7.1000000000000014,{"$f":"SUM(BB613:BB632)/30","v":1.0566666666666669},0,1.69,0.83000000000000007,0.83999999999999975,-0.32666666666666672,-0.25999999999999979,-0.68333333333333313,null,null,"2017-09-05",17.7,0,12.3]
["2016-12-10",7.3999999999999986,7.3999999999999986,7.3999999999999986,7.3999999999999986,22.533333333333335,5.1879999999999997,5.1879999999999997,5.1879999999999997,5.1879999999999997,3.5466666666666673,3.5466666666666673,3.5466666666666673,3.5466666666666673,0.6836288871755335,0.6836288871755335,0.6836288871755335,0.6836288871755335,0.6836288871755335,0.6836288871755335,0.6836288871755335,0.6836288871755335,0,0,0,0,0.6836288871755335,0,7650.3351171638878,7749.3427296206373,1690.0738115179881,1690.0738115179881,null,null,null,null,0.91428571428571437,1,1,0.22787629572517784,0.22787629572517784,0.22787629572517784,0.22787629572517784,0.40041643671418198,0.40041643671418198,0.26820883623448116,null,null,3.5466666666666673,3.5466666666666673,3.5466666666666673,3.5466666666666673,null,7.3999999999999986,null,9,3.8999999999999986,6.6000000000000014,4.1999999999999993,-1.6000000000000014,4.1000000000000014,{"$f":"SUM(BB619:BB638)/30","v":0.57333333333333314},0,0.60999999999999988,-0.22333333333333319,0.47333333333333294,-0.68999999999999972,-1.5199999999999996,-1.9066666666666665,null,null,"2017-09-11",8,0,22]
["2016-12-15",0.80000000000000071,0.80000000000000071,0.80000000000000071,0.80000000000000071,24.733333333333334,4.3959999999999999,4.3959999999999999,4.3959999999999999,4.3959999999999999,6.626666666666666,6.626666666666666,6.626666666666666,6.626666666666666,1.5074309978768576,1.5074309978768576,1.5074309978768576,1.5074309978768576,1.5074309978768576,1.5074309978768576,1.5074309978768576,1.5074309978768576,0,0,0,0,1.5074309978768576,0,7808.5099260317802,7907.5175384885297,1690.0738115179881,1690.0738115179881,null,null,null,null,1.1428571428571426,1,1,0.50247699929228584,0.50247699929228584,0.50247699929228584,0.50247699929228584,0.52366968083493837,0.52366968083493837,0.48778176268716678,null,null,6.626666666666666,6.626666666666666,6.626666666666666,6.626666666666666,null,0.80000000000000071,null,1.3999999999999986,0.80000000000000071,0.60000000000000142,-0.5,-1.1999999999999993,-2.7000000000000028,{"$f":"SUM(BB624:BB643)/30","v":0.47666666666666657},0,-2.3333333333333192E-2,-0.72666666666666635,0.34999999999999976,-0.67999999999999983,-2.1233333333333335,-2.3266666666666662,null,null,"2017-09-16",15.3,0,14.7]
["2016-12-21",-2.5,-2.5,-2.5,-2.5,25.833333333333332,4,4,4,4,8.1666666666666661,8.1666666666666661,8.1666666666666661,8.1666666666666661,2.0416666666666665,2.0416666666666665,2.0416666666666665,2.0416666666666665,2.0416666666666665,2.0416666666666665,2.0416666666666665,2.0416666666666665,0,0,0,0,2.0416666666666665,0,8063.4958993832952,8162.5035118400447,1690.0738115179881,1690.0738115179881,null,null,null,null,1.1571428571428573,1,1,0.68055555555555547,0.68055555555555547,0.68055555555555547,0.68055555555555547,0.57323086275704316,0.57323086275704316,0.67594302936029538,null,null,8.1666666666666661,8.1666666666666661,8.1666666666666661,8.1666666666666661,null,-2.5,null,-4,-4,-3,-4.2000000000000028,-3.2000000000000028,-5.7999999999999972,{"$f":"SUM(BB630:BB649)/30","v":0.76},0,0.48333333333333345,-0.15666666666666654,0.71666666666666656,3.3333333333333808E-3,-1.6166666666666667,-2.2399999999999998,null,null,"2017-09-22",17.100000000000001,0,12.899999999999999]
["2016-12-27",4.3000000000000007,4.3000000000000007,4.3000000000000007,4.3000000000000007,23.566666666666666,4.8159999999999998,4.8159999999999998,4.8159999999999998,4.8159999999999998,4.9933333333333332,4.9933333333333332,4.9933333333333332,4.9933333333333332,1.0368217054263567,1.0368217054263567,1.0368217054263567,1.0368217054263567,1.0368217054263567,1.0368217054263567,1.0368217054263567,1.0368217054263567,0,0,0,0,1.0368217054263567,0,8247.2707897568307,8346.278402213582,1690.0738115179881,1690.0738115179881,null,null,null,null,-7.1428571428570412E-2,1,1,0.34560723514211888,0.34560723514211888,0.34560723514211888,0.34560723514211888,0.41944074173511398,0.41944074173511398,0.31725687099118338,null,null,4.9933333333333332,4.9933333333333332,4.9933333333333332,4.9933333333333332,null,4.3000000000000007,null,5.1999999999999993,4.3000000000000007,3.6000000000000014,1.8000000000000007,0.60000000000000142,0.5,{"$f":"SUM(BB636:BB655)/30","v":-0.22333333333333308},0,-0.17333333333333331,-1.0433333333333334,-0.34000000000000019,-1.0766666666666667,-2.0766666666666667,-3.003333333333333,null,null,"2017-09-28",17.600000000000001,0,12.399999999999999]
["2017-01-01",-6.2999999999999972,-6.2999999999999972,-6.2999999999999972,-6.2999999999999972,27.099999999999998,3.5440000000000005,3.5440000000000005,3.5440000000000005,3.5440000000000005,9.9399999999999977,9.9399999999999977,9.9399999999999977,9.9399999999999977,2.8047404063205406,2.8047404063205406,2.8047404063205406,2.8047404063205406,2.8047404063205406,2.8047404063205406,2.8047404063205406,2.8047404063205406,0,0,0,0,2.8047404063205406,0,8495.6497116641185,8594.6573241208698,1690.0738115179881,1690.0738115179881,null,null,null,null,-2.214285714285714,1,1,0.93491346877351356,0.93491346877351356,0.93491346877351356,0.93491346877351356,0.69590580409249903,0.69590580409249903,0.8324642695366381,null,null,9.9399999999999977,9.9399999999999977,9.9399999999999977,9.9399999999999977,null,-6.2999999999999972,null,-6.6000000000000014,-7.7000000000000028,-6.1000000000000014,-7.1000000000000014,-5.2000000000000028,-10.600000000000001,{"$f":"SUM(BB641:BB660)/30","v":-1.1199999999999997},0,-1.0466666666666666,-2.1866666666666674,-1.2833333333333334,-1.9466666666666668,-3.203333333333334,-4.8666666666666663,null,null,"2017-10-03",20.3,0,{"$f":"30-BU651","v":9.6999999999999993}]
["2017-01-05",-4,-4,-4,-4,26.333333333333332,3.82,3.82,3.82,3.82,8.8666666666666671,8.8666666666666671,8.8666666666666671,8.8666666666666671,2.3211169284467714,2.3211169284467714,2.3211169284467714,2.3211169284467714,2.3211169284467714,2.3211169284467714,2.3211169284467714,2.3211169284467714,0,0,0,0,2.3211169284467714,0,8680.696369822881,8779.7039822796323,1690.0738115179881,1690.0738115179881,null,null,null,null,-4.2785714285714285,1,1,0.77370564281559051,0.77370564281559051,0.77370564281559051,0.77370564281559051,0.83000714065488101,0.83000714065488101,0.78942420581038897,null,null,8.8666666666666671,8.8666666666666671,8.8666666666666671,8.8666666666666671,null,-4,null,-1.5,-3.2000000000000028,-4.7000000000000028,-6,-3.3999999999999986,-6.3999999999999986,{"$f":"SUM(BB645:BB664)/30","v":-1.4433333333333329},0,-1.176666666666667,-2.3666666666666667,-1.6266666666666665,-2.2833333333333337,-3.4666666666666663,-5.1300000000000008,null,null,"2017-10-07",21,0,9]
["2017-01-13",2.1999999999999993,2.1999999999999993,2.1999999999999993,2.1999999999999993,24.266666666666666,4.5640000000000001,4.5640000000000001,4.5640000000000001,4.5640000000000001,5.9733333333333336,5.9733333333333336,5.9733333333333336,5.9733333333333336,1.3087934560327199,1.3087934560327199,1.3087934560327199,1.3087934560327199,1.3087934560327199,1.3087934560327199,1.3087934560327199,1.3087934560327199,0,0,0,0,1.3087934560327199,0,9249.7408281091521,9348.7484405659034,1690.0738115179881,1690.0738115179881,null,null,null,null,-4.4285714285714288,1,1,0.43626448534423995,0.43626448534423995,0.43626448534423995,0.43626448534423995,0.67216901769918047,0.67216901769918047,0.46549594562397978,null,null,5.9733333333333336,5.9733333333333336,5.9733333333333336,5.9733333333333336,null,2.1999999999999993,null,3,1.6999999999999993,1.5,-0.30000000000000071,-4,-3.8999999999999986,{"$f":"SUM(BB653:BB672)/30","v":-2.8800000000000003},0,-2.4433333333333338,-3.7233333333333323,-3.37,-3.6599999999999993,-4.3733333333333331,-6.0300000000000011,null,null,"2017-10-15",17.7,0,12.3]
["2017-01-18",-6.2000000000000028,-6.2000000000000028,-6.2000000000000028,-6.2000000000000028,27.066666666666666,3.5559999999999996,3.5559999999999996,3.5559999999999996,3.5559999999999996,9.8933333333333362,9.8933333333333362,9.8933333333333362,9.8933333333333362,2.7821522309711297,2.7821522309711297,2.7821522309711297,2.7821522309711297,2.7821522309711297,2.7821522309711297,2.7821522309711297,2.7821522309711297,0,0,0,0,2.7821522309711297,0,9501.7776606032148,9600.7852730599661,1690.0738115179881,1690.0738115179881,null,null,null,null,-4.0357142857142856,1,1,0.92738407699037662,0.92738407699037662,0.92738407699037662,0.92738407699037662,0.92599987216211976,0.92599987216211976,1.0123620563282796,null,null,9.8933333333333362,9.8933333333333362,9.8933333333333362,9.8933333333333362,null,-6.2000000000000028,null,-4.2999999999999972,-4.2999999999999972,-7.2999999999999972,-7.6000000000000014,-3.8999999999999986,-9,{"$f":"SUM(BB658:BB677)/30","v":-2.9266666666666663},0,-2.7033333333333331,-3.5633333333333326,-3.4233333333333329,-3.6400000000000006,-4.2166666666666668,-5.8200000000000012,null,null,"2017-10-20",18.8,0,11.2]
["2017-01-22",-6,-6,-6,-6,27,3.58,3.58,3.58,3.58,9.8000000000000007,9.8000000000000007,9.8000000000000007,9.8000000000000007,2.7374301675977657,2.7374301675977657,2.7374301675977657,2.7374301675977657,2.7374301675977657,2.7374301675977657,2.7374301675977657,2.7374301675977657,0,0,0,0,2.7374301675977657,0,9903.9583563473407,10002.965968804092,1690.0738115179881,1690.0738115179881,null,null,null,null,-5.8571428571428568,1,1,0.9124767225325886,0.9124767225325886,0.9124767225325886,0.9124767225325886,0.99362732837718304,0.99362732837718304,0.93506696988804716,null,null,9.8000000000000007,9.8000000000000007,9.8000000000000007,9.8000000000000007,null,-6,null,-3.8999999999999986,-6.2999999999999972,-8.2000000000000028,-7.7000000000000028,-3.5,-5.2000000000000028,{"$f":"SUM(BB662:BB681)/30","v":-3.0066666666666664},0,-2.5500000000000003,-3.2166666666666659,-3.5833333333333335,-3.93,-4.34,-5.0666666666666664,null,null,"2017-10-24",23.1,0,6.8999999999999986]
["2017-01-30",-7.6000000000000014,-7.6000000000000014,-7.6000000000000014,-7.6000000000000014,27.533333333333331,3.3879999999999999,3.3879999999999999,3.3879999999999999,3.3879999999999999,10.546666666666669,10.546666666666669,10.546666666666669,10.546666666666669,3.3826666666666689,3.3826666666666689,3.3826666666666689,3.3826666666666689,3.3826666666666689,3.3826666666666689,3.3826666666666689,3.3826666666666689,0,0,0,0,3.3826666666666689,0,10418.903637710453,10517.911250167204,1690.0738115179881,1690.0738115179881,null,null,null,null,-3.3500000000000005,1,1,1.0376492194674014,1.0376492194674014,1.0376492194674014,1.0376492194674014,0.88225863507893343,0.88225863507893343,0.96386671099925125,null,null,10.546666666666669,10.546666666666669,10.546666666666669,10.546666666666669,null,-7.6000000000000014,null,-7.2000000000000028,-7.2999999999999972,-7.7999999999999972,-5.7000000000000028,-10.200000000000003,-7.1000000000000014,{"$f":"SUM(BB670:BB689)/30","v":-2.6733333333333333},0,-2.0766666666666671,-2.296666666666666,-3.0400000000000005,-3.0433333333333326,-2.99,-3.7399999999999989,null,null,"2017-11-01",26.7,0,3.3000000000000007]
["2017-02-04",0.39999999999999858,0.39999999999999858,0.39999999999999858,0.39999999999999858,24.866666666666667,4.3479999999999999,4.3479999999999999,4.3479999999999999,4.3479999999999999,6.8133333333333344,6.8133333333333344,6.8133333333333344,6.8133333333333344,1.5670039865072067,1.5670039865072067,1.5670039865072067,1.5670039865072067,1.5670039865072067,1.5670039865072067,1.5670039865072067,1.5670039865072067,0,0,0,0,1.5670039865072067,0,10669.335913993356,10768.343526450108,1690.0738115179881,1690.0738115179881,null,null,null,null,-2.4357142857142859,1,1,0.52233466216906888,0.52233466216906888,0.52233466216906888,0.52233466216906888,0.59586412024886148,0.59586412024886148,0.51599322811796111,null,null,6.8133333333333344,6.8133333333333344,6.8133333333333344,6.8133333333333344,null,0.39999999999999858,null,1.3999999999999986,1.1999999999999993,0.39999999999999858,0.60000000000000142,2,-0.80000000000000071,{"$f":"SUM(BB675:BB694)/30","v":-1.6966666666666663},0,-1.0533333333333339,-1.4600000000000004,-1.9033333333333331,-2.3466666666666667,-2.2733333333333334,-3.1566666666666663,null,null,"2017-11-06",22.5,0,7.5]
["2017-02-08",-3.2999999999999972,-3.2999999999999972,-3.2999999999999972,-3.2999999999999972,26.099999999999998,3.9040000000000004,3.9040000000000004,3.9040000000000004,3.9040000000000004,8.5399999999999974,8.5399999999999974,8.5399999999999974,8.5399999999999974,2.1874999999999991,2.1874999999999991,2.1874999999999991,2.1874999999999991,2.1874999999999991,2.1874999999999991,2.1874999999999991,2.1874999999999991,0,0,0,0,2.1874999999999991,0,10832.259694856419,10931.26730731317,1690.0738115179881,1690.0738115179881,null,null,null,null,-0.7928571428571427,1,1,0.72916666666666641,0.72916666666666641,0.72916666666666641,0.72916666666666641,0.5949694844506983,0.5949694844506983,0.7045978373984797,null,null,8.5399999999999974,8.5399999999999974,8.5399999999999974,8.5399999999999974,null,-3.2999999999999972,null,-2.7000000000000028,-3.3999999999999986,-3.3999999999999986,-3.5,-4.2999999999999972,-8.1000000000000014,{"$f":"SUM(BB679:BB698)/30","v":-0.98333333333333306},0,-0.56000000000000028,-1.0300000000000002,-1.0266666666666666,-1.34,-1.56,-2.0800000000000005,null,null,"2017-11-10",22.4,0,7.6000000000000014]
["2017-02-16",1.6000000000000014,1.6000000000000014,1.6000000000000014,1.6000000000000014,24.466666666666669,4.492,4.492,4.492,4.492,6.2533333333333321,6.2533333333333321,6.2533333333333321,6.2533333333333321,1.3921044820421486,1.3921044820421486,1.3921044820421486,1.3921044820421486,1.3921044820421486,1.3921044820421486,1.3921044820421486,1.3921044820421486,0,0,0,0,1.3921044820421486,0,11162.865887584456,11261.873500041207,1690.0738115179881,1690.0738115179881,null,null,null,null,3.0571428571428569,1,1,0.46403482734738288,0.46403482734738288,0.46403482734738288,0.46403482734738288,0.46893786746234678,0.46893786746234678,0.45147889473171815,null,null,6.2533333333333321,6.2533333333333321,6.2533333333333321,6.2533333333333321,null,1.6000000000000014,null,-1.6999999999999993,0.5,3.5,2.3999999999999986,-3.2000000000000028,-0.69999999999999929,{"$f":"SUM(BB687:BB706)/30","v":1.4133333333333336},0,1.7666666666666666,0.70000000000000029,1.2333333333333334,0.38999999999999996,-0.15333333333333338,-0.7033333333333337,null,null,"2017-11-18",25,0,5]
["2017-02-17",4,4,4,4,23.666666666666668,4.7799999999999994,4.7799999999999994,4.7799999999999994,4.7799999999999994,5.1333333333333337,5.1333333333333337,5.1333333333333337,5.1333333333333337,1.073919107391911,1.073919107391911,1.073919107391911,1.073919107391911,1.073919107391911,1.073919107391911,1.073919107391911,1.073919107391911,0,0,0,0,1.073919107391911,0,11188.639946161862,11287.647558618613,1690.0738115179881,1690.0738115179881,null,null,null,null,3.4928571428571433,1,1,0.35797303579730366,0.35797303579730366,0.35797303579730366,0.35797303579730366,0.42810454816479221,0.42810454816479221,0.39057214644373267,null,null,5.1333333333333337,5.1333333333333337,5.1333333333333337,5.1333333333333337,null,4,null,0.19999999999999929,-1.1000000000000014,3.6999999999999993,2.6000000000000014,-2.2999999999999972,-1.1000000000000014,{"$f":"SUM(BB688:BB707)/30","v":1.5666666666666669},0,1.84,0.76333333333333353,1.3933333333333333,0.48666666666666669,-0.18333333333333332,-0.58000000000000007,null,null,"2017-11-19",27.5,0,2.5]
["2017-02-25",2.6999999999999993,2.6999999999999993,2.6999999999999993,2.6999999999999993,24.1,4.6239999999999997,4.6239999999999997,4.6239999999999997,4.6239999999999997,5.74,5.74,5.74,5.74,1.2413494809688583,1.2413494809688583,1.2413494809688583,1.2413494809688583,1.2413494809688583,1.2413494809688583,1.2413494809688583,1.2413494809688583,0,0,0,0,1.2413494809688583,0,11356.542344316673,11455.549956773424,1690.0738115179881,1690.0738115179881,null,null,null,null,6.1642857142857128,1,1,0.41378316032295276,0.41378316032295276,0.41378316032295276,0.41378316032295276,0.27263586460072764,0.27263586460072764,0.34833094778859319,null,null,5.74,5.74,5.74,5.74,null,2.6999999999999993,null,3.8000000000000007,2.3000000000000007,2,1.1000000000000014,2.3999999999999986,-0.80000000000000071,{"$f":"SUM(BB696:BB715)/30","v":3.6733333333333338},0,4.1866666666666665,3.123333333333334,3.4733333333333332,2.4099999999999993,2.1833333333333331,1.9733333333333336,null,null,"2017-11-27",28.1,0,1.8999999999999986]
["2017-02-28",5.8999999999999986,5.8999999999999986,5.8999999999999986,5.8999999999999986,23.033333333333335,5.0079999999999991,5.0079999999999991,5.0079999999999991,5.0079999999999991,4.246666666666667,4.246666666666667,4.246666666666667,4.246666666666667,0.84797657082002154,0.84797657082002154,0.84797657082002154,0.84797657082002154,0.84797657082002154,0.84797657082002154,0.84797657082002154,0.84797657082002154,0,0,0,0,0.84797657082002154,0,11416.575298560894,11515.582911017646,1690.0738115179881,1690.0738115179881,null,null,null,null,6.2571428571428571,1,1,0.2826588569400072,0.2826588569400072,0.2826588569400072,0.2826588569400072,0.29651703580801053,0.29651703580801053,0.28052677221971428,null,null,4.246666666666667,4.246666666666667,4.246666666666667,4.246666666666667,null,5.8999999999999986,null,7.8000000000000007,7,5.3999999999999986,3.5,8.8999999999999986,7,{"$f":"SUM(BB699:BB718)/30","v":3.9699999999999998},0,4.9066666666666663,3.6833333333333345,3.6666666666666656,2.5166666666666662,3.0066666666666673,2.13,null,null,"2017-11-30",28.7,0,1.3000000000000007]
["2017-03-06",5.1999999999999993,5.1999999999999993,5.1999999999999993,5.1999999999999993,23.266666666666666,4.9240000000000004,4.9240000000000004,4.9240000000000004,4.9240000000000004,4.5733333333333341,4.5733333333333341,4.5733333333333341,4.5733333333333341,0.92878418629840243,0.92878418629840243,0.92878418629840243,0.92878418629840243,0.92878418629840243,0.92878418629840243,0.92878418629840243,0.92878418629840243,0,0,0,0,0.92878418629840243,0,11527.590721263517,11626.598333720269,1690.0738115179881,1690.0738115179881,null,null,null,null,5.4428571428571422,1,1,0.30959472876613414,0.30959472876613414,0.30959472876613414,0.30959472876613414,0.28272793528138562,0.28272793528138562,0.28643295562914156,null,null,4.5733333333333341,4.5733333333333341,4.5733333333333341,4.5733333333333341,null,5.1999999999999993,null,7.1000000000000014,5.8999999999999986,4.8000000000000007,2.8999999999999986,6.8000000000000007,3.5,{"$f":"SUM(BB705:BB724)/30","v":3.6600000000000006},0,4.8900000000000006,4.083333333333333,3.3866666666666654,2.2833333333333332,3.6466666666666669,1.99,null,null,"2017-12-06",30.4,0,{"$f":"30-BU715","v":-0.39999999999999858}]
["2017-03-14",6,6,6,6,23,5.0199999999999996,5.0199999999999996,5.0199999999999996,5.0199999999999996,4.2,4.2,4.2,4.2,0.83665338645418341,0.83665338645418341,0.83665338645418341,0.83665338645418341,0.83665338645418341,0.83665338645418341,0.83665338645418341,0.83665338645418341,0,0,0,0,0.83665338645418341,0,11721.934841058781,11820.942453515532,1690.0738115179881,1690.0738115179881,null,null,null,null,6.6357142857142861,1,1,0.27888446215139445,0.27888446215139445,0.27888446215139445,0.27888446215139445,0.28991944252124963,0.28991944252124963,0.29403713657849001,null,null,4.2,4.2,4.2,4.2,null,6,null,7.3000000000000007,5.8000000000000007,5.8000000000000007,5.5,5.3000000000000007,1.6000000000000014,{"$f":"SUM(BB713:BB732)/30","v":4.2600000000000007},0,5.75,4.9899999999999993,3.9533333333333331,2.8499999999999996,4.4966666666666661,2.4,null,null,"2017-12-14",29.8,0,0.19999999999999929]
["2017-03-18",7,7,7,7,22.666666666666668,5.14,5.14,5.14,5.14,3.7333333333333334,3.7333333333333334,3.7333333333333334,3.7333333333333334,0.72632944228274976,0.72632944228274976,0.72632944228274976,0.72632944228274976,0.72632944228274976,0.72632944228274976,0.72632944228274976,0.72632944228274976,0,0,0,0,0.72632944228274976,0,11783.356970684377,11882.364583141129,1690.0738115179881,1690.0738115179881,null,null,null,null,6.8000000000000016,1,1,0.24210981409424992,0.24210981409424992,0.24210981409424992,0.24210981409424992,0.18845439487075169,0.18845439487075169,0.22356495455824096,null,null,3.7333333333333334,3.7333333333333334,3.7333333333333334,3.7333333333333334,null,7,null,9.6999999999999993,7.8000000000000007,6.3999999999999986,4.5,6.1000000000000014,3.6000000000000014,{"$f":"SUM(BB717:BB736)/30","v":4.3499999999999996},0,5.5666666666666664,4.96,4.0533333333333337,3.1033333333333326,4.5,2.186666666666667,null,null,"2017-12-18",29.6,0,0.39999999999999858]
["2017-03-23",4.6999999999999993,4.6999999999999993,4.6999999999999993,4.6999999999999993,23.433333333333334,4.8639999999999999,4.8639999999999999,4.8639999999999999,4.8639999999999999,4.8066666666666675,4.8066666666666675,4.8066666666666675,4.8066666666666675,0.98821271929824583,0.98821271929824583,0.98821271929824583,0.98821271929824583,0.98821271929824583,0.98821271929824583,0.98821271929824583,0.98821271929824583,0,0,0,0,0.98821271929824583,0,11863.775350862164,11962.782963318916,1690.0738115179881,1690.0738115179881,null,null,null,null,8.5,1,1,0.32940423976608196,0.32940423976608196,0.32940423976608196,0.32940423976608196,0.22672015164593648,0.22672015164593648,0.29172843028876072,null,null,4.8066666666666675,4.8066666666666675,4.8066666666666675,4.8066666666666675,null,4.6999999999999993,null,6.8999999999999986,7.5,4.6000000000000014,4.3000000000000007,11.8,8,{"$f":"SUM(BB722:BB741)/30","v":5.7333333333333343},0,6.8600000000000012,6.2733333333333325,5.51,4.5900000000000007,5.5566666666666675,3.723333333333334,null,null,"2017-12-23",31.4,0,-1.3999999999999986]
["2017-03-31",13.7,13.7,13.7,13.7,20.433333333333334,5.944,5.944,5.944,5.944,0.60666666666666702,0.60666666666666702,0.60666666666666702,0.60666666666666702,0.10206370569762231,0.10206370569762231,0.10206370569762231,0.10206370569762231,0.10206370569762231,0.10206370569762231,0.10206370569762231,0.10206370569762231,0,0,0,0,0.10206370569762231,0,11951.604108018115,12050.611720474866,1690.0738115179881,1690.0738115179881,null,null,null,null,10.221428571428572,1,1,3.4021235232540768E-2,3.4021235232540768E-2,3.4021235232540768E-2,3.4021235232540768E-2,5.5932308840202408E-2,5.5932308840202408E-2,3.4198389560928411E-2,null,null,0.60666666666666702,0.60666666666666702,0.60666666666666702,0.60666666666666702,null,13.7,null,14.1,13.7,14,12.5,10.3,8.3000000000000007,{"$f":"SUM(BB730:BB749)/30","v":6.4833333333333334},0,7.5733333333333341,7.3633333333333333,6.2733333333333343,5.1866666666666665,7.0633333333333326,4.9399999999999995,null,null,"2017-12-31",29.4,0,0.60000000000000142]
["2017-04-04",8.5,8.5,8.5,8.5,22.166666666666668,5.32,5.32,5.32,5.32,3.0333333333333332,3.0333333333333332,3.0333333333333332,3.0333333333333332,0.57017543859649122,0.57017543859649122,0.57017543859649122,0.57017543859649122,0.57017543859649122,0.57017543859649122,0.57017543859649122,0.57017543859649122,0,0,0,0,0.57017543859649122,0,11975.412091819499,12074.41970427625,1690.0738115179881,1690.0738115179881,null,null,null,null,11.257142857142856,1,1,0.19005847953216373,0.19005847953216373,0.19005847953216373,0.19005847953216373,0.13802321744287865,0.13802321744287865,0.15951066685089432,null,null,3.0333333333333332,3.0333333333333332,3.0333333333333332,3.0333333333333332,null,8.5,null,13,12.8,7.8000000000000007,4.8999999999999986,15.8,9.8000000000000007,{"$f":"SUM(BB734:BB753)/30","v":6.9266666666666659},0,7.8866666666666676,7.64,6.6800000000000015,5.5966666666666667,6.8933333333333335,5.0099999999999989,null,null,"2018-01-04",28.2,5,1.8000000000000007]
["2017-04-09",12.600000000000001,12.600000000000001,12.600000000000001,12.600000000000001,20.8,5.8119999999999994,5.8119999999999994,5.8119999999999994,5.8119999999999994,1.1199999999999994,1.1199999999999994,1.1199999999999994,1.1199999999999994,0.19270474879559524,0.19270474879559524,0.19270474879559524,0.19270474879559524,0.19270474879559524,0.19270474879559524,0.19270474879559524,0.19270474879559524,0,0,0,0,0.19270474879559524,0,12033.548405398602,12132.556017855353,1690.0738115179881,1690.0738115179881,null,null,null,null,9.6428571428571441,1,1,6.4234916265198408E-2,6.4234916265198408E-2,6.4234916265198408E-2,6.4234916265198408E-2,0.14342007695673517,0.14342007695673517,6.247867315011147E-2,null,null,1.1199999999999994,1.1199999999999994,1.1199999999999994,1.1199999999999994,null,12.600000000000001,null,11.5,12.3,12.600000000000001,11.3,11.100000000000001,7.8999999999999986,{"$f":"SUM(BB739:BB758)/30","v":6.6066666666666665},0,7.7799999999999994,7.3566666666666674,6.2766666666666664,5.1433333333333326,6.629999999999999,4.6100000000000003,null,null,"2018-01-09",25.8,0,4.1999999999999993]
["2017-04-11",7.8999999999999986,7.8999999999999986,7.8999999999999986,7.8999999999999986,22.366666666666667,5.2479999999999993,5.2479999999999993,5.2479999999999993,5.2479999999999993,3.3133333333333339,3.3133333333333339,3.3133333333333339,3.3133333333333339,0.63135162601626038,0.63135162601626038,0.63135162601626038,0.63135162601626038,0.63135162601626038,0.63135162601626038,0.63135162601626038,0.63135162601626038,0,0,0,0,0.63135162601626038,0,12049.81564203414,12148.823254490891,1690.0738115179881,1690.0738115179881,null,null,null,null,8.7999999999999989,1,1,0.21045054200542013,0.21045054200542013,0.21045054200542013,0.21045054200542013,0.124714133418154,0.124714133418154,0.12773502799677286,null,null,3.3133333333333339,3.3133333333333339,3.3133333333333339,3.3133333333333339,null,7.8999999999999986,null,11.399999999999999,10.199999999999999,7.1000000000000014,5.8999999999999986,8.5,6.1999999999999993,{"$f":"SUM(BB741:BB760)/30","v":5.89},0,6.9666666666666659,6.5933333333333337,5.4933333333333332,4.34,6.1199999999999992,4.0066666666666668,null,null,"2018-01-11",25.2,0,4.8000000000000007]
["2017-04-21",6.1999999999999993,6.1999999999999993,6.1999999999999993,6.1999999999999993,22.933333333333334,5.0440000000000005,5.0440000000000005,5.0440000000000005,5.0440000000000005,4.1066666666666674,4.1066666666666674,4.1066666666666674,4.1066666666666674,0.81416864922019572,0.81416864922019572,0.81416864922019572,0.81416864922019572,0.81416864922019572,0.81416864922019572,0.81416864922019572,0.81416864922019572,0,0,0,0,0.81416864922019572,0,12242.670948785017,12341.678561241768,1690.0738115179881,1690.0738115179881,null,null,null,null,6.0071428571428571,1,1,0.27138954974006524,0.27138954974006524,0.27138954974006524,0.27138954974006524,0.31324241921939755,0.31324241921939755,0.29354671542094418,null,null,4.1066666666666674,4.1066666666666674,4.1066666666666674,4.1066666666666674,null,6.1999999999999993,null,6.5,5.1999999999999993,5.6000000000000014,3.8000000000000007,5.5,0.89999999999999858,{"$f":"SUM(BB751:BB770)/30","v":4.5466666666666669},0,5.71,4.9133333333333349,4.0999999999999996,2.9833333333333334,5.4933333333333332,3.3366666666666664,null,null,"2018-01-21",30.1,0,-0.10000000000000142]
["2017-04-26",4.3999999999999986,4.3999999999999986,4.3999999999999986,4.3999999999999986,23.533333333333335,4.8279999999999994,4.8279999999999994,4.8279999999999994,4.8279999999999994,4.9466666666666681,4.9466666666666681,4.9466666666666681,4.9466666666666681,1.0245788456227565,1.0245788456227565,1.0245788456227565,1.0245788456227565,1.0245788456227565,1.0245788456227565,1.0245788456227565,1.0245788456227565,0,0,0,0,1.0245788456227565,0,12327.361146497,12426.368758953751,1690.0738115179881,1690.0738115179881,null,null,null,null,7.5357142857142856,1,1,0.34152628187425216,0.34152628187425216,0.34152628187425216,0.34152628187425216,0.25725643634319589,0.25725643634319589,0.25164616627935948,null,null,4.9466666666666681,4.9466666666666681,4.9466666666666681,4.9466666666666681,null,4.3999999999999986,null,11,8.1000000000000014,4,1.6999999999999993,14.8,11.399999999999999,{"$f":"SUM(BB756:BB775)/30","v":4.78},0,5.7799999999999985,5.3199999999999994,4.3966666666666665,3.1166666666666667,6.546666666666666,4.0666666666666664,null,null,"2018-01-26",31.1,0,-1.1000000000000014]
["2017-05-02",10.899999999999999,10.899999999999999,10.899999999999999,10.899999999999999,21.366666666666667,5.6079999999999997,5.6079999999999997,5.6079999999999997,5.6079999999999997,1.913333333333334,1.913333333333334,1.913333333333334,1.913333333333334,0.34117926771279139,0.34117926771279139,0.34117926771279139,0.34117926771279139,0.34117926771279139,0.34117926771279139,0.34117926771279139,0.34117926771279139,0,0,0,0,0.34117926771279139,0,12417.696733302391,12516.704345759143,1690.0738115179881,1690.0738115179881,null,null,null,null,9.1,1,1,0.11372642257093046,0.11372642257093046,0.11372642257093046,0.11372642257093046,0.14485670863026545,0.14485670863026545,0.11486385773133197,null,null,1.913333333333334,1.913333333333334,1.913333333333334,1.913333333333334,null,10.899999999999999,null,11.600000000000001,11.5,10.3,6.1999999999999993,16.100000000000001,10.8,{"$f":"SUM(BB762:BB781)/30","v":5.97},0,7.1466666666666656,6.706666666666667,5.6266666666666669,4.3766666666666669,7.8166666666666664,5.53,null,null,"2018-02-01",26.8,0,3.1999999999999993]
["2017-05-03",11.399999999999999,11.399999999999999,11.399999999999999,11.399999999999999,21.2,5.6679999999999993,5.6679999999999993,5.6679999999999993,5.6679999999999993,1.6800000000000006,1.6800000000000006,1.6800000000000006,1.6800000000000006,0.29640084685956258,0.29640084685956258,0.29640084685956258,0.29640084685956258,0.29640084685956258,0.29640084685956258,0.29640084685956258,0.29640084685956258,0,0,0,0,0.29640084685956258,0,12424.810353627021,12523.817966083772,1690.0738115179881,1690.0738115179881,null,null,null,null,9.3071428571428587,1,1,9.8800282286520866E-2,9.8800282286520866E-2,9.8800282286520866E-2,9.8800282286520866E-2,0.11682298039346686,0.11682298039346686,0.10279320000204036,null,null,1.6800000000000006,1.6800000000000006,1.6800000000000006,1.6800000000000006,null,11.399999999999999,null,9.6999999999999993,11.600000000000001,11,8.8999999999999986,16.399999999999999,11.100000000000001,{"$f":"SUM(BB763:BB782)/30","v":6.2133333333333338},0,7.3966666666666665,6.9800000000000013,5.8766666666666669,4.6066666666666665,8.08,5.7800000000000011,null,null,"2018-02-02",26.5,0,3.5]
["2017-05-08",10.5,10.5,10.5,10.5,21.5,5.5600000000000005,5.5600000000000005,5.5600000000000005,5.5600000000000005,2.1,2.1,2.1,2.1,0.37769784172661869,0.37769784172661869,0.37769784172661869,0.37769784172661869,0.37769784172661869,0.37769784172661869,0.37769784172661869,0.37769784172661869,0,0,0,0,0.37769784172661869,0,12459.348805940816,12558.356418397567,1690.0738115179881,1690.0738115179881,null,null,null,null,11.857142857142856,1,1,0.12589928057553956,0.12589928057553956,0.12589928057553956,0.12589928057553956,0.13988935517093964,0.13988935517093964,0.15585910411486456,null,null,2.1,2.1,2.1,2.1,null,10.5,null,14.5,12.899999999999999,9.8000000000000007,8.5,13,9.6000000000000014,{"$f":"SUM(BB768:BB787)/30","v":7.7133333333333329},0,8.7133333333333347,8.413333333333334,7.3933333333333335,6.2399999999999993,9.0399999999999991,6.5366666666666662,null,null,"2018-02-07",29.8,0,0.19999999999999929]
["2017-05-13",15.5,15.5,15.5,15.5,19.833333333333332,6.16,6.16,6.16,6.16,-0.23333333333333334,-0.23333333333333334,-0.23333333333333334,-0.23333333333333334,-3.787878787878788E-2,-3.787878787878788E-2,-3.787878787878788E-2,-3.787878787878788E-2,0,0,0,0,3.787878787878788E-2,3.787878787878788E-2,3.787878787878788E-2,3.787878787878788E-2,0,3.787878787878788E-2,12502.215997083878,12601.22360954063,1690.9829024270791,1690.9829024270791,null,null,null,null,14.071428571428571,1,1,-1.2626262626262626E-2,-1.2626262626262626E-2,-1.2626262626262626E-2,-1.2626262626262626E-2,3.5224924929008798E-2,3.5224924929008798E-2,-1.643524070964698E-3,null,null,0,0,0,0,null,15.5,null,16.899999999999999,16.2,14.5,12.899999999999999,15.1,11.600000000000001,{"$f":"SUM(BB773:BB792)/30","v":9.1166666666666654},0,10.046666666666665,9.8800000000000008,8.7733333333333334,7.6433333333333326,10.176666666666666,7.7833333333333332,null,null,"2018-02-12",29.3,0,0.69999999999999929]
["2017-05-20",14.7,14.7,14.7,14.7,20.100000000000001,6.0640000000000001,6.0640000000000001,6.0640000000000001,6.0640000000000001,0.14000000000000032,0.14000000000000032,0.14000000000000032,0.14000000000000032,2.3087071240105592E-2,2.3087071240105592E-2,2.3087071240105592E-2,2.3087071240105592E-2,2.3087071240105592E-2,2.3087071240105592E-2,2.3087071240105592E-2,2.3087071240105592E-2,0,0,0,0,2.3087071240105592E-2,0,12503.324176503402,12602.331788960153,1713.4870672185257,1713.4870672185257,null,null,null,null,0,0,0,7.6956904133685311E-3,7.6956904133685311E-3,7.6956904133685311E-3,7.6956904133685311E-3,-4.9076403167653104E-2,-4.9076403167653104E-2,-4.211919523791377E-2,null,null,0.14000000000000032,0.14000000000000032,0.14000000000000032,0.14000000000000032,null,14.7,null,14.8,14.9,13.8,11.600000000000001,20.100000000000001,16.8,{"$f":"SUM(BB780:BB799)/30","v":10.723333333333333},0,11.266666666666669,10.993333333333334,10.336666666666668,9.2433333333333341,10.719999999999999,8.3800000000000008,null,null,"2018-02-19",30.2,0,-0.19999999999999929]
["2017-05-26",16.600000000000001,16.600000000000001,16.600000000000001,16.600000000000001,19.466666666666665,6.2919999999999998,6.2919999999999998,6.2919999999999998,6.2919999999999998,-0.74666666666666737,-0.74666666666666737,-0.74666666666666737,-0.74666666666666737,-0.1186692095783006,-0.1186692095783006,-0.1186692095783006,-0.1186692095783006,0,0,0,0,0.1186692095783006,0.1186692095783006,0.1186692095783006,0.1186692095783006,0,0.1186692095783006,12505.931312555589,12604.93892501234,1722.7038105079778,1722.7038105079778,null,null,null,null,0,0,0,-3.9556403192766869E-2,-3.9556403192766869E-2,-3.9556403192766869E-2,-3.9556403192766869E-2,-5.8986767281430416E-2,-5.8986767281430416E-2,-3.3365660076608065E-2,null,null,0,0,0,0,null,16.600000000000001,null,16.8,16.8,15.4,14.2,15.8,11.600000000000001,{"$f":"SUM(BB786:BB805)/30","v":11.963333333333335},0,12.570000000000002,12.419999999999998,11.530000000000001,10.44,12.176666666666666,9.7166666666666686,null,null,"2018-02-25",39.5,0,-9.5]
["2017-05-30",22.6,22.6,22.6,22.6,17.466666666666665,7.0120000000000005,7.0120000000000005,7.0120000000000005,7.0120000000000005,-3.5466666666666673,-3.5466666666666673,-3.5466666666666673,-3.5466666666666673,-0.50579958166951899,-0.50579958166951899,-0.50579958166951899,-0.50579958166951899,0,0,0,0,0.50579958166951899,0.50579958166951899,0.50579958166951899,0.50579958166951899,0,0.50579958166951899,12505.931312555589,12604.93892501234,1759.9564062001953,1759.9564062001953,null,null,null,null,0,0,0,-0.16859986055650633,-0.16859986055650633,-0.16859986055650633,-0.16859986055650633,-0.11439148684146064,-0.11439148684146064,-0.14825656947280597,null,null,0,0,0,0,null,22.6,null,23.1,23.1,22.2,20.6,20.5,18.7,{"$f":"SUM(BB790:BB809)/30","v":11.666666666666663},0,12.493333333333336,12.419999999999996,11.166666666666666,9.9433333333333334,12.37,9.956666666666667,null,null,"2018-03-01",39.799999999999997,0,-9.7999999999999972]
["2017-06-06",17.5,17.5,17.5,17.5,19.166666666666668,6.3999999999999995,6.3999999999999995,6.3999999999999995,6.3999999999999995,-1.1666666666666667,-1.1666666666666667,-1.1666666666666667,-1.1666666666666667,-0.18229166666666669,-0.18229166666666669,-0.18229166666666669,-0.18229166666666669,0,0,0,0,0.18229166666666669,0.18229166666666669,0.18229166666666669,0.18229166666666669,0,0.18229166666666669,12505.931312555589,12604.93892501234,1800.6640578979013,1800.6640578979013,null,null,null,null,0,0,0,-6.0763888888888895E-2,-6.0763888888888895E-2,-6.0763888888888895E-2,-6.0763888888888895E-2,-5.6001022130393985E-2,-5.6001022130393985E-2,-2.2278945563398378E-2,null,null,0,0,0,0,null,17.5,null,21.1,21.6,16.899999999999999,14.3,18.600000000000001,17.100000000000001,{"$f":"SUM(BB797:BB816)/30","v":12.566666666666666},0,13.523333333333335,13.243333333333334,12.14666666666667,10.926666666666669,12.723333333333331,10.313333333333334,null,null,"2018-03-08",26.5,0,3.5]
["2017-06-12",22.4,22.4,22.4,22.4,17.533333333333335,6.9879999999999995,6.9879999999999995,6.9879999999999995,6.9879999999999995,-3.4533333333333327,-3.4533333333333327,-3.4533333333333327,-3.4533333333333327,-0.49418049990459828,-0.49418049990459828,-0.49418049990459828,-0.49418049990459828,0,0,0,0,0.49418049990459828,0.49418049990459828,0.49418049990459828,0.49418049990459828,0,0.49418049990459828,12507.995655719127,12607.003268175878,1836.0864885643914,1836.0864885643914,null,null,null,null,0,0,0,-0.16472683330153276,-0.16472683330153276,-0.16472683330153276,-0.16472683330153276,-0.10127354288177025,-0.10127354288177025,-0.110894484933662,null,null,0,0,0,0,null,22.4,null,22.7,22.3,21.6,19.600000000000001,20,17.399999999999999,{"$f":"SUM(BB803:BB822)/30","v":12.600000000000001},0,13.6,13.196666666666667,12.146666666666667,10.979999999999997,12.863333333333335,10.326666666666666,null,null,"2018-03-14",21.7,0,8.3000000000000007]
["2017-06-16",18.600000000000001,18.600000000000001,18.600000000000001,18.600000000000001,18.8,6.532,6.532,6.532,6.532,-1.6800000000000006,-1.6800000000000006,-1.6800000000000006,-1.6800000000000006,-0.25719534598897742,-0.25719534598897742,-0.25719534598897742,-0.25719534598897742,0,0,0,0,0.25719534598897742,0.25719534598897742,0.25719534598897742,0.25719534598897742,0,0.25719534598897742,12507.995655719127,12607.003268175878,1859.5023231542552,1859.5023231542552,null,null,null,null,0,0,0,-8.5731781996325807E-2,-8.5731781996325807E-2,-8.5731781996325807E-2,-8.5731781996325807E-2,-8.3333246493746821E-2,-8.3333246493746821E-2,-7.7013159240306175E-2,null,null,0,0,0,0,null,18.600000000000001,null,20.9,18.7,18,16.8,16.8,14.4,{"$f":"SUM(BB807:BB826)/30","v":13.05},0,14.193333333333333,13.563333333333333,12.556666666666667,11.373333333333335,13.1,10.803333333333333,null,null,"2018-03-18",36.299999999999997,0,-6.2999999999999972]
["2017-06-23",20.6,20.6,20.6,20.6,18.133333333333333,6.7720000000000002,6.7720000000000002,6.7720000000000002,6.7720000000000002,-2.6133333333333342,-2.6133333333333342,-2.6133333333333342,-2.6133333333333342,-0.38590273675920467,-0.38590273675920467,-0.38590273675920467,-0.38590273675920467,0,0,0,0,0.38590273675920467,0.38590273675920467,0.38590273675920467,0.38590273675920467,0,0.38590273675920467,12507.995655719127,12607.003268175878,1925.9132107438249,1925.9132107438249,null,null,null,null,0,0,0,-0.12863424558640155,-0.12863424558640155,-0.12863424558640155,-0.12863424558640155,-0.15954876341332175,-0.15954876341332175,-0.15269597072982238,null,null,0,0,0,0,null,20.6,null,24.7,22.1,20,18.100000000000001,20.9,19.100000000000001,{"$f":"SUM(BB814:BB833)/30","v":13.173333333333336},0,14.883333333333333,14.229999999999997,12.609999999999998,11.486666666666666,13.710000000000003,11.573333333333331,null,null,"2018-03-25",26.5,0,3.5]
["2017-06-29",17.399999999999999,17.399999999999999,17.399999999999999,17.399999999999999,19.2,6.3879999999999999,6.3879999999999999,6.3879999999999999,6.3879999999999999,-1.1199999999999994,-1.1199999999999994,-1.1199999999999994,-1.1199999999999994,-0.17532874139010637,-0.17532874139010637,-0.17532874139010637,-0.17532874139010637,0,0,0,0,0.17532874139010637,0.17532874139010637,0.17532874139010637,0.17532874139010637,0,0.17532874139010637,12507.995655719127,12607.003268175878,1976.581690172605,1976.581690172605,null,null,null,null,0,0,0,-5.8442913796702127E-2,-5.8442913796702127E-2,-5.8442913796702127E-2,-5.8442913796702127E-2,-8.8942913030709017E-2,-8.8942913030709017E-2,-8.5220722565920393E-2,null,null,0,0,0,0,null,17.399999999999999,null,21.3,22.4,16.399999999999999,14.5,22,18.399999999999999,{"$f":"SUM(BB820:BB839)/30","v":13.613333333333335},0,15.489999999999998,14.77,13.056666666666665,11.966666666666667,13.780000000000001,11.780000000000001,null,null,"2018-03-31",20.3,0,9.6999999999999993]
["2017-07-03",18,18,18,18,19,6.46,6.46,6.46,6.46,-1.4,-1.4,-1.4,-1.4,-0.21671826625386995,-0.21671826625386995,-0.21671826625386995,-0.21671826625386995,0,0,0,0,0.21671826625386995,0.21671826625386995,0.21671826625386995,0.21671826625386995,0,0.21671826625386995,12507.995655719127,12607.003268175878,1998.527488115124,1998.527488115124,null,null,null,null,0,0,0,-7.223942208462332E-2,-7.223942208462332E-2,-7.223942208462332E-2,-7.223942208462332E-2,-8.9886188373198589E-2,-8.9886188373198589E-2,-7.9724323381415788E-2,null,null,0,0,0,0,null,18,null,20.7,19.7,17.2,16,18.5,14,{"$f":"SUM(BB824:BB843)/30","v":13.466666666666667},0,15.386666666666663,14.67,12.883333333333331,11.616666666666667,13.653333333333334,11.723333333333334,null,null,"2018-04-04",18.100000000000001,0,11.899999999999999]
["2017-07-06",20.3,20.3,20.3,20.3,18.233333333333334,6.7359999999999989,6.7359999999999989,6.7359999999999989,6.7359999999999989,-2.473333333333334,-2.473333333333334,-2.473333333333334,-2.473333333333334,-0.36718131433095819,-0.36718131433095819,-0.36718131433095819,-0.36718131433095819,0,0,0,0,0.36718131433095819,0.36718131433095819,0.36718131433095819,0.36718131433095819,0,0.36718131433095819,12507.995655719127,12607.003268175878,2021.8843291126971,2021.8843291126971,null,null,null,null,0,0,0,-0.12239377144365272,-0.12239377144365272,-0.12239377144365272,-0.12239377144365272,-0.12834761990738422,-0.12834761990738422,-0.13037920230772163,null,null,0,0,0,0,null,20.3,null,23.2,21.8,20,19.8,18.8,15.6,{"$f":"SUM(BB827:BB846)/30","v":12.796666666666669},0,14.739999999999998,14.080000000000002,12.283333333333333,11.04,13.213333333333333,11.073333333333332,null,null,"2018-04-07",18.100000000000001,0,11.899999999999999]
["2017-07-11",20.2,20.2,20.2,20.2,18.266666666666666,6.7240000000000002,6.7240000000000002,6.7240000000000002,6.7240000000000002,-2.4266666666666663,-2.4266666666666663,-2.4266666666666663,-2.4266666666666663,-0.36089629188974809,-0.36089629188974809,-0.36089629188974809,-0.36089629188974809,0,0,0,0,0.36089629188974809,0.36089629188974809,0.36089629188974809,0.36089629188974809,0,0.36089629188974809,12507.995655719127,12607.003268175878,2080.9781260720906,2080.9781260720906,null,null,null,null,0,0,0,-0.12029876396324936,-0.12029876396324936,-0.12029876396324936,-0.12029876396324936,-0.10972899547680341,-0.10972899547680341,-0.13856803394080516,null,null,0,0,0,0,null,20.2,null,23.5,22.2,19,16.899999999999999,22.6,19.100000000000001,{"$f":"SUM(BB832:BB851)/30","v":13.123333333333333},0,14.536666666666665,13.923333333333334,12.669999999999998,11.42,12.989999999999998,10.689999999999998,null,null,"2018-04-12",12.5,0,17.5]
["2017-07-20",22.8,22.8,22.8,22.8,17.399999999999999,7.0359999999999996,7.0359999999999996,7.0359999999999996,7.0359999999999996,-3.6400000000000006,-3.6400000000000006,-3.6400000000000006,-3.6400000000000006,-0.51733939738487789,-0.51733939738487789,-0.51733939738487789,-0.51733939738487789,0,0,0,0,0.51733939738487789,0.51733939738487789,0.51733939738487789,0.51733939738487789,0,0.51733939738487789,12509.856657754637,12608.864270211388,2137.2221499638349,2137.2221499638349,null,null,null,null,0,0,0,-0.17244646579495929,-0.17244646579495929,-0.17244646579495929,-0.17244646579495929,-0.15418578860324209,-0.15418578860324209,-0.17429288912871002,null,null,0,0,0,0,null,22.8,null,23.6,24.2,21.8,20,24.4,20.7,{"$f":"SUM(BB841:BB860)/30","v":12.860000000000001},0,14.13,13.59333333333333,12.430000000000001,10.859999999999996,13.609999999999998,11.08,null,null,"2018-04-21",14.9,0,15.1]
["2017-07-23",20.7,20.7,20.7,20.7,18.100000000000001,6.7839999999999998,6.7839999999999998,6.7839999999999998,6.7839999999999998,-2.6599999999999993,-2.6599999999999993,-2.6599999999999993,-2.6599999999999993,-0.39209905660377348,-0.39209905660377348,-0.39209905660377348,-0.39209905660377348,0,0,0,0,0.39209905660377348,0.39209905660377348,0.39209905660377348,0.39209905660377348,0,0.39209905660377348,12509.856657754637,12608.864270211388,2170.7707636480545,2170.7707636480545,null,null,null,null,0,0,0,-0.13069968553459116,-0.13069968553459116,-0.13069968553459116,-0.13069968553459116,-0.10776791038756725,-0.10776791038756725,-0.11833361315744666,null,null,0,0,0,0,null,20.7,null,23.4,22.6,19.600000000000001,17.3,22.9,19.2,{"$f":"SUM(BB844:BB863)/30","v":13.213333333333333},0,14.356666666666666,13.92333333333333,12.813333333333334,11.350000000000001,13.886666666666667,11.366666666666667,null,null,"2018-04-24",13.7,0,16.3]
["2017-07-28",19.3,19.3,19.3,19.3,18.566666666666666,6.6159999999999997,6.6159999999999997,6.6159999999999997,6.6159999999999997,-2.0066666666666668,-2.0066666666666668,-2.0066666666666668,-2.0066666666666668,-0.3033051189036679,-0.3033051189036679,-0.3033051189036679,-0.3033051189036679,0,0,0,0,0.3033051189036679,0.3033051189036679,0.3033051189036679,0.3033051189036679,0,0.3033051189036679,12509.856657754637,12608.864270211388,2190.4405046802372,2190.4405046802372,null,null,null,null,0,0,0,-0.10110170630122263,-0.10110170630122263,-0.10110170630122263,-0.10110170630122263,-0.10708306103810473,-0.10708306103810473,-9.7341210117605895E-2,null,null,0,0,0,0,null,19.3,null,21.6,20.399999999999999,18.2,16.399999999999999,18.399999999999999,16.3,{"$f":"SUM(BB849:BB868)/30","v":14.263333333333334},0,15.453333333333335,15.080000000000002,13.770000000000001,12.216666666666665,15.253333333333336,12.859999999999998,null,null,"2018-04-29",11.5,0,18.5]
["2017-08-06",19,19,19,19,18.666666666666668,6.5799999999999992,6.5799999999999992,6.5799999999999992,6.5799999999999992,-1.8666666666666667,-1.8666666666666667,-1.8666666666666667,-1.8666666666666667,-0.28368794326241137,-0.28368794326241137,-0.28368794326241137,-0.28368794326241137,0,0,0,0,0.28368794326241137,0.28368794326241137,0.28368794326241137,0.28368794326241137,0,0.28368794326241137,12509.856657754637,12608.864270211388,2306.4317156754196,2306.4317156754196,null,null,null,null,0,0,0,-9.4562647754137127E-2,-9.4562647754137127E-2,-9.4562647754137127E-2,-9.4562647754137127E-2,-0.13883160125641228,-0.13883160125641228,-0.11988685779823315,null,null,0,0,0,0,null,19,null,20.399999999999999,20.8,18.3,16.2,24.3,18.5,{"$f":"SUM(BB858:BB877)/30","v":13.896666666666668},0,15.226666666666665,15.019999999999998,13.393333333333334,11.916666666666664,15.17,12.833333333333332,null,null,"2018-05-08",13.6,0,16.399999999999999]
["2017-08-09",20.8,20.8,20.8,20.8,18.066666666666666,6.7959999999999994,6.7959999999999994,6.7959999999999994,6.7959999999999994,-2.7066666666666674,-2.7066666666666674,-2.7066666666666674,-2.7066666666666674,-0.39827349421228186,-0.39827349421228186,-0.39827349421228186,-0.39827349421228186,0,0,0,0,0.39827349421228186,0.39827349421228186,0.39827349421228186,0.39827349421228186,0,0.39827349421228186,12509.856657754637,12608.864270211388,2329.894265707565,2329.894265707565,null,null,null,null,0,0,0,-0.13275783140409395,-0.13275783140409395,-0.13275783140409395,-0.13275783140409395,-9.2808435548890844E-2,-9.2808435548890844E-2,-0.13317603914594225,null,null,0,0,0,0,null,20.8,null,24.7,24.9,20.5,18.399999999999999,23.7,20.9,{"$f":"SUM(BB861:BB880)/30","v":14.036666666666667},0,15.559999999999999,15.416666666666663,13.616666666666669,12.183333333333334,15.563333333333336,13.146666666666665,null,null,"2018-05-11",9.5,0,20.5]
["2017-08-14",17.899999999999999,17.899999999999999,17.899999999999999,17.899999999999999,19.033333333333335,6.4479999999999986,6.4479999999999986,6.4479999999999986,6.4479999999999986,-1.3533333333333326,-1.3533333333333326,-1.3533333333333326,-1.3533333333333326,-0.20988420181968562,-0.20988420181968562,-0.20988420181968562,-0.20988420181968562,0,0,0,0,0.20988420181968562,0.20988420181968562,0.20988420181968562,0.20988420181968562,0,0.20988420181968562,12509.856657754637,12608.864270211388,2357.6085657011704,2357.6085657011704,null,null,null,null,0,0,0,-6.9961400606561877E-2,-6.9961400606561877E-2,-6.9961400606561877E-2,-6.9961400606561877E-2,-7.9395971033672796E-2,-7.9395971033672796E-2,-9.7515192506599568E-2,null,null,0,0,0,0,null,17.899999999999999,null,21.2,20.6,17.5,15.9,20.7,15.4,{"$f":"SUM(BB866:BB885)/30","v":12.633333333333333},0,14.263333333333332,13.969999999999999,12.23666666666667,10.76,14.353333333333333,11.7,null,null,"2018-05-16",17.8,0,12.2]
["2017-08-21",15.7,{"$f":"$B883+C$9","v":15.7},15.7,15.7,19.766666666666666,6.1840000000000002,6.1840000000000002,6.1840000000000002,6.1840000000000002,-0.32666666666666633,-0.32666666666666633,-0.32666666666666633,-0.32666666666666633,-5.2824493316084464E-2,-5.2824493316084464E-2,-5.2824493316084464E-2,-5.2824493316084464E-2,0,0,0,0,5.2824493316084464E-2,5.2824493316084464E-2,5.2824493316084464E-2,5.2824493316084464E-2,0,5.2824493316084464E-2,12509.856657754637,12608.864270211388,2404.5195318109104,2404.5195318109104,null,null,null,null,0,0,0,-1.7608164438694823E-2,-1.7608164438694823E-2,-1.7608164438694823E-2,-1.7608164438694823E-2,-5.6424573662985686E-2,-5.6424573662985686E-2,-1.6425190979034769E-2,null,null,0,0,0,0,null,15.7,null,18.100000000000001,16.7,14.8,12.3,16.100000000000001,11,{"$f":"SUM(BB873:BB892)/30","v":12.376666666666663},0,13.943333333333332,13.613333333333332,12.083333333333336,10.703333333333335,13.553333333333335,10.806666666666665,null,null,"2018-05-23",10,0,20]
["2017-08-26",21.4,21.4,21.4,21.4,17.866666666666667,6.8679999999999994,6.8679999999999994,6.8679999999999994,6.8679999999999994,-2.9866666666666659,-2.9866666666666659,-2.9866666666666659,-2.9866666666666659,-0.43486701611337597,-0.43486701611337597,-0.43486701611337597,-0.43486701611337597,0,0,0,0,0.43486701611337597,0.43486701611337597,0.43486701611337597,0.43486701611337597,0,0.43486701611337597,12511.52406122916,12610.531673685911,2430.8684321892315,2430.8684321892315,null,null,null,null,0,0,0,-0.144955672037792,-0.144955672037792,-0.144955672037792,-0.144955672037792,-9.2567128317799882E-2,-9.2567128317799882E-2,-0.13681410418036818,null,null,0,0,0,0,null,21.4,null,24,24.4,20.8,19.3,23.1,18.7,{"$f":"SUM(BB878:BB897)/30","v":11.816666666666665},0,13.516666666666667,13.090000000000002,11.606666666666664,10.053333333333333,12.846666666666666,10.283333333333331,null,null,"2018-05-28",8.3000000000000007,0,21.7]
["2017-08-31",20.100000000000001,20.100000000000001,20.100000000000001,20.100000000000001,18.3,6.7119999999999997,6.7119999999999997,6.7119999999999997,6.7119999999999997,-2.3800000000000008,-2.3800000000000008,-2.3800000000000008,-2.3800000000000008,-0.35458879618593575,-0.35458879618593575,-0.35458879618593575,-0.35458879618593575,0,0,0,0,0.35458879618593575,0.35458879618593575,0.35458879618593575,0.35458879618593575,0,0.35458879618593575,12511.52406122916,12610.531673685911,2470.3168758765228,2470.3168758765228,null,null,null,null,0,0,0,-0.11819626539531192,-0.11819626539531192,-0.11819626539531192,-0.11819626539531192,-3.9496720713846585E-2,-3.9496720713846585E-2,-6.9384495695058265E-2,null,null,0,0,0,0,null,20.100000000000001,null,23.7,24,20.399999999999999,17,20.2,16.7,{"$f":"SUM(BB883:BB902)/30","v":11.196666666666665},0,12.860000000000001,12.253333333333334,10.953333333333331,9.2833333333333314,11.699999999999998,9.4499999999999993,null,null,"2018-06-02",8.8000000000000007,0,21.2]
["2017-09-07",14.7,14.7,14.7,14.7,20.100000000000001,6.0640000000000001,6.0640000000000001,6.0640000000000001,6.0640000000000001,0.14000000000000032,0.14000000000000032,0.14000000000000032,0.14000000000000032,2.3087071240105592E-2,2.3087071240105592E-2,2.3087071240105592E-2,2.3087071240105592E-2,2.3087071240105592E-2,2.3087071240105592E-2,2.3087071240105592E-2,2.3087071240105592E-2,0,0,0,0,2.3087071240105592E-2,0,12524.216403889161,12623.224016345912,2475.1084347325577,2475.1084347325577,null,null,null,null,14.364285714285712,1,0,7.6956904133685311E-3,7.6956904133685311E-3,7.6956904133685311E-3,7.6956904133685311E-3,-2.2685832846031785E-3,-2.2685832846031785E-3,-9.4161271293792415E-3,null,null,0.14000000000000032,0.14000000000000032,0.14000000000000032,0.14000000000000032,null,14.7,null,18.2,15.7,13.399999999999999,10.8,16.399999999999999,12.899999999999999,{"$f":"SUM(BB890:BB909)/30","v":10.053333333333331},0,11.713333333333335,11.13,9.7433333333333341,8.0200000000000014,11.496666666666666,9.2333333333333325,null,null,"2018-06-09",6.1,0,23.9]
["2017-09-12",13.7,13.7,13.7,13.7,20.433333333333334,5.944,5.944,5.944,5.944,0.60666666666666702,0.60666666666666702,0.60666666666666702,0.60666666666666702,0.10206370569762231,0.10206370569762231,0.10206370569762231,0.10206370569762231,0.10206370569762231,0.10206370569762231,0.10206370569762231,0.10206370569762231,0,0,0,0,0.10206370569762231,0,12530.017063137466,12629.024675594217,2477.2609011002705,2477.2609011002705,null,null,null,null,13.22142857142857,1,1,3.4021235232540768E-2,3.4021235232540768E-2,3.4021235232540768E-2,3.4021235232540768E-2,2.512024406364128E-2,2.512024406364128E-2,2.1693803875739239E-2,null,null,0.60666666666666702,0.60666666666666702,0.60666666666666702,0.60666666666666702,null,13.7,null,15.1,14.1,12.5,10.100000000000001,17.5,12.7,{"$f":"SUM(BB895:BB914)/30","v":8.7999999999999989},0,10.226666666666665,9.6133333333333333,8.4033333333333342,6.6533333333333333,10.516666666666669,8.2766666666666655,null,null,"2018-06-14",12.8,0,17.2]
["2017-09-13",14.1,14.1,14.1,14.1,20.3,5.992,5.992,5.992,5.992,0.42000000000000015,0.42000000000000015,0.42000000000000015,0.42000000000000015,7.0093457943925255E-2,7.0093457943925255E-2,7.0093457943925255E-2,7.0093457943925255E-2,7.0093457943925255E-2,7.0093457943925255E-2,7.0093457943925255E-2,7.0093457943925255E-2,0,0,0,0,7.0093457943925255E-2,0,12531.699306128119,12630.70691858487,2477.2609011002705,2477.2609011002705,null,null,null,null,12.821428571428569,1,1,2.3364485981308417E-2,2.3364485981308417E-2,2.3364485981308417E-2,2.3364485981308417E-2,4.8700689642833465E-2,4.8700689642833465E-2,3.7748424779141414E-2,null,null,0.42000000000000015,0.42000000000000015,0.42000000000000015,0.42000000000000015,null,14.1,null,17.3,14.3,13.600000000000001,11.5,15.2,12.600000000000001,{"$f":"SUM(BB896:BB915)/30","v":8.7799999999999976},0,10.166666666666664,9.5533333333333346,8.3966666666666665,6.6500000000000012,10.35,8.1133333333333333,null,null,"2018-06-15",10,0,20]
["2017-09-18",9.8999999999999986,9.8999999999999986,9.8999999999999986,9.8999999999999986,21.7,5.4879999999999995,5.4879999999999995,5.4879999999999995,5.4879999999999995,2.3800000000000008,2.3800000000000008,2.3800000000000008,2.3800000000000008,0.43367346938775531,0.43367346938775531,0.43367346938775531,0.43367346938775531,0.43367346938775531,0.43367346938775531,0.43367346938775531,0.43367346938775531,0,0,0,0,0.43367346938775531,0,12568.909154179411,12667.916766636163,2477.2609011002705,2477.2609011002705,null,null,null,null,11.72142857142857,1,1,0.14455782312925178,0.14455782312925178,0.14455782312925178,0.14455782312925178,0.11479089909795992,0.11479089909795992,0.1384103755402156,null,null,2.3800000000000008,2.3800000000000008,2.3800000000000008,2.3800000000000008,null,9.8999999999999986,null,12.399999999999999,10.8,9.3000000000000007,6.6999999999999993,13.899999999999999,10.5,{"$f":"SUM(BB901:BB920)/30","v":8.3766666666666669},0,9.6199999999999992,9.1133333333333333,8.086666666666666,6.5633333333333352,10.146666666666667,7.78,null,null,"2018-06-20",6.1,0,23.9]
["2017-09-24",11.2,11.2,11.2,11.2,21.266666666666666,5.6440000000000001,5.6440000000000001,5.6440000000000001,5.6440000000000001,1.7733333333333337,1.7733333333333337,1.7733333333333337,1.7733333333333337,0.31419796834396413,0.31419796834396413,0.31419796834396413,0.31419796834396413,0.31419796834396413,0.31419796834396413,0.31419796834396413,0.31419796834396413,0,0,0,0,0.31419796834396413,0,12614.182849355069,12713.190461811821,2477.2609011002705,2477.2609011002705,null,null,null,null,12.057142857142859,1,1,0.10473265611465471,0.10473265611465471,0.10473265611465471,0.10473265611465471,7.2072527520275459E-2,7.2072527520275459E-2,9.7267992207764165E-2,null,null,1.7733333333333337,1.7733333333333337,1.7733333333333337,1.7733333333333337,null,11.2,null,12.8,12.600000000000001,11,9.3999999999999986,12.5,10.5,{"$f":"SUM(BB907:BB926)/30","v":7.9966666666666679},0,8.8300000000000018,8.3766666666666652,7.7766666666666673,6.38,8.6933333333333334,6.370000000000001,null,null,"2018-06-26",13.8,0,16.2]
["2017-09-30",11.8,11.8,11.8,11.8,21.066666666666666,5.7159999999999993,5.7159999999999993,5.7159999999999993,5.7159999999999993,1.493333333333333,1.493333333333333,1.493333333333333,1.493333333333333,0.26125495684627942,0.26125495684627942,0.26125495684627942,0.26125495684627942,0.26125495684627942,0.26125495684627942,0.26125495684627942,0.26125495684627942,0,0,0,0,0.26125495684627942,0,12632.096330571872,12731.103943028624,2477.2609011002705,2477.2609011002705,null,null,null,null,12.249999999999996,1,1,8.7084985615426477E-2,8.7084985615426477E-2,8.7084985615426477E-2,8.7084985615426477E-2,5.5810837008071511E-2,5.5810837008071511E-2,7.9174592669096822E-2,null,null,1.493333333333333,1.493333333333333,1.493333333333333,1.493333333333333,null,11.8,null,12.899999999999999,12.100000000000001,12.100000000000001,10.7,10.3,6.3000000000000007,{"$f":"SUM(BB913:BB932)/30","v":7.8733333333333322},0,8.6599999999999984,7.8933333333333326,7.62,6.3766666666666669,7.7666666666666666,5.5366666666666662,null,null,"2018-07-02",14.9,0,15.1]
["2017-10-05",12.2,12.2,12.2,12.2,20.933333333333334,5.7640000000000002,5.7640000000000002,5.7640000000000002,5.7640000000000002,1.3066666666666671,1.3066666666666671,1.3066666666666671,1.3066666666666671,0.22669442516770769,0.22669442516770769,0.22669442516770769,0.22669442516770769,0.22669442516770769,0.22669442516770769,0.22669442516770769,0.22669442516770769,0,0,0,0,0.22669442516770769,0,12662.679280373639,12761.68689283039,2477.2609011002705,2477.2609011002705,null,null,null,null,11.478571428571428,1,1,7.5564808389235891E-2,7.5564808389235891E-2,7.5564808389235891E-2,7.5564808389235891E-2,0.10370040158408758,0.10370040158408758,0.10024262871451035,null,null,1.3066666666666671,1.3066666666666671,1.3066666666666671,1.3066666666666671,null,12.2,null,17.399999999999999,13.7,11.899999999999999,9.3999999999999986,12.8,9.8999999999999986,{"$f":"SUM(BB918:BB937)/30","v":8.086666666666666},0,9.0500000000000007,7.92,7.8200000000000021,6.6133333333333324,7.4766666666666657,5.6566666666666672,null,null,"2018-07-07",8.8000000000000007,0,21.2]
["2017-10-11",13.5,13.5,13.5,13.5,20.5,5.92,5.92,5.92,5.92,0.7,0.7,0.7,0.7,0.11824324324324324,0.11824324324324324,0.11824324324324324,0.11824324324324324,0.11824324324324324,0.11824324324324324,0.11824324324324324,0.11824324324324324,0,0,0,0,0.11824324324324324,0,12718.206800761947,12817.214413218699,2477.2609011002705,2477.2609011002705,null,null,null,null,11.957142857142856,1,1,3.9414414414414414E-2,3.9414414414414414E-2,3.9414414414414414E-2,3.9414414414414414E-2,9.0667099632497736E-2,9.0667099632497736E-2,6.8832501519677805E-2,null,null,0.7,0.7,0.7,0.7,null,13.5,null,15.7,13.100000000000001,13.100000000000001,11.399999999999999,12,9.8999999999999986,{"$f":"SUM(BB924:BB943)/30","v":7.8466666666666676},0,8.7466666666666661,7.6866666666666665,7.6233333333333331,6.5699999999999985,7.4166666666666661,5.9766666666666657,null,null,"2018-07-13",10,0,20]
["2017-10-17",14,14,14,14,20.333333333333332,5.98,5.98,5.98,5.98,0.46666666666666667,0.46666666666666667,0.46666666666666667,0.46666666666666667,7.8037904124860641E-2,7.8037904124860641E-2,7.8037904124860641E-2,7.8037904124860641E-2,7.8037904124860641E-2,7.8037904124860641E-2,7.8037904124860641E-2,7.8037904124860641E-2,0,0,0,0,7.8037904124860641E-2,0,12732.77169998197,12831.779312438721,2477.2609011002705,2477.2609011002705,null,null,null,null,11.971428571428573,1,1,2.601263470828688E-2,2.601263470828688E-2,2.601263470828688E-2,2.601263470828688E-2,7.1953447101341467E-2,7.1953447101341467E-2,5.905796598417299E-2,null,null,0.46666666666666667,0.46666666666666667,0.46666666666666667,0.46666666666666667,null,14,null,12.899999999999999,12.7,14.5,12.7,13.2,9.6999999999999993,{"$f":"SUM(BB930:BB949)/30","v":7.7633333333333328},0,8.3433333333333337,7.5466666666666669,7.5799999999999974,6.629999999999999,7.0366666666666662,5.6500000000000012,null,null,"2018-07-19",8,0,22]
["2017-10-22",10.5,10.5,10.5,10.5,21.5,5.5600000000000005,5.5600000000000005,5.5600000000000005,5.5600000000000005,2.1,2.1,2.1,2.1,0.37769784172661869,0.37769784172661869,0.37769784172661869,0.37769784172661869,0.37769784172661869,0.37769784172661869,0.37769784172661869,0.37769784172661869,0,0,0,0,0.37769784172661869,0,12778.14505432771,12877.152666784461,2477.2609011002705,2477.2609011002705,null,null,null,null,10.835714285714285,1,1,0.12589928057553956,0.12589928057553956,0.12589928057553956,0.12589928057553956,0.12071927222735093,0.12071927222735093,0.13569970527464476,null,null,2.1,2.1,2.1,2.1,null,10.5,null,10.5,11.3,10.199999999999999,8.1999999999999993,8.8999999999999986,6,{"$f":"SUM(BB935:BB954)/30","v":7.2266666666666675},0,7.7700000000000005,6.9866666666666672,7.0266666666666664,6.0866666666666678,6.47,4.9400000000000004,null,null,"2018-07-24",6,0,24]
["2017-10-29",6.6999999999999993,6.6999999999999993,6.6999999999999993,6.6999999999999993,22.766666666666666,5.1040000000000001,5.1040000000000001,5.1040000000000001,5.1040000000000001,3.873333333333334,3.873333333333334,3.873333333333334,3.873333333333334,0.75888192267502619,0.75888192267502619,0.75888192267502619,0.75888192267502619,0.75888192267502619,0.75888192267502619,0.75888192267502619,0.75888192267502619,0,0,0,0,0.75888192267502619,0,12849.472392269865,12948.480004726616,2477.2609011002705,2477.2609011002705,null,null,null,null,8.2857142857142865,1,1,0.25296064089167541,0.25296064089167541,0.25296064089167541,0.25296064089167541,0.20925182900846678,0.20925182900846678,0.25349314596138545,null,null,3.873333333333334,3.873333333333334,3.873333333333334,3.873333333333334,null,6.6999999999999993,null,9.5,6.8999999999999986,6.1000000000000014,4.5,5.8999999999999986,1.6000000000000014,{"$f":"SUM(BB942:BB961)/30","v":5.7033333333333331},0,6.4633333333333329,5.84,5.4466666666666672,4.5166666666666657,5.1033333333333326,3.6033333333333331,null,null,"2018-07-31",5,0,25]
["2017-11-03",7,7,7,7,22.666666666666668,5.14,5.14,5.14,5.14,3.7333333333333334,3.7333333333333334,3.7333333333333334,3.7333333333333334,0.72632944228274976,0.72632944228274976,0.72632944228274976,0.72632944228274976,0.72632944228274976,0.72632944228274976,0.72632944228274976,0.72632944228274976,0,0,0,0,0.72632944228274976,0,12937.789029667078,13036.796642123829,2477.2609011002705,2477.2609011002705,null,null,null,null,6.5857142857142845,1,1,0.24210981409424992,0.24210981409424992,0.24210981409424992,0.24210981409424992,0.25713617485543555,0.25713617485543555,0.24159479733071013,null,null,3.7333333333333334,3.7333333333333334,3.7333333333333334,3.7333333333333334,null,7,null,9.8999999999999986,7.8000000000000007,7,5.5,8.1000000000000014,5.6000000000000014,{"$f":"SUM(BB947:BB966)/30","v":4.9133333333333322},0,6.0199999999999987,5.0166666666666666,4.543333333333333,3.58,{"$f":"SUM(BH947:BH966)/30","v":4.4566666666666661},2.873333333333334,null,null,"2018-08-05",6.8,0,23.2]
["2017-11-08",5.1000000000000014,5.1000000000000014,5.1000000000000014,5.1000000000000014,23.3,4.9119999999999999,4.9119999999999999,4.9119999999999999,4.9119999999999999,4.6199999999999992,4.6199999999999992,4.6199999999999992,4.6199999999999992,0.94055374592833862,0.94055374592833862,0.94055374592833862,0.94055374592833862,0.94055374592833862,0.94055374592833862,0.94055374592833862,0.94055374592833862,0,0,0,0,0.94055374592833862,0,13042.975498004816,13141.983110461568,2477.2609011002705,2477.2609011002705,null,null,null,null,5.5428571428571445,1,1,0.31351791530944623,0.31351791530944623,0.31351791530944623,0.31351791530944623,0.27613345807759748,0.27613345807759748,0.27074646928451734,null,null,4.6199999999999992,4.6199999999999992,4.6199999999999992,4.6199999999999992,null,5.1000000000000014,null,7.8999999999999986,5.6999999999999993,5.3000000000000007,4.3000000000000007,6.6999999999999993,2.5,{"$f":"SUM(BB952:BB971)/30","v":3.6633333333333344},0,4.6899999999999995,3.8233333333333337,3.2866666666666675,2.3100000000000005,3.7866666666666671,1.9133333333333336,null,null,"2018-08-10",4.5999999999999996,0,25.4]
["2017-11-15",4.3999999999999986,4.3999999999999986,4.3999999999999986,4.3999999999999986,23.533333333333335,4.8279999999999994,4.8279999999999994,4.8279999999999994,4.8279999999999994,4.9466666666666681,4.9466666666666681,4.9466666666666681,4.9466666666666681,1.0245788456227565,1.0245788456227565,1.0245788456227565,1.0245788456227565,1.0245788456227565,1.0245788456227565,1.0245788456227565,1.0245788456227565,0,0,0,0,1.0245788456227565,0,13210.580613635286,13309.588226092037,2477.2609011002705,2477.2609011002705,null,null,null,null,4.5642857142857149,1,1,0.34152628187425216,0.34152628187425216,0.34152628187425216,0.34152628187425216,0.38046832940042591,0.38046832940042591,0.37233531360451694,null,null,4.9466666666666681,4.9466666666666681,4.9466666666666681,4.9466666666666681,null,4.3999999999999986,null,2,1.6000000000000014,3.8999999999999986,1.6999999999999993,2,-1.1999999999999993,{"$f":"SUM(BB959:BB978)/30","v":3.2633333333333336},0,4.0666666666666664,3.3100000000000005,3,1.99,3.1866666666666674,1.2333333333333329,null,null,"2018-08-17",7.7,0,22.3]
["2017-11-20",3.5,3.5,3.5,3.5,23.833333333333332,4.72,4.72,4.72,4.72,5.3666666666666663,5.3666666666666663,5.3666666666666663,5.3666666666666663,1.1370056497175141,1.1370056497175141,1.1370056497175141,1.1370056497175141,1.1370056497175141,1.1370056497175141,1.1370056497175141,1.1370056497175141,0,0,0,0,1.1370056497175141,0,13344.90929933442,13443.916911791172,2477.2609011002705,2477.2609011002705,null,null,null,null,4.2714285714285714,1,1,0.37900188323917133,0.37900188323917133,0.37900188323917133,0.37900188323917133,0.33930636472145709,0.33930636472145709,0.34487926156231397,null,null,5.3666666666666663,5.3666666666666663,5.3666666666666663,5.3666666666666663,null,3.5,null,5.3999999999999986,3.6999999999999993,2.8000000000000007,0.80000000000000071,0.10000000000000142,-0.30000000000000071,{"$f":"SUM(BB964:BB983)/30","v":2.8533333333333331},2.333333333333331E-2,3.2066666666666674,2.4666666666666668,2.5966666666666667,1.5,2.3200000000000007,0.17000000000000018,null,null,"2018-08-22",6.7,0,23.3]
["2017-11-25",5.5,5.5,5.5,5.5,23.166666666666668,4.96,4.96,4.96,4.96,4.4333333333333336,4.4333333333333336,4.4333333333333336,4.4333333333333336,0.89381720430107536,0.89381720430107536,0.89381720430107536,0.89381720430107536,0.89381720430107536,0.89381720430107536,0.89381720430107536,0.89381720430107536,0,0,0,0,0.89381720430107536,0,13448.72606815761,13547.733680614361,2477.2609011002705,2477.2609011002705,null,null,null,null,3.5071428571428567,1,1,0.29793906810035847,0.29793906810035847,0.29793906810035847,0.29793906810035847,0.32820475300518298,0.32820475300518298,0.33120858263435349,null,null,4.4333333333333336,4.4333333333333336,4.4333333333333336,4.4333333333333336,null,5.5,null,6.1999999999999993,5.6000000000000014,6.3000000000000007,4.8000000000000007,4.8999999999999986,2.1999999999999993,{"$f":"SUM(BB969:BB988)/30","v":2.1433333333333326},-0.11666666666666678,2.1033333333333331,1.4733333333333332,1.9766666666666668,0.78666666666666685,1.41,-0.8966666666666665,null,null,"2018-08-27",13.6,0,16.399999999999999]
["2017-11-27",3.1000000000000014,3.1000000000000014,3.1000000000000014,3.1000000000000014,23.966666666666665,4.6720000000000006,4.6720000000000006,4.6720000000000006,4.6720000000000006,5.5533333333333319,5.5533333333333319,5.5533333333333319,5.5533333333333319,1.1886415525114151,1.1886415525114151,1.1886415525114151,1.1886415525114151,1.1886415525114151,1.1886415525114151,1.1886415525114151,1.1886415525114151,0,0,0,0,1.1886415525114151,0,13508.3373815018,13607.344993958552,2477.2609011002705,2477.2609011002705,null,null,null,null,2.9785714285714282,1,1,0.39621385083713839,0.39621385083713839,0.39621385083713839,0.39621385083713839,0.37436068188446425,0.37436068188446425,0.38577971577475906,null,null,5.5533333333333319,5.5533333333333319,5.5533333333333319,5.5533333333333319,null,3.1000000000000014,null,2.6999999999999993,0.80000000000000071,2.3000000000000007,0.69999999999999929,1.8999999999999986,-5,{"$f":"SUM(BB971:BB990)/30","v":2.1366666666666663},9.3333333333333116E-2,2.2999999999999994,1.5866666666666664,1.9233333333333333,0.69000000000000017,1.1700000000000002,-0.83,null,null,"2018-08-29",9.6999999999999993,0,20.3]
["2017-12-02",-0.89999999999999858,-0.89999999999999858,-0.89999999999999858,-0.89999999999999858,25.3,4.1920000000000002,4.1920000000000002,4.1920000000000002,4.1920000000000002,7.419999999999999,7.419999999999999,7.419999999999999,7.419999999999999,1.770038167938931,1.770038167938931,1.770038167938931,1.770038167938931,1.770038167938931,1.770038167938931,1.770038167938931,1.770038167938931,0,0,0,0,1.770038167938931,0,13679.992070356217,13778.999682812968,2477.2609011002705,2477.2609011002705,null,null,null,null,2.0571428571428574,1,1,0.59001272264631033,0.59001272264631033,0.59001272264631033,0.59001272264631033,0.50029572170610093,0.50029572170610093,0.57756081564855488,null,null,7.419999999999999,7.419999999999999,7.419999999999999,7.419999999999999,null,-0.89999999999999858,-3.1000000000000014,-3.2000000000000028,-3.2000000000000028,-1.1999999999999993,-4.2999999999999972,0.60000000000000142,-7.7000000000000028,{"$f":"SUM(BB976:BB995)/30","v":1.8766666666666665},0.44999999999999979,1.7866666666666666,1.1966666666666668,1.6966666666666663,0.32000000000000017,0.7733333333333331,-1.2199999999999998,null,null,"2018-09-03",7.7,0,22.3]
["2017-12-10",-0.5,-0.5,-0.5,-0.5,25.166666666666668,4.24,4.24,4.24,4.24,7.2333333333333334,7.2333333333333334,7.2333333333333334,7.2333333333333334,1.7059748427672956,1.7059748427672956,1.7059748427672956,1.7059748427672956,1.7059748427672956,1.7059748427672956,1.7059748427672956,1.7059748427672956,0,0,0,0,1.7059748427672956,0,13940.457689927613,14039.465302384364,2477.2609011002705,2477.2609011002705,null,null,null,null,2.5642857142857145,1,1,0.56865828092243187,0.56865828092243187,0.56865828092243187,0.56865828092243187,0.42714866262666989,0.42714866262666989,0.47783053977948686,null,null,7.2333333333333334,7.2333333333333334,7.2333333333333334,7.2333333333333334,null,-0.5,0.10000000000000142,0.80000000000000071,-0.39999999999999858,-0.80000000000000071,-3.3999999999999986,-1.8000000000000007,-4.7999999999999972,{"$f":"SUM(BB984:BB1003)/30","v":1.0166666666666668},0.71999999999999964,1.4033333333333331,0.5966666666666669,0.64666666666666672,-0.72666666666666657,0.51,-1.5333333333333334,null,null,"2018-09-11",11.5,0,18.5]
["2017-12-14",3.6999999999999993,3.6999999999999993,3.6999999999999993,3.6999999999999993,23.766666666666666,4.7439999999999998,4.7439999999999998,4.7439999999999998,4.7439999999999998,5.2733333333333343,5.2733333333333343,5.2733333333333343,5.2733333333333343,1.1115795390668917,1.1115795390668917,1.1115795390668917,1.1115795390668917,1.1115795390668917,1.1115795390668917,1.1115795390668917,1.1115795390668917,0,0,0,0,1.1115795390668917,0,14051.34338289171,14150.350995348461,2477.2609011002705,2477.2609011002705,null,null,null,null,1.6428571428571428,1,1,0.37052651302229722,0.37052651302229722,0.37052651302229722,0.37052651302229722,0.41207506248322184,0.41207506248322184,0.41499896562453292,null,null,5.2733333333333343,5.2733333333333343,5.2733333333333343,5.2733333333333343,null,3.6999999999999993,2.8000000000000007,3.5,2.1000000000000014,3.1999999999999993,1.1999999999999993,0.19999999999999929,-0.10000000000000142,{"$f":"SUM(BB988:BB1007)/30","v":1.5233333333333334},1.1133333333333331,2.1233333333333331,1.1333333333333335,1.1100000000000001,-6.0000000000000026E-2,0.15,-1.2133333333333336,null,null,"2018-09-15",10.8,0,19.2]
["2017-12-19",{"$f":"BB1003+A$7","v":-1.8999999999999986},-1.8999999999999986,-1.8999999999999986,-1.8999999999999986,{"$f":"F$8+(H$7-F$8)*(M$6-B1003)/30","v":25.633333333333333},{"$f":"IF((B1003+35-$F1003)*$H$5+$H$6>1,(B1003+35-$F1003)*$H$5+$H$6,1)","v":4.0720000000000001},{"$f":"IF((C1003+35-$F1003)*$H$5+$H$6>1,(C1003+35-$F1003)*$H$5+$H$6,1)","v":4.0720000000000001},{"$f":"IF((D1003+35-$F1003)*$H$5+$H$6>1,(D1003+35-$F1003)*$H$5+$H$6,1)","v":4.0720000000000001},{"$f":"IF((E1003+35-$F1003)*$H$5+$H$6>1,(E1003+35-$F1003)*$H$5+$H$6,1)","v":4.0720000000000001},{"$f":"$M$5*($M$6-B1003)/30-$O$5","v":7.8866666666666658},{"$f":"$M$5*($M$6-C1003)/30-$O$5","v":7.8866666666666658},{"$f":"$M$5*($M$6-D1003)/30-$O$5","v":7.8866666666666658},{"$f":"$M$5*($M$6-E1003)/30-$O$5","v":7.8866666666666658},{"$f":"IF(K1003/G1003>$M$7,$M$7+K1003-$M$7*G1003,K1003/G1003)","v":1.9368041912246232},{"$f":"IF(L1003/H1003>$M$7,$M$7+L1003-$M$7*H1003,L1003/H1003)","v":1.9368041912246232},{"$f":"IF(M1003/I1003>$M$7,$M$7+M1003-$M$7*I1003,M1003/I1003)","v":1.9368041912246232},{"$f":"IF(N1003/J1003>$M$7,$M$7+N1003-$M$7*J1003,N1003/J1003)","v":1.9368041912246232},{"$f":"IF(O1003>0,O1003,)","v":1.9368041912246232},{"$f":"IF(P1003>0,P1003,)","v":1.9368041912246232},{"$f":"IF(Q1003>0,Q1003,)","v":1.9368041912246232},{"$f":"IF(R1003>0,R1003,)","v":1.9368041912246232},{"$f":"IF(O1003<0,-O1003,0)","v":0},{"$f":"IF(P1003<0,-P1003,0)","v":0},{"$f":"IF(Q1003<0,-Q1003,0)","v":0},{"$f":"IF(R1003<0,-R1003,0)","v":0},{"$f":"IF(SUM(O1003:R1003)/4>0,SUM(O1003:R1003)/4,)","v":1.9368041912246232},{"$f":"IF(SUM(O1003:R1003)/4<0,-SUM(O1003:R1003)/4,)","v":0},{"$f":"6*SUM(S1003:V1003)+AC1002","v":14244.485976938126},{"$f":"AD1002+AA1003*24","v":14343.493589394877},{"$f":"6*SUM(W1003:Z1003)+AE1002","v":2477.2609011002705},{"$f":"AF1002+AB1003*24","v":2477.2609011002705},null,null,null,null,{"$f":"IF(SUM(B997:B1010)/14<$C$7,SUM(B997:B1010)/14,0)","v":2.1714285714285713},{"$f":"IF(SUM(B997:B1010)/14<$C$7,1,0)","v":1},{"$f":"IF(SUM(AN1000:AQ1006)>0,1,0)","v":1},{"$f":"K1003/G1003/$M$7","v":0.64560139707487441},{"$f":"L1003/H1003/$M$7","v":0.64560139707487441},{"$f":"M1003/I1003/$M$7","v":0.64560139707487441},{"$f":"N1003/J1003/$M$7","v":0.64560139707487441},{"$f":"SUM(AO1000:AO1006)/7","v":0.50016906545846351},{"$f":"SUM(AQ1000:AQ1006)/7","v":0.50016906545846351},{"$f":"SUM(AN1002:AQ1004)/12","v":0.61188993909181633},null,null,{"$f":"IF(K1003>0,K1003,0)","v":7.8866666666666658},{"$f":"IF(L1003>0,L1003,0)","v":7.8866666666666658},{"$f":"IF(M1003>0,M1003,0)","v":7.8866666666666658},{"$f":"IF(N1003>0,N1003,0)","v":7.8866666666666658},null,-1.8999999999999986,-4.6000000000000014,-1.1999999999999993,-3.3999999999999986,-2.3999999999999986,-3.2000000000000028,-0.89999999999999858,-8.5,{"$f":"SUM(BB993:BB1012)/30","v":1.3366666666666664},1.48,2.46,1.57,0.99666666666666681,-3.3333333333333808E-3,0.6366666666666666,-0.48333333333333345,null,null,"2018-09-20",10.6,0,19.399999999999999]
["2017-12-27",0.10000000000000142,{"$f":"$B1011+C$9","v":0.10000000000000142},0.10000000000000142,0.10000000000000142,24.966666666666669,4.3119999999999994,4.3119999999999994,4.3119999999999994,4.3119999999999994,6.9533333333333323,6.9533333333333323,6.9533333333333323,6.9533333333333323,1.6125541125541125,1.6125541125541125,1.6125541125541125,1.6125541125541125,1.6125541125541125,1.6125541125541125,1.6125541125541125,1.6125541125541125,0,0,0,0,1.6125541125541125,0,14478.515022912941,14577.522635369693,2477.2609011002705,2477.2609011002705,null,null,null,null,3.4357142857142855,1,1,0.53751803751803751,0.53751803751803751,0.53751803751803751,0.53751803751803751,0.46961610168232432,0.46961610168232432,0.52624256439759931,null,null,6.9533333333333323,6.9533333333333323,6.9533333333333323,6.9533333333333323,null,0.10000000000000142,4.3999999999999986,4.8999999999999986,4.3999999999999986,-0.39999999999999858,-1.6000000000000014,3.8000000000000007,1.8000000000000007,{"$f":"SUM(BB1001:BB1020)/30","v":1.9333333333333333},1.4466666666666665,2.5100000000000002,1.4333333333333333,1.6166666666666669,0.83999999999999986,0.72333333333333327,-0.3433333333333331,null,null,"2018-09-28",16.7,0,13.3]
["2017-12-31",9.1000000000000014,9.1000000000000014,9.1000000000000014,9.1000000000000014,21.966666666666665,5.3920000000000003,5.3920000000000003,5.3920000000000003,5.3920000000000003,2.7533333333333325,2.7533333333333325,2.7533333333333325,2.7533333333333325,0.51063303659742809,0.51063303659742809,0.51063303659742809,0.51063303659742809,0.51063303659742809,0.51063303659742809,0.51063303659742809,0.51063303659742809,0,0,0,0,0.51063303659742809,0,14602.349310172505,14701.356922629257,2477.2609011002705,2477.2609011002705,null,null,null,null,3.7285714285714291,1,1,0.1702110121991427,0.1702110121991427,0.1702110121991427,0.1702110121991427,0.3872968866290582,0.3872968866290582,0.3126829953064898,null,null,2.7533333333333325,2.7533333333333325,2.7533333333333325,2.7533333333333325,null,9.1000000000000014,6.1999999999999993,6.6000000000000014,3.3999999999999986,8.6000000000000014,7.6999999999999993,0.60000000000000142,1.3000000000000007,{"$f":"SUM(BB1005:BB1024)/30","v":2.7333333333333334},2.31,3.2,2.33,2.4033333333333338,1.5433333333333332,1.51,0.92999999999999994,null,null,"2018-10-02",20.399999999999999,0,9.6000000000000014]
["2018-01-06",7.1999999999999993,7.1999999999999993,7.1999999999999993,7.1999999999999993,22.6,5.1639999999999997,5.1639999999999997,5.1639999999999997,5.1639999999999997,3.6400000000000006,3.6400000000000006,3.6400000000000006,3.6400000000000006,0.70487993803253302,0.70487993803253302,0.70487993803253302,0.70487993803253302,0.70487993803253302,0.70487993803253302,0.70487993803253302,0.70487993803253302,0,0,0,0,0.70487993803253302,0,14728.465864604677,14827.473477061429,2477.2609011002705,2477.2609011002705,null,null,null,null,4.9071428571428575,1,1,0.23495997934417767,0.23495997934417767,0.23495997934417767,0.23495997934417767,0.30479165127447477,0.30479165127447477,0.26929872912444419,null,null,3.6400000000000006,3.6400000000000006,3.6400000000000006,3.6400000000000006,null,7.1999999999999993,7.5,4.8000000000000007,6.6000000000000014,6.8000000000000007,5.5,4.8999999999999986,5.1999999999999993,{"$f":"SUM(BB1011:BB1030)/30","v":2.276666666666666},1.6833333333333331,2.58,1.7899999999999998,1.9733333333333334,1.02,1.7699999999999998,0.2933333333333335,null,null,"2018-10-08",14.4,0,15.6]
["2018-01-13",-0.30000000000000071,-0.30000000000000071,-0.30000000000000071,-0.30000000000000071,25.1,4.2640000000000002,4.2640000000000002,4.2640000000000002,4.2640000000000002,7.1400000000000006,7.1400000000000006,7.1400000000000006,7.1400000000000006,1.6744840525328331,1.6744840525328331,1.6744840525328331,1.6744840525328331,1.6744840525328331,1.6744840525328331,1.6744840525328331,1.6744840525328331,0,0,0,0,1.6744840525328331,0,14918.914967166458,15017.922579623209,2477.2609011002705,2477.2609011002705,null,null,null,null,2.1999999999999993,1,1,0.55816135084427765,0.55816135084427765,0.55816135084427765,0.55816135084427765,0.47395966960227159,0.47395966960227159,0.51951415353676522,null,null,7.1400000000000006,7.1400000000000006,7.1400000000000006,7.1400000000000006,null,-0.30000000000000071,-0.30000000000000071,0.80000000000000071,0.69999999999999929,-0.5,-1.3000000000000007,0.60000000000000142,-3,{"$f":"SUM(BB1018:BB1037)/30","v":1.7599999999999996},1.1299999999999994,2.1533333333333333,1.2500000000000002,1.44,0.43999999999999984,0.73333333333333328,-0.86666666666666692,null,null,"2018-10-15",16.899999999999999,0,13.100000000000001]
["2018-01-17",0.89999999999999858,0.89999999999999858,0.89999999999999858,0.89999999999999858,24.7,4.4079999999999995,4.4079999999999995,4.4079999999999995,4.4079999999999995,6.580000000000001,6.580000000000001,6.580000000000001,6.580000000000001,1.4927404718693289,1.4927404718693289,1.4927404718693289,1.4927404718693289,1.4927404718693289,1.4927404718693289,1.4927404718693289,1.4927404718693289,0,0,0,0,1.4927404718693289,0,15075.653985690373,15174.661598147124,2477.2609011002705,2477.2609011002705,null,null,null,null,1.357142857142857,1,1,0.49758015728977628,0.49758015728977628,0.49758015728977628,0.49758015728977628,0.50637665879653737,0.50637665879653737,0.46186053601242016,null,null,6.580000000000001,6.580000000000001,6.580000000000001,6.580000000000001,null,0.89999999999999858,0.19999999999999929,3.3000000000000007,0.89999999999999858,0.5,-1.1999999999999993,-2.3999999999999986,-2.1000000000000014,{"$f":"SUM(BB1022:BB1041)/30","v":1.4499999999999995},0.60333333333333317,1.7,0.80000000000000016,1.2133333333333336,0.19333333333333325,7.3333333333333195E-2,-1.5533333333333337,null,null,"2018-10-19",15.5,0,14.5]
["2018-01-23",3,3,3,3,24,4.66,4.66,4.66,4.66,5.6,5.6,5.6,5.6,1.2017167381974247,1.2017167381974247,1.2017167381974247,1.2017167381974247,1.2017167381974247,1.2017167381974247,1.2017167381974247,1.2017167381974247,0,0,0,0,1.2017167381974247,0,15288.366450513831,15387.374062970583,2477.2609011002705,2477.2609011002705,null,null,null,null,2.7857142857142856,1,1,0.40057224606580827,0.40057224606580827,0.40057224606580827,0.40057224606580827,0.45782455211477918,0.45782455211477918,0.43480903095917922,null,null,5.6,5.6,5.6,5.6,null,3,-0.19999999999999929,2.1999999999999993,-0.30000000000000071,2.3000000000000007,1.3999999999999986,-4.2000000000000028,-6.3999999999999986,{"$f":"SUM(BB1028:BB1047)/30","v":1.5633333333333332},0.82666666666666655,1.8866666666666667,0.68666666666666687,1.3333333333333333,0.37999999999999984,-0.43333333333333368,-1.6633333333333336,null,null,"2018-10-25",23,0,7]
["2018-01-24",5.8000000000000007,5.8000000000000007,5.8000000000000007,5.8000000000000007,23.066666666666666,4.9959999999999996,4.9959999999999996,4.9959999999999996,4.9959999999999996,4.293333333333333,4.293333333333333,4.293333333333333,4.293333333333333,0.85935414998665605,0.85935414998665605,0.85935414998665605,0.85935414998665605,0.85935414998665605,0.85935414998665605,0.85935414998665605,0.85935414998665605,0,0,0,0,0.85935414998665605,0,15308.990950113512,15407.998562570263,2477.2609011002705,2477.2609011002705,null,null,null,null,3.0428571428571431,1,1,0.28645138332888537,0.28645138332888537,0.28645138332888537,0.28645138332888537,0.45021106232706731,0.45021106232706731,0.34421028817893751,null,null,4.293333333333333,4.293333333333333,4.293333333333333,4.293333333333333,null,5.8000000000000007,1.5,2.8999999999999986,1.1000000000000014,5.8999999999999986,3.5,-1.5,-1.8000000000000007,{"$f":"SUM(BB1029:BB1048)/30","v":1.6433333333333335},0.90666666666666662,1.9833333333333334,0.72666666666666679,1.4066666666666667,0.41999999999999982,-0.33666666666666706,-1.5566666666666669,null,null,"2018-10-26",20.8,0,9.1999999999999993]
["2018-02-03",1.8999999999999986,1.8999999999999986,1.8999999999999986,1.8999999999999986,24.366666666666667,4.5279999999999996,4.5279999999999996,4.5279999999999996,4.5279999999999996,6.1133333333333342,6.1133333333333342,6.1133333333333342,6.1133333333333342,1.3501177856301534,1.3501177856301534,1.3501177856301534,1.3501177856301534,1.3501177856301534,1.3501177856301534,1.3501177856301534,1.3501177856301534,0,0,0,0,1.3501177856301534,0,15573.081919490332,15672.089531947084,2477.2609011002705,2477.2609011002705,null,null,null,null,1.5642857142857145,1,1,0.45003926187671778,0.45003926187671778,0.45003926187671778,0.45003926187671778,0.49980551250293898,0.49980551250293898,0.4761297227234616,null,null,6.1133333333333342,6.1133333333333342,6.1133333333333342,6.1133333333333342,null,1.8999999999999986,0.5,2.3000000000000007,0.80000000000000071,1.1999999999999993,-0.89999999999999858,1.6000000000000014,-1.8999999999999986,{"$f":"SUM(BB1039:BB1058)/30","v":1.3000000000000005},0.78999999999999981,1.7266666666666666,0.85333333333333339,1,-0.25333333333333324,0.53333333333333299,-1.2366666666666666,null,null,"2018-11-05",17.7,0,12.3]
["2018-02-04",0.10000000000000142,0.10000000000000142,0.10000000000000142,0.10000000000000142,24.966666666666669,4.3119999999999994,4.3119999999999994,4.3119999999999994,4.3119999999999994,6.9533333333333323,6.9533333333333323,6.9533333333333323,6.9533333333333323,1.6125541125541125,1.6125541125541125,1.6125541125541125,1.6125541125541125,1.6125541125541125,1.6125541125541125,1.6125541125541125,1.6125541125541125,0,0,0,0,1.6125541125541125,0,15611.783218191631,15710.790830648382,2477.2609011002705,2477.2609011002705,null,null,null,null,1.2928571428571431,1,1,0.53751803751803751,0.53751803751803751,0.53751803751803751,0.53751803751803751,0.53434967763188923,0.53434967763188923,0.54629943185444596,null,null,6.9533333333333323,6.9533333333333323,6.9533333333333323,6.9533333333333323,null,0.10000000000000142,1,2,1.5,-1,-2.5,0.80000000000000071,-3.7000000000000028,{"$f":"SUM(BB1040:BB1059)/30","v":1.0800000000000003},0.7666666666666665,1.6566666666666667,0.84333333333333338,0.74666666666666692,-0.5033333333333333,0.61999999999999966,-1.2733333333333332,null,null,"2018-11-06",20.399999999999999,0,9.6000000000000014]
["2018-02-10",-0.80000000000000071,-0.80000000000000071,-0.80000000000000071,-0.80000000000000071,25.266666666666666,4.2040000000000006,4.2040000000000006,4.2040000000000006,4.2040000000000006,7.373333333333334,7.373333333333334,7.373333333333334,7.373333333333334,1.7538851887091658,1.7538851887091658,1.7538851887091658,1.7538851887091658,1.7538851887091658,1.7538851887091658,1.7538851887091658,1.7538851887091658,0,0,0,0,1.7538851887091658,0,15884.483063450924,15983.490675907675,2477.2609011002705,2477.2609011002705,null,null,null,null,-0.62857142857142867,1,1,0.58462839623638863,0.58462839623638863,0.58462839623638863,0.58462839623638863,0.55261126461820909,0.55261126461820909,0.55322778509659865,null,null,7.373333333333334,7.373333333333334,7.373333333333334,7.373333333333334,null,-0.80000000000000071,-1.3999999999999986,-0.69999999999999929,-1.1999999999999993,-0.80000000000000071,-2.1000000000000014,1.1999999999999993,-2.2999999999999972,{"$f":"SUM(BB1046:BB1065)/30","v":9.6666666666666734E-2},-0.49666666666666665,0.61999999999999977,-2.9999999999999954E-2,-0.28000000000000008,-1.6933333333333331,0.41000000000000003,-2.2966666666666664,null,null,"2018-11-12",22.2,0,7.8000000000000007]
["2018-02-16",2.1999999999999993,2.1999999999999993,2.1999999999999993,2.1999999999999993,24.266666666666666,4.5640000000000001,4.5640000000000001,4.5640000000000001,4.5640000000000001,5.9733333333333336,5.9733333333333336,5.9733333333333336,5.9733333333333336,1.3087934560327199,1.3087934560327199,1.3087934560327199,1.3087934560327199,1.3087934560327199,1.3087934560327199,1.3087934560327199,1.3087934560327199,0,0,0,0,1.3087934560327199,0,16113.851969830996,16212.859582287747,2477.2609011002705,2477.2609011002705,null,null,null,null,-0.83571428571428619,1,1,0.43626448534423995,0.43626448534423995,0.43626448534423995,0.43626448534423995,0.57872589117851125,0.57872589117851125,0.54783037799909784,null,null,5.9733333333333336,5.9733333333333336,5.9733333333333336,5.9733333333333336,null,2.1999999999999993,-1.6000000000000014,0.80000000000000071,-0.60000000000000142,1.3999999999999986,-0.39999999999999858,-0.19999999999999929,-2.5,{"$f":"SUM(BB1052:BB1071)/30","v":-1.1066666666666667},-1.6666666666666672,-0.48666666666666697,-0.92333333333333334,-1.5266666666666666,-2.8033333333333332,-0.43333333333333324,-3.6233333333333331,null,null,"2018-11-18",28.1,0,1.8999999999999986]
["2018-02-21",{"$f":"BB1067+A$7","v":-1.5},-1.5,-1.5,-1.5,{"$f":"F$8+(H$7-F$8)*(M$6-B1067)/30","v":25.5},{"$f":"IF((B1067+35-$F1067)*$H$5+$H$6>1,(B1067+35-$F1067)*$H$5+$H$6,1)","v":4.12},{"$f":"IF((C1067+35-$F1067)*$H$5+$H$6>1,(C1067+35-$F1067)*$H$5+$H$6,1)","v":4.12},{"$f":"IF((D1067+35-$F1067)*$H$5+$H$6>1,(D1067+35-$F1067)*$H$5+$H$6,1)","v":4.12},{"$f":"IF((E1067+35-$F1067)*$H$5+$H$6>1,(E1067+35-$F1067)*$H$5+$H$6,1)","v":4.12},{"$f":"$M$5*($M$6-B1067)/30-$O$5","v":7.7},{"$f":"$M$5*($M$6-C1067)/30-$O$5","v":7.7},{"$f":"$M$5*($M$6-D1067)/30-$O$5","v":7.7},{"$f":"$M$5*($M$6-E1067)/30-$O$5","v":7.7},{"$f":"IF(K1067/G1067>$M$7,$M$7+K1067-$M$7*G1067,K1067/G1067)","v":1.8689320388349515},{"$f":"IF(L1067/H1067>$M$7,$M$7+L1067-$M$7*H1067,L1067/H1067)","v":1.8689320388349515},{"$f":"IF(M1067/I1067>$M$7,$M$7+M1067-$M$7*I1067,M1067/I1067)","v":1.8689320388349515},{"$f":"IF(N1067/J1067>$M$7,$M$7+N1067-$M$7*J1067,N1067/J1067)","v":1.8689320388349515},{"$f":"IF(O1067>0,O1067,)","v":1.8689320388349515},{"$f":"IF(P1067>0,P1067,)","v":1.8689320388349515},{"$f":"IF(Q1067>0,Q1067,)","v":1.8689320388349515},{"$f":"IF(R1067>0,R1067,)","v":1.8689320388349515},{"$f":"IF(O1067<0,-O1067,0)","v":0},{"$f":"IF(P1067<0,-P1067,0)","v":0},{"$f":"IF(Q1067<0,-Q1067,0)","v":0},{"$f":"IF(R1067<0,-R1067,0)","v":0},{"$f":"IF(SUM(O1067:R1067)/4>0,SUM(O1067:R1067)/4,)","v":1.8689320388349515},{"$f":"IF(SUM(O1067:R1067)/4<0,-SUM(O1067:R1067)/4,)","v":0},{"$f":"6*SUM(S1067:V1067)+AC1066","v":16330.750144535921},{"$f":"AD1066+AA1067*24","v":16429.757756992673},{"$f":"6*SUM(W1067:Z1067)+AE1066","v":2477.2609011002705},{"$f":"AF1066+AB1067*24","v":2477.2609011002705},null,null,null,null,{"$f":"IF(SUM(B1061:B1074)/14<$C$7,SUM(B1061:B1074)/14,0)","v":-4.1142857142857148},{"$f":"IF(SUM(B1061:B1074)/14<$C$7,1,0)","v":1},{"$f":"IF(SUM(AN1064:AQ1070)>0,1,0)","v":1},{"$f":"K1067/G1067/$M$7","v":0.62297734627831713},{"$f":"L1067/H1067/$M$7","v":0.62297734627831713},{"$f":"M1067/I1067/$M$7","v":0.62297734627831713},{"$f":"N1067/J1067/$M$7","v":0.62297734627831713},{"$f":"SUM(AO1064:AO1070)/7","v":0.68773586056231417},{"$f":"SUM(AQ1064:AQ1070)/7","v":0.68773586056231417},{"$f":"SUM(AN1066:AQ1068)/12","v":0.65407367929874327},null,null,{"$f":"IF(K1067>0,K1067,0)","v":7.7},{"$f":"IF(L1067>0,L1067,0)","v":7.7},{"$f":"IF(M1067>0,M1067,0)","v":7.7},{"$f":"IF(N1067>0,N1067,0)","v":7.7},null,-1.5,-1.6000000000000014,-1.6000000000000014,-1.3999999999999986,-2.6000000000000014,-4.3999999999999986,-0.60000000000000142,-4.7999999999999972,{"$f":"SUM(BB1057:BB1076)/30","v":-2.4000000000000004},-2.79,-2.0033333333333334,-2.2899999999999996,-2.8033333333333332,-3.9733333333333336,-2.0299999999999994,-5.3200000000000012,null,null,"2018-11-23",25.3,0,4.6999999999999993]
["2018-02-27",-11,-11,-11,-11,28.666666666666664,2.98,2.98,2.98,2.98,12.133333333333333,12.133333333333333,12.133333333333333,12.133333333333333,6.1933333333333334,6.1933333333333334,6.1933333333333334,6.1933333333333334,6.1933333333333334,6.1933333333333334,6.1933333333333334,6.1933333333333334,0,0,0,0,6.1933333333333334,0,16880.213799408531,16979.221411865281,2477.2609011002705,2477.2609011002705,null,null,null,null,-5.7785714285714294,1,1,1.3571961222967934,1.3571961222967934,1.3571961222967934,1.3571961222967934,1.1457191775984445,1.1457191775984445,1.295559174575158,null,null,12.133333333333333,12.133333333333333,12.133333333333333,12.133333333333333,null,-11,-6.7000000000000028,-10.200000000000003,-10.399999999999999,-11.600000000000001,-12.399999999999999,-10.899999999999999,-15.100000000000001,{"$f":"SUM(BB1063:BB1082)/30","v":-2.5533333333333332},-3.05,-2.1399999999999997,-2.4200000000000004,-2.8699999999999997,-3.8200000000000003,-2.276666666666666,-5.5033333333333339,null,null,"2018-11-29",33,0,-3]
["2018-03-05",-1.1999999999999993,-1.1999999999999993,-1.1999999999999993,-1.1999999999999993,25.4,4.1559999999999997,4.1559999999999997,4.1559999999999997,4.1559999999999997,7.56,7.56,7.56,7.56,1.8190567853705486,1.8190567853705486,1.8190567853705486,1.8190567853705486,1.8190567853705486,1.8190567853705486,1.8190567853705486,1.8190567853705486,0,0,0,0,1.8190567853705486,0,17356.967423976508,17455.975036433258,2477.2609011002705,2477.2609011002705,null,null,null,null,-0.65000000000000036,1,1,0.60635226179018287,0.60635226179018287,0.60635226179018287,0.60635226179018287,0.63520651981294662,0.63520651981294662,0.65659813211822793,null,null,7.56,7.56,7.56,7.56,null,-1.1999999999999993,-2.6000000000000014,-1.3000000000000007,-1,-1.8000000000000007,-2.6000000000000014,-2.1000000000000014,-6.2000000000000028,{"$f":"SUM(BB1069:BB1088)/30","v":-0.81333333333333313},-0.90000000000000047,-0.2099999999999998,-0.60333333333333306,-1.1266666666666663,-2.116666666666668,-0.8099999999999995,-3.5566666666666671,null,null,"2018-12-05",27.6,0,2.3999999999999986]
["2018-03-10",7.5,7.5,7.5,7.5,22.5,5.1999999999999993,5.1999999999999993,5.1999999999999993,5.1999999999999993,3.5,3.5,3.5,3.5,0.67307692307692313,0.67307692307692313,0.67307692307692313,0.67307692307692313,0.67307692307692313,0.67307692307692313,0.67307692307692313,0.67307692307692313,0,0,0,0,0.67307692307692313,0,17486.482552019261,17585.49016447601,2477.2609011002705,2477.2609011002705,null,null,null,null,3.6142857142857152,1,1,0.22435897435897437,0.22435897435897437,0.22435897435897437,0.22435897435897437,0.25455050017882969,0.25455050017882969,0.22304048532040588,null,null,3.5,3.5,3.5,3.5,null,7.5,7.6000000000000014,7.8999999999999986,7.5,7.8000000000000007,6.1000000000000014,5.3000000000000007,2.5,{"$f":"SUM(BB1074:BB1093)/30","v":0.30666666666666653},6.6666666666667616E-3,1.1900000000000002,0.62000000000000033,2.3333333333333664E-2,-1.0266666666666671,0.41000000000000014,-2.063333333333333,null,null,"2018-12-10",28.3,0,1.6999999999999993]
["2018-03-14",4.6000000000000014,4.6000000000000014,4.6000000000000014,4.6000000000000014,23.466666666666665,4.8520000000000003,4.8520000000000003,4.8520000000000003,4.8520000000000003,4.8533333333333326,4.8533333333333326,4.8533333333333326,4.8533333333333326,1.000274800769442,1.000274800769442,1.000274800769442,1.000274800769442,1.000274800769442,1.000274800769442,1.000274800769442,1.000274800769442,0,0,0,0,1.000274800769442,0,17549.83191154851,17648.83952400526,2477.2609011002705,2477.2609011002705,null,null,null,null,2.9642857142857153,1,1,0.33342493358981401,0.33342493358981401,0.33342493358981401,0.33342493358981401,0.33494914324006331,0.33494914324006331,0.27416626160229435,null,null,4.8533333333333326,4.8533333333333326,4.8533333333333326,4.8533333333333326,null,4.6000000000000014,3.6999999999999993,7.8999999999999986,5.6999999999999993,3.8999999999999986,1.1999999999999993,8.3000000000000007,4.6000000000000014,{"$f":"SUM(BB1078:BB1097)/30","v":1.3866666666666672},1.2033333333333336,2.27,1.6566666666666663,1.0300000000000002,-2.333333333333331E-2,1.3066666666666664,-0.8566666666666668,null,null,"2018-12-14",29.8,0,0.19999999999999929]
["2018-03-22",0.5,0.5,0.5,0.5,24.833333333333332,4.3600000000000003,4.3600000000000003,4.3600000000000003,4.3600000000000003,6.7666666666666666,6.7666666666666666,6.7666666666666666,6.7666666666666666,1.5519877675840976,1.5519877675840976,1.5519877675840976,1.5519877675840976,1.5519877675840976,1.5519877675840976,1.5519877675840976,1.5519877675840976,0,0,0,0,1.5519877675840976,0,17899.725295242839,17998.732907699588,2477.2609011002705,2477.2609011002705,null,null,null,null,1.0642857142857145,1,1,0.51732925586136591,0.51732925586136591,0.51732925586136591,0.51732925586136591,0.53609300817400052,0.53609300817400052,0.49916257462467467,null,null,6.7666666666666666,6.7666666666666666,6.7666666666666666,6.7666666666666666,null,0.5,-0.69999999999999929,0,0.10000000000000142,-0.19999999999999929,-2.3999999999999986,-1.8000000000000007,-4,{"$f":"SUM(BB1086:BB1105)/30","v":1.8033333333333337},1.8500000000000005,2.9533333333333331,2.4066666666666667,1.3733333333333337,0.29999999999999977,2.31,8.0000000000000307E-2,null,null,"2018-12-22",29.3,0,0.69999999999999929]
["2018-03-27",4.3999999999999986,4.3999999999999986,4.3999999999999986,4.3999999999999986,23.533333333333335,4.8279999999999994,4.8279999999999994,4.8279999999999994,4.8279999999999994,4.9466666666666681,4.9466666666666681,4.9466666666666681,4.9466666666666681,1.0245788456227565,1.0245788456227565,1.0245788456227565,1.0245788456227565,1.0245788456227565,1.0245788456227565,1.0245788456227565,1.0245788456227565,0,0,0,0,1.0245788456227565,0,18041.60377458415,18140.611387040899,2477.2609011002705,2477.2609011002705,null,null,null,null,4.6285714285714281,1,1,0.34152628187425216,0.34152628187425216,0.34152628187425216,0.34152628187425216,0.34348668498044643,0.34348668498044643,0.36009574892884427,null,null,4.9466666666666681,4.9466666666666681,4.9466666666666681,4.9466666666666681,null,4.3999999999999986,3.1999999999999993,5.5,4.5,3.6999999999999993,2.3999999999999986,6.3999999999999986,1.1999999999999993,{"$f":"SUM(BB1091:BB1110)/30","v":2.4566666666666666},2.3733333333333335,3.32,2.8600000000000003,2.0499999999999998,0.93666666666666631,2.5566666666666662,0.42666666666666681,null,null,"2018-12-27",30.4,0,-0.39999999999999858]
["2018-03-31",7,7,7,7,22.666666666666668,5.14,5.14,5.14,5.14,3.7333333333333334,3.7333333333333334,3.7333333333333334,3.7333333333333334,0.72632944228274976,0.72632944228274976,0.72632944228274976,0.72632944228274976,0.72632944228274976,0.72632944228274976,0.72632944228274976,0.72632944228274976,0,0,0,0,0.72632944228274976,0,18121.032991523694,18220.040603980444,2477.2609011002705,2477.2609011002705,null,null,null,null,7.1071428571428568,1,1,0.24210981409424992,0.24210981409424992,0.24210981409424992,0.24210981409424992,0.24767702615916651,0.24767702615916651,0.26665024905440021,null,null,3.7333333333333334,3.7333333333333334,3.7333333333333334,3.7333333333333334,null,7,9.1999999999999993,11.600000000000001,10.8,6.1000000000000014,4.5,9.6999999999999993,6.8000000000000007,{"$f":"SUM(BB1095:BB1114)/30","v":4.17},4.33,5.2033333333333331,4.88,3.82,2.7133333333333329,4.7766666666666664,2.6833333333333331,null,null,"2018-12-31",27.8,0,2.1999999999999993]
["2018-04-08",8.8000000000000007,8.8000000000000007,8.8000000000000007,8.8000000000000007,22.066666666666666,5.3559999999999999,5.3559999999999999,5.3559999999999999,5.3559999999999999,2.8933333333333326,2.8933333333333326,2.8933333333333326,2.8933333333333326,0.54020413243714205,0.54020413243714205,0.54020413243714205,0.54020413243714205,0.54020413243714205,0.54020413243714205,0.54020413243714205,0.54020413243714205,0,0,0,0,0.54020413243714205,0,18220.428682525511,18319.436294982261,2477.2609011002705,2477.2609011002705,null,null,null,null,11.985714285714286,1,1,0.18006804414571401,0.18006804414571401,0.18006804414571401,0.18006804414571401,0.11710642282830376,0.11710642282830376,0.14835236300202745,null,null,2.8933333333333326,2.8933333333333326,2.8933333333333326,2.8933333333333326,null,8.8000000000000007,12.2,12.899999999999999,13,7.8000000000000007,6,14.8,11.8,{"$f":"SUM(BB1103:BB1122)/30","v":7.3599999999999994},7.7000000000000011,8.5466666666666686,8.2733333333333334,7.0133333333333328,5.626666666666666,8.32,6.22,null,null,"2019-01-08",37.799999999999997,0,-7.7999999999999972]
["2018-04-13",14.6,14.6,14.6,14.6,20.133333333333333,6.0519999999999996,6.0519999999999996,6.0519999999999996,6.0519999999999996,0.18666666666666684,0.18666666666666684,0.18666666666666684,0.18666666666666684,3.0843798193434708E-2,3.0843798193434708E-2,3.0843798193434708E-2,3.0843798193434708E-2,3.0843798193434708E-2,3.0843798193434708E-2,3.0843798193434708E-2,3.0843798193434708E-2,0,0,0,0,3.0843798193434708E-2,0,18230.416953941374,18329.424566398124,2480.9636718811271,2480.9636718811271,null,null,null,null,13.828571428571433,1,1,1.0281266064478236E-2,1.0281266064478236E-2,1.0281266064478236E-2,1.0281266064478236E-2,9.0152267886094463E-3,9.0152267886094463E-3,-2.374956886440079E-3,null,null,0.18666666666666684,0.18666666666666684,0.18666666666666684,0.18666666666666684,null,14.6,15.5,16.399999999999999,15.5,14.1,12,16.7,12.5,{"$f":"SUM(BB1108:BB1127)/30","v":9.1133333333333351},9.4633333333333347,8.7299999999999986,9.81,8.8266666666666662,7.6099999999999994,9.8000000000000007,7.6466666666666674,null,null,"2019-01-13",31.5,0,-1.5]
["2018-04-17",13.8,13.8,13.8,13.8,20.399999999999999,5.9559999999999995,5.9559999999999995,5.9559999999999995,5.9559999999999995,0.55999999999999972,0.55999999999999972,0.55999999999999972,0.55999999999999972,9.4022834116856913E-2,9.4022834116856913E-2,9.4022834116856913E-2,9.4022834116856913E-2,9.4022834116856913E-2,9.4022834116856913E-2,9.4022834116856913E-2,9.4022834116856913E-2,0,0,0,0,9.4022834116856913E-2,0,18238.687357444818,18337.694969901568,2480.9636718811271,2480.9636718811271,null,null,null,null,0,0,1,3.1340944705618969E-2,3.1340944705618969E-2,3.1340944705618969E-2,3.1340944705618969E-2,7.3734316560696784E-3,7.3734316560696784E-3,3.2234374881259575E-2,null,null,0.55999999999999972,0.55999999999999972,0.55999999999999972,0.55999999999999972,null,13.8,16.2,16.3,15.9,12.899999999999999,11.7,15.1,11.600000000000001,{"$f":"SUM(BB1112:BB1131)/30","v":9.73},10.373333333333335,7.1800000000000006,10.580000000000002,9.3733333333333331,8.076666666666668,10.479999999999999,8.3600000000000012,null,null,"2019-01-17",30.6,0,-0.60000000000000142]
["2018-04-20",18.100000000000001,18.100000000000001,18.100000000000001,18.100000000000001,18.966666666666665,6.4720000000000004,6.4720000000000004,6.4720000000000004,6.4720000000000004,-1.4466666666666674,-1.4466666666666674,-1.4466666666666674,-1.4466666666666674,-0.22352698805109197,-0.22352698805109197,-0.22352698805109197,-0.22352698805109197,0,0,0,0,0.22352698805109197,0.22352698805109197,0.22352698805109197,0.22352698805109197,0,0.22352698805109197,18240.943905463624,18339.951517920374,2487.774413848711,2487.774413848711,null,null,null,null,0,0,0,-7.4508996017030663E-2,-7.4508996017030663E-2,-7.4508996017030663E-2,-7.4508996017030663E-2,-3.4145795904919639E-2,-3.4145795904919639E-2,-5.8620379422644885E-2,null,null,0,0,0,0,null,18.100000000000001,18.899999999999999,18.5,18.100000000000001,18.100000000000001,16.8,15.7,12.8,{"$f":"SUM(BB1115:BB1134)/30","v":10.270000000000001},10.686666666666666,5.8966666666666665,10.92,9.8900000000000023,8.4866666666666681,10.606666666666666,8.5633333333333344]
["2018-04-26",{"$f":"BB1131+A$7","v":12.7},12.7,12.7,12.7,{"$f":"F$8+(H$7-F$8)*(M$6-B1131)/30","v":20.766666666666666},{"$f":"IF((B1131+35-$F1131)*$H$5+$H$6>1,(B1131+35-$F1131)*$H$5+$H$6,1)","v":5.8239999999999998},{"$f":"IF((C1131+35-$F1131)*$H$5+$H$6>1,(C1131+35-$F1131)*$H$5+$H$6,1)","v":5.8239999999999998},{"$f":"IF((D1131+35-$F1131)*$H$5+$H$6>1,(D1131+35-$F1131)*$H$5+$H$6,1)","v":5.8239999999999998},{"$f":"IF((E1131+35-$F1131)*$H$5+$H$6>1,(E1131+35-$F1131)*$H$5+$H$6,1)","v":5.8239999999999998},{"$f":"$M$5*($M$6-B1131)/30-$O$5","v":1.0733333333333337},{"$f":"$M$5*($M$6-C1131)/30-$O$5","v":1.0733333333333337},{"$f":"$M$5*($M$6-D1131)/30-$O$5","v":1.0733333333333337},{"$f":"$M$5*($M$6-E1131)/30-$O$5","v":1.0733333333333337},{"$f":"IF(K1131/G1131>$M$7,$M$7+K1131-$M$7*G1131,K1131/G1131)","v":0.18429487179487186},{"$f":"IF(L1131/H1131>$M$7,$M$7+L1131-$M$7*H1131,L1131/H1131)","v":0.18429487179487186},{"$f":"IF(M1131/I1131>$M$7,$M$7+M1131-$M$7*I1131,M1131/I1131)","v":0.18429487179487186},{"$f":"IF(N1131/J1131>$M$7,$M$7+N1131-$M$7*J1131,N1131/J1131)","v":0.18429487179487186},{"$f":"IF(O1131>0,O1131,)","v":0.18429487179487186},{"$f":"IF(P1131>0,P1131,)","v":0.18429487179487186},{"$f":"IF(Q1131>0,Q1131,)","v":0.18429487179487186},{"$f":"IF(R1131>0,R1131,)","v":0.18429487179487186},{"$f":"IF(O1131<0,-O1131,0)","v":0},{"$f":"IF(P1131<0,-P1131,0)","v":0},{"$f":"IF(Q1131<0,-Q1131,0)","v":0},{"$f":"IF(R1131<0,-R1131,0)","v":0},{"$f":"IF(SUM(O1131:R1131)/4>0,SUM(O1131:R1131)/4,)","v":0.18429487179487186},{"$f":"IF(SUM(O1131:R1131)/4<0,-SUM(O1131:R1131)/4,)","v":0},{"$f":"6*SUM(S1131:V1131)+AC1130","v":18245.366982386702},{"$f":"AD1130+AA1131*24","v":18344.374594843452},{"$f":"6*SUM(W1131:Z1131)+AE1130","v":2506.2868538481666},{"$f":"AF1130+AB1131*24","v":2506.2868538481666},null,null,null,null,{"$f":"IF(SUM(B1125:B1138)/14<$C$7,SUM(B1125:B1138)/14,0)","v":0},{"$f":"IF(SUM(B1125:B1138)/14<$C$7,1,0)","v":0},{"$f":"IF(SUM(AN1128:AQ1134)>0,1,0)","v":0},{"$f":"K1131/G1131/$M$7","v":6.1431623931623956E-2},{"$f":"L1131/H1131/$M$7","v":6.1431623931623956E-2},{"$f":"M1131/I1131/$M$7","v":6.1431623931623956E-2},{"$f":"N1131/J1131/$M$7","v":6.1431623931623956E-2},{"$f":"SUM(AO1128:AO1134)/7","v":-5.7744056781543537E-3},{"$f":"SUM(AQ1128:AQ1134)/7","v":-5.7744056781543537E-3},{"$f":"SUM(AN1130:AQ1132)/12","v":4.4910990896180392E-2},null,null,{"$f":"IF(K1131>0,K1131,0)","v":1.0733333333333337},{"$f":"IF(L1131>0,L1131,0)","v":1.0733333333333337},{"$f":"IF(M1131>0,M1131,0)","v":1.0733333333333337},{"$f":"IF(N1131>0,N1131,0)","v":1.0733333333333337},null,12.7,12.8,null,14,11.399999999999999,9,14.7,10.199999999999999,{"$f":"SUM(BB1121:BB1140)/30","v":10.396666666666668},11.453333333333331,2.8200000000000003,11.62,9.8933333333333326,8.52,11.493333333333332,9.3999999999999986]
["2018-05-04",14.6,{"$f":"$B1139+C$9","v":14.6},14.6,14.6,20.133333333333333,6.0519999999999996,6.0519999999999996,6.0519999999999996,6.0519999999999996,0.18666666666666684,0.18666666666666684,0.18666666666666684,0.18666666666666684,3.0843798193434708E-2,3.0843798193434708E-2,3.0843798193434708E-2,3.0843798193434708E-2,3.0843798193434708E-2,3.0843798193434708E-2,3.0843798193434708E-2,3.0843798193434708E-2,0,0,0,0,3.0843798193434708E-2,0,18253.748893150692,18352.756505607442,2520.7139431148025,2520.7139431148025,null,null,null,null,0,0,1,1.0281266064478236E-2,1.0281266064478236E-2,1.0281266064478236E-2,1.0281266064478236E-2,5.6591642907962813E-4,5.6591642907962813E-4,6.0530590859966815E-3,null,null,0.18666666666666684,0.18666666666666684,0.18666666666666684,0.18666666666666684,null,14.6,17.399999999999999,null,18,13.399999999999999,12.5,21,15.3,{"$f":"SUM(BB1129:BB1148)/30","v":10.646666666666668},11.296666666666663,0,11.896666666666667,10.123333333333333,8.6866666666666656,12.226666666666665,9.6433333333333344]
["2018-05-07",16.100000000000001,16.100000000000001,16.100000000000001,16.100000000000001,19.633333333333333,6.2319999999999993,6.2319999999999993,6.2319999999999993,6.2319999999999993,-0.51333333333333397,-0.51333333333333397,-0.51333333333333397,-0.51333333333333397,-8.2370560547710858E-2,-8.2370560547710858E-2,-8.2370560547710858E-2,-8.2370560547710858E-2,0,0,0,0,8.2370560547710858E-2,8.2370560547710858E-2,8.2370560547710858E-2,8.2370560547710858E-2,0,8.2370560547710858E-2,18256.166882251204,18355.174494707953,2522.6908365679474,2522.6908365679474,null,null,null,null,0,0,0,-2.7456853515903618E-2,-2.7456853515903618E-2,-2.7456853515903618E-2,-2.7456853515903618E-2,-2.531995228296912E-2,-2.531995228296912E-2,-2.1823391335188316E-2,null,null,0,0,0,0,null,16.100000000000001,15.7,null,18.3,15.5,14.4,17.8,12.8,{"$f":"SUM(BB1132:BB1151)/30","v":10.610000000000001},11.183333333333334,0,11.729999999999999,10.159999999999998,8.879999999999999,11.92333333333333,9.2333333333333378]
["2018-05-13",18.8,18.8,18.8,18.8,18.733333333333334,6.5559999999999992,6.5559999999999992,6.5559999999999992,6.5559999999999992,-1.7733333333333337,-1.7733333333333337,-1.7733333333333337,-1.7733333333333337,-0.2704901362619484,-0.2704901362619484,-0.2704901362619484,-0.2704901362619484,0,0,0,0,0.2704901362619484,0.2704901362619484,0.2704901362619484,0.2704901362619484,0,0.2704901362619484,18256.166882251204,18355.174494707953,2550.3482636227368,2550.3482636227368,null,null,null,null,0,0,0,-9.0163378753982795E-2,-9.0163378753982795E-2,-9.0163378753982795E-2,-9.0163378753982795E-2,-3.2091389468414479E-2,-3.2091389468414479E-2,-6.9013489976407785E-2,null,null,0,0,0,0,null,18.8,17.7,null,19.100000000000001,18.7,17.399999999999999,18.600000000000001,13.100000000000001,{"$f":"SUM(BB1138:BB1157)/30","v":10.52},10.94,0,11.4,10.109999999999998,9.163333333333334,11.556666666666667,8.7533333333333321]
["2018-05-21",16.399999999999999,16.399999999999999,16.399999999999999,16.399999999999999,19.533333333333335,6.2679999999999989,6.2679999999999989,6.2679999999999989,6.2679999999999989,-0.65333333333333266,-0.65333333333333266,-0.65333333333333266,-0.65333333333333266,-0.1042331418847053,-0.1042331418847053,-0.1042331418847053,-0.1042331418847053,0,0,0,0,0.1042331418847053,0.1042331418847053,0.1042331418847053,0.1042331418847053,0,0.1042331418847053,18269.094640829375,18368.102253286124,2558.1577974321731,2558.1577974321731,null,null,null,null,0,0,0,-3.4744380628235101E-2,-3.4744380628235101E-2,-3.4744380628235101E-2,-3.4744380628235101E-2,-3.6207471242133568E-2,-3.6207471242133568E-2,-3.6931819621210685E-2,null,null,0,0,0,0,null,16.399999999999999,15.3,null,17.399999999999999,15.7,14.9,17.100000000000001,12,{"$f":"SUM(BB1146:BB1165)/30","v":11.806666666666667},11.923333333333336,0,12.173333333333334,11.363333333333332,10.126666666666665,11.936666666666666,9.120000000000001]
["2018-05-24",19.399999999999999,19.399999999999999,19.399999999999999,19.399999999999999,18.533333333333335,6.6279999999999992,6.6279999999999992,6.6279999999999992,6.6279999999999992,-2.0533333333333328,-2.0533333333333328,-2.0533333333333328,-2.0533333333333328,-0.30979682156507743,-0.30979682156507743,-0.30979682156507743,-0.30979682156507743,0,0,0,0,0.30979682156507743,0.30979682156507743,0.30979682156507743,0.30979682156507743,0,0.30979682156507743,18269.094640829375,18368.102253286124,2575.8130808817477,2575.8130808817477,null,null,null,null,0,0,0,-0.10326560718835914,-0.10326560718835914,-0.10326560718835914,-0.10326560718835914,-9.2954082214246628E-2,-9.2954082214246628E-2,-9.8113114547228431E-2,null,null,0,0,0,0,null,19.399999999999999,19.3,null,20.9,18,14.6,21.5,14.3,{"$f":"SUM(BB1149:BB1168)/30","v":12.2},12.356666666666666,0,12.523333333333332,11.696666666666667,10.366666666666667,12.206666666666667,9.4633333333333329]
["2018-05-30",20.7,20.7,20.7,20.7,18.100000000000001,6.7839999999999998,6.7839999999999998,6.7839999999999998,6.7839999999999998,-2.6599999999999993,-2.6599999999999993,-2.6599999999999993,-2.6599999999999993,-0.39209905660377348,-0.39209905660377348,-0.39209905660377348,-0.39209905660377348,0,0,0,0,0.39209905660377348,0.39209905660377348,0.39209905660377348,0.39209905660377348,0,0.39209905660377348,18269.094640829375,18368.102253286124,2638.1142776369074,2638.1142776369074,null,null,null,null,0,0,0,-0.13069968553459116,-0.13069968553459116,-0.13069968553459116,-0.13069968553459116,-0.15478238080106926,-0.15478238080106926,-0.16358833277724444,null,null,0,0,0,0,null,20.7,20.7,null,20.9,20.3,17.7,21.5,17.600000000000001,{"$f":"SUM(BB1155:BB1174)/30","v":13.573333333333332},13.493333333333334,0,13.793333333333331,13.006666666666666,11.533333333333331,13.463333333333333,10.559999999999999]
["2018-06-01",20.7,20.7,20.7,20.7,18.100000000000001,6.7839999999999998,6.7839999999999998,6.7839999999999998,6.7839999999999998,-2.6599999999999993,-2.6599999999999993,-2.6599999999999993,-2.6599999999999993,-0.39209905660377348,-0.39209905660377348,-0.39209905660377348,-0.39209905660377348,0,0,0,0,0.39209905660377348,0.39209905660377348,0.39209905660377348,0.39209905660377348,0,0.39209905660377348,18269.094640829375,18368.102253286124,2660.0785709999386,2660.0785709999386,null,null,null,null,0,0,0,-0.13069968553459116,-0.13069968553459116,-0.13069968553459116,-0.13069968553459116,-0.14888429366338746,-0.14888429366338746,-0.14798283964366135,null,null,0,0,0,0,null,20.7,22.8,null,21.8,19.600000000000001,17.7,23.7,18.899999999999999,{"$f":"SUM(BB1157:BB1176)/30","v":13.93},14.003333333333332,0,14.183333333333334,13.346666666666666,11.833333333333332,13.95333333333333,10.983333333333333]
["2018-06-11",21.3,21.3,21.3,21.3,17.899999999999999,6.8559999999999999,6.8559999999999999,6.8559999999999999,6.8559999999999999,-2.9400000000000004,-2.9400000000000004,-2.9400000000000004,-2.9400000000000004,-0.42882147024504091,-0.42882147024504091,-0.42882147024504091,-0.42882147024504091,0,0,0,0,0.42882147024504091,0.42882147024504091,0.42882147024504091,0.42882147024504091,0,0.42882147024504091,18269.094640829375,18368.102253286124,2761.2546211070671,2761.2546211070671,null,null,null,null,0,0,0,-0.1429404900816803,-0.1429404900816803,-0.1429404900816803,-0.1429404900816803,-9.9252244069795492E-2,-9.9252244069795492E-2,-0.12200240256365903,null,null,0,0,0,0,null,21.3,22.1,null,23.5,20.5,17.399999999999999,20.2,18.600000000000001,{"$f":"SUM(BB1167:BB1186)/30","v":13.423333333333334},14.07,0,14.246666666666666,12.709999999999999,11.290000000000001,14.18,11.379999999999999]
["2018-06-16",19.7,19.7,19.7,19.7,18.433333333333334,6.6639999999999997,6.6639999999999997,6.6639999999999997,6.6639999999999997,-2.1933333333333329,-2.1933333333333329,-2.1933333333333329,-2.1933333333333329,-0.32913165266106437,-0.32913165266106437,-0.32913165266106437,-0.32913165266106437,0,0,0,0,0.32913165266106437,0.32913165266106437,0.32913165266106437,0.32913165266106437,0,0.32913165266106437,18269.278609291923,18368.286221748673,2780.1792070803117,2780.1792070803117,null,null,null,null,0,0,0,-0.10971055088702146,-0.10971055088702146,-0.10971055088702146,-0.10971055088702146,-7.728714780902779E-2,-7.728714780902779E-2,-0.10379756040671999,null,null,0,0,0,0,null,19.7,20.399999999999999,null,21.2,18.8,17.100000000000001,22,17.7,{"$f":"SUM(BB1172:BB1191)/30","v":12.463333333333333},13.089999999999998,0,13.486666666666663,11.81,10.389999999999997,13.33333333333333,10.670000000000003]
["2018-06-18",20,20,20,20,18.333333333333332,6.7,6.7,6.7,6.7,-2.3333333333333335,-2.3333333333333335,-2.3333333333333335,-2.3333333333333335,-0.34825870646766172,-0.34825870646766172,-0.34825870646766172,-0.34825870646766172,0,0,0,0,0.34825870646766172,0.34825870646766172,0.34825870646766172,0.34825870646766172,0,0.34825870646766172,18269.278609291923,18368.286221748673,2798.6835294195216,2798.6835294195216,null,null,null,null,0,0,0,-0.11608623548922058,-0.11608623548922058,-0.11608623548922058,-0.11608623548922058,-0.12384144003741696,-0.12384144003741696,-0.12436357080756355,null,null,0,0,0,0,null,20,21.6,null,22.3,18.100000000000001,15.2,20,16.600000000000001,{"$f":"SUM(BB1174:BB1193)/30","v":12.216666666666667},12.876666666666663,0,13.236666666666666,11.546666666666669,10.146666666666667,13.119999999999997,10.376666666666669]
["2018-06-23",12.7,12.7,12.7,12.7,20.766666666666666,5.8239999999999998,5.8239999999999998,5.8239999999999998,5.8239999999999998,1.0733333333333337,1.0733333333333337,1.0733333333333337,1.0733333333333337,0.18429487179487186,0.18429487179487186,0.18429487179487186,0.18429487179487186,0.18429487179487186,0.18429487179487186,0.18429487179487186,0.18429487179487186,0,0,0,0,0.18429487179487186,0,18278.937143278712,18377.944755735462,2830.3211331953044,2830.3211331953044,null,null,null,null,0,0,0,6.1431623931623956E-2,6.1431623931623956E-2,6.1431623931623956E-2,6.1431623931623956E-2,-3.1805837220570767E-2,-3.1805837220570767E-2,5.2503597117791873E-2,null,null,1.0733333333333337,1.0733333333333337,1.0733333333333337,1.0733333333333337,null,12.7,13.2,null,13.7,11.7,9.1999999999999993,12.5,10.100000000000001,{"$f":"SUM(BB1179:BB1198)/30","v":11.600000000000001},12.126666666666665,0,12.553333333333336,10.916666666666664,9.7433333333333323,12.40666666666667,9.8699999999999992]
["2018-06-28",16.899999999999999,16.899999999999999,16.899999999999999,16.899999999999999,19.366666666666667,6.3279999999999994,6.3279999999999994,6.3279999999999994,6.3279999999999994,-0.88666666666666605,-0.88666666666666605,-0.88666666666666605,-0.88666666666666605,-0.14011799410029491,-0.14011799410029491,-0.14011799410029491,-0.14011799410029491,0,0,0,0,0.14011799410029491,0.14011799410029491,0.14011799410029491,0.14011799410029491,0,0.14011799410029491,18280.619386269365,18379.626998726115,2840.4506484054318,2840.4506484054318,null,null,null,null,0,0,0,-4.6705998033431638E-2,-4.6705998033431638E-2,-4.6705998033431638E-2,-4.6705998033431638E-2,-5.0637273147844275E-2,-5.0637273147844275E-2,-8.2213771205159256E-2,null,null,0,0,0,0,null,16.899999999999999,17.3,null,18.100000000000001,15.8,15.4,20.100000000000001,16.100000000000001,{"$f":"SUM(BB1184:BB1203)/30","v":12.07666666666667},12.290000000000003,0,12.916666666666664,11.433333333333334,10.330000000000004,12.52,10.036666666666665]
["2018-07-03",18.8,18.8,18.8,18.8,18.733333333333334,6.5559999999999992,6.5559999999999992,6.5559999999999992,6.5559999999999992,-1.7733333333333337,-1.7733333333333337,-1.7733333333333337,-1.7733333333333337,-0.2704901362619484,-0.2704901362619484,-0.2704901362619484,-0.2704901362619484,0,0,0,0,0.2704901362619484,0.2704901362619484,0.2704901362619484,0.2704901362619484,0,0.2704901362619484,18280.988049863834,18379.995662320584,2864.5033888133912,2864.5033888133912,null,null,null,null,0,0,0,-9.0163378753982795E-2,-9.0163378753982795E-2,-9.0163378753982795E-2,-9.0163378753982795E-2,-8.5520597071650953E-2,-8.5520597071650953E-2,-8.9372926417089535E-2,null,null,0,0,0,0,null,18.8,17.7,null,19.899999999999999,18,16.3,18.100000000000001,14.1,{"$f":"SUM(BB1189:BB1208)/30","v":11.893333333333336},12.096666666666668,0,12.71,11.296666666666665,10.183333333333332,12.469999999999999,9.8866666666666667]
["2018-07-10",17.8,17.8,17.8,17.8,19.066666666666666,6.4359999999999999,6.4359999999999999,6.4359999999999999,6.4359999999999999,-1.3066666666666671,-1.3066666666666671,-1.3066666666666671,-1.3066666666666671,-0.20302465299357786,-0.20302465299357786,-0.20302465299357786,-0.20302465299357786,0,0,0,0,0.20302465299357786,0.20302465299357786,0.20302465299357786,0.20302465299357786,0,0.20302465299357786,18280.988049863834,18379.995662320584,2927.2179720960162,2927.2179720960162,null,null,null,null,0,0,0,-6.767488433119262E-2,-6.767488433119262E-2,-6.767488433119262E-2,-6.767488433119262E-2,-9.0502993781421209E-2,-9.0502993781421209E-2,-7.8683326430448633E-2,null,null,0,0,0,0,null,17.8,19.600000000000001,null,19.600000000000001,16.8,13.899999999999999,20.9,16.3,{"$f":"SUM(BB1196:BB1215)/30","v":13.12},13.093333333333334,0,13.790000000000001,12.580000000000002,11.303333333333333,13.27,10.893333333333333]
["2018-07-15",21.4,21.4,21.4,21.4,17.866666666666667,6.8679999999999994,6.8679999999999994,6.8679999999999994,6.8679999999999994,-2.9866666666666659,-2.9866666666666659,-2.9866666666666659,-2.9866666666666659,-0.43486701611337597,-0.43486701611337597,-0.43486701611337597,-0.43486701611337597,0,0,0,0,0.43486701611337597,0.43486701611337597,0.43486701611337597,0.43486701611337597,0,0.43486701611337597,18280.988049863834,18379.995662320584,2962.2735890116469,2962.2735890116469,null,null,null,null,0,0,0,-0.144955672037792,-0.144955672037792,-0.144955672037792,-0.144955672037792,-0.13164443024371672,-0.13164443024371672,-0.1429239637480362,null,null,0,0,0,0,null,21.4,21.2,null,22.6,21,18.8,20.2,18.100000000000001,{"$f":"SUM(BB1201:BB1220)/30","v":13.986666666666668},14.066666666666663,0,14.486666666666668,13.459999999999999,11.990000000000002,14.103333333333332,11.7]
["2018-07-20",21.8,21.8,21.8,21.8,17.733333333333334,6.9159999999999995,6.9159999999999995,6.9159999999999995,6.9159999999999995,-3.1733333333333338,-3.1733333333333338,-3.1733333333333338,-3.1733333333333338,-0.45883940620782737,-0.45883940620782737,-0.45883940620782737,-0.45883940620782737,0,0,0,0,0.45883940620782737,0.45883940620782737,0.45883940620782737,0.45883940620782737,0,0.45883940620782737,18280.988049863834,18379.995662320584,3017.4248655546553,3017.4248655546553,null,null,null,null,0,0,0,-0.15294646873594245,-0.15294646873594245,-0.15294646873594245,-0.15294646873594245,-0.16484710045257114,-0.16484710045257114,-0.15942186651482124,null,null,0,0,0,0,null,21.8,22.4,null,22.7,21,19.600000000000001,21.5,17.8,{"$f":"SUM(BB1206:BB1225)/30","v":14.656666666666666},14.486666666666666,0,14.756666666666666,14.209999999999999,12.553333333333335,14.543333333333331,12.066666666666666]
["2018-07-27",24.4,24.4,24.4,24.4,16.866666666666667,7.2279999999999998,7.2279999999999998,7.2279999999999998,7.2279999999999998,-4.3866666666666658,-4.3866666666666658,-4.3866666666666658,-4.3866666666666658,-0.60689909610772907,-0.60689909610772907,-0.60689909610772907,-0.60689909610772907,0,0,0,0,0.60689909610772907,0.60689909610772907,0.60689909610772907,0.60689909610772907,0,0.60689909610772907,18280.988049863834,18379.995662320584,3113.3386129592368,3113.3386129592368,null,null,null,null,0,0,0,-0.20229969870257636,-0.20229969870257636,-0.20229969870257636,-0.20229969870257636,-0.21160067871643967,-0.21160067871643967,-0.20410696180432808,null,null,0,0,0,0,null,24.4,23.9,null,24.2,24.4,21,25,19.100000000000001,{"$f":"SUM(BB1213:BB1232)/30","v":16.256666666666668},15.703333333333335,0,16.123333333333331,15.866666666666664,14.323333333333332,15.62,12.763333333333332]
["2018-08-01",27.3,27.3,27.3,27.3,15.9,7.5760000000000005,7.5760000000000005,7.5760000000000005,7.5760000000000005,-5.74,-5.74,-5.74,-5.74,-0.75765575501583948,-0.75765575501583948,-0.75765575501583948,-0.75765575501583948,0,0,0,0,0.75765575501583948,0.75765575501583948,0.75765575501583948,0.75765575501583948,0,0.75765575501583948,18280.988049863834,18379.995662320584,3197.7449498740261,3197.7449498740261,null,null,null,null,0,0,0,-0.25255191833861318,-0.25255191833861318,-0.25255191833861318,-0.25255191833861318,-0.23979215189290315,-0.23979215189290315,-0.24699534395530365,null,null,0,0,0,0,null,27.3,25.2,null,26.4,27,24.8,25.5,19.8,{"$f":"SUM(BB1218:BB1237)/30","v":16.509999999999998},16.163333333333338,0,16.693333333333335,16.13,14.669999999999998,16.259999999999998,13.25]
["2018-08-06",22.4,22.4,22.4,22.4,17.533333333333335,6.9879999999999995,6.9879999999999995,6.9879999999999995,6.9879999999999995,-3.4533333333333327,-3.4533333333333327,-3.4533333333333327,-3.4533333333333327,-0.49418049990459828,-0.49418049990459828,-0.49418049990459828,-0.49418049990459828,0,0,0,0,0.49418049990459828,0.49418049990459828,0.49418049990459828,0.49418049990459828,0,0.49418049990459828,18280.988049863834,18379.995662320584,3273.426282184771,3273.426282184771,null,null,null,null,0,0,0,-0.16472683330153276,-0.16472683330153276,-0.16472683330153276,-0.16472683330153276,-0.20757667328877685,-0.20757667328877685,-0.1804287506094098,null,null,0,0,0,0,null,22.4,23.1,null,24.8,21.7,19.399999999999999,23.6,17.8,{"$f":"SUM(BB1223:BB1242)/30","v":16.059999999999995},16.029999999999998,0,16.779999999999998,15.669999999999998,14.099999999999998,16.189999999999998,13.166666666666668]
["2018-08-13",22.7,22.7,22.7,22.7,17.433333333333334,7.0239999999999991,7.0239999999999991,7.0239999999999991,7.0239999999999991,-3.5933333333333328,-3.5933333333333328,-3.5933333333333328,-3.5933333333333328,-0.51157934700075924,-0.51157934700075924,-0.51157934700075924,-0.51157934700075924,0,0,0,0,0.51157934700075924,0.51157934700075924,0.51157934700075924,0.51157934700075924,0,0.51157934700075924,18280.988049863834,18379.995662320584,3358.9788093023044,3358.9788093023044,null,null,null,null,0,0,0,-0.17052644900025307,-0.17052644900025307,-0.17052644900025307,-0.17052644900025307,-0.14203828830639792,-0.14203828830639792,-0.14732386703016284,null,null,0,0,0,0,null,22.7,22.9,null,25,22.5,20.399999999999999,23.5,19.5,{"$f":"SUM(BB1230:BB1249)/30","v":15.493333333333332},15.553333333333336,0,16.546666666666663,15.083333333333336,13.530000000000001,15.736666666666668,12.72]
["2018-08-19",25.3,25.3,25.3,25.3,16.566666666666666,7.3360000000000003,7.3360000000000003,7.3360000000000003,7.3360000000000003,-4.8066666666666675,-4.8066666666666675,-4.8066666666666675,-4.8066666666666675,-0.65521628498727746,-0.65521628498727746,-0.65521628498727746,-0.65521628498727746,0,0,0,0,0.65521628498727746,0.65521628498727746,0.65521628498727746,0.65521628498727746,0,0.65521628498727746,18280.988049863834,18379.995662320584,3433.3389854607376,3433.3389854607376,null,null,null,null,0,0,0,-0.21840542832909249,-0.21840542832909249,-0.21840542832909249,-0.21840542832909249,-0.18747389643609441,-0.18747389643609441,-0.20510855209042766,null,null,0,0,0,0,null,25.3,24,null,25.8,24.6,21.5,24.3,18.899999999999999,{"$f":"SUM(BB1236:BB1255)/30","v":14.356666666666666},14.56,0,15.336666666666666,13.936666666666669,12.283333333333335,14.903333333333334,11.91]
["2018-08-23",24.5,24.5,24.5,24.5,16.833333333333332,7.24,7.24,7.24,7.24,-4.4333333333333336,-4.4333333333333336,-4.4333333333333336,-4.4333333333333336,-0.61233885819521183,-0.61233885819521183,-0.61233885819521183,-0.61233885819521183,0,0,0,0,0.61233885819521183,0.61233885819521183,0.61233885819521183,0.61233885819521183,0,0.61233885819521183,18280.988049863834,18379.995662320584,3488.5965534856359,3488.5965534856359,null,null,null,null,0,0,0,-0.20411295273173727,-0.20411295273173727,-0.20411295273173727,-0.20411295273173727,-0.13536827974375937,-0.13536827974375937,-0.17474966503863307,null,null,0,0,0,0,null,24.5,23.9,null,26,24.3,22.1,23.6,19.3,{"$f":"SUM(BB1240:BB1259)/30","v":13.776666666666667},14.053333333333336,0,14.816666666666666,13.326666666666666,11.669999999999996,14.463333333333335,11.346666666666666]
["2018-08-30",19.100000000000001,19.100000000000001,19.100000000000001,19.100000000000001,18.633333333333333,6.5920000000000005,6.5920000000000005,6.5920000000000005,6.5920000000000005,-1.913333333333334,-1.913333333333334,-1.913333333333334,-1.913333333333334,-0.29025080906148876,-0.29025080906148876,-0.29025080906148876,-0.29025080906148876,0,0,0,0,0.29025080906148876,0.29025080906148876,0.29025080906148876,0.29025080906148876,0,0.29025080906148876,18280.988049863834,18379.995662320584,3528.035483517403,3528.035483517403,null,null,null,null,0,0,0,-9.6750269687162924E-2,-9.6750269687162924E-2,-9.6750269687162924E-2,-9.6750269687162924E-2,-5.773769864047245E-2,-5.773769864047245E-2,-7.834372583470299E-2,null,null,0,0,0,0,null,19.100000000000001,19.8,null,20.7,18.399999999999999,14.8,19.5,15.9,{"$f":"SUM(BB1247:BB1266)/30","v":12.743333333333332},12.01333333333333,0,13.793333333333333,12.280000000000003,10.713333333333333,13.863333333333333,10.673333333333334]
["2018-08-31",15.8,15.8,15.8,15.8,19.733333333333334,6.1959999999999997,6.1959999999999997,6.1959999999999997,6.1959999999999997,-0.37333333333333368,-0.37333333333333368,-0.37333333333333368,-0.37333333333333368,-6.0253927264902148E-2,-6.0253927264902148E-2,-6.0253927264902148E-2,-6.0253927264902148E-2,0,0,0,0,6.0253927264902148E-2,6.0253927264902148E-2,6.0253927264902148E-2,6.0253927264902148E-2,0,6.0253927264902148E-2,18280.988049863834,18379.995662320584,3529.4815777717608,3529.4815777717608,null,null,null,null,0,0,0,-2.008464242163405E-2,-2.008464242163405E-2,-2.008464242163405E-2,-2.008464242163405E-2,-6.2620118445846709E-2,-6.2620118445846709E-2,-3.2035996438861451E-2,null,null,0,0,0,0,null,15.8,18.600000000000001,null,19.5,15.3,11.899999999999999,20.3,15,{"$f":"SUM(BB1248:BB1267)/30","v":12.476666666666667},11.223333333333333,0,13.546666666666665,12.006666666666668,10.506666666666666,13.690000000000001,10.496666666666666]
["2018-09-09",17,{"$f":"$B1267+C$9","v":17},17,17,19.333333333333332,6.34,6.34,6.34,6.34,-0.93333333333333335,-0.93333333333333335,-0.93333333333333335,-0.93333333333333335,-0.14721345951629863,-0.14721345951629863,-0.14721345951629863,-0.14721345951629863,0,0,0,0,0.14721345951629863,0.14721345951629863,0.14721345951629863,0.14721345951629863,0,0.14721345951629863,18282.480388304873,18381.488000761623,3573.2948055944184,3573.2948055944184,null,null,null,null,0,0,0,-4.9071153172099542E-2,-4.9071153172099542E-2,-4.9071153172099542E-2,-4.9071153172099542E-2,-9.3418163027769244E-2,-9.3418163027769244E-2,-6.502039096085864E-2,null,null,0,0,0,0,null,17,null,null,18.7,16.399999999999999,14.4,18.600000000000001,13.399999999999999,12.023333333333337,5.1766666666666667,0,13.003333333333334,11.67,10.116666666666669,13.06,10.076666666666666]
["2018-09-12",22.1,22.1,22.1,22.1,17.633333333333333,6.952,6.952,6.952,6.952,-3.3133333333333339,-3.3133333333333339,-3.3133333333333339,-3.3133333333333339,-0.47660145761411593,-0.47660145761411593,-0.47660145761411593,-0.47660145761411593,0,0,0,0,0.47660145761411593,0.47660145761411593,0.47660145761411593,0.47660145761411593,0,0.47660145761411593,18282.480388304873,18381.488000761623,3601.9785596021761,3601.9785596021761,null,null,null,null,0,0,0,-0.15886715253803865,-0.15886715253803865,-0.15886715253803865,-0.15886715253803865,-8.0381857967256817E-2,-8.0381857967256817E-2,-0.12383256963567439,null,null,0,0,0,0,null,22.1,null,null,21.1,21.6,18.5,20,16.399999999999999,12.516666666666669,3.27,0,13.043333333333333,12.233333333333336,10.606666666666666,12.903333333333334,10.020000000000001]
["2018-09-17",17.399999999999999,17.399999999999999,17.399999999999999,17.399999999999999,19.2,6.3879999999999999,6.3879999999999999,6.3879999999999999,6.3879999999999999,-1.1199999999999994,-1.1199999999999994,-1.1199999999999994,-1.1199999999999994,-0.17532874139010637,-0.17532874139010637,-0.17532874139010637,-0.17532874139010637,0,0,0,0,0.17532874139010637,0.17532874139010637,0.17532874139010637,0.17532874139010637,0,0.17532874139010637,18282.480388304873,18381.488000761623,3615.9281230292449,3615.9281230292449,null,null,null,null,0,0,0,-5.8442913796702127E-2,-5.8442913796702127E-2,-5.8442913796702127E-2,-5.8442913796702127E-2,-7.8086967339967034E-2,-7.8086967339967034E-2,-6.905393393491259E-2,null,null,0,0,0,0,null,17.399999999999999,null,null,18.3,17.600000000000001,15.4,16.600000000000001,13.100000000000001,11.180000000000003,0,0,11.643333333333334,10.893333333333334,9.2633333333333372,11.243333333333334,8.7766666666666655]
["2018-09-26",8.6999999999999993,8.6999999999999993,8.6999999999999993,8.6999999999999993,22.1,5.3439999999999994,5.3439999999999994,5.3439999999999994,5.3439999999999994,2.9400000000000004,2.9400000000000004,2.9400000000000004,2.9400000000000004,0.55014970059880253,0.55014970059880253,0.55014970059880253,0.55014970059880253,0.55014970059880253,0.55014970059880253,0.55014970059880253,0.55014970059880253,0,0,0,0,0.55014970059880253,0,18325.876079075952,18424.883691532701,3656.0603552473831,3656.0603552473831,null,null,null,null,12.071428571428571,1,1,0.18338323353293418,0.18338323353293418,0.18338323353293418,0.18338323353293418,0.12074456376077633,0.12074456376077633,0.14261833692363171,null,null,2.9400000000000004,2.9400000000000004,2.9400000000000004,2.9400000000000004,null,8.6999999999999993,null,null,8.1000000000000014,8.6000000000000014,6.6000000000000014,8.3999999999999986,6.3999999999999986,8.8433333333333337,0,0,9.0299999999999976,8.6966666666666654,7.0333333333333341,8.6566666666666663,6.5700000000000012]
["2018-09-29",9,9,9,9,22,5.38,5.38,5.38,5.38,2.8,2.8,2.8,2.8,0.5204460966542751,0.5204460966542751,0.5204460966542751,0.5204460966542751,0.5204460966542751,0.5204460966542751,0.5204460966542751,0.5204460966542751,0,0,0,0,0.5204460966542751,0,18344.638839929667,18443.646452386416,3656.0603552473831,3656.0603552473831,null,null,null,null,10.378571428571428,1,1,0.17348203221809169,0.17348203221809169,0.17348203221809169,0.17348203221809169,0.14909165972157704,0.14909165972157704,0.13117572826654286,null,null,2.8,2.8,2.8,2.8,null,9,null,null,11,8.5,5.3000000000000007,11.899999999999999,7.3000000000000007,8.2466666666666661,0,0,8.6433333333333344,8.0833333333333339,6.5499999999999989,8.293333333333333,6.3766666666666669]
["2018-10-04",10.600000000000001,10.600000000000001,10.600000000000001,10.600000000000001,21.466666666666665,5.5720000000000001,5.5720000000000001,5.5720000000000001,5.5720000000000001,2.0533333333333328,2.0533333333333328,2.0533333333333328,2.0533333333333328,0.36850921273031817,0.36850921273031817,0.36850921273031817,0.36850921273031817,0.36850921273031817,0.36850921273031817,0.36850921273031817,0.36850921273031817,0,0,0,0,0.36850921273031817,0,18402.720356380749,18501.727968837498,3656.0603552473831,3656.0603552473831,null,null,null,null,11.178571428571429,1,1,0.12283640424343939,0.12283640424343939,0.12283640424343939,0.12283640424343939,0.12893004090375468,0.12893004090375468,0.10995321631954515,null,null,2.0533333333333328,2.0533333333333328,2.0533333333333328,2.0533333333333328,null,10.600000000000001,null,null,10.3,10.199999999999999,7.5,9.5,6.1000000000000014,7.5333333333333323,0,0,8.1833333333333336,7.4133333333333331,6.0733333333333341,7.9833333333333334,5.8766666666666652]
["2018-10-07",12.8,12.8,12.8,12.8,20.733333333333334,5.8359999999999994,5.8359999999999994,5.8359999999999994,5.8359999999999994,1.0266666666666664,1.0266666666666664,1.0266666666666664,1.0266666666666664,0.17591957962074478,0.17591957962074478,0.17591957962074478,0.17591957962074478,0.17591957962074478,0.17591957962074478,0.17591957962074478,0.17591957962074478,0,0,0,0,0.17591957962074478,0,18421.640305933757,18520.647918390507,3656.0603552473831,3656.0603552473831,null,null,null,null,12.178571428571429,1,1,5.8639859873581592E-2,5.8639859873581592E-2,5.8639859873581592E-2,5.8639859873581592E-2,9.3638906943606784E-2,9.3638906943606784E-2,8.2552825304004887E-2,null,null,1.0266666666666664,1.0266666666666664,1.0266666666666664,1.0266666666666664,null,12.8,null,null,15.6,12.7,11.2,13.899999999999999,11.899999999999999,8.1333333333333329,0,0,8.7966666666666651,8.0266666666666655,6.5866666666666678,8.3033333333333328,6.1466666666666656]
["2018-10-16",13,13,13,13,20.666666666666668,5.8599999999999994,5.8599999999999994,5.8599999999999994,5.8599999999999994,0.93333333333333335,0.93333333333333335,0.93333333333333335,0.93333333333333335,0.15927189988623439,0.15927189988623439,0.15927189988623439,0.15927189988623439,0.15927189988623439,0.15927189988623439,0.15927189988623439,0.15927189988623439,0,0,0,0,0.15927189988623439,0,18445.819822289945,18544.827434746694,3661.2692385009177,3661.2692385009177,null,null,null,null,12.328571428571431,1,1,5.3090633295411464E-2,5.3090633295411464E-2,5.3090633295411464E-2,5.3090633295411464E-2,4.7469514326495675E-2,4.7469514326495675E-2,4.6576250904438558E-2,null,null,0.93333333333333335,0.93333333333333335,0.93333333333333335,0.93333333333333335,null,13,null,null,15.3,12.7,10.5,11.7,9.3999999999999986,7.9900000000000011,0,0,8.8800000000000008,7.8199999999999994,6.53,8.4733333333333327,6.160000000000001]
["2018-10-21",8.6000000000000014,8.6000000000000014,8.6000000000000014,8.6000000000000014,22.133333333333333,5.3319999999999999,5.3319999999999999,5.3319999999999999,5.3319999999999999,2.9866666666666659,2.9866666666666659,2.9866666666666659,2.9866666666666659,0.56014003500875209,0.56014003500875209,0.56014003500875209,0.56014003500875209,0.56014003500875209,0.56014003500875209,0.56014003500875209,0.56014003500875209,0,0,0,0,0.56014003500875209,0,18490.124387106145,18589.131999562895,3661.2692385009177,3661.2692385009177,null,null,null,null,9.9071428571428584,1,1,0.18671334500291736,0.18671334500291736,0.18671334500291736,0.18671334500291736,0.1591223772764685,0.1591223772764685,0.18696267581123729,null,null,2.9866666666666659,2.9866666666666659,2.9866666666666659,2.9866666666666659,null,8.6000000000000014,null,null,8.3000000000000007,8.1000000000000014,6.8000000000000007,9.3000000000000007,4.8000000000000007,7.3966666666666674,0,0,8.2600000000000016,7.0966666666666649,5.6266666666666669,8.1933333333333334,6.01]
["2018-10-28",2.6999999999999993,2.6999999999999993,2.6999999999999993,2.6999999999999993,24.1,4.6239999999999997,4.6239999999999997,4.6239999999999997,4.6239999999999997,5.74,5.74,5.74,5.74,1.2413494809688583,1.2413494809688583,1.2413494809688583,1.2413494809688583,1.2413494809688583,1.2413494809688583,1.2413494809688583,1.2413494809688583,0,0,0,0,1.2413494809688583,0,18594.911350523056,18693.918962979806,3661.2692385009177,3661.2692385009177,null,null,null,null,8.8642857142857139,1,1,0.41378316032295276,0.41378316032295276,0.41378316032295276,0.41378316032295276,0.18722513347216121,0.18722513347216121,0.30103938815992248,null,null,5.74,5.74,5.74,5.74,null,2.6999999999999993,null,null,6,2.1999999999999993,0.19999999999999929,11.3,9.6000000000000014,6.2533333333333339,0,0,7.5266666666666664,5.8900000000000006,4.5000000000000009,8.0500000000000007,6.0233333333333325]
["2018-11-02",8,8,8,8,22.333333333333332,5.26,5.26,5.26,5.26,3.2666666666666666,3.2666666666666666,3.2666666666666666,3.2666666666666666,0.62103929024081117,0.62103929024081117,0.62103929024081117,0.62103929024081117,0.62103929024081117,0.62103929024081117,0.62103929024081117,0.62103929024081117,0,0,0,0,0.62103929024081117,0,18655.360060992545,18754.367673449295,3661.9979307585627,3661.9979307585627,null,null,null,null,9.0857142857142836,1,1,0.20701309674693705,0.20701309674693705,0.20701309674693705,0.20701309674693705,0.13635982137010533,0.13635982137010533,0.18248321608371809,null,null,3.2666666666666666,3.2666666666666666,3.2666666666666666,3.2666666666666666,null,8,null,null,13.2,8.6000000000000014,5.8000000000000007,14.8,13,6.15,0,0,7.29,5.7933333333333321,4.4899999999999993,7.1333333333333337,5.5466666666666677]
["2018-11-07",9.3999999999999986,9.3999999999999986,9.3999999999999986,9.3999999999999986,21.866666666666667,5.427999999999999,5.427999999999999,5.427999999999999,5.427999999999999,2.6133333333333342,2.6133333333333342,2.6133333333333342,2.6133333333333342,0.48145418816015745,0.48145418816015745,0.48145418816015745,0.48145418816015745,0.48145418816015745,0.48145418816015745,0.48145418816015745,0.48145418816015745,0,0,0,0,0.48145418816015745,0,18704.188276967085,18803.195889423834,3661.9979307585627,3661.9979307585627,null,null,null,null,9.0714285714285712,1,1,0.16048472938671915,0.16048472938671915,0.16048472938671915,0.16048472938671915,0.1447497200402226,0.1447497200402226,0.13749843322525321,null,null,2.6133333333333342,2.6133333333333342,2.6133333333333342,2.6133333333333342,null,9.3999999999999986,null,null,11.100000000000001,8.6999999999999993,8.5,8,6,5.4633333333333329,0,0,6.7733333333333343,5.1333333333333346,3.8133333333333335,6.8666666666666663,5.293333333333333]
["2018-11-08",10.100000000000001,10.100000000000001,10.100000000000001,10.100000000000001,21.633333333333333,5.5120000000000005,5.5120000000000005,5.5120000000000005,5.5120000000000005,2.2866666666666662,2.2866666666666662,2.2866666666666662,2.2866666666666662,0.41485244315432984,0.41485244315432984,0.41485244315432984,0.41485244315432984,0.41485244315432984,0.41485244315432984,0.41485244315432984,0.41485244315432984,0,0,0,0,0.41485244315432984,0,18714.144735602789,18813.152348059539,3661.9979307585627,3661.9979307585627,null,null,null,null,8.6714285714285726,1,1,0.13828414771810996,0.13828414771810996,0.13828414771810996,0.13828414771810996,0.15375561349690064,0.15375561349690064,0.16518770111841627,null,null,2.2866666666666662,2.2866666666666662,2.2866666666666662,2.2866666666666662,null,10.100000000000001,null,null,10,9.8999999999999986,8.6999999999999993,8.3999999999999986,5.8000000000000007,5.4199999999999982,0,0,6.6500000000000012,5.080000000000001,3.82,6.6066666666666665,4.9833333333333334]
["2018-11-14",6.1999999999999993,6.1999999999999993,6.1999999999999993,6.1999999999999993,22.933333333333334,5.0440000000000005,5.0440000000000005,5.0440000000000005,5.0440000000000005,4.1066666666666674,4.1066666666666674,4.1066666666666674,4.1066666666666674,0.81416864922019572,0.81416864922019572,0.81416864922019572,0.81416864922019572,0.81416864922019572,0.81416864922019572,0.81416864922019572,0.81416864922019572,0,0,0,0,0.81416864922019572,0,18802.166149627752,18901.173762084502,3661.9979307585627,3661.9979307585627,null,null,null,null,4.6785714285714306,1,1,0.27138954974006524,0.27138954974006524,0.27138954974006524,0.27138954974006524,0.31611980848796239,0.31611980848796239,0.27761878213983698,null,null,4.1066666666666674,4.1066666666666674,4.1066666666666674,4.1066666666666674,null,6.1999999999999993,null,null,6.8999999999999986,6.3000000000000007,3.8999999999999986,9.6000000000000014,4.5,3.7766666666666682,0,0,4.3433333333333337,3.523333333333333,2.4733333333333332,4.3966666666666656,2.5766666666666671]
["2018-11-19",0.10000000000000142,0.10000000000000142,0.10000000000000142,0.10000000000000142,24.966666666666669,4.3119999999999994,4.3119999999999994,4.3119999999999994,4.3119999999999994,6.9533333333333323,6.9533333333333323,6.9533333333333323,6.9533333333333323,1.6125541125541125,1.6125541125541125,1.6125541125541125,1.6125541125541125,1.6125541125541125,1.6125541125541125,1.6125541125541125,1.6125541125541125,0,0,0,0,1.6125541125541125,0,18979.017925652544,19078.025538109294,3661.9979307585627,3661.9979307585627,null,null,null,null,2.7571428571428567,1,1,0.53751803751803751,0.53751803751803751,0.53751803751803751,0.53751803751803751,0.50740790330446583,0.50740790330446583,0.5427027364709277,null,null,6.9533333333333323,6.9533333333333323,6.9533333333333323,6.9533333333333323,null,0.10000000000000142,null,null,1,-0.19999999999999929,-1.3999999999999986,2.3000000000000007,-2.1000000000000014,2.2366666666666659,0,0,2.9666666666666668,2.0566666666666666,0.96333333333333304,3.1066666666666669,1.3599999999999999]
["2018-11-25",3.3000000000000007,3.3000000000000007,3.3000000000000007,3.3000000000000007,23.9,4.6959999999999997,4.6959999999999997,4.6959999999999997,4.6959999999999997,5.4599999999999991,5.4599999999999991,5.4599999999999991,5.4599999999999991,1.1626916524701874,1.1626916524701874,1.1626916524701874,1.1626916524701874,1.1626916524701874,1.1626916524701874,1.1626916524701874,1.1626916524701874,0,0,0,0,1.1626916524701874,0,19161.151227047714,19260.158839504464,3661.9979307585627,3661.9979307585627,null,null,null,null,0.45000000000000029,1,1,0.3875638841567291,0.3875638841567291,0.3875638841567291,0.3875638841567291,0.47257949309409913,0.47257949309409913,0.36883844602302074,null,null,5.4599999999999991,5.4599999999999991,5.4599999999999991,5.4599999999999991,null,3.3000000000000007,null,null,5.3000000000000007,3.1000000000000014,2,5.8000000000000007,3.5,0.88000000000000012,0,0,1.0900000000000001,0.76333333333333364,9.9999999999999048E-3,1.0633333333333332,-0.7466666666666667]
["2018-12-01",-1.6999999999999993,-1.6999999999999993,-1.6999999999999993,-1.6999999999999993,25.566666666666666,4.0960000000000001,4.0960000000000001,4.0960000000000001,4.0960000000000001,7.793333333333333,7.793333333333333,7.793333333333333,7.793333333333333,1.9026692708333333,1.9026692708333333,1.9026692708333333,1.9026692708333333,1.9026692708333333,1.9026692708333333,1.9026692708333333,1.9026692708333333,0,0,0,0,1.9026692708333333,0,19438.331665607027,19537.339278063777,3661.9979307585627,3661.9979307585627,null,null,null,null,1.8500000000000003,1,1,0.63422309027777779,0.63422309027777779,0.63422309027777779,0.63422309027777779,0.53880702234587308,0.53880702234587308,0.60182175874263144,null,null,7.793333333333333,7.793333333333333,7.793333333333333,7.793333333333333,null,-1.6999999999999993,null,null,-3.2999999999999972,-0.39999999999999858,0,-7.2000000000000028,-10,1.6366666666666665,0,0,1.1066666666666667,1.5466666666666669,0.60333333333333339,0.38666666666666621,-0.83333333333333348]
["2018-12-07",8.8000000000000007,8.8000000000000007,8.8000000000000007,8.8000000000000007,22.066666666666666,5.3559999999999999,5.3559999999999999,5.3559999999999999,5.3559999999999999,2.8933333333333326,2.8933333333333326,2.8933333333333326,2.8933333333333326,0.54020413243714205,0.54020413243714205,0.54020413243714205,0.54020413243714205,0.54020413243714205,0.54020413243714205,0.54020413243714205,0.54020413243714205,0,0,0,0,0.54020413243714205,0,19592.770991444282,19691.778603901032,3661.9979307585627,3661.9979307585627,null,null,null,null,2.9,1,1,0.18006804414571401,0.18006804414571401,0.18006804414571401,0.18006804414571401,0.3281177768609167,0.3281177768609167,0.30736822652444201,null,null,2.8933333333333326,2.8933333333333326,2.8933333333333326,2.8933333333333326,null,8.8000000000000007,null,null,2.1000000000000014,9.3999999999999986,8.1999999999999993,-0.10000000000000142,-0.30000000000000071,0.84000000000000008,0,0,0.20000000000000012,0.73333333333333361,-0.18333333333333332,-0.59666666666666712,-2.0900000000000003]
["2018-12-12",1.1000000000000014,1.1000000000000014,1.1000000000000014,1.1000000000000014,24.633333333333333,4.4320000000000004,4.4320000000000004,4.4320000000000004,4.4320000000000004,6.4866666666666655,6.4866666666666655,6.4866666666666655,6.4866666666666655,1.4635980746089046,1.4635980746089046,1.4635980746089046,1.4635980746089046,1.4635980746089046,1.4635980746089046,1.4635980746089046,1.4635980746089046,0,0,0,0,1.4635980746089046,0,19720.017788177247,19819.025400633996,3661.9979307585627,3661.9979307585627,null,null,null,null,1.7500000000000002,1,1,0.48786602486963487,0.48786602486963487,0.48786602486963487,0.48786602486963487,0.50109782779857615,0.50109782779857615,0.53338087904874898,null,null,6.4866666666666655,6.4866666666666655,6.4866666666666655,6.4866666666666655,null,1.1000000000000014,null,null,0.5,0.19999999999999929,-1.5,0.69999999999999929,-2.3999999999999986,1.5799999999999994,0,0,0.31333333333333352,1.4166666666666667,0.50333333333333352,-0.66000000000000025,-2.0100000000000002]
["2018-12-18",1.6000000000000014,1.6000000000000014,1.6000000000000014,1.6000000000000014,24.466666666666669,4.492,4.492,4.492,4.492,6.2533333333333321,6.2533333333333321,6.2533333333333321,6.2533333333333321,1.3921044820421486,1.3921044820421486,1.3921044820421486,1.3921044820421486,1.3921044820421486,1.3921044820421486,1.3921044820421486,1.3921044820421486,0,0,0,0,1.3921044820421486,0,19981.864672801439,20080.872285258189,3661.9979307585627,3661.9979307585627,null,null,null,null,1.5928571428571432,1,1,0.46403482734738288,0.46403482734738288,0.46403482734738288,0.46403482734738288,0.51404358129804428,0.51404358129804428,0.50134328805256867,null,null,6.2533333333333321,6.2533333333333321,6.2533333333333321,6.2533333333333321,null,1.6000000000000014,null,null,0.30000000000000071,1.6000000000000014,0.39999999999999858,-1.8999999999999986,-6.7000000000000028,1.6833333333333333,0,0,0.92,1.26,0.15666666666666676,-0.57666666666666666,-1.7433333333333332]
["2018-12-24",2.3000000000000007,2.3000000000000007,2.3000000000000007,2.3000000000000007,24.233333333333334,4.5759999999999996,4.5759999999999996,4.5759999999999996,4.5759999999999996,5.9266666666666659,5.9266666666666659,5.9266666666666659,5.9266666666666659,1.2951631701631701,1.2951631701631701,1.2951631701631701,1.2951631701631701,1.2951631701631701,1.2951631701631701,1.2951631701631701,1.2951631701631701,0,0,0,0,1.2951631701631701,0,20138.443006981852,20237.450619438601,3661.9979307585627,3661.9979307585627,null,null,null,null,3.9357142857142859,1,1,0.43172105672105671,0.43172105672105671,0.43172105672105671,0.43172105672105671,0.32241975975426501,0.32241975975426501,0.36442862702930467,null,null,5.9266666666666659,5.9266666666666659,5.9266666666666659,5.9266666666666659,null,2.3000000000000007,null,null,3.1999999999999993,1.8000000000000007,0.30000000000000071,1,-0.89999999999999858,1.8633333333333335,0,0,1.1666666666666667,1.4233333333333333,0.32000000000000017,-0.41333333333333327,-1.5333333333333334]
["2018-12-29",3.8000000000000007,3.8000000000000007,3.8000000000000007,3.8000000000000007,23.733333333333334,4.7559999999999993,4.7559999999999993,4.7559999999999993,4.7559999999999993,5.2266666666666657,5.2266666666666657,5.2266666666666657,5.2266666666666657,1.0989627137650686,1.0989627137650686,1.0989627137650686,1.0989627137650686,1.0989627137650686,1.0989627137650686,1.0989627137650686,1.0989627137650686,0,0,0,0,1.0989627137650686,0,20270.208871793246,20369.216484249995,3661.9979307585627,3661.9979307585627,null,null,null,null,3.1928571428571431,1,1,0.3663209045883562,0.3663209045883562,0.3663209045883562,0.3663209045883562,0.3375487202293988,0.3375487202293988,0.34441684084347446,null,null,5.2266666666666657,5.2266666666666657,5.2266666666666657,5.2266666666666657,null,3.8000000000000007,null,null,4.6999999999999993,2.6999999999999993,0,1.8999999999999986,0.80000000000000071,2.0900000000000003,0,0,1.1833333333333333,1.5466666666666669,0.68000000000000016,-0.73999999999999977,-1.543333333333333]
["2019-01-05",4.3000000000000007,4.3000000000000007,4.3000000000000007,4.3000000000000007,23.566666666666666,4.8159999999999998,4.8159999999999998,4.8159999999999998,4.8159999999999998,4.9933333333333332,4.9933333333333332,4.9933333333333332,4.9933333333333332,1.0368217054263567,1.0368217054263567,1.0368217054263567,1.0368217054263567,1.0368217054263567,1.0368217054263567,1.0368217054263567,1.0368217054263567,0,0,0,0,1.0368217054263567,0,20491.680680465935,20590.688292922685,3661.9979307585627,3661.9979307585627,null,null,null,null,1.6785714285714288,1,1,0.34560723514211888,0.34560723514211888,0.34560723514211888,0.34560723514211888,0.50047544632973906,0.50047544632973906,0.48686361863824629,null,null,4.9933333333333332,4.9933333333333332,4.9933333333333332,4.9933333333333332,null,4.3000000000000007,null,null,2.5,3.1999999999999993,1.3000000000000007,-4,-5.6000000000000014,1.54,0,0,1.1266666666666665,0.93333333333333335,5.6666666666666643E-2,-1.2066666666666668,-2.1766666666666663]
["2019-01-10",0.19999999999999929,0.19999999999999929,0.19999999999999929,0.19999999999999929,24.933333333333334,4.3239999999999998,4.3239999999999998,4.3239999999999998,4.3239999999999998,6.9066666666666672,6.9066666666666672,6.9066666666666672,6.9066666666666672,1.5972864631514032,1.5972864631514032,1.5972864631514032,1.5972864631514032,1.5972864631514032,1.5972864631514032,1.5972864631514032,1.5972864631514032,0,0,0,0,1.5972864631514032,0,20663.425042339928,20762.432654796678,3661.9979307585627,3661.9979307585627,null,null,null,null,1.9928571428571431,1,1,0.53242882105046774,0.53242882105046774,0.53242882105046774,0.53242882105046774,0.47666090096836827,0.47666090096836827,0.5669501338252193,null,null,6.9066666666666672,6.9066666666666672,6.9066666666666672,6.9066666666666672,null,0.19999999999999929,null,null,0.80000000000000071,-0.89999999999999858,-1.8999999999999986,-2,-4.7000000000000028,1.0433333333333334,0,0,0.66666666666666674,0.47000000000000003,-0.46333333333333326,null,-2.6799999999999997]
["2019-01-15",2.1999999999999993,{"$f":"$B1395+C$9","v":2.1999999999999993},2.1999999999999993,2.1999999999999993,24.266666666666666,4.5640000000000001,4.5640000000000001,4.5640000000000001,4.5640000000000001,5.9733333333333336,5.9733333333333336,5.9733333333333336,5.9733333333333336,1.3087934560327199,1.3087934560327199,1.3087934560327199,1.3087934560327199,1.3087934560327199,1.3087934560327199,1.3087934560327199,1.3087934560327199,0,0,0,0,1.3087934560327199,0,20830.56563176843,20929.573244225179,3661.9979307585627,3661.9979307585627,null,null,null,null,-7.1428571428577515E-3,1,1,0.43626448534423995,0.43626448534423995,0.43626448534423995,0.43626448534423995,0.412355734847763,0.412355734847763,0.40878647628650189,null,null,5.9733333333333336,5.9733333333333336,5.9733333333333336,5.9733333333333336,null,2.1999999999999993,null,null,1.6999999999999993,1.3999999999999986,-0.60000000000000142,-2.8999999999999986,-4.2999999999999972,-3.6666666666666833E-2,0,0,-0.24333333333333301,-0.52999999999999992,-1.5999999999999999,null,-3.6100000000000003]
["2019-01-17",5.3999999999999986,5.3999999999999986,5.3999999999999986,5.3999999999999986,23.2,4.9479999999999995,4.9479999999999995,4.9479999999999995,4.9479999999999995,4.4800000000000013,4.4800000000000013,4.4800000000000013,4.4800000000000013,0.90541632983023479,0.90541632983023479,0.90541632983023479,0.90541632983023479,0.90541632983023479,0.90541632983023479,0.90541632983023479,0.90541632983023479,0,0,0,0,0.90541632983023479,0,20877.771416672669,20976.779029129419,3661.9979307585627,3661.9979307585627,null,null,null,null,-0.87142857142857189,1,1,0.30180544327674491,0.30180544327674491,0.30180544327674491,0.30180544327674491,0.52305499621839435,0.52305499621839435,0.41521620803136039,null,null,4.4800000000000013,4.4800000000000013,4.4800000000000013,4.4800000000000013,null,5.3999999999999986,null,null,3.6000000000000014,4.6999999999999993,1.8000000000000007,-0.60000000000000142,3.3999999999999986,-0.31666666666666693,0,0,-0.53999999999999959,-0.78333333333333321,-1.8866666666666663,null,-3.6866666666666674]
["2019-01-22",-5.6000000000000014,-5.6000000000000014,-5.6000000000000014,-5.6000000000000014,26.866666666666667,3.6279999999999997,3.6279999999999997,3.6279999999999997,3.6279999999999997,9.6133333333333351,9.6133333333333351,9.6133333333333351,9.6133333333333351,2.6497611172363107,2.6497611172363107,2.6497611172363107,2.6497611172363107,2.6497611172363107,2.6497611172363107,2.6497611172363107,2.6497611172363107,0,0,0,0,2.6497611172363107,0,21156.502688566794,21255.510301023543,3661.9979307585627,3661.9979307585627,null,null,null,null,-1.1428571428571435,1,1,0.88325370574543693,0.88325370574543693,0.88325370574543693,0.88325370574543693,0.825453713561214,0.825453713561214,0.89351386223514551,null,null,9.6133333333333351,9.6133333333333351,9.6133333333333351,9.6133333333333351,null,-5.6000000000000014,null,null,-7.7999999999999972,-5.5,-8.7999999999999972,null,-11,-0.22000000000000028,0,0,-0.88666666666666649,-0.67999999999999983,-1.9666666666666661,null,-2.9266666666666672]
["2019-02-01",0.60000000000000142,0.60000000000000142,0.60000000000000142,0.60000000000000142,24.8,4.3719999999999999,4.3719999999999999,4.3719999999999999,4.3719999999999999,6.7199999999999989,6.7199999999999989,6.7199999999999989,6.7199999999999989,1.5370539798719121,1.5370539798719121,1.5370539798719121,1.5370539798719121,1.5370539798719121,1.5370539798719121,1.5370539798719121,1.5370539798719121,0,0,0,0,1.5370539798719121,0,21585.139725868241,21684.14733832499,3661.9979307585627,3661.9979307585627,null,null,null,null,0.34285714285714314,1,1,0.51235132662397065,0.51235132662397065,0.51235132662397065,0.51235132662397065,0.53123193089190146,0.53123193089190146,0.49451367651592792,null,null,6.7199999999999989,6.7199999999999989,6.7199999999999989,6.7199999999999989,null,0.60000000000000142,null,null,1.1999999999999993,-0.19999999999999929,-3,null,-1.1999999999999993,-0.17666666666666658,0,0,-0.80000000000000016,-0.66333333333333289,-1.8799999999999997,null,-2.3033333333333328]
["2019-02-03",0.30000000000000071,0.30000000000000071,0.30000000000000071,0.30000000000000071,24.9,4.3359999999999994,4.3359999999999994,4.3359999999999994,4.3359999999999994,6.8599999999999994,6.8599999999999994,6.8599999999999994,6.8599999999999994,1.5821033210332105,1.5821033210332105,1.5821033210332105,1.5821033210332105,1.5821033210332105,1.5821033210332105,1.5821033210332105,1.5821033210332105,0,0,0,0,1.5821033210332105,0,21653.222954922559,21752.230567379309,3661.9979307585627,3661.9979307585627,null,null,null,null,0.75000000000000022,1,1,0.5273677736777368,0.5273677736777368,0.5273677736777368,0.5273677736777368,0.56400989251639022,0.56400989251639022,0.51549159679836454,null,null,6.8599999999999994,6.8599999999999994,6.8599999999999994,6.8599999999999994,null,0.30000000000000071,null,null,3.8000000000000007,-0.39999999999999858,-1.5,null,3.6000000000000014,0.42000000000000004,0,0,-0.13000000000000006,-0.10333333333333303,-1.2533333333333332,null,-1.5833333333333328]
["2019-02-08",2.5,2.5,2.5,2.5,24.166666666666668,4.5999999999999996,4.5999999999999996,4.5999999999999996,4.5999999999999996,5.833333333333333,5.833333333333333,5.833333333333333,5.833333333333333,1.2681159420289856,1.2681159420289856,1.2681159420289856,1.2681159420289856,1.2681159420289856,1.2681159420289856,1.2681159420289856,1.2681159420289856,0,0,0,0,1.2681159420289856,0,21871.707566695775,21970.715179152525,3661.9979307585627,3661.9979307585627,null,null,null,null,1.8642857142857141,1,1,0.42270531400966188,0.42270531400966188,0.42270531400966188,0.42270531400966188,0.48839247414463954,0.48839247414463954,0.47827120573308884,null,null,5.833333333333333,5.833333333333333,5.833333333333333,5.833333333333333,null,2.5,null,null,1.6000000000000014,2.1000000000000014,0.89999999999999858,null,-3.7999999999999972,0.97666666666666657,0,0,0.82666666666666666,0.73000000000000032,-0.46999999999999992,null,-0.73]
["2019-02-16",0.89999999999999858,0.89999999999999858,0.89999999999999858,0.89999999999999858,24.7,4.4079999999999995,4.4079999999999995,4.4079999999999995,4.4079999999999995,6.580000000000001,6.580000000000001,6.580000000000001,6.580000000000001,1.4927404718693289,1.4927404718693289,1.4927404718693289,1.4927404718693289,1.4927404718693289,1.4927404718693289,1.4927404718693289,1.4927404718693289,0,0,0,0,1.4927404718693289,0,22086.569805401385,22185.577417858134,3661.9979307585627,3661.9979307585627,null,null,null,null,3.2571428571428567,1,1,0.49758015728977628,0.49758015728977628,0.49758015728977628,0.49758015728977628,0.39544992548898128,0.39544992548898128,0.43903887156367838,null,null,6.580000000000001,6.580000000000001,6.580000000000001,6.580000000000001,null,0.89999999999999858,null,null,3.5,3.6000000000000014,3]
["2019-02-20",4.5,4.5,4.5,4.5,23.5,4.84,4.84,4.84,4.84,4.9000000000000004,4.9000000000000004,4.9000000000000004,4.9000000000000004,1.0123966942148761,1.0123966942148761,1.0123966942148761,1.0123966942148761,1.0123966942148761,1.0123966942148761,1.0123966942148761,1.0123966942148761,0,0,0,0,1.0123966942148761,0,22199.312825009492,22298.320437466242,3661.9979307585627,3661.9979307585627,null,null,null,null,3.5285714285714289,1,1,0.33746556473829203,0.33746556473829203,0.33746556473829203,0.33746556473829203,0.41274581702888774,0.41274581702888774,0.31668639957410011,null,null,4.9000000000000004,4.9000000000000004,4.9000000000000004,4.9000000000000004,null,4.5,null,null,4.8000000000000007,4.1999999999999993,2.3999999999999986]
["2019-02-25",6.3000000000000007,6.3000000000000007,6.3000000000000007,6.3000000000000007,22.9,5.056,5.056,5.056,5.056,4.0599999999999996,4.0599999999999996,4.0599999999999996,4.0599999999999996,0.803006329113924,0.803006329113924,0.803006329113924,0.803006329113924,0.803006329113924,0.803006329113924,0.803006329113924,0.803006329113924,0,0,0,0,0.803006329113924,0,22355.190352393936,22454.197964850686,3661.9979307585627,3661.9979307585627,null,null,null,null,5.635714285714287,1,1,0.26766877637130798,0.26766877637130798,0.26766877637130798,0.26766877637130798,0.35854697345666425,0.35854697345666425,0.35415935355241529,null,null,4.0599999999999996,4.0599999999999996,4.0599999999999996,4.0599999999999996,null,6.3000000000000007,null,null,6.3999999999999986,6.1000000000000014,4.5]
["2019-03-05",5.5,5.5,5.5,5.5,23.166666666666668,4.96,4.96,4.96,4.96,4.4333333333333336,4.4333333333333336,4.4333333333333336,4.4333333333333336,0.89381720430107536,0.89381720430107536,0.89381720430107536,0.89381720430107536,0.89381720430107536,0.89381720430107536,0.89381720430107536,0.89381720430107536,0,0,0,0,0.89381720430107536,0,22481.024396244469,22580.032008701219,3661.9979307585627,3661.9979307585627,null,null,null,null,7.1214285714285683,1,1,0.29793906810035847,0.29793906810035847,0.29793906810035847,0.29793906810035847,0.22899137873837289,0.22899137873837289,0.22846484553597626,null,null,4.4333333333333336,4.4333333333333336,4.4333333333333336,4.4333333333333336,null,5.5,null,null,6.6999999999999993,4.5,2.6000000000000014]
["2019-03-09",7.6000000000000014,7.6000000000000014,7.6000000000000014,7.6000000000000014,22.466666666666665,5.2119999999999997,5.2119999999999997,5.2119999999999997,5.2119999999999997,3.4533333333333327,3.4533333333333327,3.4533333333333327,3.4533333333333327,0.66257354822205161,0.66257354822205161,0.66257354822205161,0.66257354822205161,0.66257354822205161,0.66257354822205161,0.66257354822205161,0.66257354822205161,0,0,0,0,0.66257354822205161,0,22544.827351185137,22643.834963641886,3661.9979307585627,3661.9979307585627,null,null,null,null,7,1,1,0.22085784940735054,0.22085784940735054,0.22085784940735054,0.22085784940735054,0.26556520291947766,0.26556520291947766,0.22437520832320132,null,null,3.4533333333333327,3.4533333333333327,3.4533333333333327,3.4533333333333327,null,7.6000000000000014,null,null,7.1000000000000014,6.6000000000000014,4.6000000000000014]
["2019-03-14",5.8000000000000007,5.8000000000000007,5.8000000000000007,5.8000000000000007,23.066666666666666,4.9959999999999996,4.9959999999999996,4.9959999999999996,4.9959999999999996,4.293333333333333,4.293333333333333,4.293333333333333,4.293333333333333,0.85935414998665605,0.85935414998665605,0.85935414998665605,0.85935414998665605,0.85935414998665605,0.85935414998665605,0.85935414998665605,0.85935414998665605,0,0,0,0,0.85935414998665605,0,22653.445282744182,22752.452895200931,3661.9979307585627,3661.9979307585627,null,null,null,null,6.4857142857142867,1,1,0.28645138332888537,0.28645138332888537,0.28645138332888537,0.28645138332888537,0.26454369747395851,0.26454369747395851,0.25221198789641242,null,null,4.293333333333333,4.293333333333333,4.293333333333333,4.293333333333333,null,5.8000000000000007,null,null,5.3999999999999986,4.6000000000000014,2.3999999999999986]
["2019-03-16",7.3999999999999986,7.3999999999999986,7.3999999999999986,7.3999999999999986,22.533333333333335,5.1879999999999997,5.1879999999999997,5.1879999999999997,5.1879999999999997,3.5466666666666673,3.5466666666666673,3.5466666666666673,3.5466666666666673,0.6836288871755335,0.6836288871755335,0.6836288871755335,0.6836288871755335,0.6836288871755335,0.6836288871755335,0.6836288871755335,0.6836288871755335,0,0,0,0,0.6836288871755335,0,22685.754141193724,22784.761753650473,3661.9979307585627,3661.9979307585627,null,null,null,null,6.9714285714285706,1,1,0.22787629572517784,0.22787629572517784,0.22787629572517784,0.22787629572517784,0.25115131203954638,0.25115131203954638,0.19154447523602269,null,null,3.5466666666666673,3.5466666666666673,3.5466666666666673,3.5466666666666673,null,7.3999999999999986,null,null,6.5,6.6000000000000014,4.8999999999999986]
["2019-03-26",5.3999999999999986,5.3999999999999986,5.3999999999999986,5.3999999999999986,23.2,4.9479999999999995,4.9479999999999995,4.9479999999999995,4.9479999999999995,4.4800000000000013,4.4800000000000013,4.4800000000000013,4.4800000000000013,0.90541632983023479,0.90541632983023479,0.90541632983023479,0.90541632983023479,0.90541632983023479,0.90541632983023479,0.90541632983023479,0.90541632983023479,0,0,0,0,0.90541632983023479,0,22848.455540644634,22947.463153101384,3661.9979307585627,3661.9979307585627,null,null,null,null,8.1785714285714288,1,1,0.30180544327674491,0.30180544327674491,0.30180544327674491,0.30180544327674491,0.21233287468067266,0.21233287468067266,0.28153409629792309,null,null,4.4800000000000013,4.4800000000000013,4.4800000000000013,4.4800000000000013,null,5.3999999999999986,null,null,5.8000000000000007,4.3999999999999986,2]
["2019-03-27",6.1000000000000014,6.1000000000000014,6.1000000000000014,6.1000000000000014,22.966666666666665,5.032,5.032,5.032,5.032,4.1533333333333324,4.1533333333333324,4.1533333333333324,4.1533333333333324,0.82538420773714871,0.82538420773714871,0.82538420773714871,0.82538420773714871,0.82538420773714871,0.82538420773714871,0.82538420773714871,0.82538420773714871,0,0,0,0,0.82538420773714871,0,22868.264761630326,22967.272374087075,3661.9979307585627,3661.9979307585627,null,null,null,null,8.6428571428571423,1,1,0.27512806924571626,0.27512806924571626,0.27512806924571626,0.27512806924571626,0.22410596666776469,0.22410596666776469,0.26017493749062653,null,null,4.1533333333333324,4.1533333333333324,4.1533333333333324,4.1533333333333324,null,6.1000000000000014,null,null,6.6999999999999993,5.1999999999999993,3.3000000000000007]
["2019-04-02",8.6999999999999993,8.6999999999999993,8.6999999999999993,8.6999999999999993,22.1,5.3439999999999994,5.3439999999999994,5.3439999999999994,5.3439999999999994,2.9400000000000004,2.9400000000000004,2.9400000000000004,2.9400000000000004,0.55014970059880253,0.55014970059880253,0.55014970059880253,0.55014970059880253,0.55014970059880253,0.55014970059880253,0.55014970059880253,0.55014970059880253,0,0,0,0,0.55014970059880253,0,22946.605387002222,23045.612999458972,3661.9979307585627,3661.9979307585627,null,null,null,null,10.221428571428573,1,1,0.18338323353293418,0.18338323353293418,0.18338323353293418,0.18338323353293418,0.12380382886604129,0.12380382886604129,0.15967602531767852,null,null,2.9400000000000004,2.9400000000000004,2.9400000000000004,2.9400000000000004,null,8.6999999999999993,null,null,9.8000000000000007,8,6.6000000000000014]
["2019-04-07",10.199999999999999,10.199999999999999,10.199999999999999,10.199999999999999,21.6,5.524,5.524,5.524,5.524,2.2400000000000007,2.2400000000000007,2.2400000000000007,2.2400000000000007,0.40550325850832741,0.40550325850832741,0.40550325850832741,0.40550325850832741,0.40550325850832741,0.40550325850832741,0.40550325850832741,0.40550325850832741,0,0,0,0,0.40550325850832741,0,22974.287561322173,23073.295173778923,3661.9979307585627,3661.9979307585627,null,null,null,null,8.8214285714285712,1,1,0.13516775283610913,0.13516775283610913,0.13516775283610913,0.13516775283610913,0.10885656516983865,0.10885656516983865,9.3630866108372401E-2,null,null,2.2400000000000007,2.2400000000000007,2.2400000000000007,2.2400000000000007,null,10.199999999999999,null,null,10.399999999999999,10,8.3000000000000007]
["2019-04-13",4.3999999999999986,4.3999999999999986,4.3999999999999986,4.3999999999999986,23.533333333333335,4.8279999999999994,4.8279999999999994,4.8279999999999994,4.8279999999999994,4.9466666666666681,4.9466666666666681,4.9466666666666681,4.9466666666666681,1.0245788456227565,1.0245788456227565,1.0245788456227565,1.0245788456227565,1.0245788456227565,1.0245788456227565,1.0245788456227565,1.0245788456227565,0,0,0,0,1.0245788456227565,0,23083.217894592599,23182.225507049348,3661.9979307585627,3661.9979307585627,null,null,null,null,8.9928571428571438,1,1,0.34152628187425216,0.34152628187425216,0.34152628187425216,0.34152628187425216,0.28976017751057731,0.28976017751057731,0.35705502210040141,null,null,4.9466666666666681,4.9466666666666681,4.9466666666666681,4.9466666666666681,null,4.3999999999999986,null,null,4.6999999999999993,3.3000000000000007,0.89999999999999858]
["2019-04-19",14.8,14.8,14.8,14.8,20.066666666666666,6.0759999999999996,6.0759999999999996,6.0759999999999996,6.0759999999999996,9.3333333333333005E-2,9.3333333333333005E-2,9.3333333333333005E-2,9.3333333333333005E-2,1.5360983102918533E-2,1.5360983102918533E-2,1.5360983102918533E-2,1.5360983102918533E-2,1.5360983102918533E-2,1.5360983102918533E-2,1.5360983102918533E-2,1.5360983102918533E-2,0,0,0,0,1.5360983102918533E-2,0,23148.524822427753,23247.532434884502,3661.9979307585627,3661.9979307585627,null,null,null,null,11.95,1,1,5.120327700972844E-3,5.120327700972844E-3,5.120327700972844E-3,5.120327700972844E-3,7.245442264656575E-2,7.245442264656575E-2,3.1907874354929873E-2,null,null,9.3333333333333005E-2,9.3333333333333005E-2,9.3333333333333005E-2,9.3333333333333005E-2,null,14.8,null,null,15.2,13.5,12.8]
["2019-04-25",17.899999999999999,17.899999999999999,17.899999999999999,17.899999999999999,19.033333333333335,6.4479999999999986,6.4479999999999986,6.4479999999999986,6.4479999999999986,-1.3533333333333326,-1.3533333333333326,-1.3533333333333326,-1.3533333333333326,-0.20988420181968562,-0.20988420181968562,-0.20988420181968562,-0.20988420181968562,0,0,0,0,0.20988420181968562,0.20988420181968562,0.20988420181968562,0.20988420181968562,0,0.20988420181968562,23162.767870517393,23261.775482974143,3667.400925606154,3667.400925606154,null,null,null,null,13.1,1,1,-6.9961400606561877E-2,-6.9961400606561877E-2,-6.9961400606561877E-2,-6.9961400606561877E-2,3.8086392909022222E-2,3.8086392909022222E-2,-4.6807140253078396E-2,null,null,0,0,0,0,null,17.899999999999999,null,null,18.3,17.399999999999999,15.6]
["2019-04-30",11.2,11.2,11.2,11.2,21.266666666666666,5.6440000000000001,5.6440000000000001,5.6440000000000001,5.6440000000000001,1.7733333333333337,1.7733333333333337,1.7733333333333337,1.7733333333333337,0.31419796834396413,0.31419796834396413,0.31419796834396413,0.31419796834396413,0.31419796834396413,0.31419796834396413,0.31419796834396413,0.31419796834396413,0,0,0,0,0.31419796834396413,0,23203.833082559177,23302.840695015926,3672.1082730532275,3672.1082730532275,null,null,null,null,10.742857142857142,1,1,0.10473265611465471,0.10473265611465471,0.10473265611465471,0.10473265611465471,0.1248948297585214,0.1248948297585214,0.13783530962639781,null,null,1.7733333333333337,1.7733333333333337,1.7733333333333337,1.7733333333333337,null,11.2,null,null,12.8,10.199999999999999,8.5]
["2019-05-06",6.6000000000000014,6.6000000000000014,6.6000000000000014,6.6000000000000014,22.8,5.0919999999999996,5.0919999999999996,5.0919999999999996,5.0919999999999996,3.9199999999999995,3.9199999999999995,3.9199999999999995,3.9199999999999995,0.76983503534956788,0.76983503534956788,0.76983503534956788,0.76983503534956788,0.76983503534956788,0.76983503534956788,0.76983503534956788,0.76983503534956788,0,0,0,0,0.76983503534956788,0,23284.905530780117,23383.913143236867,3672.1082730532275,3672.1082730532275,null,null,null,null,10,1,1,0.25661167844985594,0.25661167844985594,0.25661167844985594,0.25661167844985594,0.19691268939493886,0.19691268939493886,0.26427094952745483,null,null,3.9199999999999995,3.9199999999999995,3.9199999999999995,3.9199999999999995,null,6.6000000000000014,null,null,8,5.1999999999999993,2.3000000000000007]
["2019-05-12",9.8999999999999986,9.8999999999999986,9.8999999999999986,9.8999999999999986,21.7,5.4879999999999995,5.4879999999999995,5.4879999999999995,5.4879999999999995,2.3800000000000008,2.3800000000000008,2.3800000000000008,2.3800000000000008,0.43367346938775531,0.43367346938775531,0.43367346938775531,0.43367346938775531,0.43367346938775531,0.43367346938775531,0.43367346938775531,0.43367346938775531,0,0,0,0,0.43367346938775531,0,23334.31549676057,23433.323109217319,3672.1082730532275,3672.1082730532275,null,null,null,null,10.528571428571428,1,1,0.14455782312925178,0.14455782312925178,0.14455782312925178,0.14455782312925178,0.14001342830837762,0.14001342830837762,0.13112425034405109,null,null,2.3800000000000008,2.3800000000000008,2.3800000000000008,2.3800000000000008,null,9.8999999999999986,null,null,null,8.8999999999999986,7.3000000000000007]
["2019-05-17",12,12,12,12,21,5.74,5.74,5.74,5.74,1.4,1.4,1.4,1.4,0.24390243902439021,0.24390243902439021,0.24390243902439021,0.24390243902439021,0.24390243902439021,0.24390243902439021,0.24390243902439021,0.24390243902439021,0,0,0,0,0.24390243902439021,0,23401.060341768331,23500.06795422508,3672.1082730532275,3672.1082730532275,null,null,null,null,11.842857142857143,1,1,8.1300813008130066E-2,8.1300813008130066E-2,8.1300813008130066E-2,8.1300813008130066E-2,0.11176675458031217,0.11176675458031217,0.10618968076831552,null,null,1.4,1.4,1.4,1.4,null,12,null,null,null,11.100000000000001,9.1000000000000014]
["2019-05-23",13,{"$f":"$B1523+C$9","v":13},13,13,20.666666666666668,5.8599999999999994,5.8599999999999994,5.8599999999999994,5.8599999999999994,0.93333333333333335,0.93333333333333335,0.93333333333333335,0.93333333333333335,0.15927189988623439,0.15927189988623439,0.15927189988623439,0.15927189988623439,0.15927189988623439,0.15927189988623439,0.15927189988623439,0.15927189988623439,0,0,0,0,0.15927189988623439,0,23411.303886169037,23510.311498625786,3676.176817838003,3676.176817838003,null,null,null,null,14.650000000000004,1,1,5.3090633295411464E-2,5.3090633295411464E-2,5.3090633295411464E-2,5.3090633295411464E-2,6.8039498318150536E-3,6.8039498318150536E-3,3.8766926466598586E-2,null,null,0.93333333333333335,0.93333333333333335,0.93333333333333335,0.93333333333333335,null,13,null,null,null,12.399999999999999,11.7]
["2019-05-29",12.399999999999999,12.399999999999999,12.399999999999999,12.399999999999999,20.866666666666667,5.7880000000000003,5.7880000000000003,5.7880000000000003,5.7880000000000003,1.213333333333334,1.213333333333334,1.213333333333334,1.213333333333334,0.20962911771481238,0.20962911771481238,0.20962911771481238,0.20962911771481238,0.20962911771481238,0.20962911771481238,0.20962911771481238,0.20962911771481238,0,0,0,0,0.20962911771481238,0,23418.565328801433,23517.572941258182,3687.5599620191965,3687.5599620191965,null,null,null,null,0,0,0,6.9876372571604131E-2,6.9876372571604131E-2,6.9876372571604131E-2,6.9876372571604131E-2,-2.3241400339473917E-2,-2.3241400339473917E-2,4.2463556260902945E-2,null,null,1.213333333333334,1.213333333333334,1.213333333333334,1.213333333333334,null,12.399999999999999,null,null,null,11.100000000000001,9.3000000000000007]
["2019-06-03",22.8,22.8,22.8,22.8,17.399999999999999,7.0359999999999996,7.0359999999999996,7.0359999999999996,7.0359999999999996,-3.6400000000000006,-3.6400000000000006,-3.6400000000000006,-3.6400000000000006,-0.51733939738487789,-0.51733939738487789,-0.51733939738487789,-0.51733939738487789,0,0,0,0,0.51733939738487789,0.51733939738487789,0.51733939738487789,0.51733939738487789,0,0.51733939738487789,23421.403166639269,23520.410779096019,3722.7058315199415,3722.7058315199415,null,null,null,null,0,0,0,-0.17244646579495929,-0.17244646579495929,-0.17244646579495929,-0.17244646579495929,-0.13460751899442278,-0.13460751899442278,-0.16397929945034198,null,null,0,0,0,0,null,22.8,null,null,null,22,21.1]
["2019-06-07",18.7,18.7,18.7,18.7,18.766666666666666,6.5440000000000005,6.5440000000000005,6.5440000000000005,6.5440000000000005,-1.7266666666666663,-1.7266666666666663,-1.7266666666666663,-1.7266666666666663,-0.26385493072534633,-0.26385493072534633,-0.26385493072534633,-0.26385493072534633,0,0,0,0,0.26385493072534633,0.26385493072534633,0.26385493072534633,0.26385493072534633,0,0.26385493072534633,23421.403166639269,23520.410779096019,3761.7346699297937,3761.7346699297937,null,null,null,null,0,0,0,-8.7951643575115437E-2,-8.7951643575115437E-2,-8.7951643575115437E-2,-8.7951643575115437E-2,-0.12711395465800543,-0.12711395465800543,-9.3035037439476428E-2,null,null,0,0,0,0,null,18.7,null,null,null,17.8,15.4]
["2019-06-10",23,23,23,23,17.333333333333332,7.0600000000000005,7.0600000000000005,7.0600000000000005,7.0600000000000005,-3.7333333333333334,-3.7333333333333334,-3.7333333333333334,-3.7333333333333334,-0.52880075542965055,-0.52880075542965055,-0.52880075542965055,-0.52880075542965055,0,0,0,0,0.52880075542965055,0.52880075542965055,0.52880075542965055,0.52880075542965055,0,0.52880075542965055,23421.403166639269,23520.410779096019,3786.7712646675759,3786.7712646675759,null,null,null,null,0,0,0,-0.17626691847655018,-0.17626691847655018,-0.17626691847655018,-0.17626691847655018,-0.13789019313044421,-0.13789019313044421,-0.15954601988576414,null,null,0,0,0,0,null,23,null,null,null,22.2,19.100000000000001]
["2019-06-15",24.2,24.2,24.2,24.2,16.933333333333334,7.2039999999999997,7.2039999999999997,7.2039999999999997,7.2039999999999997,-4.293333333333333,-4.293333333333333,-4.293333333333333,-4.293333333333333,-0.59596520451600965,-0.59596520451600965,-0.59596520451600965,-0.59596520451600965,0,0,0,0,0.59596520451600965,0.59596520451600965,0.59596520451600965,0.59596520451600965,0,0.59596520451600965,23421.403166639269,23520.410779096019,3852.1664007159834,3852.1664007159834,null,null,null,null,0,0,0,-0.19865506817200321,-0.19865506817200321,-0.19865506817200321,-0.19865506817200321,-0.14814263407156433,-0.14814263407156433,-0.15702786155200643,null,null,0,0,0,0,null,24.2,null,null,null,24.7,22.2]
["2019-06-24",21.8,21.8,21.8,21.8,17.733333333333334,6.9159999999999995,6.9159999999999995,6.9159999999999995,6.9159999999999995,-3.1733333333333338,-3.1733333333333338,-3.1733333333333338,-3.1733333333333338,-0.45883940620782737,-0.45883940620782737,-0.45883940620782737,-0.45883940620782737,0,0,0,0,0.45883940620782737,0.45883940620782737,0.45883940620782737,0.45883940620782737,0,0.45883940620782737,23421.403166639269,23520.410779096019,3938.0144910873291,3938.0144910873291,null,null,null,null,0,0,0,-0.15294646873594245,-0.15294646873594245,-0.15294646873594245,-0.15294646873594245,-0.17268070484731535,-0.17268070484731535,-0.16129347100830674,null,null,0,0,0,0,null,21.8,null,null,null,21.1,19.8]
["2019-06-27",25.1,25.1,25.1,25.1,16.633333333333333,7.3119999999999994,7.3119999999999994,7.3119999999999994,7.3119999999999994,-4.7133333333333347,-4.7133333333333347,-4.7133333333333347,-4.7133333333333347,-0.64460247994164865,-0.64460247994164865,-0.64460247994164865,-0.64460247994164865,0,0,0,0,0.64460247994164865,0.64460247994164865,0.64460247994164865,0.64460247994164865,0,0.64460247994164865,23421.403166639269,23520.410779096019,3985.5132154796784,3985.5132154796784,null,null,null,null,0,0,0,-0.21486749331388288,-0.21486749331388288,-0.21486749331388288,-0.21486749331388288,-0.18294680735226584,-0.18294680735226584,-0.19045781348406488,null,null,0,0,0,0,null,25.1,null,null,null,24.3,22.7]
["2019-07-03",17.8,17.8,17.8,17.8,19.066666666666666,6.4359999999999999,6.4359999999999999,6.4359999999999999,6.4359999999999999,-1.3066666666666671,-1.3066666666666671,-1.3066666666666671,-1.3066666666666671,-0.20302465299357786,-0.20302465299357786,-0.20302465299357786,-0.20302465299357786,0,0,0,0,0.20302465299357786,0.20302465299357786,0.20302465299357786,0.20302465299357786,0,0.20302465299357786,23421.403166639269,23520.410779096019,4052.2453444460461,4052.2453444460461,null,null,null,null,0,0,0,-6.767488433119262E-2,-6.767488433119262E-2,-6.767488433119262E-2,-6.767488433119262E-2,-0.14691245388758517,-0.14691245388758517,-9.6382568212542985E-2,null,null,0,0,0,0,null,17.8,null,null,null,16.899999999999999,15]
["2019-07-11",18,18,18,18,19,6.46,6.46,6.46,6.46,-1.4,-1.4,-1.4,-1.4,-0.21671826625386995,-0.21671826625386995,-0.21671826625386995,-0.21671826625386995,0,0,0,0,0.21671826625386995,0.21671826625386995,0.21671826625386995,0.21671826625386995,0,0.21671826625386995,23421.957256349033,23520.964868805782,4092.2972927160058,4092.2972927160058,null,null,null,null,0,0,0,-7.223942208462332E-2,-7.223942208462332E-2,-7.223942208462332E-2,-7.223942208462332E-2,-3.9766940516868396E-2,-3.9766940516868396E-2,-5.6793909476274135E-2,null,null,0,0,0,0,null,18,null,null,null,17.2,14.6]
["2019-07-14",17.399999999999999,17.399999999999999,17.399999999999999,17.399999999999999,19.2,6.3879999999999999,6.3879999999999999,6.3879999999999999,6.3879999999999999,-1.1199999999999994,-1.1199999999999994,-1.1199999999999994,-1.1199999999999994,-0.17532874139010637,-0.17532874139010637,-0.17532874139010637,-0.17532874139010637,0,0,0,0,0.17532874139010637,0.17532874139010637,0.17532874139010637,0.17532874139010637,0,0.17532874139010637,23421.957256349033,23520.964868805782,4102.7134647734283,4102.7134647734283,null,null,null,null,0,0,0,-5.8442913796702127E-2,-5.8442913796702127E-2,-5.8442913796702127E-2,-5.8442913796702127E-2,-5.2297697714429645E-2,-5.2297697714429645E-2,-4.9790869372828818E-2,null,null,0,0,0,0,null,17.399999999999999,null,null,null,16.100000000000001,13.7]
["2019-07-20",24.1,24.1,24.1,24.1,16.966666666666665,7.1920000000000002,7.1920000000000002,7.1920000000000002,7.1920000000000002,-4.246666666666667,-4.246666666666667,-4.246666666666667,-4.246666666666667,-0.59047089358546534,-0.59047089358546534,-0.59047089358546534,-0.59047089358546534,0,0,0,0,0.59047089358546534,0.59047089358546534,0.59047089358546534,0.59047089358546534,0,0.59047089358546534,23421.957256349033,23520.964868805782,4144.1893460020547,4144.1893460020547,null,null,null,null,0,0,0,-0.19682363119515511,-0.19682363119515511,-0.19682363119515511,-0.19682363119515511,-0.14139169277135413,-0.14139169277135413,-0.14579706482840185,null,null,0,0,0,0,null,24.1,null,null,null,23.4,21.3]
["2019-07-22",22,22,22,22,17.666666666666668,6.9399999999999995,6.9399999999999995,6.9399999999999995,6.9399999999999995,-3.2666666666666666,-3.2666666666666666,-3.2666666666666666,-3.2666666666666666,-0.47070124879923153,-0.47070124879923153,-0.47070124879923153,-0.47070124879923153,0,0,0,0,0.47070124879923153,0.47070124879923153,0.47070124879923153,0.47070124879923153,0,0.47070124879923153,23421.957256349033,23520.964868805782,4164.4488315748968,4164.4488315748968,null,null,null,null,0,0,0,-0.15690041626641052,-0.15690041626641052,-0.15690041626641052,-0.15690041626641052,-0.17848052547535267,-0.17848052547535267,-0.16659572413211091,null,null,0,0,0,0,null,22,null,null,null,21.8,19.600000000000001]
["2019-07-31",20.6,20.6,20.6,20.6,18.133333333333333,6.7720000000000002,6.7720000000000002,6.7720000000000002,6.7720000000000002,-2.6133333333333342,-2.6133333333333342,-2.6133333333333342,-2.6133333333333342,-0.38590273675920467,-0.38590273675920467,-0.38590273675920467,-0.38590273675920467,0,0,0,0,0.38590273675920467,0.38590273675920467,0.38590273675920467,0.38590273675920467,0,0.38590273675920467,23421.957256349033,23520.964868805782,4289.7473047060384,4289.7473047060384,null,null,null,null,0,0,0,-0.12863424558640155,-0.12863424558640155,-0.12863424558640155,-0.12863424558640155,-0.14255748324928227,-0.14255748324928227,-0.14744016111216496,null,null,0,0,0,0,null,20.6,null,null,null,20.2,17.600000000000001]
["2019-08-06",21.5,21.5,21.5,21.5,17.833333333333332,6.8800000000000008,6.8800000000000008,6.8800000000000008,6.8800000000000008,-3.0333333333333332,-3.0333333333333332,-3.0333333333333332,-3.0333333333333332,-0.440891472868217,-0.440891472868217,-0.440891472868217,-0.440891472868217,0,0,0,0,0.440891472868217,0.440891472868217,0.440891472868217,0.440891472868217,0,0.440891472868217,23421.957256349033,23520.964868805782,4338.1517207625757,4338.1517207625757,null,null,null,null,0,0,0,-0.14696382428940566,-0.14696382428940566,-0.14696382428940566,-0.14696382428940566,-0.11956650891999925,-0.11956650891999925,-0.13127468698932462,null,null,0,0,0,0,null,21.5,null,null,null,20.7,18.2]
["2019-08-08",20,20,20,20,18.333333333333332,6.7,6.7,6.7,6.7,-2.3333333333333335,-2.3333333333333335,-2.3333333333333335,-2.3333333333333335,-0.34825870646766172,-0.34825870646766172,-0.34825870646766172,-0.34825870646766172,0,0,0,0,0.34825870646766172,0.34825870646766172,0.34825870646766172,0.34825870646766172,0,0.34825870646766172,23421.957256349033,23520.964868805782,4355.6223557533021,4355.6223557533021,null,null,null,null,0,0,0,-0.11608623548922058,-0.11608623548922058,-0.11608623548922058,-0.11608623548922058,-0.13425674563477782,-0.13425674563477782,-0.13579151383535742,null,null,0,0,0,0,null,20,null,null,null,19.100000000000001,17.3]
["2019-08-13",18.399999999999999,18.399999999999999,18.399999999999999,18.399999999999999,18.866666666666667,6.5079999999999991,6.5079999999999991,6.5079999999999991,6.5079999999999991,-1.586666666666666,-1.586666666666666,-1.586666666666666,-1.586666666666666,-0.2438024994878098,-0.2438024994878098,-0.2438024994878098,-0.2438024994878098,0,0,0,0,0.2438024994878098,0.2438024994878098,0.2438024994878098,0.2438024994878098,0,0.2438024994878098,23421.957256349033,23520.964868805782,4396.2972529515191,4396.2972529515191,null,null,null,null,0,0,0,-8.1267499829269937E-2,-8.1267499829269937E-2,-8.1267499829269937E-2,-8.1267499829269937E-2,-7.5815128948695812E-2,-7.5815128948695812E-2,-5.6595528465000239E-2,null,null,0,0,0,0,null,18.399999999999999,null,null,null,17.600000000000001,15.6]
["2019-08-18",23.3,23.3,23.3,23.3,17.233333333333334,7.0960000000000001,7.0960000000000001,7.0960000000000001,7.0960000000000001,-3.873333333333334,-3.873333333333334,-3.873333333333334,-3.873333333333334,-0.54584742577978207,-0.54584742577978207,-0.54584742577978207,-0.54584742577978207,0,0,0,0,0.54584742577978207,0.54584742577978207,0.54584742577978207,0.54584742577978207,0,0.54584742577978207,23421.957256349033,23520.964868805782,4424.1584986730959,4424.1584986730959,null,null,null,null,0,0,0,-0.18194914192659403,-0.18194914192659403,-0.18194914192659403,-0.18194914192659403,-8.8343648711353542E-2,-8.8343648711353542E-2,-0.12628396979575915,null,null,0,0,0,0,null,23.3,null,null,null,23.1,21.4]
["2019-08-25",23,23,23,23,17.333333333333332,7.0600000000000005,7.0600000000000005,7.0600000000000005,7.0600000000000005,-3.7333333333333334,-3.7333333333333334,-3.7333333333333334,-3.7333333333333334,-0.52880075542965055,-0.52880075542965055,-0.52880075542965055,-0.52880075542965055,0,0,0,0,0.52880075542965055,0.52880075542965055,0.52880075542965055,0.52880075542965055,0,0.52880075542965055,23421.957256349033,23520.964868805782,4476.8291857883441,4476.8291857883441,null,null,null,null,0,0,0,-0.17626691847655018,-0.17626691847655018,-0.17626691847655018,-0.17626691847655018,-0.145521748316111,-0.145521748316111,-0.16642296432251366,null,null,0,0,0,0,null,23,null,null,null,22,21.3]
["2019-08-30",23.1,23.1,23.1,23.1,17.3,7.0719999999999992,7.0719999999999992,7.0719999999999992,7.0719999999999992,-3.7800000000000007,-3.7800000000000007,-3.7800000000000007,-3.7800000000000007,-0.53450226244343912,-0.53450226244343912,-0.53450226244343912,-0.53450226244343912,0,0,0,0,0.53450226244343912,0.53450226244343912,0.53450226244343912,0.53450226244343912,0,0.53450226244343912,23421.957256349033,23520.964868805782,4541.9112082944712,4541.9112082944712,null,null,null,null,0,0,0,-0.1781674208144797,-0.1781674208144797,-0.1781674208144797,-0.1781674208144797,-0.16008320647835594,-0.16008320647835594,-0.18247917260153135,null,null,0,0,0,0,null,23.1,null,null,null,22.6,19.899999999999999]
["2019-09-04",18,18,18,18,19,6.46,6.46,6.46,6.46,-1.4,-1.4,-1.4,-1.4,-0.21671826625386995,-0.21671826625386995,-0.21671826625386995,-0.21671826625386995,0,0,0,0,0.21671826625386995,0.21671826625386995,0.21671826625386995,0.21671826625386995,0,0.21671826625386995,23421.957256349033,23520.964868805782,4576.5858780300878,4576.5858780300878,null,null,null,null,0,0,0,-7.223942208462332E-2,-7.223942208462332E-2,-7.223942208462332E-2,-7.223942208462332E-2,-4.4149233192697798E-2,-4.4149233192697798E-2,-4.7769532835862688E-2,null,null,0,0,0,0,null,18,null,null,null,17.2,15.9]
["2019-09-11",15.3,15.3,15.3,15.3,19.899999999999999,6.1359999999999992,6.1359999999999992,6.1359999999999992,6.1359999999999992,-0.14000000000000032,-0.14000000000000032,-0.14000000000000032,-0.14000000000000032,-2.281616688396355E-2,-2.281616688396355E-2,-2.281616688396355E-2,-2.281616688396355E-2,0,0,0,0,2.281616688396355E-2,2.281616688396355E-2,2.281616688396355E-2,2.281616688396355E-2,0,2.281616688396355E-2,23432.73753516559,23531.74514762234,4581.5246019019642,4581.5246019019642,null,null,null,null,14.964285714285714,1,0,-7.6053889613211835E-3,-7.6053889613211835E-3,-7.6053889613211835E-3,-7.6053889613211835E-3,-1.9724404609415694E-3,-1.9724404609415694E-3,-4.6390927551792889E-3,null,null,0,0,0,0,null,15.3,null,null,null,14.7,11.399999999999999]
["2019-09-16",15.9,15.9,15.9,15.9,19.7,6.2080000000000002,6.2080000000000002,6.2080000000000002,6.2080000000000002,-0.42000000000000015,-0.42000000000000015,-0.42000000000000015,-0.42000000000000015,-6.7654639175257755E-2,-6.7654639175257755E-2,-6.7654639175257755E-2,-6.7654639175257755E-2,0,0,0,0,6.7654639175257755E-2,6.7654639175257755E-2,6.7654639175257755E-2,6.7654639175257755E-2,0,6.7654639175257755E-2,23432.73753516559,23531.74514762234,4593.8842897864342,4593.8842897864342,null,null,null,null,13.914285714285715,1,1,-2.2551546391752584E-2,-2.2551546391752584E-2,-2.2551546391752584E-2,-2.2551546391752584E-2,1.80478877010757E-2,1.80478877010757E-2,-7.0353226347899256E-3,null,null,0,0,0,0,null,15.9,null,null,null,15.7,14.8]
["2019-09-21",12.100000000000001,12.100000000000001,12.100000000000001,12.100000000000001,20.966666666666665,5.7520000000000007,5.7520000000000007,5.7520000000000007,5.7520000000000007,1.3533333333333326,1.3533333333333326,1.3533333333333326,1.3533333333333326,0.23528048215113567,0.23528048215113567,0.23528048215113567,0.23528048215113567,0.23528048215113567,0.23528048215113567,0.23528048215113567,0.23528048215113567,0,0,0,0,0.23528048215113567,0,23468.8362537059,23567.84386616265,4593.8842897864342,4593.8842897864342,null,null,null,null,13.692857142857141,1,1,7.8426827383711886E-2,7.8426827383711886E-2,7.8426827383711886E-2,7.8426827383711886E-2,7.9674645752901091E-2,7.9674645752901091E-2,8.9013004639798735E-2,null,null,1.3533333333333326,1.3533333333333326,1.3533333333333326,1.3533333333333326,null,12.100000000000001,null,null,null,11.600000000000001,10.399999999999999]
["2019-09-26",14.6,14.6,14.6,14.6,20.133333333333333,6.0519999999999996,6.0519999999999996,6.0519999999999996,6.0519999999999996,0.18666666666666684,0.18666666666666684,0.18666666666666684,0.18666666666666684,3.0843798193434708E-2,3.0843798193434708E-2,3.0843798193434708E-2,3.0843798193434708E-2,3.0843798193434708E-2,3.0843798193434708E-2,3.0843798193434708E-2,3.0843798193434708E-2,0,0,0,0,3.0843798193434708E-2,0,23476.256129804427,23575.263742261177,4594.2500637903531,4594.2500637903531,null,null,null,null,13.685714285714285,1,1,1.0281266064478236E-2,1.0281266064478236E-2,1.0281266064478236E-2,1.0281266064478236E-2,2.833782103171395E-4,2.833782103171395E-4,-7.3477526493417773E-3,null,null,0.18666666666666684,0.18666666666666684,0.18666666666666684,0.18666666666666684,null,14.6,null,null,null,14,13]
["2019-10-03",8,8,8,8,22.333333333333332,5.26,5.26,5.26,5.26,3.2666666666666666,3.2666666666666666,3.2666666666666666,3.2666666666666666,0.62103929024081117,0.62103929024081117,0.62103929024081117,0.62103929024081117,0.62103929024081117,0.62103929024081117,0.62103929024081117,0.62103929024081117,0,0,0,0,0.62103929024081117,0,23497.119323913241,23596.12693636999,4601.0572616158661,4601.0572616158661,null,null,null,null,11.492857142857144,1,1,0.20701309674693705,0.20701309674693705,0.20701309674693705,0.20701309674693705,0.11883341690196618,0.11883341690196618,0.1457913995684201,null,null,3.2666666666666666,3.2666666666666666,3.2666666666666666,3.2666666666666666,null,8,null,null,null,7.1999999999999993,5.8000000000000007]
["2019-10-08",8.1000000000000014,8.1000000000000014,8.1000000000000014,8.1000000000000014,22.3,5.2720000000000002,5.2720000000000002,5.2720000000000002,5.2720000000000002,3.2199999999999993,3.2199999999999993,3.2199999999999993,3.2199999999999993,0.61077389984825481,0.61077389984825481,0.61077389984825481,0.61077389984825481,0.61077389984825481,0.61077389984825481,0.61077389984825481,0.61077389984825481,0,0,0,0,0.61077389984825481,0,23574.410824790317,23673.418437247066,4601.0572616158661,4601.0572616158661,null,null,null,null,10.942857142857141,1,1,0.20359129994941827,0.20359129994941827,0.20359129994941827,0.20359129994941827,0.1716104802348164,0.1716104802348164,0.19141501649673995,null,null,3.2199999999999993,3.2199999999999993,3.2199999999999993,3.2199999999999993,null,8.1000000000000014,null,null,null,8,8.1000000000000014]
["2019-10-13",16.399999999999999,16.399999999999999,16.399999999999999,16.399999999999999,19.533333333333335,6.2679999999999989,6.2679999999999989,6.2679999999999989,6.2679999999999989,-0.65333333333333266,-0.65333333333333266,-0.65333333333333266,-0.65333333333333266,-0.1042331418847053,-0.1042331418847053,-0.1042331418847053,-0.1042331418847053,0,0,0,0,0.1042331418847053,0.1042331418847053,0.1042331418847053,0.1042331418847053,0,0.1042331418847053,23595.165906467435,23694.173518924184,4604.4679479301903,4604.4679479301903,null,null,null,null,12.099999999999998,1,1,-3.4744380628235101E-2,-3.4744380628235101E-2,-3.4744380628235101E-2,-3.4744380628235101E-2,4.335350974772189E-2,4.335350974772189E-2,-8.8812401540950374E-3,null,null,0,0,0,0,null,16.399999999999999,null,null,null,16.399999999999999,15.1]
["2019-10-20",11.2,11.2,11.2,11.2,21.266666666666666,5.6440000000000001,5.6440000000000001,5.6440000000000001,5.6440000000000001,1.7733333333333337,1.7733333333333337,1.7733333333333337,1.7733333333333337,0.31419796834396413,0.31419796834396413,0.31419796834396413,0.31419796834396413,0.31419796834396413,0.31419796834396413,0.31419796834396413,0.31419796834396413,0,0,0,0,0.31419796834396413,0,23625.423594455369,23724.431206912119,4604.4679479301903,4604.4679479301903,null,null,null,null,12.25,1,1,0.10473265611465471,0.10473265611465471,0.10473265611465471,0.10473265611465471,8.1043291908128964E-2,8.1043291908128964E-2,9.7958393800892204E-2,null,null,1.7733333333333337,1.7733333333333337,1.7733333333333337,1.7733333333333337,null,11.2,null,null,null,9.6000000000000014,9.3999999999999986]
["2019-10-21",11,11,11,11,21.333333333333332,5.62,5.62,5.62,5.62,1.8666666666666667,1.8666666666666667,1.8666666666666667,1.8666666666666667,0.33214709371293,0.33214709371293,0.33214709371293,0.33214709371293,0.33214709371293,0.33214709371293,0.33214709371293,0.33214709371293,0,0,0,0,0.33214709371293,0,23633.395124704479,23732.402737161228,4604.4679479301903,4604.4679479301903,null,null,null,null,11.742857142857142,1,1,0.11071569790431,0.11071569790431,0.11071569790431,0.11071569790431,8.8705869187105074E-2,8.8705869187105074E-2,0.10573617667885549,null,null,1.8666666666666667,1.8666666666666667,1.8666666666666667,1.8666666666666667,null,11,null,null,null,10.399999999999999,11.5]
["2019-10-30",3,3,3,3,24,4.66,4.66,4.66,4.66,5.6,5.6,5.6,5.6,1.2017167381974247,1.2017167381974247,1.2017167381974247,1.2017167381974247,1.2017167381974247,1.2017167381974247,1.2017167381974247,1.2017167381974247,0,0,0,0,1.2017167381974247,0,23740.587746032943,23839.595358489692,4604.4679479301903,4604.4679479301903,null,null,null,null,7.8857142857142879,1,1,0.40057224606580827,0.40057224606580827,0.40057224606580827,0.40057224606580827,0.30186758996030832,0.30186758996030832,0.40568182816203507,null,null,5.6,5.6,5.6,5.6,null,3,null,null,null,1.8999999999999986,2]
["2019-11-01",3.1999999999999993,3.1999999999999993,3.1999999999999993,3.1999999999999993,23.933333333333334,4.6840000000000002,4.6840000000000002,4.6840000000000002,4.6840000000000002,5.5066666666666668,5.5066666666666668,5.5066666666666668,5.5066666666666668,1.1756333617990322,1.1756333617990322,1.1756333617990322,1.1756333617990322,1.1756333617990322,1.1756333617990322,1.1756333617990322,1.1756333617990322,0,0,0,0,1.1756333617990322,0,23803.582424663917,23902.590037120666,4604.4679479301903,4604.4679479301903,null,null,null,null,7.3428571428571434,1,1,0.39187778726634409,0.39187778726634409,0.39187778726634409,0.39187778726634409,0.30169666215145952,0.30169666215145952,0.35499485720966367,null,null,5.5066666666666668,5.5066666666666668,5.5066666666666668,5.5066666666666668,null,3.1999999999999993,null,null,null,2.6000000000000014,2]
["2019-11-07",8.3000000000000007,8.3000000000000007,8.3000000000000007,8.3000000000000007,22.233333333333334,5.2959999999999994,5.2959999999999994,5.2959999999999994,5.2959999999999994,3.126666666666666,3.126666666666666,3.126666666666666,3.126666666666666,0.59038267875125872,0.59038267875125872,0.59038267875125872,0.59038267875125872,0.59038267875125872,0.59038267875125872,0.59038267875125872,0.59038267875125872,0,0,0,0,0.59038267875125872,0,23883.042839345238,23982.050451801988,4604.4679479301903,4604.4679479301903,null,null,null,null,5.6714285714285717,1,1,0.19679422625041956,0.19679422625041956,0.19679422625041956,0.19679422625041956,0.24794948445719669,0.24794948445719669,0.2212854822352319,null,null,3.126666666666666,3.126666666666666,3.126666666666666,3.126666666666666,null,8.3000000000000007,null,null,null,7.1999999999999993,4.8999999999999986]
["2019-11-16",8.1999999999999993,8.1999999999999993,8.1999999999999993,8.1999999999999993,22.266666666666666,5.2840000000000007,5.2840000000000007,5.2840000000000007,5.2840000000000007,3.1733333333333338,3.1733333333333338,3.1733333333333338,3.1733333333333338,0.60055513499873836,0.60055513499873836,0.60055513499873836,0.60055513499873836,0.60055513499873836,0.60055513499873836,0.60055513499873836,0.60055513499873836,0,0,0,0,0.60055513499873836,0,24108.725027582706,24207.732640039456,4604.4679479301903,4604.4679479301903,null,null,null,null,5.7071428571428564,1,1,0.20018504499957945,0.20018504499957945,0.20018504499957945,0.20018504499957945,0.27703258352355109,0.27703258352355109,0.18878182948095576,null,null,3.1733333333333338,3.1733333333333338,3.1733333333333338,3.1733333333333338,null,8.1999999999999993,null,null,null,7,3.6999999999999993]
["2019-11-18",8,8,8,8,22.333333333333332,5.26,5.26,5.26,5.26,3.2666666666666666,3.2666666666666666,3.2666666666666666,3.2666666666666666,0.62103929024081117,0.62103929024081117,0.62103929024081117,0.62103929024081117,0.62103929024081117,0.62103929024081117,0.62103929024081117,0.62103929024081117,0,0,0,0,0.62103929024081117,0,24133.58642918419,24232.594041640939,4604.4679479301903,4604.4679479301903,null,null,null,null,6.4285714285714288,1,1,0.20701309674693705,0.20701309674693705,0.20701309674693705,0.20701309674693705,0.22534924258201874,0.22534924258201874,0.22490049474370966,null,null,3.2666666666666666,3.2666666666666666,3.2666666666666666,3.2666666666666666,null,8,null,null,null,7,5]
["2019-11-24",6.8000000000000007,6.8000000000000007,6.8000000000000007,6.8000000000000007,22.733333333333334,5.1159999999999997,5.1159999999999997,5.1159999999999997,5.1159999999999997,3.8266666666666662,3.8266666666666662,3.8266666666666662,3.8266666666666662,0.74798019285900441,0.74798019285900441,0.74798019285900441,0.74798019285900441,0.74798019285900441,0.74798019285900441,0.74798019285900441,0.74798019285900441,0,0,0,0,0.74798019285900441,0,24239.009145415683,24338.016757872432,4604.4679479301903,4604.4679479301903,null,null,null,null,5.9642857142857144,1,1,0.24932673095300148,0.24932673095300148,0.24932673095300148,0.24932673095300148,0.25547648949003998,0.25547648949003998,0.25359696541589449,null,null,3.8266666666666662,3.8266666666666662,3.8266666666666662,3.8266666666666662,null,6.8000000000000007,null,null,null,5.8000000000000007,3.6999999999999993]
["2019-11-27",5.3000000000000007,5.3000000000000007,5.3000000000000007,5.3000000000000007,23.233333333333334,4.9359999999999999,4.9359999999999999,4.9359999999999999,4.9359999999999999,4.5266666666666664,4.5266666666666664,4.5266666666666664,4.5266666666666664,0.91707185305240402,0.91707185305240402,0.91707185305240402,0.91707185305240402,0.91707185305240402,0.91707185305240402,0.91707185305240402,0.91707185305240402,0,0,0,0,0.91707185305240402,0,24305.335837049064,24404.343449505814,4604.4679479301903,4604.4679479301903,null,null,null,null,5.0357142857142856,1,1,0.30569061768413469,0.30569061768413469,0.30569061768413469,0.30569061768413469,0.29321647890742097,0.29321647890742097,0.27351047781188648,null,null,4.5266666666666664,4.5266666666666664,4.5266666666666664,4.5266666666666664,null,5.3000000000000007,null,null,null,3.8999999999999986,3.1999999999999993]
["2019-12-06",0.30000000000000071,0.30000000000000071,0.30000000000000071,0.30000000000000071,24.9,4.3359999999999994,4.3359999999999994,4.3359999999999994,4.3359999999999994,6.8599999999999994,6.8599999999999994,6.8599999999999994,6.8599999999999994,1.5821033210332105,1.5821033210332105,1.5821033210332105,1.5821033210332105,1.5821033210332105,1.5821033210332105,1.5821033210332105,1.5821033210332105,0,0,0,0,1.5821033210332105,0,24583.903935671555,24682.911548128304,4604.4679479301903,4604.4679479301903,null,null,null,null,2.3071428571428569,1,1,0.5273677736777368,0.5273677736777368,0.5273677736777368,0.5273677736777368,0.38721955251243523,0.38721955251243523,0.46161794633015446,null,null,6.8599999999999994,6.8599999999999994,6.8599999999999994,6.8599999999999994,null,0.30000000000000071,null,null,null,0.19999999999999929,-1.8000000000000007]
["2019-12-11",-1.1000000000000014,-1.1000000000000014,-1.1000000000000014,-1.1000000000000014,25.366666666666667,4.1679999999999993,4.1679999999999993,4.1679999999999993,4.1679999999999993,7.5133333333333345,7.5133333333333345,7.5133333333333345,7.5133333333333345,1.8026231605886123,1.8026231605886123,1.8026231605886123,1.8026231605886123,1.8026231605886123,1.8026231605886123,1.8026231605886123,1.8026231605886123,0,0,0,0,1.8026231605886123,0,24704.793549953632,24803.801162410382,4604.4679479301903,4604.4679479301903,null,null,null,null,3.3071428571428578,1,1,0.60087438686287076,0.60087438686287076,0.60087438686287076,0.60087438686287076,0.39938932173888159,0.39938932173888159,0.51129181799304901,null,null,7.5133333333333345,7.5133333333333345,7.5133333333333345,7.5133333333333345,null,-1.1000000000000014,null,null,null,-1.6000000000000014,-1.8000000000000007]
["2019-12-14",5.1000000000000014,5.1000000000000014,5.1000000000000014,5.1000000000000014,23.3,4.9119999999999999,4.9119999999999999,4.9119999999999999,4.9119999999999999,4.6199999999999992,4.6199999999999992,4.6199999999999992,4.6199999999999992,0.94055374592833862,0.94055374592833862,0.94055374592833862,0.94055374592833862,0.94055374592833862,0.94055374592833862,0.94055374592833862,0.94055374592833862,0,0,0,0,0.94055374592833862,0,24803.672194676343,24902.679807133092,4604.4679479301903,4604.4679479301903,null,null,null,null,3.7642857142857147,1,1,0.31351791530944623,0.31351791530944623,0.31351791530944623,0.31351791530944623,0.42120447836682162,0.42120447836682162,0.35391451279817776,null,null,4.6199999999999992,4.6199999999999992,4.6199999999999992,4.6199999999999992,null,5.1000000000000014,null,null,null,4.3000000000000007,2.3999999999999986]
["2019-12-23",6.1000000000000014,6.1000000000000014,6.1000000000000014,6.1000000000000014,22.966666666666665,5.032,5.032,5.032,5.032,4.1533333333333324,4.1533333333333324,4.1533333333333324,4.1533333333333324,0.82538420773714871,0.82538420773714871,0.82538420773714871,0.82538420773714871,0.82538420773714871,0.82538420773714871,0.82538420773714871,0.82538420773714871,0,0,0,0,0.82538420773714871,0,25031.629952007406,25130.637564464156,4604.4679479301903,4604.4679479301903,null,null,null,null,3.0142857142857151,1,1,0.27512806924571626,0.27512806924571626,0.27512806924571626,0.27512806924571626,0.32089472151470588,0.32089472151470588,0.33251384420767832,null,null,4.1533333333333324,4.1533333333333324,4.1533333333333324,4.1533333333333324,null,6.1000000000000014,null,null,null,5.1999999999999993,3.8999999999999986]
["2019-12-28",0.60000000000000142,0.60000000000000142,0.60000000000000142,0.60000000000000142,24.8,4.3719999999999999,4.3719999999999999,4.3719999999999999,4.3719999999999999,6.7199999999999989,6.7199999999999989,6.7199999999999989,6.7199999999999989,1.5370539798719121,1.5370539798719121,1.5370539798719121,1.5370539798719121,1.5370539798719121,1.5370539798719121,1.5370539798719121,1.5370539798719121,0,0,0,0,1.5370539798719121,0,25167.051824413775,25266.059436870524,4604.4679479301903,4604.4679479301903,null,null,null,null,2.1357142857142857,1,1,0.51235132662397065,0.51235132662397065,0.51235132662397065,0.51235132662397065,0.43978480940544307,0.43978480940544307,0.50538240319774463,null,null,6.7199999999999989,6.7199999999999989,6.7199999999999989,6.7199999999999989,null,0.60000000000000142,null,null,null,-0.5,-2.2000000000000028]
["2019-12-31",3.3000000000000007,3.3000000000000007,3.3000000000000007,3.3000000000000007,23.9,4.6959999999999997,4.6959999999999997,4.6959999999999997,4.6959999999999997,5.4599999999999991,5.4599999999999991,5.4599999999999991,5.4599999999999991,1.1626916524701874,1.1626916524701874,1.1626916524701874,1.1626916524701874,1.1626916524701874,1.1626916524701874,1.1626916524701874,1.1626916524701874,0,0,0,0,1.1626916524701874,0,25276.138638804892,25375.146251261642,4604.4679479301903,4604.4679479301903,null,null,null,null,1.2642857142857147,1,1,0.3875638841567291,0.3875638841567291,0.3875638841567291,0.3875638841567291,0.55884577306980865,0.55884577306980865,0.47914441609957903,null,null,5.4599999999999991,5.4599999999999991,5.4599999999999991,5.4599999999999991,null,3.3000000000000007,null,null,null,3.1000000000000014,0.39999999999999858]
["2020-01-04",4.1999999999999993,4.1999999999999993,4.1999999999999993,4.1999999999999993,23.6,4.8040000000000003,4.8040000000000003,4.8040000000000003,4.8040000000000003,5.0400000000000009,5.0400000000000009,5.0400000000000009,5.0400000000000009,1.0491257285595339,1.0491257285595339,1.0491257285595339,1.0491257285595339,1.0491257285595339,1.0491257285595339,1.0491257285595339,1.0491257285595339,0,0,0,0,1.0491257285595339,0,25436.999816009458,25536.007428466208,4604.4679479301903,4604.4679479301903,null,null,null,null,1.7428571428571435,1,1,0.3497085761865113,0.3497085761865113,0.3497085761865113,0.3497085761865113,0.53884548653453812,0.53884548653453812,0.45163461897250401,null,null,5.0400000000000009,5.0400000000000009,5.0400000000000009,5.0400000000000009,null,4.1999999999999993,null,null,null,3.1000000000000014,1.3999999999999986]
["2020-01-09",6.1000000000000014,6.1000000000000014,6.1000000000000014,6.1000000000000014,22.966666666666665,5.032,5.032,5.032,5.032,4.1533333333333324,4.1533333333333324,4.1533333333333324,4.1533333333333324,0.82538420773714871,0.82538420773714871,0.82538420773714871,0.82538420773714871,0.82538420773714871,0.82538420773714871,0.82538420773714871,0.82538420773714871,0,0,0,0,0.82538420773714871,0,25595.430584663271,25694.43819712002,4604.4679479301903,4604.4679479301903,null,null,null,null,2.2571428571428571,1,1,0.27512806924571626,0.27512806924571626,0.27512806924571626,0.27512806924571626,0.40243424540687078,0.40243424540687078,0.29451660093659854,null,null,4.1533333333333324,4.1533333333333324,4.1533333333333324,4.1533333333333324,null,6.1000000000000014,null,null,null,5.8000000000000007,2.8000000000000007]
["2020-01-15",-0.39999999999999858,-0.39999999999999858,-0.39999999999999858,-0.39999999999999858,25.133333333333333,4.2519999999999998,4.2519999999999998,4.2519999999999998,4.2519999999999998,7.1866666666666656,7.1866666666666656,7.1866666666666656,7.1866666666666656,1.6901850109752272,1.6901850109752272,1.6901850109752272,1.6901850109752272,1.6901850109752272,1.6901850109752272,1.6901850109752272,1.6901850109752272,0,0,0,0,1.6901850109752272,0,25778.765412279634,25877.773024736383,4604.4679479301903,4604.4679479301903,null,null,null,null,1.535714285714286,1,1,0.56339500365840911,0.56339500365840911,0.56339500365840911,0.56339500365840911,0.50040973957973089,0.50040973957973089,0.52650705430709754,null,null,7.1866666666666656,7.1866666666666656,7.1866666666666656,7.1866666666666656,null,-0.39999999999999858,null,null,null,0.10000000000000142,1.8000000000000007]
["2020-01-21",-2.7999999999999972,-2.7999999999999972,-2.7999999999999972,-2.7999999999999972,25.933333333333334,3.964,3.964,3.964,3.964,8.3066666666666649,8.3066666666666649,8.3066666666666649,8.3066666666666649,2.0955264043054149,2.0955264043054149,2.0955264043054149,2.0955264043054149,2.0955264043054149,2.0955264043054149,2.0955264043054149,2.0955264043054149,0,0,0,0,2.0955264043054149,0,26012.239123136093,26111.246735592842,4604.4679479301903,4604.4679479301903,null,null,null,null,0.15714285714285733,1,1,0.69850880143513827,0.69850880143513827,0.69850880143513827,0.69850880143513827,0.55620038911823311,0.55620038911823311,0.59374380951868633,null,null,8.3066666666666649,8.3066666666666649,8.3066666666666649,8.3066666666666649,null,-2.7999999999999972,null,null,null,-2.3999999999999986,-3.7999999999999972]
["2020-01-26",{"$f":"BB1771+A$7","v":-0.69999999999999929},-0.69999999999999929,-0.69999999999999929,-0.69999999999999929,{"$f":"F$8+(H$7-F$8)*(M$6-B1771)/30","v":25.233333333333334},{"$f":"IF((B1771+35-$F1771)*$H$5+$H$6>1,(B1771+35-$F1771)*$H$5+$H$6,1)","v":4.2159999999999993},{"$f":"IF((C1771+35-$F1771)*$H$5+$H$6>1,(C1771+35-$F1771)*$H$5+$H$6,1)","v":4.2159999999999993},{"$f":"IF((D1771+35-$F1771)*$H$5+$H$6>1,(D1771+35-$F1771)*$H$5+$H$6,1)","v":4.2159999999999993},{"$f":"IF((E1771+35-$F1771)*$H$5+$H$6>1,(E1771+35-$F1771)*$H$5+$H$6,1)","v":4.2159999999999993},{"$f":"$M$5*($M$6-B1771)/30-$O$5","v":7.3266666666666662},{"$f":"$M$5*($M$6-C1771)/30-$O$5","v":7.3266666666666662},{"$f":"$M$5*($M$6-D1771)/30-$O$5","v":7.3266666666666662},{"$f":"$M$5*($M$6-E1771)/30-$O$5","v":7.3266666666666662},{"$f":"IF(K1771/G1771>$M$7,$M$7+K1771-$M$7*G1771,K1771/G1771)","v":1.7378241619228338},{"$f":"IF(L1771/H1771>$M$7,$M$7+L1771-$M$7*H1771,L1771/H1771)","v":1.7378241619228338},{"$f":"IF(M1771/I1771>$M$7,$M$7+M1771-$M$7*I1771,M1771/I1771)","v":1.7378241619228338},{"$f":"IF(N1771/J1771>$M$7,$M$7+N1771-$M$7*J1771,N1771/J1771)","v":1.7378241619228338},{"$f":"IF(O1771>0,O1771,)","v":1.7378241619228338},{"$f":"IF(P1771>0,P1771,)","v":1.7378241619228338},{"$f":"IF(Q1771>0,Q1771,)","v":1.7378241619228338},{"$f":"IF(R1771>0,R1771,)","v":1.7378241619228338},{"$f":"IF(O1771<0,-O1771,0)","v":0},{"$f":"IF(P1771<0,-P1771,0)","v":0},{"$f":"IF(Q1771<0,-Q1771,0)","v":0},{"$f":"IF(R1771<0,-R1771,0)","v":0},{"$f":"IF(SUM(O1771:R1771)/4>0,SUM(O1771:R1771)/4,)","v":1.7378241619228338},{"$f":"IF(SUM(O1771:R1771)/4<0,-SUM(O1771:R1771)/4,)","v":0},{"$f":"6*SUM(S1771:V1771)+AC1770","v":26221.418639195621},{"$f":"AD1770+AA1771*24","v":26320.42625165237},{"$f":"6*SUM(W1771:Z1771)+AE1770","v":4604.4679479301903},{"$f":"AF1770+AB1771*24","v":4604.4679479301903},null,null,null,null,{"$f":"IF(SUM(B1765:B1778)/14<$C$7,SUM(B1765:B1778)/14,0)","v":2.628571428571429},{"$f":"IF(SUM(B1765:B1778)/14<$C$7,1,0)","v":1},{"$f":"IF(SUM(AN1768:AQ1774)>0,1,0)","v":1},{"$f":"K1771/G1771/$M$7","v":0.57927472064094465},{"$f":"L1771/H1771/$M$7","v":0.57927472064094465},{"$f":"M1771/I1771/$M$7","v":0.57927472064094465},{"$f":"N1771/J1771/$M$7","v":0.57927472064094465},{"$f":"SUM(AO1768:AO1774)/7","v":0.50932637232355782},{"$f":"SUM(AQ1768:AQ1774)/7","v":0.50932637232355782},{"$f":"SUM(AN1770:AQ1772)/12","v":0.54759264787846995},null,null,{"$f":"IF(K1771>0,K1771,0)","v":7.3266666666666662},{"$f":"IF(L1771>0,L1771,0)","v":7.3266666666666662},{"$f":"IF(M1771>0,M1771,0)","v":7.3266666666666662},{"$f":"IF(N1771>0,N1771,0)","v":7.3266666666666662},null,-0.69999999999999929,null,null,null,-0.5,-1.5]
["2020-02-01",11.600000000000001,11.600000000000001,11.600000000000001,11.600000000000001,21.133333333333333,5.6920000000000002,5.6920000000000002,5.6920000000000002,5.6920000000000002,1.586666666666666,1.586666666666666,1.586666666666666,1.586666666666666,0.27875380651206361,0.27875380651206361,0.27875380651206361,0.27875380651206361,0.27875380651206361,0.27875380651206361,0.27875380651206361,0.27875380651206361,0,0,0,0,0.27875380651206361,0,26353.616758955592,26452.624371412341,4604.4679479301903,4604.4679479301903,null,null,null,null,4.4785714285714286,1,1,9.2917935504021207E-2,9.2917935504021207E-2,9.2917935504021207E-2,9.2917935504021207E-2,0.24734388380566782,0.24734388380566782,0.14162663819684998,null,null,1.586666666666666,1.586666666666666,1.586666666666666,1.586666666666666,null,11.600000000000001,null,null,null,11,9.3000000000000007]
["2020-02-07",3.6000000000000014,3.6000000000000014,3.6000000000000014,3.6000000000000014,23.8,4.7320000000000002,4.7320000000000002,4.7320000000000002,4.7320000000000002,5.3199999999999985,5.3199999999999985,5.3199999999999985,5.3199999999999985,1.1242603550295855,1.1242603550295855,1.1242603550295855,1.1242603550295855,1.1242603550295855,1.1242603550295855,1.1242603550295855,1.1242603550295855,0,0,0,0,1.1242603550295855,0,26500.813784544789,26599.821397001539,4604.4679479301903,4604.4679479301903,null,null,null,null,4.9071428571428566,1,1,0.37475345167652852,0.37475345167652852,0.37475345167652852,0.37475345167652852,0.38259803583547358,0.38259803583547358,0.43745158821312641,null,null,5.3199999999999985,5.3199999999999985,5.3199999999999985,5.3199999999999985,null,3.6000000000000014,null,null,null,2.8000000000000007,0.80000000000000071]
["2020-02-13",3,3,3,3,24,4.66,4.66,4.66,4.66,5.6,5.6,5.6,5.6,1.2017167381974247,1.2017167381974247,1.2017167381974247,1.2017167381974247,1.2017167381974247,1.2017167381974247,1.2017167381974247,1.2017167381974247,0,0,0,0,1.2017167381974247,0,26658.13068785462,26757.13830031137,4604.4679479301903,4604.4679479301903,null,null,null,null,4.8999999999999995,1,1,0.40057224606580827,0.40057224606580827,0.40057224606580827,0.40057224606580827,0.32513256912968391,0.32513256912968391,0.3795473915622643,null,null,5.6,5.6,5.6,5.6,null,3,null,null,null,2.3999999999999986,0.69999999999999929]
["2020-02-18",6.6999999999999993,6.6999999999999993,6.6999999999999993,6.6999999999999993,22.766666666666666,5.1040000000000001,5.1040000000000001,5.1040000000000001,5.1040000000000001,3.873333333333334,3.873333333333334,3.873333333333334,3.873333333333334,0.75888192267502619,0.75888192267502619,0.75888192267502619,0.75888192267502619,0.75888192267502619,0.75888192267502619,0.75888192267502619,0.75888192267502619,0,0,0,0,0.75888192267502619,0,26751.880011393368,26850.887623850118,4604.4679479301903,4604.4679479301903,null,null,null,null,5.8999999999999995,1,1,0.25296064089167541,0.25296064089167541,0.25296064089167541,0.25296064089167541,0.2898729182629482,0.2898729182629482,0.25194637262128655,null,null,3.873333333333334,3.873333333333334,3.873333333333334,3.873333333333334,null,6.6999999999999993,null,null,null,5.6000000000000014,3.3999999999999986]
["2020-02-24",4.8999999999999986,4.8999999999999986,4.8999999999999986,4.8999999999999986,23.366666666666667,4.8879999999999999,4.8879999999999999,4.8879999999999999,4.8879999999999999,4.7133333333333347,4.7133333333333347,4.7133333333333347,4.7133333333333347,0.9642662302236773,0.9642662302236773,0.9642662302236773,0.9642662302236773,0.9642662302236773,0.9642662302236773,0.9642662302236773,0.9642662302236773,0,0,0,0,0.9642662302236773,0,26873.98353732903,26972.991149785779,4604.4679479301903,4604.4679479301903,null,null,null,null,5.6857142857142851,1,1,0.32142207674122575,0.32142207674122575,0.32142207674122575,0.32142207674122575,0.27362604258287693,0.27362604258287693,0.2155494363698329,null,null,4.7133333333333347,4.7133333333333347,4.7133333333333347,4.7133333333333347,null,4.8999999999999986,null,null,null,4.3000000000000007,2.5]
["2020-03-01",7.6999999999999993,7.6999999999999993,7.6999999999999993,7.6999999999999993,22.433333333333334,5.2240000000000002,5.2240000000000002,5.2240000000000002,5.2240000000000002,3.4066666666666672,3.4066666666666672,3.4066666666666672,3.4066666666666672,0.65211842776927009,0.65211842776927009,0.65211842776927009,0.65211842776927009,0.65211842776927009,0.65211842776927009,0.65211842776927009,0.65211842776927009,0,0,0,0,0.65211842776927009,0,27012.982994562339,27111.990607019088,4604.4679479301903,4604.4679479301903,null,null,null,null,5.0500000000000016,1,1,0.21737280925642335,0.21737280925642335,0.21737280925642335,0.21737280925642335,0.33721702216710886,0.33721702216710886,0.27610216198180088,null,null,3.4066666666666672,3.4066666666666672,3.4066666666666672,3.4066666666666672,null,7.6999999999999993,null,null,null,6.5,4.1999999999999993]
["2020-03-06",6.6999999999999993,6.6999999999999993,6.6999999999999993,6.6999999999999993,22.766666666666666,5.1040000000000001,5.1040000000000001,5.1040000000000001,5.1040000000000001,3.873333333333334,3.873333333333334,3.873333333333334,3.873333333333334,0.75888192267502619,0.75888192267502619,0.75888192267502619,0.75888192267502619,0.75888192267502619,0.75888192267502619,0.75888192267502619,0.75888192267502619,0,0,0,0,0.75888192267502619,0,27124.151054298884,27223.158666755633,4604.4679479301903,4604.4679479301903,null,null,null,null,6.1571428571428575,1,1,0.25296064089167541,0.25296064089167541,0.25296064089167541,0.25296064089167541,0.31954212529487463,0.31954212529487463,0.30935751771533404,null,null,3.873333333333334,3.873333333333334,3.873333333333334,3.873333333333334,null,6.6999999999999993,null,null,null,5.8000000000000007,3.5]
["2020-03-12",11.600000000000001,11.600000000000001,11.600000000000001,11.600000000000001,21.133333333333333,5.6920000000000002,5.6920000000000002,5.6920000000000002,5.6920000000000002,1.586666666666666,1.586666666666666,1.586666666666666,1.586666666666666,0.27875380651206361,0.27875380651206361,0.27875380651206361,0.27875380651206361,0.27875380651206361,0.27875380651206361,0.27875380651206361,0.27875380651206361,0,0,0,0,0.27875380651206361,0,27233.999479433423,27333.007091890173,4604.4679479301903,4604.4679479301903,null,null,null,null,6.7642857142857151,1,1,9.2917935504021207E-2,9.2917935504021207E-2,9.2917935504021207E-2,9.2917935504021207E-2,0.26271774290995281,0.26271774290995281,0.16593663129233863,null,null,1.586666666666666,1.586666666666666,1.586666666666666,1.586666666666666,null,11.600000000000001,null,null,null,10.7,8.6999999999999993]
["2020-03-13",7.3000000000000007,7.3000000000000007,7.3000000000000007,7.3000000000000007,22.566666666666666,5.1760000000000002,5.1760000000000002,5.1760000000000002,5.1760000000000002,3.5933333333333328,3.5933333333333328,3.5933333333333328,3.5933333333333328,0.69422977846470879,0.69422977846470879,0.69422977846470879,0.69422977846470879,0.69422977846470879,0.69422977846470879,0.69422977846470879,0.69422977846470879,0,0,0,0,0.69422977846470879,0,27250.660994116577,27349.668606573327,4604.4679479301903,4604.4679479301903,null,null,null,null,6.95,1,1,0.23140992615490294,0.23140992615490294,0.23140992615490294,0.23140992615490294,0.26380916758272049,0.26380916758272049,0.22743363248540927,null,null,3.5933333333333328,3.5933333333333328,3.5933333333333328,3.5933333333333328,null,7.3000000000000007,null,null,null,6.3000000000000007,4]
["2020-03-23",-0.80000000000000071,-0.80000000000000071,-0.80000000000000071,-0.80000000000000071,25.266666666666666,4.2040000000000006,4.2040000000000006,4.2040000000000006,4.2040000000000006,7.373333333333334,7.373333333333334,7.373333333333334,7.373333333333334,1.7538851887091658,1.7538851887091658,1.7538851887091658,1.7538851887091658,1.7538851887091658,1.7538851887091658,1.7538851887091658,1.7538851887091658,0,0,0,0,1.7538851887091658,0,27490.136864984674,27589.144477441423,4604.4679479301903,4604.4679479301903,null,null,null,null,4.6857142857142859,1,1,0.58462839623638863,0.58462839623638863,0.58462839623638863,0.58462839623638863,0.45536023198442666,0.45536023198442666,0.56914137792104735,null,null,7.373333333333334,7.373333333333334,7.373333333333334,7.373333333333334,null,-0.80000000000000071,null,null,null,-1.8000000000000007,-2.6000000000000014]
["2020-03-25",0.89999999999999858,0.89999999999999858,0.89999999999999858,0.89999999999999858,24.7,4.4079999999999995,4.4079999999999995,4.4079999999999995,4.4079999999999995,6.580000000000001,6.580000000000001,6.580000000000001,6.580000000000001,1.4927404718693289,1.4927404718693289,1.4927404718693289,1.4927404718693289,1.4927404718693289,1.4927404718693289,1.4927404718693289,1.4927404718693289,0,0,0,0,1.4927404718693289,0,27563.933116014334,27662.940728471083,4604.4679479301903,4604.4679479301903,null,null,null,null,3.5642857142857136,1,1,0.49758015728977628,0.49758015728977628,0.49758015728977628,0.49758015728977628,0.42087561580730853,0.42087561580730853,0.47517339234444039,null,null,6.580000000000001,6.580000000000001,6.580000000000001,6.580000000000001,null,0.89999999999999858,null,null,null,0.30000000000000071,-0.5]
["2020-03-30",{"$f":"BB1835+A$7","v":0.69999999999999929},0.69999999999999929,0.69999999999999929,0.69999999999999929,{"$f":"F$8+(H$7-F$8)*(M$6-B1835)/30","v":24.766666666666666},{"$f":"IF((B1835+35-$F1835)*$H$5+$H$6>1,(B1835+35-$F1835)*$H$5+$H$6,1)","v":4.3840000000000003},{"$f":"IF((C1835+35-$F1835)*$H$5+$H$6>1,(C1835+35-$F1835)*$H$5+$H$6,1)","v":4.3840000000000003},{"$f":"IF((D1835+35-$F1835)*$H$5+$H$6>1,(D1835+35-$F1835)*$H$5+$H$6,1)","v":4.3840000000000003},{"$f":"IF((E1835+35-$F1835)*$H$5+$H$6>1,(E1835+35-$F1835)*$H$5+$H$6,1)","v":4.3840000000000003},{"$f":"$M$5*($M$6-B1835)/30-$O$5","v":6.6733333333333338},{"$f":"$M$5*($M$6-C1835)/30-$O$5","v":6.6733333333333338},{"$f":"$M$5*($M$6-D1835)/30-$O$5","v":6.6733333333333338},{"$f":"$M$5*($M$6-E1835)/30-$O$5","v":6.6733333333333338},{"$f":"IF(K1835/G1835>$M$7,$M$7+K1835-$M$7*G1835,K1835/G1835)","v":1.5222019464720193},{"$f":"IF(L1835/H1835>$M$7,$M$7+L1835-$M$7*H1835,L1835/H1835)","v":1.5222019464720193},{"$f":"IF(M1835/I1835>$M$7,$M$7+M1835-$M$7*I1835,M1835/I1835)","v":1.5222019464720193},{"$f":"IF(N1835/J1835>$M$7,$M$7+N1835-$M$7*J1835,N1835/J1835)","v":1.5222019464720193},{"$f":"IF(O1835>0,O1835,)","v":1.5222019464720193},{"$f":"IF(P1835>0,P1835,)","v":1.5222019464720193},{"$f":"IF(Q1835>0,Q1835,)","v":1.5222019464720193},{"$f":"IF(R1835>0,R1835,)","v":1.5222019464720193},{"$f":"IF(O1835<0,-O1835,0)","v":0},{"$f":"IF(P1835<0,-P1835,0)","v":0},{"$f":"IF(Q1835<0,-Q1835,0)","v":0},{"$f":"IF(R1835<0,-R1835,0)","v":0},{"$f":"IF(SUM(O1835:R1835)/4>0,SUM(O1835:R1835)/4,)","v":1.5222019464720193},{"$f":"IF(SUM(O1835:R1835)/4<0,-SUM(O1835:R1835)/4,)","v":0},{"$f":"6*SUM(S1835:V1835)+AC1834","v":27675.001541775491},{"$f":"AD1834+AA1835*24","v":27774.009154232241},{"$f":"6*SUM(W1835:Z1835)+AE1834","v":4604.4679479301903},{"$f":"AF1834+AB1835*24","v":4604.4679479301903},null,null,null,null,{"$f":"IF(SUM(B1829:B1842)/14<$C$7,SUM(B1829:B1842)/14,0)","v":4.8928571428571432},{"$f":"IF(SUM(B1829:B1842)/14<$C$7,1,0)","v":1},{"$f":"IF(SUM(AN1832:AQ1838)>0,1,0)","v":1},{"$f":"K1835/G1835/$M$7","v":0.50740064882400648},{"$f":"L1835/H1835/$M$7","v":0.50740064882400648},{"$f":"M1835/I1835/$M$7","v":0.50740064882400648},{"$f":"N1835/J1835/$M$7","v":0.50740064882400648},{"$f":"SUM(AO1832:AO1838)/7","v":0.35562685589275472},{"$f":"SUM(AQ1832:AQ1838)/7","v":0.35562685589275472},{"$f":"SUM(AN1834:AQ1836)/12","v":0.43629755122875724},null,null,{"$f":"IF(K1835>0,K1835,0)","v":6.6733333333333338},{"$f":"IF(L1835>0,L1835,0)","v":6.6733333333333338},{"$f":"IF(M1835>0,M1835,0)","v":6.6733333333333338},{"$f":"IF(N1835>0,N1835,0)","v":6.6733333333333338},null,0.69999999999999929,null,null,null,0,-1.1000000000000014]
["2020-04-03",4.8999999999999986,4.8999999999999986,4.8999999999999986,4.8999999999999986,23.366666666666667,4.8879999999999999,4.8879999999999999,4.8879999999999999,4.8879999999999999,4.7133333333333347,4.7133333333333347,4.7133333333333347,4.7133333333333347,0.9642662302236773,0.9642662302236773,0.9642662302236773,0.9642662302236773,0.9642662302236773,0.9642662302236773,0.9642662302236773,0.9642662302236773,0,0,0,0,0.9642662302236773,0,27795.152642626388,27894.160255083138,4604.4679479301903,4604.4679479301903,null,null,null,null,7.5142857142857133,1,1,0.32142207674122575,0.32142207674122575,0.32142207674122575,0.32142207674122575,0.30489617969602473,0.30489617969602473,0.28863357940881829,null,null,4.7133333333333347,4.7133333333333347,4.7133333333333347,4.7133333333333347,null,4.8999999999999986,null,null,null,4.6999999999999993,3.3999999999999986]
["2020-04-11",10.199999999999999,10.199999999999999,10.199999999999999,10.199999999999999,21.6,5.524,5.524,5.524,5.524,2.2400000000000007,2.2400000000000007,2.2400000000000007,2.2400000000000007,0.40550325850832741,0.40550325850832741,0.40550325850832741,0.40550325850832741,0.40550325850832741,0.40550325850832741,0.40550325850832741,0.40550325850832741,0,0,0,0,0.40550325850832741,0,27857.170638934622,27956.178251391371,4604.4679479301903,4604.4679479301903,null,null,null,null,11.007142857142856,1,1,0.13516775283610913,0.13516775283610913,0.13516775283610913,0.13516775283610913,0.1276668531931193,0.1276668531931193,9.5626733702784669E-2,null,null,2.2400000000000007,2.2400000000000007,2.2400000000000007,2.2400000000000007,null,10.199999999999999,null,null,null,10.5,8.6999999999999993]
["2020-04-16",12.2,12.2,12.2,12.2,20.933333333333334,5.7640000000000002,5.7640000000000002,5.7640000000000002,5.7640000000000002,1.3066666666666671,1.3066666666666671,1.3066666666666671,1.3066666666666671,0.22669442516770769,0.22669442516770769,0.22669442516770769,0.22669442516770769,0.22669442516770769,0.22669442516770769,0.22669442516770769,0.22669442516770769,0,0,0,0,0.22669442516770769,0,27919.849959510018,28018.857571966768,4604.4679479301903,4604.4679479301903,null,null,null,null,10.507142857142856,1,1,7.5564808389235891E-2,7.5564808389235891E-2,7.5564808389235891E-2,7.5564808389235891E-2,0.14458835431895026,0.14458835431895026,0.11873960464330317,null,null,1.3066666666666671,1.3066666666666671,1.3066666666666671,1.3066666666666671,null,12.2,null,null,null,12.7,10.399999999999999]
["2020-04-24",14.3,14.3,14.3,14.3,20.233333333333334,6.016,6.016,6.016,6.016,0.32666666666666633,0.32666666666666633,0.32666666666666633,0.32666666666666633,5.4299645390070865E-2,5.4299645390070865E-2,5.4299645390070865E-2,5.4299645390070865E-2,5.4299645390070865E-2,5.4299645390070865E-2,5.4299645390070865E-2,5.4299645390070865E-2,0,0,0,0,5.4299645390070865E-2,0,27972.81506127548,28071.822673732229,4604.4679479301903,4604.4679479301903,null,null,null,null,12.178571428571429,1,1,1.8099881796690288E-2,1.8099881796690288E-2,1.8099881796690288E-2,1.8099881796690288E-2,9.8970634195435531E-2,9.8970634195435531E-2,7.9313616864847877E-2,null,null,0.32666666666666633,0.32666666666666633,0.32666666666666633,0.32666666666666633,null,14.3,null,null,null,13.899999999999999,11.399999999999999]
["2020-04-28",16.399999999999999,16.399999999999999,16.399999999999999,16.399999999999999,19.533333333333335,6.2679999999999989,6.2679999999999989,6.2679999999999989,6.2679999999999989,-0.65333333333333266,-0.65333333333333266,-0.65333333333333266,-0.65333333333333266,-0.1042331418847053,-0.1042331418847053,-0.1042331418847053,-0.1042331418847053,0,0,0,0,0.1042331418847053,0.1042331418847053,0.1042331418847053,0.1042331418847053,0,0.1042331418847053,27997.389617810979,28096.397230267728,4606.9695433354236,4606.9695433354236,null,null,null,null,11.971428571428573,1,1,-3.4744380628235101E-2,-3.4744380628235101E-2,-3.4744380628235101E-2,-3.4744380628235101E-2,5.8879323071489374E-2,5.8879323071489374E-2,6.7177779803374374E-3,null,null,0,0,0,0,null,16.399999999999999,null,null,null,15.6,14]
["2020-05-03",10.199999999999999,10.199999999999999,10.199999999999999,10.199999999999999,21.6,5.524,5.524,5.524,5.524,2.2400000000000007,2.2400000000000007,2.2400000000000007,2.2400000000000007,0.40550325850832741,0.40550325850832741,0.40550325850832741,0.40550325850832741,0.40550325850832741,0.40550325850832741,0.40550325850832741,0.40550325850832741,0,0,0,0,0.40550325850832741,0,28024.455991917148,28123.463604373897,4606.9695433354236,4606.9695433354236,null,null,null,null,12.778571428571428,1,1,0.13516775283610913,0.13516775283610913,0.13516775283610913,0.13516775283610913,0.12017856997086455,0.12017856997086455,0.11914016376254827,null,null,2.2400000000000007,2.2400000000000007,2.2400000000000007,2.2400000000000007,null,10.199999999999999,null,null,null,9.3999999999999986,7.6000000000000014]
["2020-05-05",8,8,8,8,22.333333333333332,5.26,5.26,5.26,5.26,3.2666666666666666,3.2666666666666666,3.2666666666666666,3.2666666666666666,0.62103929024081117,0.62103929024081117,0.62103929024081117,0.62103929024081117,0.62103929024081117,0.62103929024081117,0.62103929024081117,0.62103929024081117,0,0,0,0,0.62103929024081117,0,28045.631053847239,28144.638666303988,4606.9695433354236,4606.9695433354236,null,null,null,null,11.807142857142855,1,1,0.20701309674693705,0.20701309674693705,0.20701309674693705,0.20701309674693705,0.12358567285469417,0.12358567285469417,0.16027047578842699,null,null,3.2666666666666666,3.2666666666666666,3.2666666666666666,3.2666666666666666,null,8,null,null,null,7.1000000000000014,5.3999999999999986]
["2020-05-15",10.3,10.3,10.3,10.3,21.566666666666666,5.5359999999999996,5.5359999999999996,5.5359999999999996,5.5359999999999996,2.1933333333333329,2.1933333333333329,2.1933333333333329,2.1933333333333329,0.39619460500963388,0.39619460500963388,0.39619460500963388,0.39619460500963388,0.39619460500963388,0.39619460500963388,0.39619460500963388,0.39619460500963388,0,0,0,0,0.39619460500963388,0,28129.739604926574,28228.747217383323,4613.0075344294992,4613.0075344294992,null,null,null,null,12.778571428571428,1,1,0.13206486833654463,0.13206486833654463,0.13206486833654463,0.13206486833654463,0.12438129668793281,0.12438129668793281,0.12192431033470376,null,null,2.1933333333333329,2.1933333333333329,2.1933333333333329,2.1933333333333329,null,10.3,null,null,null,9.1000000000000014,7.8000000000000007]
["2020-05-20",14.4,14.4,14.4,14.4,20.2,6.0279999999999996,6.0279999999999996,6.0279999999999996,6.0279999999999996,0.27999999999999986,0.27999999999999986,0.27999999999999986,0.27999999999999986,4.6449900464498983E-2,4.6449900464498983E-2,4.6449900464498983E-2,4.6449900464498983E-2,4.6449900464498983E-2,4.6449900464498983E-2,4.6449900464498983E-2,4.6449900464498983E-2,0,0,0,0,4.6449900464498983E-2,0,28141.038444405087,28240.046056861836,4617.2154242228617,4617.2154242228617,null,null,null,null,13.171428571428574,1,1,1.5483300154832994E-2,1.5483300154832994E-2,1.5483300154832994E-2,1.5483300154832994E-2,8.3763445647198325E-3,8.3763445647198325E-3,-9.158771162345385E-3,null,null,0.27999999999999986,0.27999999999999986,0.27999999999999986,0.27999999999999986,null,14.4,null,null,null,13.5,11.3]
["2020-05-22",14.2,14.2,14.2,14.2,20.266666666666666,6.0039999999999996,6.0039999999999996,6.0039999999999996,6.0039999999999996,0.37333333333333368,0.37333333333333368,0.37333333333333368,0.37333333333333368,6.2180768376637857E-2,6.2180768376637857E-2,6.2180768376637857E-2,6.2180768376637857E-2,6.2180768376637857E-2,6.2180768376637857E-2,6.2180768376637857E-2,6.2180768376637857E-2,0,0,0,0,6.2180768376637857E-2,0,28143.645580457276,28242.653192914026,4617.2154242228617,4617.2154242228617,null,null,null,null,13.542857142857143,1,1,2.072692279221262E-2,2.072692279221262E-2,2.072692279221262E-2,2.072692279221262E-2,3.010960053787622E-2,3.010960053787622E-2,2.1627218591324823E-2,null,null,0.37333333333333368,0.37333333333333368,0.37333333333333368,0.37333333333333368,null,14.2,null,null,null,14,12.7]
["2020-05-27",13.8,13.8,13.8,13.8,20.399999999999999,5.9559999999999995,5.9559999999999995,5.9559999999999995,5.9559999999999995,0.55999999999999972,0.55999999999999972,0.55999999999999972,0.55999999999999972,9.4022834116856913E-2,9.4022834116856913E-2,9.4022834116856913E-2,9.4022834116856913E-2,9.4022834116856913E-2,9.4022834116856913E-2,9.4022834116856913E-2,9.4022834116856913E-2,0,0,0,0,9.4022834116856913E-2,0,28165.98640020028,28264.994012657029,4617.2154242228617,4617.2154242228617,null,null,null,null,13.685714285714283,1,1,3.1340944705618969E-2,3.1340944705618969E-2,3.1340944705618969E-2,3.1340944705618969E-2,6.3034506833507406E-2,6.3034506833507406E-2,5.4216313736282364E-2,null,null,0.55999999999999972,0.55999999999999972,0.55999999999999972,0.55999999999999972,null,13.8,null,null,null,13.2,11.8]
["2020-06-02",{"$f":"BB1899+A$7","v":15.2},15.2,15.2,15.2,{"$f":"F$8+(H$7-F$8)*(M$6-B1899)/30","v":19.933333333333334},{"$f":"IF((B1899+35-$F1899)*$H$5+$H$6>1,(B1899+35-$F1899)*$H$5+$H$6,1)","v":6.1240000000000006},{"$f":"IF((C1899+35-$F1899)*$H$5+$H$6>1,(C1899+35-$F1899)*$H$5+$H$6,1)","v":6.1240000000000006},{"$f":"IF((D1899+35-$F1899)*$H$5+$H$6>1,(D1899+35-$F1899)*$H$5+$H$6,1)","v":6.1240000000000006},{"$f":"IF((E1899+35-$F1899)*$H$5+$H$6>1,(E1899+35-$F1899)*$H$5+$H$6,1)","v":6.1240000000000006},{"$f":"$M$5*($M$6-B1899)/30-$O$5","v":-9.3333333333333005E-2},{"$f":"$M$5*($M$6-C1899)/30-$O$5","v":-9.3333333333333005E-2},{"$f":"$M$5*($M$6-D1899)/30-$O$5","v":-9.3333333333333005E-2},{"$f":"$M$5*($M$6-E1899)/30-$O$5","v":-9.3333333333333005E-2},{"$f":"IF(K1899/G1899>$M$7,$M$7+K1899-$M$7*G1899,K1899/G1899)","v":-1.5240583496625245E-2},{"$f":"IF(L1899/H1899>$M$7,$M$7+L1899-$M$7*H1899,L1899/H1899)","v":-1.5240583496625245E-2},{"$f":"IF(M1899/I1899>$M$7,$M$7+M1899-$M$7*I1899,M1899/I1899)","v":-1.5240583496625245E-2},{"$f":"IF(N1899/J1899>$M$7,$M$7+N1899-$M$7*J1899,N1899/J1899)","v":-1.5240583496625245E-2},{"$f":"IF(O1899>0,O1899,)","v":0},{"$f":"IF(P1899>0,P1899,)","v":0},{"$f":"IF(Q1899>0,Q1899,)","v":0},{"$f":"IF(R1899>0,R1899,)","v":0},{"$f":"IF(O1899<0,-O1899,0)","v":1.5240583496625245E-2},{"$f":"IF(P1899<0,-P1899,0)","v":1.5240583496625245E-2},{"$f":"IF(Q1899<0,-Q1899,0)","v":1.5240583496625245E-2},{"$f":"IF(R1899<0,-R1899,0)","v":1.5240583496625245E-2},{"$f":"IF(SUM(O1899:R1899)/4>0,SUM(O1899:R1899)/4,)","v":0},{"$f":"IF(SUM(O1899:R1899)/4<0,-SUM(O1899:R1899)/4,)","v":1.5240583496625245E-2},{"$f":"6*SUM(S1899:V1899)+AC1898","v":28183.126046636535},{"$f":"AD1898+AA1899*24","v":28282.133659093284},{"$f":"6*SUM(W1899:Z1899)+AE1898","v":4619.3818413135969},{"$f":"AF1898+AB1899*24","v":4619.3818413135969},null,null,null,null,{"$f":"IF(SUM(B1893:B1906)/14<$C$7,SUM(B1893:B1906)/14,0)","v":14.385714285714286},{"$f":"IF(SUM(B1893:B1906)/14<$C$7,1,0)","v":1},{"$f":"IF(SUM(AN1896:AQ1902)>0,1,0)","v":1},{"$f":"K1899/G1899/$M$7","v":-5.0801944988750816E-3},{"$f":"L1899/H1899/$M$7","v":-5.0801944988750816E-3},{"$f":"M1899/I1899/$M$7","v":-5.0801944988750816E-3},{"$f":"N1899/J1899/$M$7","v":-5.0801944988750816E-3},{"$f":"SUM(AO1896:AO1902)/7","v":5.031656556947082E-3},{"$f":"SUM(AQ1896:AQ1902)/7","v":5.031656556947082E-3},{"$f":"SUM(AN1898:AQ1900)/12","v":-2.7954610399238012E-2},null,null,{"$f":"IF(K1899>0,K1899,0)","v":0},{"$f":"IF(L1899>0,L1899,0)","v":0},{"$f":"IF(M1899>0,M1899,0)","v":0},{"$f":"IF(N1899>0,N1899,0)","v":0},null,15.2,null,null,null,14.9,14.8]
["2020-06-08",14,14,14,14,20.333333333333332,5.98,5.98,5.98,5.98,0.46666666666666667,0.46666666666666667,0.46666666666666667,0.46666666666666667,7.8037904124860641E-2,7.8037904124860641E-2,7.8037904124860641E-2,7.8037904124860641E-2,7.8037904124860641E-2,7.8037904124860641E-2,7.8037904124860641E-2,7.8037904124860641E-2,0,0,0,0,7.8037904124860641E-2,0,28188.539269509049,28287.546881965798,4624.8773314093023,4624.8773314093023,null,null,null,null,0,0,1,2.601263470828688E-2,2.601263470828688E-2,2.601263470828688E-2,2.601263470828688E-2,5.5442405926425129E-3,5.5442405926425129E-3,1.1249605473799348E-2,null,null,0.46666666666666667,0.46666666666666667,0.46666666666666667,0.46666666666666667,null,14,null,null,null,13.600000000000001,11.5]
["2020-06-13",21.6,21.6,21.6,21.6,17.8,6.8919999999999995,6.8919999999999995,6.8919999999999995,6.8919999999999995,-3.0800000000000005,-3.0800000000000005,-3.0800000000000005,-3.0800000000000005,-0.44689495066744062,-0.44689495066744062,-0.44689495066744062,-0.44689495066744062,0,0,0,0,0.44689495066744062,0.44689495066744062,0.44689495066744062,0.44689495066744062,0,0.44689495066744062,28189.466421826928,28288.474034283678,4646.5840118745882,4646.5840118745882,null,null,null,null,0,0,0,-0.14896498355581353,-0.14896498355581353,-0.14896498355581353,-0.14896498355581353,-8.2299205253731619E-2,-8.2299205253731619E-2,-0.11191144663069787,null,null,0,0,0,0,null,21.6,null,null,null,20.5,20.5]
["2020-06-19",15.8,15.8,15.8,15.8,19.733333333333334,6.1959999999999997,6.1959999999999997,6.1959999999999997,6.1959999999999997,-0.37333333333333368,-0.37333333333333368,-0.37333333333333368,-0.37333333333333368,-6.0253927264902148E-2,-6.0253927264902148E-2,-6.0253927264902148E-2,-6.0253927264902148E-2,0,0,0,0,6.0253927264902148E-2,6.0253927264902148E-2,6.0253927264902148E-2,6.0253927264902148E-2,0,6.0253927264902148E-2,28189.466421826928,28288.474034283678,4682.9604876303565,4682.9604876303565,null,null,null,null,0,0,0,-2.008464242163405E-2,-2.008464242163405E-2,-2.008464242163405E-2,-2.008464242163405E-2,-7.2663116706903355E-2,-7.2663116706903355E-2,-3.6409452242667638E-2,null,null,0,0,0,0,null,15.8,null,null,null,15.7,14.8]
["2020-06-25",18.600000000000001,18.600000000000001,18.600000000000001,18.600000000000001,18.8,6.532,6.532,6.532,6.532,-1.6800000000000006,-1.6800000000000006,-1.6800000000000006,-1.6800000000000006,-0.25719534598897742,-0.25719534598897742,-0.25719534598897742,-0.25719534598897742,0,0,0,0,0.25719534598897742,0.25719534598897742,0.25719534598897742,0.25719534598897742,0,0.25719534598897742,28189.466421826928,28288.474034283678,4710.3399120775057,4710.3399120775057,null,null,null,null,0,0,0,-8.5731781996325807E-2,-8.5731781996325807E-2,-8.5731781996325807E-2,-8.5731781996325807E-2,-0.10617296583706584,-0.10617296583706584,-5.9689650984657595E-2,null,null,0,0,0,0,null,18.600000000000001,null,null,null,17.7,15.9]
["2020-06-30",19.2,19.2,19.2,19.2,18.600000000000001,6.6040000000000001,6.6040000000000001,6.6040000000000001,6.6040000000000001,-1.9599999999999997,-1.9599999999999997,-1.9599999999999997,-1.9599999999999997,-0.29678982434887941,-0.29678982434887941,-0.29678982434887941,-0.29678982434887941,0,0,0,0,0.29678982434887941,0.29678982434887941,0.29678982434887941,0.29678982434887941,0,0.29678982434887941,28189.466421826928,28288.474034283678,4754.1987695388489,4754.1987695388489,null,null,null,null,0,0,0,-9.8929941449626468E-2,-9.8929941449626468E-2,-9.8929941449626468E-2,-9.8929941449626468E-2,-0.13168192222832326,-0.13168192222832326,-0.11710946337087298,null,null,0,0,0,0,null,19.2,null,null,null,17.7,15.8]
["2020-07-06",20,20,20,20,18.333333333333332,6.7,6.7,6.7,6.7,-2.3333333333333335,-2.3333333333333335,-2.3333333333333335,-2.3333333333333335,-0.34825870646766172,-0.34825870646766172,-0.34825870646766172,-0.34825870646766172,0,0,0,0,0.34825870646766172,0.34825870646766172,0.34825870646766172,0.34825870646766172,0,0.34825870646766172,28189.466421826928,28288.474034283678,4810.9979898011161,4810.9979898011161,null,null,null,null,0,0,0,-0.11608623548922058,-0.11608623548922058,-0.11608623548922058,-0.11608623548922058,-8.124411309905584E-2,-8.124411309905584E-2,-9.6139485917358172E-2,null,null,0,0,0,0,null,20,null,null,null,18.899999999999999,17.2]
["2020-07-12",15.4,15.4,15.4,15.4,19.866666666666667,6.1479999999999997,6.1479999999999997,6.1479999999999997,6.1479999999999997,-0.18666666666666684,-0.18666666666666684,-0.18666666666666684,-0.18666666666666684,-3.0362177401865136E-2,-3.0362177401865136E-2,-3.0362177401865136E-2,-3.0362177401865136E-2,0,0,0,0,3.0362177401865136E-2,3.0362177401865136E-2,3.0362177401865136E-2,3.0362177401865136E-2,0,3.0362177401865136E-2,28189.835085421397,28288.842697878146,4832.7498103775588,4832.7498103775588,null,null,null,null,0,0,0,-1.0120725800621712E-2,-1.0120725800621712E-2,-1.0120725800621712E-2,-1.0120725800621712E-2,-6.862401325424429E-2,-6.862401325424429E-2,-1.8357170813129303E-2,null,null,0,0,0,0,null,15.4,null,null,null,14.5,12.3]
["2020-07-18",17.5,17.5,17.5,17.5,19.166666666666668,6.3999999999999995,6.3999999999999995,6.3999999999999995,6.3999999999999995,-1.1666666666666667,-1.1666666666666667,-1.1666666666666667,-1.1666666666666667,-0.18229166666666669,-0.18229166666666669,-0.18229166666666669,-0.18229166666666669,0,0,0,0,0.18229166666666669,0.18229166666666669,0.18229166666666669,0.18229166666666669,0,0.18229166666666669,28189.835085421397,28288.842697878146,4852.1406423299768,4852.1406423299768,null,null,null,null,0,0,0,-6.0763888888888895E-2,-6.0763888888888895E-2,-6.0763888888888895E-2,-6.0763888888888895E-2,-8.0255878948368206E-2,-8.0255878948368206E-2,-6.969057962072496E-2,null,null,0,0,0,0,null,17.5,null,null,null,16.8,16.3]
["2020-07-23",18.600000000000001,18.600000000000001,18.600000000000001,18.600000000000001,18.8,6.532,6.532,6.532,6.532,-1.6800000000000006,-1.6800000000000006,-1.6800000000000006,-1.6800000000000006,-0.25719534598897742,-0.25719534598897742,-0.25719534598897742,-0.25719534598897742,0,0,0,0,0.25719534598897742,0.25719534598897742,0.25719534598897742,0.25719534598897742,0,0.25719534598897742,28189.835085421397,28288.842697878146,4893.3989678939142,4893.3989678939142,null,null,null,null,0,0,0,-8.5731781996325807E-2,-8.5731781996325807E-2,-8.5731781996325807E-2,-8.5731781996325807E-2,-0.11937077648286813,-0.11937077648286813,-9.7952445145434774E-2,null,null,0,0,0,0,null,18.600000000000001,null,null,null,18.399999999999999,16.8]
["2020-07-29",22.4,22.4,22.4,22.4,17.533333333333335,6.9879999999999995,6.9879999999999995,6.9879999999999995,6.9879999999999995,-3.4533333333333327,-3.4533333333333327,-3.4533333333333327,-3.4533333333333327,-0.49418049990459828,-0.49418049990459828,-0.49418049990459828,-0.49418049990459828,0,0,0,0,0.49418049990459828,0.49418049990459828,0.49418049990459828,0.49418049990459828,0,0.49418049990459828,28189.835085421397,28288.842697878146,4958.6921931456791,4958.6921931456791,null,null,null,null,0,0,0,-0.16472683330153276,-0.16472683330153276,-0.16472683330153276,-0.16472683330153276,-0.15540930879957932,-0.15540930879957932,-0.16848525366232739,null,null,0,0,0,0,null,22.4,null,null,null,21.2,17.899999999999999]
["2020-07-30",20.9,20.9,20.9,20.9,18.033333333333335,6.8079999999999998,6.8079999999999998,6.8079999999999998,6.8079999999999998,-2.7533333333333325,-2.7533333333333325,-2.7533333333333325,-2.7533333333333325,-0.40442616529573039,-0.40442616529573039,-0.40442616529573039,-0.40442616529573039,0,0,0,0,0.40442616529573039,0.40442616529573039,0.40442616529573039,0.40442616529573039,0,0.40442616529573039,28189.835085421397,28288.842697878146,4968.3984211127763,4968.3984211127763,null,null,null,null,0,0,0,-0.13480872176524347,-0.13480872176524347,-0.13480872176524347,-0.13480872176524347,-0.15418831637693819,-0.15418831637693819,-0.15214532377772891,null,null,0,0,0,0,null,20.9,null,null,null,20.5,18]
["2020-08-04",15.1,15.1,15.1,15.1,19.966666666666669,6.1120000000000001,6.1120000000000001,6.1120000000000001,6.1120000000000001,-4.6666666666666502E-2,-4.6666666666666502E-2,-4.6666666666666502E-2,-4.6666666666666502E-2,-7.6352530541011947E-3,-7.6352530541011947E-3,-7.6352530541011947E-3,-7.6352530541011947E-3,0,0,0,0,7.6352530541011947E-3,7.6352530541011947E-3,7.6352530541011947E-3,7.6352530541011947E-3,0,7.6352530541011947E-3,28189.835085421397,28288.842697878146,5002.4561095929876,5002.4561095929876,null,null,null,null,0,0,0,-2.5450843513670648E-3,-2.5450843513670648E-3,-2.5450843513670648E-3,-2.5450843513670648E-3,-9.7708302336341396E-2,-9.7708302336341396E-2,-3.5827104399310729E-2,null,null,0,0,0,0,null,15.1,null,null,null,14.4,13.8]
["2020-08-13",24.3,{"$f":"$B1971+C$9","v":24.3},24.3,24.3,16.899999999999999,7.2159999999999993,7.2159999999999993,7.2159999999999993,7.2159999999999993,-4.3400000000000007,-4.3400000000000007,-4.3400000000000007,-4.3400000000000007,-0.60144124168514423,-0.60144124168514423,-0.60144124168514423,-0.60144124168514423,0,0,0,0,0.60144124168514423,0.60144124168514423,0.60144124168514423,0.60144124168514423,0,0.60144124168514423,28189.835085421397,28288.842697878146,5111.6304931298801,5111.6304931298801,null,null,null,null,0,0,0,-0.20048041389504809,-0.20048041389504809,-0.20048041389504809,-0.20048041389504809,-0.16817324184072849,-0.16817324184072849,-0.18223324900737328,null,null,0,0,0,0,null,24.3,null,null,null,23.9,22.3]
["2020-08-16",21.9,21.9,21.9,21.9,17.7,6.9279999999999999,6.9279999999999999,6.9279999999999999,6.9279999999999999,-3.2199999999999993,-3.2199999999999993,-3.2199999999999993,-3.2199999999999993,-0.46478060046189368,-0.46478060046189368,-0.46478060046189368,-0.46478060046189368,0,0,0,0,0.46478060046189368,0.46478060046189368,0.46478060046189368,0.46478060046189368,0,0.46478060046189368,28189.835085421397,28288.842697878146,5143.350339310542,5143.350339310542,null,null,null,null,0,0,0,-0.15492686682063123,-0.15492686682063123,-0.15492686682063123,-0.15492686682063123,-0.14333780622929224,-0.14333780622929224,-0.14285568081230091,null,null,0,0,0,0,null,21.9,null,null,null,21.2,20]
["2020-08-21",24.6,24.6,24.6,24.6,16.8,7.2519999999999989,7.2519999999999989,7.2519999999999989,7.2519999999999989,-4.4800000000000013,-4.4800000000000013,-4.4800000000000013,-4.4800000000000013,-0.61776061776061808,-0.61776061776061808,-0.61776061776061808,-0.61776061776061808,0,0,0,0,0.61776061776061808,0.61776061776061808,0.61776061776061808,0.61776061776061808,0,0.61776061776061808,28189.835085421397,28288.842697878146,5195.4191469063408,5195.4191469063408,null,null,null,null,0,0,0,-0.20592020592020602,-0.20592020592020602,-0.20592020592020602,-0.20592020592020602,-0.13037754839038487,-0.13037754839038487,-0.17258249633574926,null,null,0,0,0,0,null,24.6,null,null,null,24.5,23.9]
["2020-08-30",16.5,16.5,16.5,16.5,19.5,6.2799999999999994,6.2799999999999994,6.2799999999999994,6.2799999999999994,-0.7,-0.7,-0.7,-0.7,-0.11146496815286625,-0.11146496815286625,-0.11146496815286625,-0.11146496815286625,0,0,0,0,0.11146496815286625,0.11146496815286625,0.11146496815286625,0.11146496815286625,0,0.11146496815286625,28189.835085421397,28288.842697878146,5252.0663611518748,5252.0663611518748,null,null,null,null,0,0,0,-3.7154989384288746E-2,-3.7154989384288746E-2,-3.7154989384288746E-2,-3.7154989384288746E-2,-2.7306003490550124E-2,-2.7306003490550124E-2,-3.6958785369778403E-2,null,null,0,0,0,0,null,16.5,null,null,null,15.8,12.8]
["2020-09-02",14,14,14,14,20.333333333333332,5.98,5.98,5.98,5.98,0.46666666666666667,0.46666666666666667,0.46666666666666667,0.46666666666666667,7.8037904124860641E-2,7.8037904124860641E-2,7.8037904124860641E-2,7.8037904124860641E-2,7.8037904124860641E-2,7.8037904124860641E-2,7.8037904124860641E-2,7.8037904124860641E-2,0,0,0,0,7.8037904124860641E-2,0,28193.964543139198,28292.972155595948,5253.334148991461,5253.334148991461,null,null,null,null,0,0,0,2.601263470828688E-2,2.601263470828688E-2,2.601263470828688E-2,2.601263470828688E-2,-3.7067119961157365E-2,-3.7067119961157365E-2,9.152737731889897E-3,null,null,0.46666666666666667,0.46666666666666667,0.46666666666666667,0.46666666666666667,null,14,null,null,null,12.899999999999999,9.6999999999999993]
["2020-09-07",15.3,15.3,15.3,15.3,19.899999999999999,6.1359999999999992,6.1359999999999992,6.1359999999999992,6.1359999999999992,-0.14000000000000032,-0.14000000000000032,-0.14000000000000032,-0.14000000000000032,-2.281616688396355E-2,-2.281616688396355E-2,-2.281616688396355E-2,-2.281616688396355E-2,0,0,0,0,2.281616688396355E-2,2.281616688396355E-2,2.281616688396355E-2,2.281616688396355E-2,0,2.281616688396355E-2,28193.964543139198,28292.972155595948,5274.0178639392325,5274.0178639392325,null,null,null,null,0,0,0,-7.6053889613211835E-3,-7.6053889613211835E-3,-7.6053889613211835E-3,-7.6053889613211835E-3,-5.8879096307854116E-2,-5.8879096307854116E-2,-1.7556802305306544E-2,null,null,0,0,0,0,null,15.3,null,null,null,14.8,11.600000000000001]
["2020-09-10",16.5,16.5,16.5,16.5,19.5,6.2799999999999994,6.2799999999999994,6.2799999999999994,6.2799999999999994,-0.7,-0.7,-0.7,-0.7,-0.11146496815286625,-0.11146496815286625,-0.11146496815286625,-0.11146496815286625,0,0,0,0,0.11146496815286625,0.11146496815286625,0.11146496815286625,0.11146496815286625,0,0.11146496815286625,28193.964543139198,28292.972155595948,5285.1616798983323,5285.1616798983323,null,null,null,null,0,0,0,-3.7154989384288746E-2,-3.7154989384288746E-2,-3.7154989384288746E-2,-3.7154989384288746E-2,-5.4706911881967371E-2,-5.4706911881967371E-2,-5.1591740551391735E-2,null,null,0,0,0,0,null,16.5,null,null,null,16.399999999999999,15]
["2020-09-19",13.3,13.3,13.3,13.3,20.566666666666666,5.895999999999999,5.895999999999999,5.895999999999999,5.895999999999999,0.793333333333333,0.793333333333333,0.793333333333333,0.793333333333333,0.13455450022614199,0.13455450022614199,0.13455450022614199,0.13455450022614199,0.13455450022614199,0.13455450022614199,0.13455450022614199,0.13455450022614199,0,0,0,0,0.13455450022614199,0,28202.021437351519,28301.029049808269,5336.3017408495916,5336.3017408495916,null,null,null,null,0,0,0,4.4851500075380663E-2,4.4851500075380663E-2,4.4851500075380663E-2,4.4851500075380663E-2,-2.8454170934670869E-2,-2.8454170934670869E-2,3.3091681959412256E-2,null,null,0.793333333333333,0.793333333333333,0.793333333333333,0.793333333333333,null,13.3,null,null,null,12.3,11.399999999999999]
["2020-09-25",13.2,13.2,13.2,13.2,20.6,5.8840000000000003,5.8840000000000003,5.8840000000000003,5.8840000000000003,0.8400000000000003,0.8400000000000003,0.8400000000000003,0.8400000000000003,0.14276002719238617,0.14276002719238617,0.14276002719238617,0.14276002719238617,0.14276002719238617,0.14276002719238617,0.14276002719238617,0.14276002719238617,0,0,0,0,0.14276002719238617,0,28205.447678004137,28304.455290460886,5354.6588488977004,5354.6588488977004,null,null,null,null,13.071428571428571,1,1,4.7586675730795391E-2,4.7586675730795391E-2,4.7586675730795391E-2,4.7586675730795391E-2,6.7575478498962199E-2,6.7575478498962199E-2,7.044057251816857E-2,null,null,0.8400000000000003,0.8400000000000003,0.8400000000000003,0.8400000000000003,null,13.2,null,null,null,12.5,10.600000000000001]
["2020-09-27",9.1000000000000014,9.1000000000000014,9.1000000000000014,9.1000000000000014,21.966666666666665,5.3920000000000003,5.3920000000000003,5.3920000000000003,5.3920000000000003,2.7533333333333325,2.7533333333333325,2.7533333333333325,2.7533333333333325,0.51063303659742809,0.51063303659742809,0.51063303659742809,0.51063303659742809,0.51063303659742809,0.51063303659742809,0.51063303659742809,0.51063303659742809,0,0,0,0,0.51063303659742809,0,28234.36438556563,28333.37199802238,5354.6588488977004,5354.6588488977004,null,null,null,null,13.235714285714284,1,1,0.1702110121991427,0.1702110121991427,0.1702110121991427,0.1702110121991427,0.11880456504295149,0.11880456504295149,0.21101028816964951,null,null,2.7533333333333325,2.7533333333333325,2.7533333333333325,2.7533333333333325,null,9.1000000000000014,null,null,null,8.5,6.1999999999999993]
["2020-10-06",12.3,12.3,12.3,12.3,20.9,5.7759999999999998,5.7759999999999998,5.7759999999999998,5.7759999999999998,1.2599999999999996,1.2599999999999996,1.2599999999999996,1.2599999999999996,0.21814404432132958,0.21814404432132958,0.21814404432132958,0.21814404432132958,0.21814404432132958,0.21814404432132958,0.21814404432132958,0.21814404432132958,0,0,0,0,0.21814404432132958,0,28290.073559957269,28389.081172414019,5358.1919719260914,5358.1919719260914,null,null,null,null,11.65,1,1,7.2714681440443199E-2,7.2714681440443199E-2,7.2714681440443199E-2,7.2714681440443199E-2,4.088639112144693E-2,4.088639112144693E-2,8.3313930370225317E-2,null,null,1.2599999999999996,1.2599999999999996,1.2599999999999996,1.2599999999999996,null,12.3,null,null,null,11.5,9.5]
["2020-10-07",12.100000000000001,12.100000000000001,12.100000000000001,12.100000000000001,20.966666666666665,5.7520000000000007,5.7520000000000007,5.7520000000000007,5.7520000000000007,1.3533333333333326,1.3533333333333326,1.3533333333333326,1.3533333333333326,0.23528048215113567,0.23528048215113567,0.23528048215113567,0.23528048215113567,0.23528048215113567,0.23528048215113567,0.23528048215113567,0.23528048215113567,0,0,0,0,0.23528048215113567,0,28295.720291528898,28394.727903985648,5358.1919719260914,5358.1919719260914,null,null,null,null,11.321428571428571,1,1,7.8426827383711886E-2,7.8426827383711886E-2,7.8426827383711886E-2,7.8426827383711886E-2,6.2433723862832823E-2,6.2433723862832823E-2,7.2730439084424628E-2,null,null,1.3533333333333326,1.3533333333333326,1.3533333333333326,1.3533333333333326,null,12.100000000000001,null,null,null,11.100000000000001,9.3999999999999986]
["2020-10-14",6.8999999999999986,6.8999999999999986,6.8999999999999986,6.8999999999999986,22.7,5.1280000000000001,5.1280000000000001,5.1280000000000001,5.1280000000000001,3.7800000000000007,3.7800000000000007,3.7800000000000007,3.7800000000000007,0.73712948517940724,0.73712948517940724,0.73712948517940724,0.73712948517940724,0.73712948517940724,0.73712948517940724,0.73712948517940724,0.73712948517940724,0,0,0,0,0.73712948517940724,0,28379.246992633685,28478.254605090435,5358.5577459300102,5358.5577459300102,null,null,null,null,8.8214285714285712,1,1,0.24570982839313574,0.24570982839313574,0.24570982839313574,0.24570982839313574,0.22663453687779023,0.22663453687779023,0.22431477089454532,null,null,3.7800000000000007,3.7800000000000007,3.7800000000000007,3.7800000000000007,null,6.8999999999999986,null,null,null,6.3999999999999986,5.3999999999999986]
["2020-10-19",8.3999999999999986,8.3999999999999986,8.3999999999999986,8.3999999999999986,22.2,5.3079999999999998,5.3079999999999998,5.3079999999999998,5.3079999999999998,3.0800000000000005,3.0800000000000005,3.0800000000000005,3.0800000000000005,0.58025621703089691,0.58025621703089691,0.58025621703089691,0.58025621703089691,0.58025621703089691,0.58025621703089691,0.58025621703089691,0.58025621703089691,0,0,0,0,0.58025621703089691,0,28451.177005228601,28550.184617685351,5358.5577459300102,5358.5577459300102,null,null,null,null,9.0928571428571434,1,1,0.19341873901029896,0.19341873901029896,0.19341873901029896,0.19341873901029896,0.1923097089319355,0.1923097089319355,0.21413195035467614,null,null,3.0800000000000005,3.0800000000000005,3.0800000000000005,3.0800000000000005,null,8.3999999999999986,null,null,null,7.6000000000000014,5.1999999999999993]
["2020-10-24",13.2,13.2,13.2,13.2,20.6,5.8840000000000003,5.8840000000000003,5.8840000000000003,5.8840000000000003,0.8400000000000003,0.8400000000000003,0.8400000000000003,0.8400000000000003,0.14276002719238617,0.14276002719238617,0.14276002719238617,0.14276002719238617,0.14276002719238617,0.14276002719238617,0.14276002719238617,0.14276002719238617,0,0,0,0,0.14276002719238617,0,28496.445638183493,28595.453250640243,5358.5577459300102,5358.5577459300102,null,null,null,null,9.6571428571428566,1,1,4.7586675730795391E-2,4.7586675730795391E-2,4.7586675730795391E-2,4.7586675730795391E-2,0.12728742952538477,0.12728742952538477,9.8234842768542718E-2,null,null,0.8400000000000003,0.8400000000000003,0.8400000000000003,0.8400000000000003,null,13.2,null,null,null,12.5,10.600000000000001]
["2020-10-31",12.600000000000001,12.600000000000001,12.600000000000001,12.600000000000001,20.8,5.8119999999999994,5.8119999999999994,5.8119999999999994,5.8119999999999994,1.1199999999999994,1.1199999999999994,1.1199999999999994,1.1199999999999994,0.19270474879559524,0.19270474879559524,0.19270474879559524,0.19270474879559524,0.19270474879559524,0.19270474879559524,0.19270474879559524,0.19270474879559524,0,0,0,0,0.19270474879559524,0,28578.515041081555,28677.522653538304,5358.5577459300102,5358.5577459300102,null,null,null,null,8.8357142857142872,1,1,6.4234916265198408E-2,6.4234916265198408E-2,6.4234916265198408E-2,6.4234916265198408E-2,0.11768682548699297,0.11768682548699297,0.11467168915072035,null,null,1.1199999999999994,1.1199999999999994,1.1199999999999994,1.1199999999999994,null,12.600000000000001,null,null,null,11.3,9.6000000000000014]
["2020-11-05",5.3999999999999986,5.3999999999999986,5.3999999999999986,5.3999999999999986,23.2,4.9479999999999995,4.9479999999999995,4.9479999999999995,4.9479999999999995,4.4800000000000013,4.4800000000000013,4.4800000000000013,4.4800000000000013,0.90541632983023479,0.90541632983023479,0.90541632983023479,0.90541632983023479,0.90541632983023479,0.90541632983023479,0.90541632983023479,0.90541632983023479,0,0,0,0,0.90541632983023479,0,28626.168901596502,28725.176514053252,5358.9235199339291,5358.9235199339291,null,null,null,null,7.2285714285714295,1,1,0.30180544327674491,0.30180544327674491,0.30180544327674491,0.30180544327674491,0.25400316045612786,0.25400316045612786,0.28941010210434204,null,null,4.4800000000000013,4.4800000000000013,4.4800000000000013,4.4800000000000013,null,5.3999999999999986,null,null,null,4.3000000000000007,1.5]
["2020-11-10",4.3999999999999986,4.3999999999999986,4.3999999999999986,4.3999999999999986,23.533333333333335,4.8279999999999994,4.8279999999999994,4.8279999999999994,4.8279999999999994,4.9466666666666681,4.9466666666666681,4.9466666666666681,4.9466666666666681,1.0245788456227565,1.0245788456227565,1.0245788456227565,1.0245788456227565,1.0245788456227565,1.0245788456227565,1.0245788456227565,1.0245788456227565,0,0,0,0,1.0245788456227565,0,28770.339001298718,28869.346613755468,5358.9235199339291,5358.9235199339291,null,null,null,null,5.6000000000000005,1,1,0.34152628187425216,0.34152628187425216,0.34152628187425216,0.34152628187425216,0.35255753358475078,0.35255753358475078,0.35160871529394067,null,null,4.9466666666666681,4.9466666666666681,4.9466666666666681,4.9466666666666681,null,4.3999999999999986,null,null,null,3.5,0.89999999999999858]
["2020-11-17",9.6000000000000014,9.6000000000000014,9.6000000000000014,9.6000000000000014,21.8,5.452,5.452,5.452,5.452,2.5199999999999991,2.5199999999999991,2.5199999999999991,2.5199999999999991,0.46221570066030798,0.46221570066030798,0.46221570066030798,0.46221570066030798,0.46221570066030798,0.46221570066030798,0.46221570066030798,0.46221570066030798,0,0,0,0,0.46221570066030798,0,28894.052894874196,28993.060507330945,5358.9235199339291,5358.9235199339291,null,null,null,null,5.3999999999999995,1,1,0.15407190022010267,0.15407190022010267,0.15407190022010267,0.15407190022010267,0.23685340288789383,0.23685340288789383,0.18158110676776254,null,null,2.5199999999999991,2.5199999999999991,2.5199999999999991,2.5199999999999991,null,9.6000000000000014,null,null,null,8.8000000000000007]
["2020-11-22",3,3,3,3,24,4.66,4.66,4.66,4.66,5.6,5.6,5.6,5.6,1.2017167381974247,1.2017167381974247,1.2017167381974247,1.2017167381974247,1.2017167381974247,1.2017167381974247,1.2017167381974247,1.2017167381974247,0,0,0,0,1.2017167381974247,0,29018.208708231905,29117.216320688654,5358.9235199339291,5358.9235199339291,null,null,null,null,3.2642857142857147,1,1,0.40057224606580827,0.40057224606580827,0.40057224606580827,0.40057224606580827,0.42858265718438621,0.42858265718438621,0.41610341476756402,null,null,5.6,5.6,5.6,5.6,null,3,null,null,null,2.6999999999999993]
["2020-11-27",-0.10000000000000142,-0.10000000000000142,-0.10000000000000142,-0.10000000000000142,25.033333333333331,4.2880000000000003,4.2880000000000003,4.2880000000000003,4.2880000000000003,7.0466666666666677,7.0466666666666677,7.0466666666666677,7.0466666666666677,1.6433457711442787,1.6433457711442787,1.6433457711442787,1.6433457711442787,1.6433457711442787,1.6433457711442787,1.6433457711442787,1.6433457711442787,0,0,0,0,1.6433457711442787,0,29202.790565593266,29301.798178050016,5358.9235199339291,5358.9235199339291,null,null,null,null,0.40714285714285708,1,1,0.54778192371475953,0.54778192371475953,0.54778192371475953,0.54778192371475953,0.53384670154271252,0.53384670154271252,0.54283539441151152,null,null,7.0466666666666677,7.0466666666666677,7.0466666666666677,7.0466666666666677,null,-0.10000000000000142,null,null,null,-0.60000000000000142]
["2020-12-02",-1.8000000000000007,-1.8000000000000007,-1.8000000000000007,-1.8000000000000007,25.6,4.0839999999999996,4.0839999999999996,4.0839999999999996,4.0839999999999996,7.8400000000000007,7.8400000000000007,7.8400000000000007,7.8400000000000007,1.9196865817825666,1.9196865817825666,1.9196865817825666,1.9196865817825666,1.9196865817825666,1.9196865817825666,1.9196865817825666,1.9196865817825666,0,0,0,0,1.9196865817825666,0,29400.823018023151,29499.830630479901,5358.9235199339291,5358.9235199339291,null,null,null,null,1.9928571428571431,1,1,0.63989552726085552,0.63989552726085552,0.63989552726085552,0.63989552726085552,0.52661233721853873,0.52661233721853873,0.6305509721278576,null,null,7.8400000000000007,7.8400000000000007,7.8400000000000007,7.8400000000000007,null,-1.8000000000000007,null,null,null,-2.6000000000000014]
["2020-12-09",4.8000000000000007,4.8000000000000007,4.8000000000000007,4.8000000000000007,23.4,4.8759999999999994,4.8759999999999994,4.8759999999999994,4.8759999999999994,4.76,4.76,4.76,4.76,0.9762100082034455,0.9762100082034455,0.9762100082034455,0.9762100082034455,0.9762100082034455,0.9762100082034455,0.9762100082034455,0.9762100082034455,0,0,0,0,0.9762100082034455,0,29584.514902500683,29683.522514957433,5358.9235199339291,5358.9235199339291,null,null,null,null,3.6714285714285722,1,1,0.32540333606781519,0.32540333606781519,0.32540333606781519,0.32540333606781519,0.33566658483380357,0.33566658483380357,0.35274522582600404,null,null,4.76,4.76,4.76,4.76,null,4.8000000000000007,null,null,null,3.8999999999999986]
["2020-12-14",4.5,4.5,4.5,4.5,23.5,4.84,4.84,4.84,4.84,4.9000000000000004,4.9000000000000004,4.9000000000000004,4.9000000000000004,1.0123966942148761,1.0123966942148761,1.0123966942148761,1.0123966942148761,1.0123966942148761,1.0123966942148761,1.0123966942148761,1.0123966942148761,0,0,0,0,1.0123966942148761,0,29724.998194894179,29824.005807350928,5358.9235199339291,5358.9235199339291,null,null,null,null,2.9357142857142855,1,1,0.33746556473829203,0.33746556473829203,0.33746556473829203,0.33746556473829203,0.40078626491553193,0.40078626491553193,0.36238863807313537,null,null,4.9000000000000004,4.9000000000000004,4.9000000000000004,4.9000000000000004,null,4.5,null,null,null,3.3000000000000007]
["2020-12-19",1.5,{"$f":"$B2099+C$9","v":1.5},1.5,1.5,24.5,4.4800000000000004,4.4800000000000004,4.4800000000000004,4.4800000000000004,6.3,6.3,6.3,6.3,1.4062499999999998,1.4062499999999998,1.4062499999999998,1.4062499999999998,1.4062499999999998,1.4062499999999998,1.4062499999999998,1.4062499999999998,0,0,0,0,1.4062499999999998,0,29879.952142466456,29978.959754923206,5358.9235199339291,5358.9235199339291,null,null,null,null,3.7642857142857138,1,1,0.46874999999999994,0.46874999999999994,0.46874999999999994,0.46874999999999994,0.4096403171335784,0.4096403171335784,0.45937801394180178,null,null,6.3,6.3,6.3,6.3,null,1.5,null,null,null,0.60000000000000142]
["2020-12-21",2.5,2.5,2.5,2.5,24.166666666666668,4.5999999999999996,4.5999999999999996,4.5999999999999996,4.5999999999999996,5.833333333333333,5.833333333333333,5.833333333333333,5.833333333333333,1.2681159420289856,1.2681159420289856,1.2681159420289856,1.2681159420289856,1.2681159420289856,1.2681159420289856,1.2681159420289856,1.2681159420289856,0,0,0,0,1.2681159420289856,0,29943.459749231457,30042.467361688206,5358.9235199339291,5358.9235199339291,null,null,null,null,3.1642857142857141,1,1,0.42270531400966188,0.42270531400966188,0.42270531400966188,0.42270531400966188,0.33730330768582145,0.33730330768582145,0.36763598112189994,null,null,5.833333333333333,5.833333333333333,5.833333333333333,5.833333333333333,null,2.5,null,null,null,1.6000000000000014]
["2020-12-26",0.39999999999999858,0.39999999999999858,0.39999999999999858,0.39999999999999858,24.866666666666667,4.3479999999999999,4.3479999999999999,4.3479999999999999,4.3479999999999999,6.8133333333333344,6.8133333333333344,6.8133333333333344,6.8133333333333344,1.5670039865072067,1.5670039865072067,1.5670039865072067,1.5670039865072067,1.5670039865072067,1.5670039865072067,1.5670039865072067,1.5670039865072067,0,0,0,0,1.5670039865072067,0,30053.148172913006,30152.155785369756,5358.9235199339291,5358.9235199339291,null,null,null,null,2.4071428571428575,1,1,0.52233466216906888,0.52233466216906888,0.52233466216906888,0.52233466216906888,0.39956374172009973,0.39956374172009973,0.52317293091162709,null,null,6.8133333333333344,6.8133333333333344,6.8133333333333344,6.8133333333333344,null,0.39999999999999858,null,null,null,-0.69999999999999929]
["2021-01-05",1.1999999999999993,1.1999999999999993,1.1999999999999993,1.1999999999999993,24.6,4.444,4.444,4.444,4.444,6.44,6.44,6.44,6.44,1.4491449144914492,1.4491449144914492,1.4491449144914492,1.4491449144914492,1.4491449144914492,1.4491449144914492,1.4491449144914492,1.4491449144914492,0,0,0,0,1.4491449144914492,0,30422.579703800315,30521.587316257064,5358.9235199339291,5358.9235199339291,null,null,null,null,-6.4285714285714432E-2,1,1,0.48304830483048306,0.48304830483048306,0.48304830483048306,0.48304830483048306,0.51745255610665242,0.51745255610665242,0.4793941466302043,null,null,6.44,6.44,6.44,6.44,null,1.1999999999999993,null,null,null,0.60000000000000142]
["2021-01-07",0,0,0,0,25,4.3,4.3,4.3,4.3,7,7,7,7,1.6279069767441861,1.6279069767441861,1.6279069767441861,1.6279069767441861,1.6279069767441861,1.6279069767441861,1.6279069767441861,1.6279069767441861,0,0,0,0,1.6279069767441861,0,30499.984346357807,30598.991958814557,5358.9235199339291,5358.9235199339291,null,null,null,null,-0.13571428571428562,1,1,0.54263565891472865,0.54263565891472865,0.54263565891472865,0.54263565891472865,0.5244671066884935,0.5244671066884935,0.54094880122665201,null,null,7,7,7,7,null,0,null,null,null,-1]
["2021-01-13",0.69999999999999929,0.69999999999999929,0.69999999999999929,0.69999999999999929,24.766666666666666,4.3840000000000003,4.3840000000000003,4.3840000000000003,4.3840000000000003,6.6733333333333338,6.6733333333333338,6.6733333333333338,6.6733333333333338,1.5222019464720193,1.5222019464720193,1.5222019464720193,1.5222019464720193,1.5222019464720193,1.5222019464720193,1.5222019464720193,1.5222019464720193,0,0,0,0,1.5222019464720193,0,30750.282959980679,30849.290572437429,5358.9235199339291,5358.9235199339291,null,null,null,null,-0.7142857142857143,1,1,0.50740064882400648,0.50740064882400648,0.50740064882400648,0.50740064882400648,0.61850131824360477,0.61850131824360477,0.54824902912033446,null,null,6.6733333333333338,6.6733333333333338,6.6733333333333338,6.6733333333333338,null,0.69999999999999929,null,null,null,-0.30000000000000071]
["2021-01-16",-4.3999999999999986,-4.3999999999999986,-4.3999999999999986,-4.3999999999999986,26.466666666666669,3.7719999999999998,3.7719999999999998,3.7719999999999998,3.7719999999999998,9.0533333333333328,9.0533333333333328,9.0533333333333328,9.0533333333333328,2.4001413927182749,2.4001413927182749,2.4001413927182749,2.4001413927182749,2.4001413927182749,2.4001413927182749,2.4001413927182749,2.4001413927182749,0,0,0,0,2.4001413927182749,0,30891.713749523449,30990.721361980199,5358.9235199339291,5358.9235199339291,null,null,null,null,0.10000000000000016,1,1,0.80004713090609159,0.80004713090609159,0.80004713090609159,0.80004713090609159,0.62503130743395563,0.62503130743395563,0.73588636880714819,null,null,9.0533333333333328,9.0533333333333328,9.0533333333333328,9.0533333333333328,null,-4.3999999999999986,null,null,null,-5.7000000000000028]
["2021-01-24",0.69999999999999929,0.69999999999999929,0.69999999999999929,0.69999999999999929,24.766666666666666,4.3840000000000003,4.3840000000000003,4.3840000000000003,4.3840000000000003,6.6733333333333338,6.6733333333333338,6.6733333333333338,6.6733333333333338,1.5222019464720193,1.5222019464720193,1.5222019464720193,1.5222019464720193,1.5222019464720193,1.5222019464720193,1.5222019464720193,1.5222019464720193,0,0,0,0,1.5222019464720193,0,31171.221644502337,31270.229256959086,5358.9235199339291,5358.9235199339291,null,null,null,null,1.0500000000000003,1,1,0.50740064882400648,0.50740064882400648,0.50740064882400648,0.50740064882400648,0.47107874762614388,0.47107874762614388,0.47932820176748758,null,null,6.6733333333333338,6.6733333333333338,6.6733333333333338,6.6733333333333338,null,0.69999999999999929,null,null,null,0.10000000000000142]
["2021-01-30",1,1,1,1,24.666666666666668,4.42,4.42,4.42,4.42,6.5333333333333332,6.5333333333333332,6.5333333333333332,6.5333333333333332,1.4781297134238311,1.4781297134238311,1.4781297134238311,1.4781297134238311,1.4781297134238311,1.4781297134238311,1.4781297134238311,1.4781297134238311,0,0,0,0,1.4781297134238311,0,31397.923359897475,31496.930972354225,5358.9235199339291,5358.9235199339291,null,null,null,null,1.2714285714285718,1,1,0.49270990447461038,0.49270990447461038,0.49270990447461038,0.49270990447461038,0.54783466435260386,0.54783466435260386,0.58225217821651831,null,null,6.5333333333333332,6.5333333333333332,6.5333333333333332,6.5333333333333332,null,1,null,null,null,0.19999999999999929]
["2021-02-02",3.8000000000000007,3.8000000000000007,3.8000000000000007,3.8000000000000007,23.733333333333334,4.7559999999999993,4.7559999999999993,4.7559999999999993,4.7559999999999993,5.2266666666666657,5.2266666666666657,5.2266666666666657,5.2266666666666657,1.0989627137650686,1.0989627137650686,1.0989627137650686,1.0989627137650686,1.0989627137650686,1.0989627137650686,1.0989627137650686,1.0989627137650686,0,0,0,0,1.0989627137650686,0,31526.700526883509,31625.708139340259,5358.9235199339291,5358.9235199339291,null,null,null,null,-0.14999999999999986,1,1,0.3663209045883562,0.3663209045883562,0.3663209045883562,0.3663209045883562,0.45403659782533562,0.45403659782533562,0.41568716838116365,null,null,5.2266666666666657,5.2266666666666657,5.2266666666666657,5.2266666666666657,null,3.8000000000000007,null,null,null,3.1000000000000014]
["2021-02-11",-7.3999999999999986,-7.3999999999999986,-7.3999999999999986,-7.3999999999999986,27.466666666666669,3.4119999999999999,3.4119999999999999,3.4119999999999999,3.4119999999999999,10.453333333333331,10.453333333333331,10.453333333333331,10.453333333333331,3.2173333333333307,3.2173333333333307,3.2173333333333307,3.2173333333333307,3.2173333333333307,3.2173333333333307,3.2173333333333307,3.2173333333333307,0,0,0,0,3.2173333333333307,0,32048.466969995927,32147.474582452676,5358.9235199339291,5358.9235199339291,null,null,null,null,-4.6785714285714288,1,1,1.0212322521818418,1.0212322521818418,1.0212322521818418,1.0212322521818418,1.0912460069274263,1.0912460069274263,1.1383456423342422,null,null,10.453333333333331,10.453333333333331,10.453333333333331,10.453333333333331,null,-7.3999999999999986,null,null,null,-7.8999999999999986]
["2021-02-16",-2.5,-2.5,-2.5,-2.5,25.833333333333332,4,4,4,4,8.1666666666666661,8.1666666666666661,8.1666666666666661,8.1666666666666661,2.0416666666666665,2.0416666666666665,2.0416666666666665,2.0416666666666665,2.0416666666666665,2.0416666666666665,2.0416666666666665,2.0416666666666665,0,0,0,0,2.0416666666666665,0,32549.178969995926,32648.186582452676,5358.9235199339291,5358.9235199339291,null,null,null,null,-2.3857142857142861,1,1,0.68055555555555547,0.68055555555555547,0.68055555555555547,0.68055555555555547,0.75336748215085803,0.75336748215085803,0.82375912597064216,null,null,8.1666666666666661,8.1666666666666661,8.1666666666666661,8.1666666666666661,null,-2.5,null,null,null,-1.3000000000000007]
["2021-02-19",4.8999999999999986,4.8999999999999986,4.8999999999999986,4.8999999999999986,23.366666666666667,4.8879999999999999,4.8879999999999999,4.8879999999999999,4.8879999999999999,4.7133333333333347,4.7133333333333347,4.7133333333333347,4.7133333333333347,0.9642662302236773,0.9642662302236773,0.9642662302236773,0.9642662302236773,0.9642662302236773,0.9642662302236773,0.9642662302236773,0.9642662302236773,0,0,0,0,0.9642662302236773,0,32622.466637971655,32721.474250428404,5358.9235199339291,5358.9235199339291,null,null,null,null,5.0000000000000204E-2,1,1,0.32142207674122575,0.32142207674122575,0.32142207674122575,0.32142207674122575,0.41570727161212151,0.41570727161212151,0.35536126304829124,null,null,4.7133333333333347,4.7133333333333347,4.7133333333333347,4.7133333333333347,null,4.8999999999999986,null,null,null,5.1999999999999993]
["2021-02-23",0.80000000000000071,0.80000000000000071,0.80000000000000071,0.80000000000000071,24.733333333333334,4.3959999999999999,4.3959999999999999,4.3959999999999999,4.3959999999999999,6.626666666666666,6.626666666666666,6.626666666666666,6.626666666666666,1.5074309978768576,1.5074309978768576,1.5074309978768576,1.5074309978768576,1.5074309978768576,1.5074309978768576,1.5074309978768576,1.5074309978768576,0,0,0,0,1.5074309978768576,0,32745.873778837482,32844.881391294228,5358.9235199339291,5358.9235199339291,null,null,null,null,2.9499999999999997,1,1,0.50247699929228584,0.50247699929228584,0.50247699929228584,0.50247699929228584,0.42356886293277868,0.42356886293277868,0.43947563642661014,null,null,6.626666666666666,6.626666666666666,6.626666666666666,6.626666666666666,null,0.80000000000000071,null,null,null,1.6999999999999993]
["2021-02-28",4.3999999999999986,4.3999999999999986,4.3999999999999986,4.3999999999999986,23.533333333333335,4.8279999999999994,4.8279999999999994,4.8279999999999994,4.8279999999999994,4.9466666666666681,4.9466666666666681,4.9466666666666681,4.9466666666666681,1.0245788456227565,1.0245788456227565,1.0245788456227565,1.0245788456227565,1.0245788456227565,1.0245788456227565,1.0245788456227565,1.0245788456227565,0,0,0,0,1.0245788456227565,0,32887.517485705437,32986.525098162187,5358.9235199339291,5358.9235199339291,null,null,null,null,2.0999999999999996,1,1,0.34152628187425216,0.34152628187425216,0.34152628187425216,0.34152628187425216,0.42674121799403009,0.42674121799403009,0.38723437683867595,null,null,4.9466666666666681,4.9466666666666681,4.9466666666666681,4.9466666666666681,null,4.3999999999999986,null,null,null,3.6999999999999993]
["2021-03-08",0.39999999999999858,0.39999999999999858,0.39999999999999858,0.39999999999999858,24.866666666666667,4.3479999999999999,4.3479999999999999,4.3479999999999999,4.3479999999999999,6.8133333333333344,6.8133333333333344,6.8133333333333344,6.8133333333333344,1.5670039865072067,1.5670039865072067,1.5670039865072067,1.5670039865072067,1.5670039865072067,1.5670039865072067,1.5670039865072067,1.5670039865072067,0,0,0,0,1.5670039865072067,0,33167.743332564896,33266.750945021646,5358.9235199339291,5358.9235199339291,null,null,null,null,2.4928571428571424,1,1,0.52233466216906888,0.52233466216906888,0.52233466216906888,0.52233466216906888,0.49488053379209385,0.49488053379209385,0.54851457040033613,null,null,6.8133333333333344,6.8133333333333344,6.8133333333333344,6.8133333333333344,null,0.39999999999999858,null,null,null,0]
["2021-03-12",6.3999999999999986,6.3999999999999986,6.3999999999999986,6.3999999999999986,22.866666666666667,5.0679999999999996,5.0679999999999996,5.0679999999999996,5.0679999999999996,4.0133333333333336,4.0133333333333336,4.0133333333333336,4.0133333333333336,0.79189686924493563,0.79189686924493563,0.79189686924493563,0.79189686924493563,0.79189686924493563,0.79189686924493563,0.79189686924493563,0.79189686924493563,0,0,0,0,0.79189686924493563,0,33286.037043476012,33385.044655932761,5358.9235199339291,5358.9235199339291,null,null,null,null,2.5857142857142854,1,1,0.26396562308164523,0.26396562308164523,0.26396562308164523,0.26396562308164523,0.36941428520772723,0.36941428520772723,0.26425145513819953,null,null,4.0133333333333336,4.0133333333333336,4.0133333333333336,4.0133333333333336,null,6.3999999999999986,null,null,null,5.5]
["2021-03-17",1.6000000000000014,1.6000000000000014,1.6000000000000014,1.6000000000000014,24.466666666666669,4.492,4.492,4.492,4.492,6.2533333333333321,6.2533333333333321,6.2533333333333321,6.2533333333333321,1.3921044820421486,1.3921044820421486,1.3921044820421486,1.3921044820421486,1.3921044820421486,1.3921044820421486,1.3921044820421486,1.3921044820421486,0,0,0,0,1.3921044820421486,0,33414.934221866708,33513.941834323457,5358.9235199339291,5358.9235199339291,null,null,null,null,3.5142857142857138,1,1,0.46403482734738288,0.46403482734738288,0.46403482734738288,0.46403482734738288,0.45043523291358828,0.45043523291358828,0.42937955606001044,null,null,6.2533333333333321,6.2533333333333321,6.2533333333333321,6.2533333333333321,null,1.6000000000000014,null,null,null,0.89999999999999858]
["2021-03-23",3.8999999999999986,3.8999999999999986,3.8999999999999986,3.8999999999999986,23.7,4.7679999999999998,4.7679999999999998,4.7679999999999998,4.7679999999999998,5.1800000000000015,5.1800000000000015,5.1800000000000015,5.1800000000000015,1.0864093959731547,1.0864093959731547,1.0864093959731547,1.0864093959731547,1.0864093959731547,1.0864093959731547,1.0864093959731547,1.0864093959731547,0,0,0,0,1.0864093959731547,0,33615.356872513497,33714.364484970247,5358.9235199339291,5358.9235199339291,null,null,null,null,5.4357142857142851,1,1,0.36213646532438487,0.36213646532438487,0.36213646532438487,0.36213646532438487,0.35179084336828803,0.35179084336828803,0.33361851336085285,null,null,5.1800000000000015,5.1800000000000015,5.1800000000000015,5.1800000000000015,null,3.8999999999999986]
["2021-03-29",11.8,11.8,11.8,11.8,21.066666666666666,5.7159999999999993,5.7159999999999993,5.7159999999999993,5.7159999999999993,1.493333333333333,1.493333333333333,1.493333333333333,1.493333333333333,0.26125495684627942,0.26125495684627942,0.26125495684627942,0.26125495684627942,0.26125495684627942,0.26125495684627942,0.26125495684627942,0.26125495684627942,0,0,0,0,0.26125495684627942,0,33698.905567898852,33797.913180355601,5358.9235199339291,5358.9235199339291,null,null,null,null,8.4071428571428566,1,1,8.7084985615426477E-2,8.7084985615426477E-2,8.7084985615426477E-2,8.7084985615426477E-2,0.10909500102199665,0.10909500102199665,0.12468209992835237,null,null,1.493333333333333,1.493333333333333,1.493333333333333,1.493333333333333,null,11.8]
["2021-04-03",5.1000000000000014,5.1000000000000014,5.1000000000000014,5.1000000000000014,23.3,4.9119999999999999,4.9119999999999999,4.9119999999999999,4.9119999999999999,4.6199999999999992,4.6199999999999992,4.6199999999999992,4.6199999999999992,0.94055374592833862,0.94055374592833862,0.94055374592833862,0.94055374592833862,0.94055374592833862,0.94055374592833862,0.94055374592833862,0.94055374592833862,0,0,0,0,0.94055374592833862,0,33744.990532459371,33843.998144916121,5358.9235199339291,5358.9235199339291,null,null,null,null,7.2999999999999989,1,1,0.31351791530944623,0.31351791530944623,0.31351791530944623,0.31351791530944623,0.256933824504671,0.256933824504671,0.29531448646397201,null,null,4.6199999999999992,4.6199999999999992,4.6199999999999992,4.6199999999999992,null,5.1000000000000014]
["2021-04-09",5.6000000000000014,5.6000000000000014,5.6000000000000014,5.6000000000000014,23.133333333333333,4.9719999999999995,4.9719999999999995,4.9719999999999995,4.9719999999999995,4.3866666666666658,4.3866666666666658,4.3866666666666658,4.3866666666666658,0.88227406811477604,0.88227406811477604,0.88227406811477604,0.88227406811477604,0.88227406811477604,0.88227406811477604,0.88227406811477604,0.88227406811477604,0,0,0,0,0.88227406811477604,0,33913.422128627688,34012.429741084437,5358.9235199339291,5358.9235199339291,null,null,null,null,4.5,1,1,0.2940913560382587,0.2940913560382587,0.2940913560382587,0.2940913560382587,0.32258738378745655,0.32258738378745655,0.28001368117490177,null,null,4.3866666666666658,4.3866666666666658,4.3866666666666658,4.3866666666666658,null,5.6000000000000014]
["2021-04-15",2,2,2,2,24.333333333333332,4.54,4.54,4.54,4.54,6.0666666666666664,6.0666666666666664,6.0666666666666664,6.0666666666666664,1.3362701908957415,1.3362701908957415,1.3362701908957415,1.3362701908957415,1.3362701908957415,1.3362701908957415,1.3362701908957415,1.3362701908957415,0,0,0,0,1.3362701908957415,0,34040.098338057142,34139.105950513891,5358.9235199339291,5358.9235199339291,null,null,null,null,6.3714285714285719,1,1,0.44542339696524719,0.44542339696524719,0.44542339696524719,0.44542339696524719,0.36489517541687438,0.36489517541687438,0.41148320518775505,null,null,6.0666666666666664,6.0666666666666664,6.0666666666666664,6.0666666666666664,null,2]
["2021-04-20",9.6999999999999993,9.6999999999999993,9.6999999999999993,9.6999999999999993,21.766666666666666,5.4640000000000004,5.4640000000000004,5.4640000000000004,5.4640000000000004,2.473333333333334,2.473333333333334,2.473333333333334,2.473333333333334,0.45265983406539784,0.45265983406539784,0.45265983406539784,0.45265983406539784,0.45265983406539784,0.45265983406539784,0.45265983406539784,0.45265983406539784,0,0,0,0,0.45265983406539784,0,34140.670916231102,34239.678528687851,5358.9235199339291,5358.9235199339291,null,null,null,null,6.2214285714285706,1,1,0.15088661135513262,0.15088661135513262,0.15088661135513262,0.15088661135513262,0.22765578752154153,0.22765578752154153,0.16435582031272625,null,null,2.473333333333334,2.473333333333334,2.473333333333334,2.473333333333334,null,9.6999999999999993]
["2021-04-26",5.1999999999999993,{"$f":"$B2227+C$9","v":5.1999999999999993},5.1999999999999993,5.1999999999999993,23.266666666666666,4.9240000000000004,4.9240000000000004,4.9240000000000004,4.9240000000000004,4.5733333333333341,4.5733333333333341,4.5733333333333341,4.5733333333333341,0.92878418629840243,0.92878418629840243,0.92878418629840243,0.92878418629840243,0.92878418629840243,0.92878418629840243,0.92878418629840243,0.92878418629840243,0,0,0,0,0.92878418629840243,0,34241.915080375322,34340.922692832071,5358.9235199339291,5358.9235199339291,null,null,null,null,8.6142857142857139,1,1,0.30959472876613414,0.30959472876613414,0.30959472876613414,0.30959472876613414,0.20812986988040921,0.20812986988040921,0.26700479518413517,null,null,4.5733333333333341,4.5733333333333341,4.5733333333333341,4.5733333333333341,null,5.1999999999999993]
["2021-05-02",7.8000000000000007,7.8000000000000007,7.8000000000000007,7.8000000000000007,22.4,5.2359999999999998,5.2359999999999998,5.2359999999999998,5.2359999999999998,3.3599999999999994,3.3599999999999994,3.3599999999999994,3.3599999999999994,0.64171122994652396,0.64171122994652396,0.64171122994652396,0.64171122994652396,0.64171122994652396,0.64171122994652396,0.64171122994652396,0.64171122994652396,0,0,0,0,0.64171122994652396,0,34304.944228608052,34403.951841064802,5358.9235199339291,5358.9235199339291,null,null,null,null,9.4357142857142868,1,1,0.21390374331550799,0.21390374331550799,0.21390374331550799,0.21390374331550799,0.14172856514892621,0.14172856514892621,0.19415895852442552,null,null,3.3599999999999994,3.3599999999999994,3.3599999999999994,3.3599999999999994,null,7.8000000000000007]
["2021-05-03",7.6000000000000014,7.6000000000000014,7.6000000000000014,7.6000000000000014,22.466666666666665,5.2119999999999997,5.2119999999999997,5.2119999999999997,5.2119999999999997,3.4533333333333327,3.4533333333333327,3.4533333333333327,3.4533333333333327,0.66257354822205161,0.66257354822205161,0.66257354822205161,0.66257354822205161,0.66257354822205161,0.66257354822205161,0.66257354822205161,0.66257354822205161,0,0,0,0,0.66257354822205161,0,34320.845993765382,34419.853606222132,5358.9235199339291,5358.9235199339291,null,null,null,null,10.414285714285715,1,1,0.22085784940735054,0.22085784940735054,0.22085784940735054,0.22085784940735054,0.16400587733818325,0.16400587733818325,0.18182576354238947,null,null,3.4533333333333327,3.4533333333333327,3.4533333333333327,3.4533333333333327,null,7.6000000000000014]
["2021-05-13",10.600000000000001,10.600000000000001,10.600000000000001,10.600000000000001,21.466666666666665,5.5720000000000001,5.5720000000000001,5.5720000000000001,5.5720000000000001,2.0533333333333328,2.0533333333333328,2.0533333333333328,2.0533333333333328,0.36850921273031817,0.36850921273031817,0.36850921273031817,0.36850921273031817,0.36850921273031817,0.36850921273031817,0.36850921273031817,0.36850921273031817,0,0,0,0,0.36850921273031817,0,34393.490694797983,34492.498307254733,5375.6105647506238,5375.6105647506238,null,null,null,null,12.6,1,1,0.12283640424343939,0.12283640424343939,0.12283640424343939,0.12283640424343939,2.4807556158906199E-2,2.4807556158906199E-2,8.0026004009444901E-2,null,null,2.0533333333333328,2.0533333333333328,2.0533333333333328,2.0533333333333328,null,10.600000000000001]
["2021-05-14",10.7,10.7,10.7,10.7,21.433333333333334,5.5839999999999996,5.5839999999999996,5.5839999999999996,5.5839999999999996,2.0066666666666668,2.0066666666666668,2.0066666666666668,2.0066666666666668,0.35936007640878709,0.35936007640878709,0.35936007640878709,0.35936007640878709,0.35936007640878709,0.35936007640878709,0.35936007640878709,0.35936007640878709,0,0,0,0,0.35936007640878709,0,34402.115336631796,34501.122949088545,5375.6105647506238,5375.6105647506238,null,null,null,null,12.950000000000001,1,1,0.11978669213626236,0.11978669213626236,0.11978669213626236,0.11978669213626236,5.002953795125796E-2,5.002953795125796E-2,0.11184701062790768,null,null,2.0066666666666668,2.0066666666666668,2.0066666666666668,2.0066666666666668,null,10.7]
["2021-05-20",10.199999999999999,10.199999999999999,10.199999999999999,10.199999999999999,21.6,5.524,5.524,5.524,5.524,2.2400000000000007,2.2400000000000007,2.2400000000000007,2.2400000000000007,0.40550325850832741,0.40550325850832741,0.40550325850832741,0.40550325850832741,0.40550325850832741,0.40550325850832741,0.40550325850832741,0.40550325850832741,0,0,0,0,0.40550325850832741,0,34443.505377462105,34542.512989918854,5375.6105647506238,5375.6105647506238,null,null,null,null,11.65,1,1,0.13516775283610913,0.13516775283610913,0.13516775283610913,0.13516775283610913,8.969923816851777E-2,8.969923816851777E-2,0.10835132183622243,null,null,2.2400000000000007,2.2400000000000007,2.2400000000000007,2.2400000000000007,null,10.199999999999999]
["2021-05-24",12.600000000000001,12.600000000000001,12.600000000000001,12.600000000000001,20.8,5.8119999999999994,5.8119999999999994,5.8119999999999994,5.8119999999999994,1.1199999999999994,1.1199999999999994,1.1199999999999994,1.1199999999999994,0.19270474879559524,0.19270474879559524,0.19270474879559524,0.19270474879559524,0.19270474879559524,0.19270474879559524,0.19270474879559524,0.19270474879559524,0,0,0,0,0.19270474879559524,0,34463.669856821289,34562.677469278038,5375.6105647506238,5375.6105647506238,null,null,null,null,11.664285714285716,1,1,6.4234916265198408E-2,6.4234916265198408E-2,6.4234916265198408E-2,6.4234916265198408E-2,8.4574963233300451E-2,8.4574963233300451E-2,8.5317711351913475E-2,null,null,1.1199999999999994,1.1199999999999994,1.1199999999999994,1.1199999999999994,null,12.600000000000001]
["2021-06-01",14.7,14.7,14.7,14.7,20.100000000000001,6.0640000000000001,6.0640000000000001,6.0640000000000001,6.0640000000000001,0.14000000000000032,0.14000000000000032,0.14000000000000032,0.14000000000000032,2.3087071240105592E-2,2.3087071240105592E-2,2.3087071240105592E-2,2.3087071240105592E-2,2.3087071240105592E-2,2.3087071240105592E-2,2.3087071240105592E-2,2.3087071240105592E-2,0,0,0,0,2.3087071240105592E-2,0,34512.679027866005,34611.686640322754,5375.6105647506238,5375.6105647506238,null,null,null,null,0,0,1,7.6956904133685311E-3,7.6956904133685311E-3,7.6956904133685311E-3,7.6956904133685311E-3,7.125660774051904E-3,7.125660774051904E-3,9.993977371893073E-3,null,null,0.14000000000000032,0.14000000000000032,0.14000000000000032,0.14000000000000032,null,14.7]
["2021-06-06",20.5,20.5,20.5,20.5,18.166666666666668,6.76,6.76,6.76,6.76,-2.5666666666666669,-2.5666666666666669,-2.5666666666666669,-2.5666666666666669,-0.37968441814595666,-0.37968441814595666,-0.37968441814595666,-0.37968441814595666,0,0,0,0,0.37968441814595666,0.37968441814595666,0.37968441814595666,0.37968441814595666,0,0.37968441814595666,34512.679027866005,34611.686640322754,5411.4714466103605,5411.4714466103605,null,null,null,null,0,0,0,-0.1265614727153189,-0.1265614727153189,-0.1265614727153189,-0.1265614727153189,-0.11513094992511541,-0.11513094992511541,-0.12508576228177723,null,null,0,0,0,0,null,20.5]
["2021-06-10",18,18,18,18,19,6.46,6.46,6.46,6.46,-1.4,-1.4,-1.4,-1.4,-0.21671826625386995,-0.21671826625386995,-0.21671826625386995,-0.21671826625386995,0,0,0,0,0.21671826625386995,0.21671826625386995,0.21671826625386995,0.21671826625386995,0,0.21671826625386995,34512.679027866005,34611.686640322754,5441.8581064715027,5441.8581064715027,null,null,null,null,0,0,0,-7.223942208462332E-2,-7.223942208462332E-2,-7.223942208462332E-2,-7.223942208462332E-2,-8.5855980765528347E-2,-8.5855980765528347E-2,-9.4350559757622465E-2,null,null,0,0,0,0,null,18]
["2021-06-18",24.5,24.5,24.5,24.5,16.833333333333332,7.24,7.24,7.24,7.24,-4.4333333333333336,-4.4333333333333336,-4.4333333333333336,-4.4333333333333336,-0.61233885819521183,-0.61233885819521183,-0.61233885819521183,-0.61233885819521183,0,0,0,0,0.61233885819521183,0.61233885819521183,0.61233885819521183,0.61233885819521183,0,0.61233885819521183,34515.128556802745,34614.136169259495,5507.8072487825539,5507.8072487825539,null,null,null,null,0,0,0,-0.20411295273173727,-0.20411295273173727,-0.20411295273173727,-0.20411295273173727,-0.19339244123930338,-0.19339244123930338,-0.20096937438409113,null,null,0,0,0,0,null,24.5]
["2021-06-23",18.3,18.3,18.3,18.3,18.899999999999999,6.4959999999999996,6.4959999999999996,6.4959999999999996,6.4959999999999996,-1.5400000000000003,-1.5400000000000003,-1.5400000000000003,-1.5400000000000003,-0.23706896551724144,-0.23706896551724144,-0.23706896551724144,-0.23706896551724144,0,0,0,0,0.23706896551724144,0.23706896551724144,0.23706896551724144,0.23706896551724144,0,0.23706896551724144,34515.128556802745,34614.136169259495,5568.130448001717,5568.130448001717,null,null,null,null,0,0,0,-7.9022988505747141E-2,-7.9022988505747141E-2,-7.9022988505747141E-2,-7.9022988505747141E-2,-0.12517721146332292,-0.12517721146332292,-9.1514873128755947E-2,null,null,0,0,0,0,null,18.3]
["2021-06-27",19.7,19.7,19.7,19.7,18.433333333333334,6.6639999999999997,6.6639999999999997,6.6639999999999997,6.6639999999999997,-2.1933333333333329,-2.1933333333333329,-2.1933333333333329,-2.1933333333333329,-0.32913165266106437,-0.32913165266106437,-0.32913165266106437,-0.32913165266106437,0,0,0,0,0.32913165266106437,0.32913165266106437,0.32913165266106437,0.32913165266106437,0,0.32913165266106437,34515.128556802745,34614.136169259495,5594.1381887773578,5594.1381887773578,null,null,null,null,0,0,0,-0.10971055088702146,-0.10971055088702146,-0.10971055088702146,-0.10971055088702146,-0.10637212998432131,-0.10637212998432131,-0.11494320055959874,null,null,0,0,0,0,null,19.7]
["2021-07-05",19.899999999999999,19.899999999999999,19.899999999999999,19.899999999999999,18.366666666666667,6.6879999999999997,6.6879999999999997,6.6879999999999997,6.6879999999999997,-2.2866666666666662,-2.2866666666666662,-2.2866666666666662,-2.2866666666666662,-0.34190590111642738,-0.34190590111642738,-0.34190590111642738,-0.34190590111642738,0,0,0,0,0.34190590111642738,0.34190590111642738,0.34190590111642738,0.34190590111642738,0,0.34190590111642738,34515.128556802745,34614.136169259495,5645.8486906026001,5645.8486906026001,null,null,null,null,0,0,0,-0.11396863370547579,-0.11396863370547579,-0.11396863370547579,-0.11396863370547579,-9.3350613531115484E-2,-9.3350613531115484E-2,-0.12587513615221171,null,null,0,0,0,0,null,19.899999999999999]
["2021-07-10",18.7,18.7,18.7,18.7,18.766666666666666,6.5440000000000005,6.5440000000000005,6.5440000000000005,6.5440000000000005,-1.7266666666666663,-1.7266666666666663,-1.7266666666666663,-1.7266666666666663,-0.26385493072534633,-0.26385493072534633,-0.26385493072534633,-0.26385493072534633,0,0,0,0,0.26385493072534633,0.26385493072534633,0.26385493072534633,0.26385493072534633,0,0.26385493072534633,34515.128556802745,34614.136169259495,5684.9373095182609,5684.9373095182609,null,null,null,null,0,0,0,-8.7951643575115437E-2,-8.7951643575115437E-2,-8.7951643575115437E-2,-8.7951643575115437E-2,-0.10156776500783542,-0.10156776500783542,-9.0884518945797951E-2,null,null,0,0,0,0,null,18.7]
["2021-07-12",18.7,18.7,18.7,18.7,18.766666666666666,6.5440000000000005,6.5440000000000005,6.5440000000000005,6.5440000000000005,-1.7266666666666663,-1.7266666666666663,-1.7266666666666663,-1.7266666666666663,-0.26385493072534633,-0.26385493072534633,-0.26385493072534633,-0.26385493072534633,0,0,0,0,0.26385493072534633,0.26385493072534633,0.26385493072534633,0.26385493072534633,0,0.26385493072534633,34515.128556802745,34614.136169259495,5697.6023461930772,5697.6023461930772,null,null,null,null,0,0,0,-8.7951643575115437E-2,-8.7951643575115437E-2,-8.7951643575115437E-2,-8.7951643575115437E-2,-9.9685720918483239E-2,-9.9685720918483239E-2,-0.11093456780554713,null,null,0,0,0,0,null,18.7]
["2021-07-17",20.6,20.6,20.6,20.6,18.133333333333333,6.7720000000000002,6.7720000000000002,6.7720000000000002,6.7720000000000002,-2.6133333333333342,-2.6133333333333342,-2.6133333333333342,-2.6133333333333342,-0.38590273675920467,-0.38590273675920467,-0.38590273675920467,-0.38590273675920467,0,0,0,0,0.38590273675920467,0.38590273675920467,0.38590273675920467,0.38590273675920467,0,0.38590273675920467,34515.128556802745,34614.136169259495,5740.4037064707345,5740.4037064707345,null,null,null,null,0,0,0,-0.12863424558640155,-0.12863424558640155,-0.12863424558640155,-0.12863424558640155,-0.10157285857010993,-0.10157285857010993,-0.13607589249127341,null,null,0,0,0,0,null,20.6]
["2021-07-22",19.3,19.3,19.3,19.3,18.566666666666666,6.6159999999999997,6.6159999999999997,6.6159999999999997,6.6159999999999997,-2.0066666666666668,-2.0066666666666668,-2.0066666666666668,-2.0066666666666668,-0.3033051189036679,-0.3033051189036679,-0.3033051189036679,-0.3033051189036679,0,0,0,0,0.3033051189036679,0.3033051189036679,0.3033051189036679,0.3033051189036679,0,0.3033051189036679,34515.128556802745,34614.136169259495,5771.4113703019002,5771.4113703019002,null,null,null,null,0,0,0,-0.10110170630122263,-0.10110170630122263,-0.10110170630122263,-0.10110170630122263,-0.10798204787144228,-0.10798204787144228,-9.9377716677274616E-2,null,null,0,0,0,0,null,19.3]
["2021-07-29",20.399999999999999,20.399999999999999,20.399999999999999,20.399999999999999,18.2,6.7480000000000002,6.7480000000000002,6.7480000000000002,6.7480000000000002,-2.5199999999999991,-2.5199999999999991,-2.5199999999999991,-2.5199999999999991,-0.37344398340248947,-0.37344398340248947,-0.37344398340248947,-0.37344398340248947,0,0,0,0,0.37344398340248947,0.37344398340248947,0.37344398340248947,0.37344398340248947,0,0.37344398340248947,34515.128556802745,34614.136169259495,5846.6457195461016,5846.6457195461016,null,null,null,null,0,0,0,-0.12448132780082982,-0.12448132780082982,-0.12448132780082982,-0.12448132780082982,-0.12524121548583914,-0.12524121548583914,-0.12997722980167919,null,null,0,0,0,0,null,20.399999999999999]
["2021-08-03",17.100000000000001,17.100000000000001,17.100000000000001,17.100000000000001,19.3,6.3519999999999994,6.3519999999999994,6.3519999999999994,6.3519999999999994,-0.98000000000000065,-0.98000000000000065,-0.98000000000000065,-0.98000000000000065,-0.15428211586901774,-0.15428211586901774,-0.15428211586901774,-0.15428211586901774,0,0,0,0,0.15428211586901774,0.15428211586901774,0.15428211586901774,0.15428211586901774,0,0.15428211586901774,34515.128556802745,34614.136169259495,5875.1952226330031,5875.1952226330031,null,null,null,null,0,0,0,-5.142737195633925E-2,-5.142737195633925E-2,-5.142737195633925E-2,-5.142737195633925E-2,-5.6109708043700079E-2,-5.6109708043700079E-2,-4.9008425045776703E-2,null,null,0,0,0,0,null,17.100000000000001]
["2021-08-09",18.2,18.2,18.2,18.2,18.933333333333334,6.484,6.484,6.484,6.484,-1.493333333333333,-1.493333333333333,-1.493333333333333,-1.493333333333333,-0.23031050791692365,-0.23031050791692365,-0.23031050791692365,-0.23031050791692365,0,0,0,0,0.23031050791692365,0.23031050791692365,0.23031050791692365,0.23031050791692365,0,0.23031050791692365,34515.128556802745,34614.136169259495,5903.4214426162353,5903.4214426162353,null,null,null,null,0,0,0,-7.677016930564122E-2,-7.677016930564122E-2,-7.677016930564122E-2,-7.677016930564122E-2,-9.0313554303544138E-2,-9.0313554303544138E-2,-9.0626464433536322E-2,null,null,0,0,0,0,null,18.2]
["2021-08-15",23.2,23.2,23.2,23.2,17.266666666666666,7.0839999999999996,7.0839999999999996,7.0839999999999996,7.0839999999999996,-3.8266666666666662,-3.8266666666666662,-3.8266666666666662,-3.8266666666666662,-0.5401844532279314,-0.5401844532279314,-0.5401844532279314,-0.5401844532279314,0,0,0,0,0.5401844532279314,0.5401844532279314,0.5401844532279314,0.5401844532279314,0,0.5401844532279314,34515.128556802745,34614.136169259495,5965.0472285878514,5965.0472285878514,null,null,null,null,0,0,0,-0.18006148440931047,-0.18006148440931047,-0.18006148440931047,-0.18006148440931047,-0.11681238527082612,-0.11681238527082612,-0.1761541988787044,null,null,0,0,0,0,null,23.2]
["2021-08-20",17.8,17.8,17.8,17.8,19.066666666666666,6.4359999999999999,6.4359999999999999,6.4359999999999999,6.4359999999999999,-1.3066666666666671,-1.3066666666666671,-1.3066666666666671,-1.3066666666666671,-0.20302465299357786,-0.20302465299357786,-0.20302465299357786,-0.20302465299357786,0,0,0,0,0.20302465299357786,0.20302465299357786,0.20302465299357786,0.20302465299357786,0,0.20302465299357786,34515.312525265297,34614.320137722047,5988.9896705005476,5988.9896705005476,null,null,null,null,0,0,0,-6.767488433119262E-2,-6.767488433119262E-2,-6.767488433119262E-2,-6.767488433119262E-2,-4.88031821635833E-2,-4.88031821635833E-2,-7.2979098307187698E-2,null,null,0,0,0,0,null,17.8]
["2021-08-26",14.9,14.9,14.9,14.9,20.033333333333331,6.0879999999999992,6.0879999999999992,6.0879999999999992,6.0879999999999992,4.6666666666666502E-2,4.6666666666666502E-2,4.6666666666666502E-2,4.6666666666666502E-2,7.6653526062198602E-3,7.6653526062198602E-3,7.6653526062198602E-3,7.6653526062198602E-3,7.6653526062198602E-3,7.6653526062198602E-3,7.6653526062198602E-3,7.6653526062198602E-3,0,0,0,0,7.6653526062198602E-3,0,34516.236744884489,34615.244357341238,6001.9551408476818,6001.9551408476818,null,null,null,null,0,0,1,2.5551175354066201E-3,2.5551175354066201E-3,2.5551175354066201E-3,2.5551175354066201E-3,1.1649470575006773E-2,1.1649470575006773E-2,1.6936427232553494E-2,null,null,4.6666666666666502E-2,4.6666666666666502E-2,4.6666666666666502E-2,4.6666666666666502E-2,null,14.9]
["2021-09-01",15.6,{"$f":"$B2355+C$9","v":15.6},15.6,15.6,19.8,6.1719999999999997,6.1719999999999997,6.1719999999999997,6.1719999999999997,-0.27999999999999986,-0.27999999999999986,-0.27999999999999986,-0.27999999999999986,-4.5366169799092658E-2,-4.5366169799092658E-2,-4.5366169799092658E-2,-4.5366169799092658E-2,0,0,0,0,4.5366169799092658E-2,4.5366169799092658E-2,4.5366169799092658E-2,4.5366169799092658E-2,0,4.5366169799092658E-2,34527.394312986129,34626.401925442879,6003.0439289228598,6003.0439289228598,null,null,null,null,0,0,0,-1.5122056599697552E-2,-1.5122056599697552E-2,-1.5122056599697552E-2,-1.5122056599697552E-2,-1.300293888567867E-2,-1.300293888567867E-2,-1.1461045691033218E-2,null,null,0,0,0,0,null,15.6]
["2021-09-06",17,17,17,17,19.333333333333332,6.34,6.34,6.34,6.34,-0.93333333333333335,-0.93333333333333335,-0.93333333333333335,-0.93333333333333335,-0.14721345951629863,-0.14721345951629863,-0.14721345951629863,-0.14721345951629863,0,0,0,0,0.14721345951629863,0.14721345951629863,0.14721345951629863,0.14721345951629863,0,0.14721345951629863,34527.394312986129,34626.401925442879,6019.6773730241384,6019.6773730241384,null,null,null,null,0,0,0,-4.9071153172099542E-2,-4.9071153172099542E-2,-4.9071153172099542E-2,-4.9071153172099542E-2,-5.5393738192932647E-2,-5.5393738192932647E-2,-5.3739494319164548E-2,null,null,0,0,0,0,null,17]
["2021-09-12",18.7,18.7,18.7,18.7,18.766666666666666,6.5440000000000005,6.5440000000000005,6.5440000000000005,6.5440000000000005,-1.7266666666666663,-1.7266666666666663,-1.7266666666666663,-1.7266666666666663,-0.26385493072534633,-0.26385493072534633,-0.26385493072534633,-0.26385493072534633,0,0,0,0,0.26385493072534633,0.26385493072534633,0.26385493072534633,0.26385493072534633,0,0.26385493072534633,34527.394312986129,34626.401925442879,6051.9566633427839,6051.9566633427839,null,null,null,null,0,0,0,-8.7951643575115437E-2,-8.7951643575115437E-2,-8.7951643575115437E-2,-8.7951643575115437E-2,-7.7959456630634527E-2,-7.7959456630634527E-2,-7.4430956611825194E-2,null,null,0,0,0,0,null,18.7]
["2021-09-18",14.2,14.2,14.2,14.2,20.266666666666666,6.0039999999999996,6.0039999999999996,6.0039999999999996,6.0039999999999996,0.37333333333333368,0.37333333333333368,0.37333333333333368,0.37333333333333368,6.2180768376637857E-2,6.2180768376637857E-2,6.2180768376637857E-2,6.2180768376637857E-2,6.2180768376637857E-2,6.2180768376637857E-2,6.2180768376637857E-2,6.2180768376637857E-2,0,0,0,0,6.2180768376637857E-2,0,34529.813803745048,34628.821416201798,6073.2457658655039,6073.2457658655039,null,null,null,null,0,0,1,2.072692279221262E-2,2.072692279221262E-2,2.072692279221262E-2,2.072692279221262E-2,2.2378766722594388E-2,2.2378766722594388E-2,4.1199787745506949E-2,null,null,0.37333333333333368,0.37333333333333368,0.37333333333333368,0.37333333333333368,null,14.2]
["2021-09-19",11.7,11.7,11.7,11.7,21.1,5.7039999999999997,5.7039999999999997,5.7039999999999997,5.7039999999999997,1.5400000000000003,1.5400000000000003,1.5400000000000003,1.5400000000000003,0.26998597475455827,0.26998597475455827,0.26998597475455827,0.26998597475455827,0.26998597475455827,0.26998597475455827,0.26998597475455827,0.26998597475455827,0,0,0,0,0.26998597475455827,0,34536.293467139156,34635.301079595905,6073.2457658655039,6073.2457658655039,null,null,null,null,0,0,1,8.9995324918186084E-2,8.9995324918186084E-2,8.9995324918186084E-2,8.9995324918186084E-2,4.0858198020310002E-2,4.0858198020310002E-2,7.0827474576000152E-2,null,null,1.5400000000000003,1.5400000000000003,1.5400000000000003,1.5400000000000003,null,11.7]
["2021-09-24",15.9,15.9,15.9,15.9,19.7,6.2080000000000002,6.2080000000000002,6.2080000000000002,6.2080000000000002,-0.42000000000000015,-0.42000000000000015,-0.42000000000000015,-0.42000000000000015,-6.7654639175257755E-2,-6.7654639175257755E-2,-6.7654639175257755E-2,-6.7654639175257755E-2,0,0,0,0,6.7654639175257755E-2,6.7654639175257755E-2,6.7654639175257755E-2,6.7654639175257755E-2,0,6.7654639175257755E-2,34553.51429697837,34652.52190943512,6075.4170652109251,6075.4170652109251,null,null,null,null,13.999999999999998,1,0,-2.2551546391752584E-2,-2.2551546391752584E-2,-2.2551546391752584E-2,-2.2551546391752584E-2,-1.6258069876279571E-3,-1.6258069876279571E-3,-2.40352033053205E-2,null,null,0,0,0,0,null,15.9]
["2021-09-29",14.7,14.7,14.7,14.7,20.100000000000001,6.0640000000000001,6.0640000000000001,6.0640000000000001,6.0640000000000001,0.14000000000000032,0.14000000000000032,0.14000000000000032,0.14000000000000032,2.3087071240105592E-2,2.3087071240105592E-2,2.3087071240105592E-2,2.3087071240105592E-2,2.3087071240105592E-2,2.3087071240105592E-2,2.3087071240105592E-2,2.3087071240105592E-2,0,0,0,0,2.3087071240105592E-2,0,34554.06838668813,34653.075999144879,6085.7599128400298,6085.7599128400298,null,null,null,null,14.328571428571431,1,1,7.6956904133685311E-3,7.6956904133685311E-3,7.6956904133685311E-3,7.6956904133685311E-3,2.4996991750005637E-2,2.4996991750005637E-2,2.4227361190070424E-2,null,null,0.14000000000000032,0.14000000000000032,0.14000000000000032,0.14000000000000032,null,14.7]
["2021-10-06",12.7,12.7,12.7,12.7,20.766666666666666,5.8239999999999998,5.8239999999999998,5.8239999999999998,5.8239999999999998,1.0733333333333337,1.0733333333333337,1.0733333333333337,1.0733333333333337,0.18429487179487186,0.18429487179487186,0.18429487179487186,0.18429487179487186,0.18429487179487186,0.18429487179487186,0.18429487179487186,0.18429487179487186,0,0,0,0,0.18429487179487186,0,34585.50671136754,34684.514323824289,6085.7599128400298,6085.7599128400298,null,null,null,null,10.507142857142858,1,1,6.1431623931623956E-2,6.1431623931623956E-2,6.1431623931623956E-2,6.1431623931623956E-2,8.0146015534437939E-2,8.0146015534437939E-2,4.7577478979918007E-2,null,null,1.0733333333333337,1.0733333333333337,1.0733333333333337,1.0733333333333337,null,12.7]
["2021-10-11",6.5,6.5,6.5,6.5,22.833333333333332,5.08,5.08,5.08,5.08,3.9666666666666668,3.9666666666666668,3.9666666666666668,3.9666666666666668,0.78083989501312334,0.78083989501312334,0.78083989501312334,0.78083989501312334,0.78083989501312334,0.78083989501312334,0.78083989501312334,0.78083989501312334,0,0,0,0,0.78083989501312334,0,34654.299065106548,34753.306677563298,6085.7599128400298,6085.7599128400298,null,null,null,null,9.0285714285714285,1,1,0.26027996500437445,0.26027996500437445,0.26027996500437445,0.26027996500437445,0.22483053142394196,0.22483053142394196,0.25071462927109439,null,null,3.9666666666666668,3.9666666666666668,3.9666666666666668,3.9666666666666668,null,6.5]
["2021-10-16",7.3000000000000007,7.3000000000000007,7.3000000000000007,7.3000000000000007,22.566666666666666,5.1760000000000002,5.1760000000000002,5.1760000000000002,5.1760000000000002,3.5933333333333328,3.5933333333333328,3.5933333333333328,3.5933333333333328,0.69422977846470879,0.69422977846470879,0.69422977846470879,0.69422977846470879,0.69422977846470879,0.69422977846470879,0.69422977846470879,0.69422977846470879,0,0,0,0,0.69422977846470879,0,34729.092154243132,34828.099766699881,6085.7599128400298,6085.7599128400298,null,null,null,null,8.8785714285714299,1,1,0.23140992615490294,0.23140992615490294,0.23140992615490294,0.23140992615490294,0.2008304842075555,0.2008304842075555,0.21364439082065032,null,null,3.5933333333333328,3.5933333333333328,3.5933333333333328,3.5933333333333328,null,7.3000000000000007]
["2021-10-23",7.3999999999999986,7.3999999999999986,7.3999999999999986,7.3999999999999986,22.533333333333335,5.1879999999999997,5.1879999999999997,5.1879999999999997,5.1879999999999997,3.5466666666666673,3.5466666666666673,3.5466666666666673,3.5466666666666673,0.6836288871755335,0.6836288871755335,0.6836288871755335,0.6836288871755335,0.6836288871755335,0.6836288871755335,0.6836288871755335,0.6836288871755335,0,0,0,0,0.6836288871755335,0,34801.984611111162,34900.992223567911,6088.261508245263,6088.261508245263,null,null,null,null,8.2785714285714285,1,1,0.22787629572517784,0.22787629572517784,0.22787629572517784,0.22787629572517784,0.19363257296421912,0.19363257296421912,0.25157332277509686,null,null,3.5466666666666673,3.5466666666666673,3.5466666666666673,3.5466666666666673,null,7.3999999999999986]
["2021-10-28",6.3000000000000007,6.3000000000000007,6.3000000000000007,6.3000000000000007,22.9,5.056,5.056,5.056,5.056,4.0599999999999996,4.0599999999999996,4.0599999999999996,4.0599999999999996,0.803006329113924,0.803006329113924,0.803006329113924,0.803006329113924,0.803006329113924,0.803006329113924,0.803006329113924,0.803006329113924,0,0,0,0,0.803006329113924,0,34903.718842775786,35002.726455232536,6088.261508245263,6088.261508245263,null,null,null,null,6.8642857142857148,1,1,0.26766877637130798,0.26766877637130798,0.26766877637130798,0.26766877637130798,0.25545659869325982,0.25545659869325982,0.24248201644324321,null,null,4.0599999999999996,4.0599999999999996,4.0599999999999996,4.0599999999999996,null,6.3000000000000007]
["2021-10-31",7.5,7.5,7.5,7.5,22.5,5.1999999999999993,5.1999999999999993,5.1999999999999993,5.1999999999999993,3.5,3.5,3.5,3.5,0.67307692307692313,0.67307692307692313,0.67307692307692313,0.67307692307692313,0.67307692307692313,0.67307692307692313,0.67307692307692313,0.67307692307692313,0,0,0,0,0.67307692307692313,0,34954.741332071026,35053.748944527775,6088.261508245263,6088.261508245263,null,null,null,null,6.6428571428571415,1,1,0.22435897435897437,0.22435897435897437,0.22435897435897437,0.22435897435897437,0.24287765825676075,0.24287765825676075,0.2350095940320959,null,null,3.5,3.5,3.5,3.5,null,7.5]
["2021-11-09",5.8000000000000007,5.8000000000000007,5.8000000000000007,5.8000000000000007,23.066666666666666,4.9959999999999996,4.9959999999999996,4.9959999999999996,4.9959999999999996,4.293333333333333,4.293333333333333,4.293333333333333,4.293333333333333,0.85935414998665605,0.85935414998665605,0.85935414998665605,0.85935414998665605,0.85935414998665605,0.85935414998665605,0.85935414998665605,0.85935414998665605,0,0,0,0,0.85935414998665605,0,35122.651606923369,35221.659219380119,6088.261508245263,6088.261508245263,null,null,null,null,5.2999999999999989,1,1,0.28645138332888537,0.28645138332888537,0.28645138332888537,0.28645138332888537,0.32417678621434576,0.32417678621434576,0.30351052198613843,null,null,4.293333333333333,4.293333333333333,4.293333333333333,4.293333333333333,null,5.8000000000000007]
["2021-11-14",5,5,5,5,23.333333333333332,4.9000000000000004,4.9000000000000004,4.9000000000000004,4.9000000000000004,4.666666666666667,4.666666666666667,4.666666666666667,4.666666666666667,0.95238095238095233,0.95238095238095233,0.95238095238095233,0.95238095238095233,0.95238095238095233,0.95238095238095233,0.95238095238095233,0.95238095238095233,0,0,0,0,0.95238095238095233,0,35250.486852780276,35349.494465237025,6088.261508245263,6088.261508245263,null,null,null,null,5.4071428571428566,1,1,0.31746031746031744,0.31746031746031744,0.31746031746031744,0.31746031746031744,0.34252016601173596,0.34252016601173596,0.33216416206408345,null,null,4.666666666666667,4.666666666666667,4.666666666666667,4.666666666666667,null,5]
["2021-11-17",4.3000000000000007,4.3000000000000007,4.3000000000000007,4.3000000000000007,23.566666666666666,4.8159999999999998,4.8159999999999998,4.8159999999999998,4.8159999999999998,4.9933333333333332,4.9933333333333332,4.9933333333333332,4.9933333333333332,1.0368217054263567,1.0368217054263567,1.0368217054263567,1.0368217054263567,1.0368217054263567,1.0368217054263567,1.0368217054263567,1.0368217054263567,0,0,0,0,1.0368217054263567,0,35322.264019113994,35421.271631570744,6088.261508245263,6088.261508245263,null,null,null,null,5.0642857142857149,1,1,0.34560723514211888,0.34560723514211888,0.34560723514211888,0.34560723514211888,0.27683969358670524,0.27683969358670524,0.30263651042536976,null,null,4.9933333333333332,4.9933333333333332,4.9933333333333332,4.9933333333333332,null,4.3000000000000007]
["2021-11-26",1.1000000000000014,1.1000000000000014,1.1000000000000014,1.1000000000000014,24.633333333333333,4.4320000000000004,4.4320000000000004,4.4320000000000004,4.4320000000000004,6.4866666666666655,6.4866666666666655,6.4866666666666655,6.4866666666666655,1.4635980746089046,1.4635980746089046,1.4635980746089046,1.4635980746089046,1.4635980746089046,1.4635980746089046,1.4635980746089046,1.4635980746089046,0,0,0,0,1.4635980746089046,0,35538.784505043128,35637.792117499877,6088.261508245263,6088.261508245263,null,null,null,null,2.9142857142857146,1,1,0.48786602486963487,0.48786602486963487,0.48786602486963487,0.48786602486963487,0.46693003433591268,0.46693003433591268,0.48149401657975649,null,null,6.4866666666666655,6.4866666666666655,6.4866666666666655,6.4866666666666655,null,1.1000000000000014]
["2021-11-27",1.1000000000000014,1.1000000000000014,1.1000000000000014,1.1000000000000014,24.633333333333333,4.4320000000000004,4.4320000000000004,4.4320000000000004,4.4320000000000004,6.4866666666666655,6.4866666666666655,6.4866666666666655,6.4866666666666655,1.4635980746089046,1.4635980746089046,1.4635980746089046,1.4635980746089046,1.4635980746089046,1.4635980746089046,1.4635980746089046,1.4635980746089046,0,0,0,0,1.4635980746089046,0,35573.91085883374,35672.91847129049,6088.261508245263,6088.261508245263,null,null,null,null,2.221428571428572,1,1,0.48786602486963487,0.48786602486963487,0.48786602486963487,0.48786602486963487,0.46951954215962238,0.46951954215962238,0.50272029026324583,null,null,6.4866666666666655,6.4866666666666655,6.4866666666666655,6.4866666666666655,null,1.1000000000000014]
["2021-12-04",-0.69999999999999929,-0.69999999999999929,-0.69999999999999929,-0.69999999999999929,25.233333333333334,4.2159999999999993,4.2159999999999993,4.2159999999999993,4.2159999999999993,7.3266666666666662,7.3266666666666662,7.3266666666666662,7.3266666666666662,1.7378241619228338,1.7378241619228338,1.7378241619228338,1.7378241619228338,1.7378241619228338,1.7378241619228338,1.7378241619228338,1.7378241619228338,0,0,0,0,1.7378241619228338,0,35811.40350288304,35910.41111533979,6088.261508245263,6088.261508245263,null,null,null,null,0.8571428571428571,1,1,0.57927472064094465,0.57927472064094465,0.57927472064094465,0.57927472064094465,0.47551483426045787,0.47551483426045787,0.53823694675083411,null,null,7.3266666666666662,7.3266666666666662,7.3266666666666662,7.3266666666666662,null,-0.69999999999999929]
["2021-12-08",-1,-1,-1,-1,25.333333333333332,4.18,4.18,4.18,4.18,7.4666666666666668,7.4666666666666668,7.4666666666666668,7.4666666666666668,1.7862838915470496,1.7862838915470496,1.7862838915470496,1.7862838915470496,1.7862838915470496,1.7862838915470496,1.7862838915470496,1.7862838915470496,0,0,0,0,1.7862838915470496,0,35964.486398070432,36063.494010527182,6088.261508245263,6088.261508245263,null,null,null,null,1.3071428571428569,1,1,0.59542796384901653,0.59542796384901653,0.59542796384901653,0.59542796384901653,0.5377644040559012,0.5377644040559012,0.56194851549283487,null,null,7.4666666666666668,7.4666666666666668,7.4666666666666668,7.4666666666666668,null,-1]
["2021-12-14",5.1999999999999993,5.1999999999999993,5.1999999999999993,5.1999999999999993,23.266666666666666,4.9240000000000004,4.9240000000000004,4.9240000000000004,4.9240000000000004,4.5733333333333341,4.5733333333333341,4.5733333333333341,4.5733333333333341,0.92878418629840243,0.92878418629840243,0.92878418629840243,0.92878418629840243,0.92878418629840243,0.92878418629840243,0.92878418629840243,0.92878418629840243,0,0,0,0,0.92878418629840243,0,36170.35059370724,36269.35820616399,6088.261508245263,6088.261508245263,null,null,null,null,2.2642857142857138,1,1,0.30959472876613414,0.30959472876613414,0.30959472876613414,0.30959472876613414,0.38536761997773894,0.38536761997773894,0.32249369138556672,null,null,4.5733333333333341,4.5733333333333341,4.5733333333333341,4.5733333333333341,null,5.1999999999999993]
["2021-12-21",-0.5,-0.5,-0.5,-0.5,25.166666666666668,4.24,4.24,4.24,4.24,7.2333333333333334,7.2333333333333334,7.2333333333333334,7.2333333333333334,1.7059748427672956,1.7059748427672956,1.7059748427672956,1.7059748427672956,1.7059748427672956,1.7059748427672956,1.7059748427672956,1.7059748427672956,0,0,0,0,1.7059748427672956,0,36365.879395731376,36464.887008188125,6088.261508245263,6088.261508245263,null,null,null,null,0.99285714285714355,1,1,0.56865828092243187,0.56865828092243187,0.56865828092243187,0.56865828092243187,0.4925564355384307,0.4925564355384307,0.58340512906268438,null,null,7.2333333333333334,7.2333333333333334,7.2333333333333334,7.2333333333333334,null,-0.5]
["2021-12-25",-1.6999999999999993,-1.6999999999999993,-1.6999999999999993,-1.6999999999999993,25.566666666666666,4.0960000000000001,4.0960000000000001,4.0960000000000001,4.0960000000000001,7.793333333333333,7.793333333333333,7.793333333333333,7.793333333333333,1.9026692708333333,1.9026692708333333,1.9026692708333333,1.9026692708333333,1.9026692708333333,1.9026692708333333,1.9026692708333333,1.9026692708333333,0,0,0,0,1.9026692708333333,0,36531.134250499912,36630.141862956661,6088.261508245263,6088.261508245263,null,null,null,null,2.1357142857142861,1,1,0.63422309027777779,0.63422309027777779,0.63422309027777779,0.63422309027777779,0.64072740894675617,0.64072740894675617,0.62384238312814189,null,null,7.793333333333333,7.793333333333333,7.793333333333333,7.793333333333333,null,-1.6999999999999993]
["2021-12-31",11.8,11.8,11.8,11.8,21.066666666666666,5.7159999999999993,5.7159999999999993,5.7159999999999993,5.7159999999999993,1.493333333333333,1.493333333333333,1.493333333333333,1.493333333333333,0.26125495684627942,0.26125495684627942,0.26125495684627942,0.26125495684627942,0.26125495684627942,0.26125495684627942,0.26125495684627942,0.26125495684627942,0,0,0,0,0.26125495684627942,0,36736.253480699481,36835.26109315623,6088.261508245263,6088.261508245263,null,null,null,null,3.55,1,1,8.7084985615426477E-2,8.7084985615426477E-2,8.7084985615426477E-2,8.7084985615426477E-2,0.24970972884640549,0.24970972884640549,0.12664626182569724,null,null,1.493333333333333,1.493333333333333,1.493333333333333,1.493333333333333,null,11.8]
["2022-01-07",-1.5,-1.5,-1.5,-1.5,25.5,4.12,4.12,4.12,4.12,7.7,7.7,7.7,7.7,1.8689320388349515,1.8689320388349515,1.8689320388349515,1.8689320388349515,1.8689320388349515,1.8689320388349515,1.8689320388349515,1.8689320388349515,0,0,0,0,1.8689320388349515,0,36900.371084391816,36999.378696848566,6088.261508245263,6088.261508245263,null,null,null,null,2.8000000000000003,1,1,0.62297734627831713,0.62297734627831713,0.62297734627831713,0.62297734627831713,0.45904594492180706,0.45904594492180706,0.55255444502378548,null,null,7.7,7.7,7.7,7.7,null,-1.5]
["2022-01-12",-1.6999999999999993,-1.6999999999999993,-1.6999999999999993,-1.6999999999999993,25.566666666666666,4.0960000000000001,4.0960000000000001,4.0960000000000001,4.0960000000000001,7.793333333333333,7.793333333333333,7.793333333333333,7.793333333333333,1.9026692708333333,1.9026692708333333,1.9026692708333333,1.9026692708333333,1.9026692708333333,1.9026692708333333,1.9026692708333333,1.9026692708333333,0,0,0,0,1.9026692708333333,0,37100.816910580754,37199.824523037503,6088.261508245263,6088.261508245263,null,null,null,null,0.52857142857142869,1,1,0.63422309027777779,0.63422309027777779,0.63422309027777779,0.63422309027777779,0.51838721570665314,0.51838721570665314,0.60378094267379223,null,null,7.793333333333333,7.793333333333333,7.793333333333333,7.793333333333333,null,-1.6999999999999993]
["2022-01-17",3.1000000000000014,3.1000000000000014,3.1000000000000014,3.1000000000000014,23.966666666666665,4.6720000000000006,4.6720000000000006,4.6720000000000006,4.6720000000000006,5.5533333333333319,5.5533333333333319,5.5533333333333319,5.5533333333333319,1.1886415525114151,1.1886415525114151,1.1886415525114151,1.1886415525114151,1.1886415525114151,1.1886415525114151,1.1886415525114151,1.1886415525114151,0,0,0,0,1.1886415525114151,0,37271.108987939224,37370.116600395973,6088.261508245263,6088.261508245263,null,null,null,null,0.93571428571428583,1,1,0.39621385083713839,0.39621385083713839,0.39621385083713839,0.39621385083713839,0.47523288511431822,0.47523288511431822,0.5051587871743356,null,null,5.5533333333333319,5.5533333333333319,5.5533333333333319,5.5533333333333319,null,3.1000000000000014]
["2022-01-24",3,3,3,3,24,4.66,4.66,4.66,4.66,5.6,5.6,5.6,5.6,1.2017167381974247,1.2017167381974247,1.2017167381974247,1.2017167381974247,1.2017167381974247,1.2017167381974247,1.2017167381974247,1.2017167381974247,0,0,0,0,1.2017167381974247,0,37511.214288833296,37610.221901290046,6088.261508245263,6088.261508245263,null,null,null,null,2.0571428571428569,1,1,0.40057224606580827,0.40057224606580827,0.40057224606580827,0.40057224606580827,0.46498093480040509,0.46498093480040509,0.40218317737749626,null,null,5.6,5.6,5.6,5.6,null,3]
["2022-01-29",3.5,3.5,3.5,3.5,23.833333333333332,4.72,4.72,4.72,4.72,5.3666666666666663,5.3666666666666663,5.3666666666666663,5.3666666666666663,1.1370056497175141,1.1370056497175141,1.1370056497175141,1.1370056497175141,1.1370056497175141,1.1370056497175141,1.1370056497175141,1.1370056497175141,0,0,0,0,1.1370056497175141,0,37665.746737348127,37764.754349804876,6088.261508245263,6088.261508245263,null,null,null,null,3.15,1,1,0.37900188323917133,0.37900188323917133,0.37900188323917133,0.37900188323917133,0.42151726848239768,0.42151726848239768,0.35991139091883584,null,null,5.3666666666666663,5.3666666666666663,5.3666666666666663,5.3666666666666663,null,3.5]
["2022-02-03",3.6000000000000014,3.6000000000000014,3.6000000000000014,3.6000000000000014,23.8,4.7320000000000002,4.7320000000000002,4.7320000000000002,4.7320000000000002,5.3199999999999985,5.3199999999999985,5.3199999999999985,5.3199999999999985,1.1242603550295855,1.1242603550295855,1.1242603550295855,1.1242603550295855,1.1242603550295855,1.1242603550295855,1.1242603550295855,1.1242603550295855,0,0,0,0,1.1242603550295855,0,37806.551816266139,37905.559428722889,6088.261508245263,6088.261508245263,null,null,null,null,4.3285714285714292,1,1,0.37475345167652852,0.37475345167652852,0.37475345167652852,0.37475345167652852,0.37272800036416648,0.37272800036416648,0.3370809222625204,null,null,5.3199999999999985,5.3199999999999985,5.3199999999999985,5.3199999999999985,null,3.6000000000000014]
["2022-02-08",4.8000000000000007,4.8000000000000007,4.8000000000000007,4.8000000000000007,23.4,4.8759999999999994,4.8759999999999994,4.8759999999999994,4.8759999999999994,4.76,4.76,4.76,4.76,0.9762100082034455,0.9762100082034455,0.9762100082034455,0.9762100082034455,0.9762100082034455,0.9762100082034455,0.9762100082034455,0.9762100082034455,0,0,0,0,0.9762100082034455,0,37927.175968178912,38026.183580635661,6088.261508245263,6088.261508245263,null,null,null,null,4.2928571428571427,1,1,0.32540333606781519,0.32540333606781519,0.32540333606781519,0.32540333606781519,0.31264052740464715,0.31264052740464715,0.31431059645176523,null,null,4.76,4.76,4.76,4.76,null,4.8000000000000007]
["2022-02-10",7.3999999999999986,7.3999999999999986,7.3999999999999986,7.3999999999999986,22.533333333333335,5.1879999999999997,5.1879999999999997,5.1879999999999997,5.1879999999999997,3.5466666666666673,3.5466666666666673,3.5466666666666673,3.5466666666666673,0.6836288871755335,0.6836288871755335,0.6836288871755335,0.6836288871755335,0.6836288871755335,0.6836288871755335,0.6836288871755335,0.6836288871755335,0,0,0,0,0.6836288871755335,0,37960.756974514603,38059.764586971352,6088.261508245263,6088.261508245263,null,null,null,null,4.8071428571428578,1,1,0.22787629572517784,0.22787629572517784,0.22787629572517784,0.22787629572517784,0.34624886958163259,0.34624886958163259,0.26526903517985628,null,null,3.5466666666666673,3.5466666666666673,3.5466666666666673,3.5466666666666673,null,7.3999999999999986]
["2022-02-15",4.8000000000000007,4.8000000000000007,4.8000000000000007,4.8000000000000007,23.4,4.8759999999999994,4.8759999999999994,4.8759999999999994,4.8759999999999994,4.76,4.76,4.76,4.76,0.9762100082034455,0.9762100082034455,0.9762100082034455,0.9762100082034455,0.9762100082034455,0.9762100082034455,0.9762100082034455,0.9762100082034455,0,0,0,0,0.9762100082034455,0,38105.808305799619,38204.815918256369,6088.261508245263,6088.261508245263,null,null,null,null,5.4714285714285706,1,1,0.32540333606781519,0.32540333606781519,0.32540333606781519,0.32540333606781519,0.33978527670831948,0.33978527670831948,0.34435245705070677,null,null,4.76,4.76,4.76,4.76,null,4.8000000000000007]
["2022-02-25",3.8000000000000007,3.8000000000000007,3.8000000000000007,3.8000000000000007,23.733333333333334,4.7559999999999993,4.7559999999999993,4.7559999999999993,4.7559999999999993,5.2266666666666657,5.2266666666666657,5.2266666666666657,5.2266666666666657,1.0989627137650686,1.0989627137650686,1.0989627137650686,1.0989627137650686,1.0989627137650686,1.0989627137650686,1.0989627137650686,1.0989627137650686,0,0,0,0,1.0989627137650686,0,38302.029121726897,38401.036734183646,6088.261508245263,6088.261508245263,null,null,null,null,3.0214285714285714,1,1,0.3663209045883562,0.3663209045883562,0.3663209045883562,0.3663209045883562,0.38629256096240067,0.38629256096240067,0.36145115603816058,null,null,5.2266666666666657,5.2266666666666657,5.2266666666666657,5.2266666666666657,null,3.8000000000000007]
["2022-02-27",2.1000000000000014,2.1000000000000014,2.1000000000000014,2.1000000000000014,24.3,4.5519999999999996,4.5519999999999996,4.5519999999999996,4.5519999999999996,6.0199999999999987,6.0199999999999987,6.0199999999999987,6.0199999999999987,1.3224956063268891,1.3224956063268891,1.3224956063268891,1.3224956063268891,1.3224956063268891,1.3224956063268891,1.3224956063268891,1.3224956063268891,0,0,0,0,1.3224956063268891,0,38362.610217995476,38461.617830452225,6088.261508245263,6088.261508245263,null,null,null,null,2.092857142857143,1,1,0.44083186877562969,0.44083186877562969,0.44083186877562969,0.44083186877562969,0.46997702548844578,0.46997702548844578,0.47713894582924948,null,null,6.0199999999999987,6.0199999999999987,6.0199999999999987,6.0199999999999987,null,2.1000000000000014]
["2022-03-04",-0.19999999999999929,-0.19999999999999929,-0.19999999999999929,-0.19999999999999929,25.066666666666666,4.2759999999999998,4.2759999999999998,4.2759999999999998,4.2759999999999998,7.0933333333333328,7.0933333333333328,7.0933333333333328,7.0933333333333328,1.6588712192079824,1.6588712192079824,1.6588712192079824,1.6588712192079824,1.6588712192079824,1.6588712192079824,1.6588712192079824,1.6588712192079824,0,0,0,0,1.6588712192079824,0,38568.918502354019,38667.926114810769,6088.261508245263,6088.261508245263,null,null,null,null,0.59285714285714264,1,1,0.55295707306932751,0.55295707306932751,0.55295707306932751,0.55295707306932751,0.55659561742692887,0.55659561742692887,0.53277305135795439,null,null,7.0933333333333328,7.0933333333333328,7.0933333333333328,7.0933333333333328,null,-0.19999999999999929]
["2022-03-08",1.1999999999999993,1.1999999999999993,1.1999999999999993,1.1999999999999993,24.6,4.444,4.444,4.444,4.444,6.44,6.44,6.44,6.44,1.4491449144914492,1.4491449144914492,1.4491449144914492,1.4491449144914492,1.4491449144914492,1.4491449144914492,1.4491449144914492,1.4491449144914492,0,0,0,0,1.4491449144914492,0,38720.394803156974,38819.402415613724,6088.261508245263,6088.261508245263,null,null,null,null,1.5928571428571421,1,1,0.48304830483048306,0.48304830483048306,0.48304830483048306,0.48304830483048306,0.50079836832406788,0.50079836832406788,0.46865173768845336,null,null,6.44,6.44,6.44,6.44,null,1.1999999999999993]
["2022-03-16",7.6999999999999993,7.6999999999999993,7.6999999999999993,7.6999999999999993,22.433333333333334,5.2240000000000002,5.2240000000000002,5.2240000000000002,5.2240000000000002,3.4066666666666672,3.4066666666666672,3.4066666666666672,3.4066666666666672,0.65211842776927009,0.65211842776927009,0.65211842776927009,0.65211842776927009,0.65211842776927009,0.65211842776927009,0.65211842776927009,0.65211842776927009,0,0,0,0,0.65211842776927009,0,38937.054601863201,39036.062214319951,6088.261508245263,6088.261508245263,null,null,null,null,5.1857142857142851,1,1,0.21737280925642335,0.21737280925642335,0.21737280925642335,0.21737280925642335,0.27895905345682864,0.27895905345682864,0.23881717059421137,null,null,3.4066666666666672,3.4066666666666672,3.4066666666666672,3.4066666666666672,null,7.6999999999999993]
["2022-03-22",8,8,8,8,22.333333333333332,5.26,5.26,5.26,5.26,3.2666666666666666,3.2666666666666666,3.2666666666666666,3.2666666666666666,0.62103929024081117,0.62103929024081117,0.62103929024081117,0.62103929024081117,0.62103929024081117,0.62103929024081117,0.62103929024081117,0.62103929024081117,0,0,0,0,0.62103929024081117,0,39054.657222749032,39153.664835205782,6088.261508245263,6088.261508245263,null,null,null,null,8.0357142857142865,1,1,0.20701309674693705,0.20701309674693705,0.20701309674693705,0.20701309674693705,0.24731883564274676,0.24731883564274676,0.23444039017199622,null,null,3.2666666666666666,3.2666666666666666,3.2666666666666666,3.2666666666666666,null,8]
["2022-03-25",7.6999999999999993,7.6999999999999993,7.6999999999999993,7.6999999999999993,22.433333333333334,5.2240000000000002,5.2240000000000002,5.2240000000000002,5.2240000000000002,3.4066666666666672,3.4066666666666672,3.4066666666666672,3.4066666666666672,0.65211842776927009,0.65211842776927009,0.65211842776927009,0.65211842776927009,0.65211842776927009,0.65211842776927009,0.65211842776927009,0.65211842776927009,0,0,0,0,0.65211842776927009,0,39095.538722753787,39194.546335210536,6088.261508245263,6088.261508245263,null,null,null,null,7.2928571428571427,1,1,0.21737280925642335,0.21737280925642335,0.21737280925642335,0.21737280925642335,0.15996374305334243,0.15996374305334243,0.17416646919611309,null,null,3.4066666666666672,3.4066666666666672,3.4066666666666672,3.4066666666666672,null,7.6999999999999993]
["2022-04-02",{"$f":"BB2568+A$7","v":1.6000000000000014},1.6000000000000014,1.6000000000000014,1.6000000000000014,{"$f":"F$8+(H$7-F$8)*(M$6-B2568)/30","v":24.466666666666669},{"$f":"IF((B2568+35-$F2568)*$H$5+$H$6>1,(B2568+35-$F2568)*$H$5+$H$6,1)","v":4.492},{"$f":"IF((C2568+35-$F2568)*$H$5+$H$6>1,(C2568+35-$F2568)*$H$5+$H$6,1)","v":4.492},{"$f":"IF((D2568+35-$F2568)*$H$5+$H$6>1,(D2568+35-$F2568)*$H$5+$H$6,1)","v":4.492},{"$f":"IF((E2568+35-$F2568)*$H$5+$H$6>1,(E2568+35-$F2568)*$H$5+$H$6,1)","v":4.492},{"$f":"$M$5*($M$6-B2568)/30-$O$5","v":6.2533333333333321},{"$f":"$M$5*($M$6-C2568)/30-$O$5","v":6.2533333333333321},{"$f":"$M$5*($M$6-D2568)/30-$O$5","v":6.2533333333333321},{"$f":"$M$5*($M$6-E2568)/30-$O$5","v":6.2533333333333321},{"$f":"IF(K2568/G2568>$M$7,$M$7+K2568-$M$7*G2568,K2568/G2568)","v":1.3921044820421486},{"$f":"IF(L2568/H2568>$M$7,$M$7+L2568-$M$7*H2568,L2568/H2568)","v":1.3921044820421486},{"$f":"IF(M2568/I2568>$M$7,$M$7+M2568-$M$7*I2568,M2568/I2568)","v":1.3921044820421486},{"$f":"IF(N2568/J2568>$M$7,$M$7+N2568-$M$7*J2568,N2568/J2568)","v":1.3921044820421486},{"$f":"IF(O2568>0,O2568,)","v":1.3921044820421486},{"$f":"IF(P2568>0,P2568,)","v":1.3921044820421486},{"$f":"IF(Q2568>0,Q2568,)","v":1.3921044820421486},{"$f":"IF(R2568>0,R2568,)","v":1.3921044820421486},{"$f":"IF(O2568<0,-O2568,0)","v":0},{"$f":"IF(P2568<0,-P2568,0)","v":0},{"$f":"IF(Q2568<0,-Q2568,0)","v":0},{"$f":"IF(R2568<0,-R2568,0)","v":0},{"$f":"IF(SUM(O2568:R2568)/4>0,SUM(O2568:R2568)/4,)","v":1.3921044820421486},{"$f":"IF(SUM(O2568:R2568)/4<0,-SUM(O2568:R2568)/4,)","v":0},{"$f":"6*SUM(S2568:V2568)+AC2567","v":39244.594695741871},{"$f":"AD2567+AA2568*24","v":39343.60230819862},{"$f":"6*SUM(W2568:Z2568)+AE2567","v":6088.261508245263},{"$f":"AF2567+AB2568*24","v":6088.261508245263},null,null,null,null,{"$f":"IF(SUM(B2562:B2575)/14<$C$7,SUM(B2562:B2575)/14,0)","v":6.3857142857142852},{"$f":"IF(SUM(B2562:B2575)/14<$C$7,1,0)","v":1},{"$f":"IF(SUM(AN2565:AQ2571)>0,1,0)","v":1},{"$f":"K2568/G2568/$M$7","v":0.46403482734738288},{"$f":"L2568/H2568/$M$7","v":0.46403482734738288},{"$f":"M2568/I2568/$M$7","v":0.46403482734738288},{"$f":"N2568/J2568/$M$7","v":0.46403482734738288},{"$f":"SUM(AO2565:AO2571)/7","v":0.39015170068882288},{"$f":"SUM(AQ2565:AQ2571)/7","v":0.39015170068882288},{"$f":"SUM(AN2567:AQ2569)/12","v":0.4802362877191455},null,null,{"$f":"IF(K2568>0,K2568,0)","v":6.2533333333333321},{"$f":"IF(L2568>0,L2568,0)","v":6.2533333333333321},{"$f":"IF(M2568>0,M2568,0)","v":6.2533333333333321},{"$f":"IF(N2568>0,N2568,0)","v":6.2533333333333321},null,1.6000000000000014]
["2022-04-08",7.1000000000000014,7.1000000000000014,7.1000000000000014,7.1000000000000014,22.633333333333333,5.1520000000000001,5.1520000000000001,5.1520000000000001,5.1520000000000001,3.6866666666666661,3.6866666666666661,3.6866666666666661,3.6866666666666661,0.71557971014492738,0.71557971014492738,0.71557971014492738,0.71557971014492738,0.71557971014492738,0.71557971014492738,0.71557971014492738,0.71557971014492738,0,0,0,0,0.71557971014492738,0,39360.633294976258,39459.640907433008,6088.261508245263,6088.261508245263,null,null,null,null,7.2000000000000011,1,1,0.23852657004830913,0.23852657004830913,0.23852657004830913,0.23852657004830913,0.24309790249015095,0.24309790249015095,0.2256839135648164,null,null,3.6866666666666661,3.6866666666666661,3.6866666666666661,3.6866666666666661,null,7.1000000000000014]
["2022-04-11",6,6,6,6,23,5.0199999999999996,5.0199999999999996,5.0199999999999996,5.0199999999999996,4.2,4.2,4.2,4.2,0.83665338645418341,0.83665338645418341,0.83665338645418341,0.83665338645418341,0.83665338645418341,0.83665338645418341,0.83665338645418341,0.83665338645418341,0,0,0,0,0.83665338645418341,0,39432.578945702102,39531.586558158851,6088.261508245263,6088.261508245263,null,null,null,null,8.3142857142857132,1,1,0.27888446215139445,0.27888446215139445,0.27888446215139445,0.27888446215139445,0.21932086916781604,0.21932086916781604,0.28235221761274071,null,null,4.2,4.2,4.2,4.2,null,6]
["2022-04-19",6.3000000000000007,6.3000000000000007,6.3000000000000007,6.3000000000000007,22.9,5.056,5.056,5.056,5.056,4.0599999999999996,4.0599999999999996,4.0599999999999996,4.0599999999999996,0.803006329113924,0.803006329113924,0.803006329113924,0.803006329113924,0.803006329113924,0.803006329113924,0.803006329113924,0.803006329113924,0,0,0,0,0.803006329113924,0,39534.171042404691,39633.17865486144,6088.261508245263,6088.261508245263,null,null,null,null,8.4928571428571438,1,1,0.26766877637130798,0.26766877637130798,0.26766877637130798,0.26766877637130798,0.25474743648917214,0.25474743648917214,0.27553315598203748,null,null,4.0599999999999996,4.0599999999999996,4.0599999999999996,4.0599999999999996,null,6.3000000000000007]
["2022-04-20",3.8999999999999986,3.8999999999999986,3.8999999999999986,3.8999999999999986,23.7,4.7679999999999998,4.7679999999999998,4.7679999999999998,4.7679999999999998,5.1800000000000015,5.1800000000000015,5.1800000000000015,5.1800000000000015,1.0864093959731547,1.0864093959731547,1.0864093959731547,1.0864093959731547,1.0864093959731547,1.0864093959731547,1.0864093959731547,1.0864093959731547,0,0,0,0,1.0864093959731547,0,39560.244867908048,39659.252480364798,6088.261508245263,6088.261508245263,null,null,null,null,8.4,1,1,0.36213646532438487,0.36213646532438487,0.36213646532438487,0.36213646532438487,0.23493409794368705,0.23493409794368705,0.28589384580695693,null,null,5.1800000000000015,5.1800000000000015,5.1800000000000015,5.1800000000000015,null,3.8999999999999986]
["2022-04-28",12,12,12,12,21,5.74,5.74,5.74,5.74,1.4,1.4,1.4,1.4,0.24390243902439021,0.24390243902439021,0.24390243902439021,0.24390243902439021,0.24390243902439021,0.24390243902439021,0.24390243902439021,0.24390243902439021,0,0,0,0,0.24390243902439021,0,39656.959714676465,39755.967327133214,6088.261508245263,6088.261508245263,null,null,null,null,11.407142857142857,1,1,8.1300813008130066E-2,8.1300813008130066E-2,8.1300813008130066E-2,8.1300813008130066E-2,0.12354547824797553,0.12354547824797553,9.8916389009031588E-2,null,null,1.4,1.4,1.4,1.4,null,12]
["2022-05-02",14.3,14.3,14.3,14.3,20.233333333333334,6.016,6.016,6.016,6.016,0.32666666666666633,0.32666666666666633,0.32666666666666633,0.32666666666666633,5.4299645390070865E-2,5.4299645390070865E-2,5.4299645390070865E-2,5.4299645390070865E-2,5.4299645390070865E-2,5.4299645390070865E-2,5.4299645390070865E-2,5.4299645390070865E-2,0,0,0,0,5.4299645390070865E-2,0,39677.118662733461,39776.12627519021,6088.261508245263,6088.261508245263,null,null,null,null,13.192857142857141,1,1,1.8099881796690288E-2,1.8099881796690288E-2,1.8099881796690288E-2,1.8099881796690288E-2,4.5166556253744924E-2,4.5166556253744924E-2,2.915170858762053E-2,null,null,0.32666666666666633,0.32666666666666633,0.32666666666666633,0.32666666666666633,null,14.3]
["2022-05-07",14.6,14.6,14.6,14.6,20.133333333333333,6.0519999999999996,6.0519999999999996,6.0519999999999996,6.0519999999999996,0.18666666666666684,0.18666666666666684,0.18666666666666684,0.18666666666666684,3.0843798193434708E-2,3.0843798193434708E-2,3.0843798193434708E-2,3.0843798193434708E-2,3.0843798193434708E-2,3.0843798193434708E-2,3.0843798193434708E-2,3.0843798193434708E-2,0,0,0,0,3.0843798193434708E-2,0,39681.767101674341,39780.77471413109,6088.261508245263,6088.261508245263,null,null,null,null,0,0,0,1.0281266064478236E-2,1.0281266064478236E-2,1.0281266064478236E-2,1.0281266064478236E-2,-2.0369517879127302E-3,-2.0369517879127302E-3,1.2025612758179019E-2,null,null,0.18666666666666684,0.18666666666666684,0.18666666666666684,0.18666666666666684,null,14.6]
["2022-05-15",16.3,16.3,16.3,16.3,19.566666666666666,6.2560000000000002,6.2560000000000002,6.2560000000000002,6.2560000000000002,-0.60666666666666702,-0.60666666666666702,-0.60666666666666702,-0.60666666666666702,-9.6973572037510711E-2,-9.6973572037510711E-2,-9.6973572037510711E-2,-9.6973572037510711E-2,0,0,0,0,9.6973572037510711E-2,9.6973572037510711E-2,9.6973572037510711E-2,9.6973572037510711E-2,0,9.6973572037510711E-2,39682.321191384101,39781.32880384085,6120.8789492761525,6120.8789492761525,null,null,null,null,0,0,0,-3.2324524012503568E-2,-3.2324524012503568E-2,-3.2324524012503568E-2,-3.2324524012503568E-2,-5.2074867894206171E-2,-5.2074867894206171E-2,-3.9135993739587663E-2,null,null,0,0,0,0,null,16.3]
["2022-05-19",18.5,18.5,18.5,18.5,18.833333333333332,6.52,6.52,6.52,6.52,-1.6333333333333333,-1.6333333333333333,-1.6333333333333333,-1.6333333333333333,-0.2505112474437628,-0.2505112474437628,-0.2505112474437628,-0.2505112474437628,0,0,0,0,0.2505112474437628,0.2505112474437628,0.2505112474437628,0.2505112474437628,0,0.2505112474437628,39682.321191384101,39781.32880384085,6136.2333727939003,6136.2333727939003,null,null,null,null,0,0,0,-8.3503749147920928E-2,-8.3503749147920928E-2,-8.3503749147920928E-2,-8.3503749147920928E-2,-6.5290095511023896E-2,-6.5290095511023896E-2,-9.205981385463817E-2,null,null,0,0,0,0,null,18.5]
["2022-05-24",17.5,17.5,17.5,17.5,19.166666666666668,6.3999999999999995,6.3999999999999995,6.3999999999999995,6.3999999999999995,-1.1666666666666667,-1.1666666666666667,-1.1666666666666667,-1.1666666666666667,-0.18229166666666669,-0.18229166666666669,-0.18229166666666669,-0.18229166666666669,0,0,0,0,0.18229166666666669,0.18229166666666669,0.18229166666666669,0.18229166666666669,0,0.18229166666666669,39682.321191384101,39781.32880384085,6160.8353166493762,6160.8353166493762,null,null,null,null,0,0,0,-6.0763888888888895E-2,-6.0763888888888895E-2,-6.0763888888888895E-2,-6.0763888888888895E-2,-3.1906724897838343E-2,-3.1906724897838343E-2,-3.517475574483294E-2,null,null,0,0,0,0,null,17.5]
["2022-05-30",11.3,11.3,11.3,11.3,21.233333333333334,5.6559999999999997,5.6559999999999997,5.6559999999999997,5.6559999999999997,1.7266666666666663,1.7266666666666663,1.7266666666666663,1.7266666666666663,0.30528052805280526,0.30528052805280526,0.30528052805280526,0.30528052805280526,0.30528052805280526,0.30528052805280526,0.30528052805280526,0.30528052805280526,0,0,0,0,0.30528052805280526,0,39705.189332060065,39804.196944516814,6164.4032092231191,6164.4032092231191,null,null,null,null,0,0,1,0.10176017601760175,0.10176017601760175,0.10176017601760175,0.10176017601760175,3.3941156511661234E-2,3.3941156511661234E-2,8.4137076336181296E-2,null,null,1.7266666666666663,1.7266666666666663,1.7266666666666663,1.7266666666666663,null,11.3]
["2022-06-05",{"$f":"BB2632+A$7","v":20.5},20.5,20.5,20.5,{"$f":"F$8+(H$7-F$8)*(M$6-B2632)/30","v":18.166666666666668},{"$f":"IF((B2632+35-$F2632)*$H$5+$H$6>1,(B2632+35-$F2632)*$H$5+$H$6,1)","v":6.76},{"$f":"IF((C2632+35-$F2632)*$H$5+$H$6>1,(C2632+35-$F2632)*$H$5+$H$6,1)","v":6.76},{"$f":"IF((D2632+35-$F2632)*$H$5+$H$6>1,(D2632+35-$F2632)*$H$5+$H$6,1)","v":6.76},{"$f":"IF((E2632+35-$F2632)*$H$5+$H$6>1,(E2632+35-$F2632)*$H$5+$H$6,1)","v":6.76},{"$f":"$M$5*($M$6-B2632)/30-$O$5","v":-2.5666666666666669},{"$f":"$M$5*($M$6-C2632)/30-$O$5","v":-2.5666666666666669},{"$f":"$M$5*($M$6-D2632)/30-$O$5","v":-2.5666666666666669},{"$f":"$M$5*($M$6-E2632)/30-$O$5","v":-2.5666666666666669},{"$f":"IF(K2632/G2632>$M$7,$M$7+K2632-$M$7*G2632,K2632/G2632)","v":-0.37968441814595666},{"$f":"IF(L2632/H2632>$M$7,$M$7+L2632-$M$7*H2632,L2632/H2632)","v":-0.37968441814595666},{"$f":"IF(M2632/I2632>$M$7,$M$7+M2632-$M$7*I2632,M2632/I2632)","v":-0.37968441814595666},{"$f":"IF(N2632/J2632>$M$7,$M$7+N2632-$M$7*J2632,N2632/J2632)","v":-0.37968441814595666},{"$f":"IF(O2632>0,O2632,)","v":0},{"$f":"IF(P2632>0,P2632,)","v":0},{"$f":"IF(Q2632>0,Q2632,)","v":0},{"$f":"IF(R2632>0,R2632,)","v":0},{"$f":"IF(O2632<0,-O2632,0)","v":0.37968441814595666},{"$f":"IF(P2632<0,-P2632,0)","v":0.37968441814595666},{"$f":"IF(Q2632<0,-Q2632,0)","v":0.37968441814595666},{"$f":"IF(R2632<0,-R2632,0)","v":0.37968441814595666},{"$f":"IF(SUM(O2632:R2632)/4>0,SUM(O2632:R2632)/4,)","v":0},{"$f":"IF(SUM(O2632:R2632)/4<0,-SUM(O2632:R2632)/4,)","v":0.37968441814595666},{"$f":"6*SUM(S2632:V2632)+AC2631","v":39706.304129671211},{"$f":"AD2631+AA2632*24","v":39805.31174212796},{"$f":"6*SUM(W2632:Z2632)+AE2631","v":6194.787696059223},{"$f":"AF2631+AB2632*24","v":6194.787696059223},null,null,null,null,{"$f":"IF(SUM(B2626:B2639)/14<$C$7,SUM(B2626:B2639)/14,0)","v":0},{"$f":"IF(SUM(B2626:B2639)/14<$C$7,1,0)","v":0},{"$f":"IF(SUM(AN2629:AQ2635)>0,1,0)","v":0},{"$f":"K2632/G2632/$M$7","v":-0.1265614727153189},{"$f":"L2632/H2632/$M$7","v":-0.1265614727153189},{"$f":"M2632/I2632/$M$7","v":-0.1265614727153189},{"$f":"N2632/J2632/$M$7","v":-0.1265614727153189},{"$f":"SUM(AO2629:AO2635)/7","v":-9.0524129538695292E-2},{"$f":"SUM(AQ2629:AQ2635)/7","v":-9.0524129538695292E-2},{"$f":"SUM(AN2631:AQ2633)/12","v":-0.1216103818517718},null,null,{"$f":"IF(K2632>0,K2632,0)","v":0},{"$f":"IF(L2632>0,L2632,0)","v":0},{"$f":"IF(M2632>0,M2632,0)","v":0},{"$f":"IF(N2632>0,N2632,0)","v":0},null,20.5]
["2022-06-10",18.7,18.7,18.7,18.7,18.766666666666666,6.5440000000000005,6.5440000000000005,6.5440000000000005,6.5440000000000005,-1.7266666666666663,-1.7266666666666663,-1.7266666666666663,-1.7266666666666663,-0.26385493072534633,-0.26385493072534633,-0.26385493072534633,-0.26385493072534633,0,0,0,0,0.26385493072534633,0.26385493072534633,0.26385493072534633,0.26385493072534633,0,0.26385493072534633,39706.304129671211,39805.31174212796,6224.4376596288857,6224.4376596288857,null,null,null,null,0,0,0,-8.7951643575115437E-2,-8.7951643575115437E-2,-8.7951643575115437E-2,-8.7951643575115437E-2,-8.9201601414678061E-2,-8.9201601414678061E-2,-8.5858426975588875E-2,null,null,0,0,0,0,null,18.7]
["2022-06-16",20.9,20.9,20.9,20.9,{"$f":"F$8+(H$7-F$8)*(M$6-B2643)/30","v":18.033333333333335},{"$f":"IF((B2643+35-$F2643)*$H$5+$H$6>1,(B2643+35-$F2643)*$H$5+$H$6,1)","v":6.8079999999999998},{"$f":"IF((C2643+35-$F2643)*$H$5+$H$6>1,(C2643+35-$F2643)*$H$5+$H$6,1)","v":6.8079999999999998},{"$f":"IF((D2643+35-$F2643)*$H$5+$H$6>1,(D2643+35-$F2643)*$H$5+$H$6,1)","v":6.8079999999999998},{"$f":"IF((E2643+35-$F2643)*$H$5+$H$6>1,(E2643+35-$F2643)*$H$5+$H$6,1)","v":6.8079999999999998},{"$f":"$M$5*($M$6-B2643)/30-$O$5","v":-2.7533333333333325},{"$f":"$M$5*($M$6-C2643)/30-$O$5","v":-2.7533333333333325},{"$f":"$M$5*($M$6-D2643)/30-$O$5","v":-2.7533333333333325},{"$f":"$M$5*($M$6-E2643)/30-$O$5","v":-2.7533333333333325},{"$f":"IF(K2643/G2643>$M$7,$M$7+K2643-$M$7*G2643,K2643/G2643)","v":-0.40442616529573039},{"$f":"IF(L2643/H2643>$M$7,$M$7+L2643-$M$7*H2643,L2643/H2643)","v":-0.40442616529573039},{"$f":"IF(M2643/I2643>$M$7,$M$7+M2643-$M$7*I2643,M2643/I2643)","v":-0.40442616529573039},{"$f":"IF(N2643/J2643>$M$7,$M$7+N2643-$M$7*J2643,N2643/J2643)","v":-0.40442616529573039},{"$f":"IF(O2643>0,O2643,)","v":0},{"$f":"IF(P2643>0,P2643,)","v":0},{"$f":"IF(Q2643>0,Q2643,)","v":0},{"$f":"IF(R2643>0,R2643,)","v":0},{"$f":"IF(O2643<0,-O2643,0)","v":0.40442616529573039},{"$f":"IF(P2643<0,-P2643,0)","v":0.40442616529573039},{"$f":"IF(Q2643<0,-Q2643,0)","v":0.40442616529573039},{"$f":"IF(R2643<0,-R2643,0)","v":0.40442616529573039},{"$f":"IF(SUM(O2643:R2643)/4>0,SUM(O2643:R2643)/4,)","v":0},{"$f":"IF(SUM(O2643:R2643)/4<0,-SUM(O2643:R2643)/4,)","v":0.40442616529573039},{"$f":"6*SUM(S2643:V2643)+AC2642","v":39706.304129671211},{"$f":"AD2642+AA2643*24","v":39805.31174212796},{"$f":"6*SUM(W2643:Z2643)+AE2642","v":6267.6473125892508},{"$f":"AF2642+AB2643*24","v":6267.6473125892508},null,null,null,null,{"$f":"IF(SUM(B2637:B2650)/14<$C$7,SUM(B2637:B2650)/14,0)","v":0},{"$f":"IF(SUM(B2637:B2650)/14<$C$7,1,0)","v":0},{"$f":"IF(SUM(AN2640:AQ2646)>0,1,0)","v":0},{"$f":"K2643/G2643/$M$7","v":-0.13480872176524347},{"$f":"L2643/H2643/$M$7","v":-0.13480872176524347},{"$f":"M2643/I2643/$M$7","v":-0.13480872176524347},{"$f":"N2643/J2643/$M$7","v":-0.13480872176524347},{"$f":"SUM(AO2640:AO2646)/7","v":-0.12395401946754339},{"$f":"SUM(AQ2640:AQ2646)/7","v":-0.12395401946754339},{"$f":"SUM(AN2642:AQ2644)/12","v":-0.11231378560826195},null,null,{"$f":"IF(K2643>0,K2643,0)","v":0},{"$f":"IF(L2643>0,L2643,0)","v":0},{"$f":"IF(M2643>0,M2643,0)","v":0},{"$f":"IF(N2643>0,N2643,0)","v":0},null,20.9]
["2022-06-22",19.899999999999999,{"$f":"$B2649+C$9","v":19.899999999999999},19.899999999999999,19.899999999999999,18.366666666666667,6.6879999999999997,6.6879999999999997,6.6879999999999997,6.6879999999999997,-2.2866666666666662,-2.2866666666666662,-2.2866666666666662,-2.2866666666666662,-0.34190590111642738,-0.34190590111642738,-0.34190590111642738,-0.34190590111642738,0,0,0,0,0.34190590111642738,0.34190590111642738,0.34190590111642738,0.34190590111642738,0,0.34190590111642738,39706.304129671211,39805.31174212796,6326.6597263666772,6326.6597263666772,null,null,null,null,0,0,0,-0.11396863370547579,-0.11396863370547579,-0.11396863370547579,-0.11396863370547579,-0.12832313199786538,-0.12832313199786538,-0.110395035833025,null,null,0,0,0,0,null,19.899999999999999]
["2022-06-27",24.8,24.8,24.8,24.8,16.733333333333334,7.2759999999999998,7.2759999999999998,7.2759999999999998,7.2759999999999998,-4.5733333333333341,-4.5733333333333341,-4.5733333333333341,-4.5733333333333341,-0.62855048561480675,-0.62855048561480675,-0.62855048561480675,-0.62855048561480675,0,0,0,0,0.62855048561480675,0.62855048561480675,0.62855048561480675,0.62855048561480675,0,0.62855048561480675,39706.304129671211,39805.31174212796,6381.7180001635052,6381.7180001635052,null,null,null,null,0,0,0,-0.20951682853826892,-0.20951682853826892,-0.20951682853826892,-0.20951682853826892,-0.13971335256091669,-0.13971335256091669,-0.16896106024650892,null,null,0,0,0,0,null,24.8]
["2022-07-03",21,21,21,21,18,6.82,6.82,6.82,6.82,-2.8,-2.8,-2.8,-2.8,-0.41055718475073311,-0.41055718475073311,-0.41055718475073311,-0.41055718475073311,0,0,0,0,0.41055718475073311,0.41055718475073311,0.41055718475073311,0.41055718475073311,0,0.41055718475073311,39706.304129671211,39805.31174212796,6434.056949360619,6434.056949360619,null,null,null,null,0,0,0,-0.13685239491691104,-0.13685239491691104,-0.13685239491691104,-0.13685239491691104,-0.12112135220149138,-0.12112135220149138,-0.11868521376364666,null,null,0,0,0,0,null,21]
["2022-07-04",21.5,21.5,21.5,21.5,17.833333333333332,6.8800000000000008,6.8800000000000008,6.8800000000000008,6.8800000000000008,-3.0333333333333332,-3.0333333333333332,-3.0333333333333332,-3.0333333333333332,-0.440891472868217,-0.440891472868217,-0.440891472868217,-0.440891472868217,0,0,0,0,0.440891472868217,0.440891472868217,0.440891472868217,0.440891472868217,0,0.440891472868217,39706.304129671211,39805.31174212796,6444.6383447094559,6444.6383447094559,null,null,null,null,0,0,0,-0.14696382428940566,-0.14696382428940566,-0.14696382428940566,-0.14696382428940566,-0.10107560847153711,-0.10107560847153711,-0.13748348826423942,null,null,0,0,0,0,null,21.5]
["2022-07-10",15.1,15.1,15.1,15.1,19.966666666666669,6.1120000000000001,6.1120000000000001,6.1120000000000001,6.1120000000000001,-4.6666666666666502E-2,-4.6666666666666502E-2,-4.6666666666666502E-2,-4.6666666666666502E-2,-7.6352530541011947E-3,-7.6352530541011947E-3,-7.6352530541011947E-3,-7.6352530541011947E-3,0,0,0,0,7.6352530541011947E-3,7.6352530541011947E-3,7.6352530541011947E-3,7.6352530541011947E-3,0,7.6352530541011947E-3,39706.304129671211,39805.31174212796,6464.9289829886484,6464.9289829886484,null,null,null,null,0,0,0,-2.5450843513670648E-3,-2.5450843513670648E-3,-2.5450843513670648E-3,-2.5450843513670648E-3,-4.3476656977139129E-2,-4.3476656977139129E-2,-2.6418825642807564E-2,null,null,0,0,0,0,null,15.1]
["2022-07-14",22,22,22,22,17.666666666666668,6.9399999999999995,6.9399999999999995,6.9399999999999995,6.9399999999999995,-3.2666666666666666,-3.2666666666666666,-3.2666666666666666,-3.2666666666666666,-0.47070124879923153,-0.47070124879923153,-0.47070124879923153,-0.47070124879923153,0,0,0,0,0.47070124879923153,0.47070124879923153,0.47070124879923153,0.47070124879923153,0,0.47070124879923153,39706.304129671211,39805.31174212796,6493.2817637830722,6493.2817637830722,null,null,null,null,0,0,0,-0.15690041626641052,-0.15690041626641052,-0.15690041626641052,-0.15690041626641052,-7.8615962656401389E-2,-7.8615962656401389E-2,-0.11337372025337084,null,null,0,0,0,0,null,22]
["2022-07-21",24.1,24.1,24.1,24.1,16.966666666666665,7.1920000000000002,7.1920000000000002,7.1920000000000002,7.1920000000000002,-4.246666666666667,-4.246666666666667,-4.246666666666667,-4.246666666666667,-0.59047089358546534,-0.59047089358546534,-0.59047089358546534,-0.59047089358546534,0,0,0,0,0.59047089358546534,0.59047089358546534,0.59047089358546534,0.59047089358546534,0,0.59047089358546534,39706.304129671211,39805.31174212796,6555.7178666339396,6555.7178666339396,null,null,null,null,0,0,0,-0.19682363119515511,-0.19682363119515511,-0.19682363119515511,-0.19682363119515511,-0.17328551635927389,-0.17328551635927389,-0.20462804256541689,null,null,0,0,0,0,null,24.1]
["2022-07-27",18.2,18.2,18.2,18.2,18.933333333333334,6.484,6.484,6.484,6.484,-1.493333333333333,-1.493333333333333,-1.493333333333333,-1.493333333333333,-0.23031050791692365,-0.23031050791692365,-0.23031050791692365,-0.23031050791692365,0,0,0,0,0.23031050791692365,0.23031050791692365,0.23031050791692365,0.23031050791692365,0,0.23031050791692365,39706.304129671211,39805.31174212796,6625.7463635275199,6625.7463635275199,null,null,null,null,0,0,0,-7.677016930564122E-2,-7.677016930564122E-2,-7.677016930564122E-2,-7.677016930564122E-2,-0.12572985706839049,-0.12572985706839049,-0.11370477999408508,null,null,0,0,0,0,null,18.2]
["2022-07-31",20.6,20.6,20.6,20.6,18.133333333333333,6.7720000000000002,6.7720000000000002,6.7720000000000002,6.7720000000000002,-2.6133333333333342,-2.6133333333333342,-2.6133333333333342,-2.6133333333333342,-0.38590273675920467,-0.38590273675920467,-0.38590273675920467,-0.38590273675920467,0,0,0,0,0.38590273675920467,0.38590273675920467,0.38590273675920467,0.38590273675920467,0,0.38590273675920467,39706.304129671211,39805.31174212796,6654.3707286732533,6654.3707286732533,null,null,null,null,0,0,0,-0.12863424558640155,-0.12863424558640155,-0.12863424558640155,-0.12863424558640155,-0.12661482207805971,-0.12661482207805971,-0.11375493398512874,null,null,0,0,0,0,null,20.6]
["2022-08-07",18,18,18,18,19,6.46,6.46,6.46,6.46,-1.4,-1.4,-1.4,-1.4,-0.21671826625386995,-0.21671826625386995,-0.21671826625386995,-0.21671826625386995,0,0,0,0,0.21671826625386995,0.21671826625386995,0.21671826625386995,0.21671826625386995,0,0.21671826625386995,39706.304129671211,39805.31174212796,6732.3279274043653,6732.3279274043653,null,null,null,null,0,0,0,-7.223942208462332E-2,-7.223942208462332E-2,-7.223942208462332E-2,-7.223942208462332E-2,-0.13061429188982157,-0.13061429188982157,-7.9705150058786547E-2,null,null,0,0,0,0,null,18]
["2022-08-13",20,20,20,20,18.333333333333332,6.7,6.7,6.7,6.7,-2.3333333333333335,-2.3333333333333335,-2.3333333333333335,-2.3333333333333335,-0.34825870646766172,-0.34825870646766172,-0.34825870646766172,-0.34825870646766172,0,0,0,0,0.34825870646766172,0.34825870646766172,0.34825870646766172,0.34825870646766172,0,0.34825870646766172,39706.304129671211,39805.31174212796,6779.8529472132159,6779.8529472132159,null,null,null,null,0,0,0,-0.11608623548922058,-0.11608623548922058,-0.11608623548922058,-0.11608623548922058,-0.13510032959064205,-0.13510032959064205,-0.12898509515370229,null,null,0,0,0,0,null,20]
["2022-08-17",24.3,24.3,24.3,24.3,16.899999999999999,7.2159999999999993,7.2159999999999993,7.2159999999999993,7.2159999999999993,-4.3400000000000007,-4.3400000000000007,-4.3400000000000007,-4.3400000000000007,-0.60144124168514423,-0.60144124168514423,-0.60144124168514423,-0.60144124168514423,0,0,0,0,0.60144124168514423,0.60144124168514423,0.60144124168514423,0.60144124168514423,0,0.60144124168514423,39706.304129671211,39805.31174212796,6829.7092512546651,6829.7092512546651,null,null,null,null,0,0,0,-0.20048041389504809,-0.20048041389504809,-0.20048041389504809,-0.20048041389504809,-0.16387554863702006,-0.16387554863702006,-0.19901775434620672,null,null,0,0,0,0,null,24.3]
["2022-08-25",21.2,{"$f":"$B2713+C$9","v":21.2},21.2,21.2,17.933333333333334,6.8439999999999994,6.8439999999999994,6.8439999999999994,6.8439999999999994,-2.8933333333333326,-2.8933333333333326,-2.8933333333333326,-2.8933333333333326,-0.4227547243327488,-0.4227547243327488,-0.4227547243327488,-0.4227547243327488,0,0,0,0,0.4227547243327488,0.4227547243327488,0.4227547243327488,0.4227547243327488,0,0.4227547243327488,39706.304129671211,39805.31174212796,6892.3859111083066,6892.3859111083066,null,null,null,null,0,0,0,-0.14091824144424961,-0.14091824144424961,-0.14091824144424961,-0.14091824144424961,-9.363189905326233E-2,-9.363189905326233E-2,-0.13541750098986091,null,null,0,0,0,0,null,21.2]
["2022-08-30",17.100000000000001,17.100000000000001,17.100000000000001,17.100000000000001,19.3,6.3519999999999994,6.3519999999999994,6.3519999999999994,6.3519999999999994,-0.98000000000000065,-0.98000000000000065,-0.98000000000000065,-0.98000000000000065,-0.15428211586901774,-0.15428211586901774,-0.15428211586901774,-0.15428211586901774,0,0,0,0,0.15428211586901774,0.15428211586901774,0.15428211586901774,0.15428211586901774,0,0.15428211586901774,39706.304129671211,39805.31174212796,6923.8798797607451,6923.8798797607451,null,null,null,null,0,0,0,-5.142737195633925E-2,-5.142737195633925E-2,-5.142737195633925E-2,-5.142737195633925E-2,-5.6853216217433382E-2,-5.6853216217433382E-2,-5.3765885903126871E-2,null,null,0,0,0,0,null,17.100000000000001]
["2022-09-03",15.5,15.5,15.5,15.5,19.833333333333332,6.16,6.16,6.16,6.16,-0.23333333333333334,-0.23333333333333334,-0.23333333333333334,-0.23333333333333334,-3.787878787878788E-2,-3.787878787878788E-2,-3.787878787878788E-2,-3.787878787878788E-2,0,0,0,0,3.787878787878788E-2,3.787878787878788E-2,3.787878787878788E-2,3.787878787878788E-2,0,3.787878787878788E-2,39706.304129671211,39805.31174212796,6932.2407382768652,6932.2407382768652,null,null,null,null,0,0,0,-1.2626262626262626E-2,-1.2626262626262626E-2,-1.2626262626262626E-2,-1.2626262626262626E-2,-5.3622579638751701E-2,-5.3622579638751701E-2,-3.7636789060289041E-2,null,null,0,0,0,0,null,15.5]
["2022-09-06",19,19,19,19,18.666666666666668,6.5799999999999992,6.5799999999999992,6.5799999999999992,6.5799999999999992,-1.8666666666666667,-1.8666666666666667,-1.8666666666666667,-1.8666666666666667,-0.28368794326241137,-0.28368794326241137,-0.28368794326241137,-0.28368794326241137,0,0,0,0,0.28368794326241137,0.28368794326241137,0.28368794326241137,0.28368794326241137,0,0.28368794326241137,39706.304129671211,39805.31174212796,6950.9056598986754,6950.9056598986754,null,null,null,null,0,0,0,-9.4562647754137127E-2,-9.4562647754137127E-2,-9.4562647754137127E-2,-9.4562647754137127E-2,-6.9156613246300694E-2,-6.9156613246300694E-2,-9.3638354328089826E-2,null,null,0,0,0,0,null,19]
["2022-09-11",15.8,15.8,15.8,15.8,19.733333333333334,6.1959999999999997,6.1959999999999997,6.1959999999999997,6.1959999999999997,-0.37333333333333368,-0.37333333333333368,-0.37333333333333368,-0.37333333333333368,-6.0253927264902148E-2,-6.0253927264902148E-2,-6.0253927264902148E-2,-6.0253927264902148E-2,0,0,0,0,6.0253927264902148E-2,6.0253927264902148E-2,6.0253927264902148E-2,6.0253927264902148E-2,0,6.0253927264902148E-2,39706.304129671211,39805.31174212796,6968.1802627034813,6968.1802627034813,null,null,null,null,0,0,0,-2.008464242163405E-2,-2.008464242163405E-2,-2.008464242163405E-2,-2.008464242163405E-2,-2.8966811499611E-2,-2.8966811499611E-2,-1.260358572785898E-2,null,null,0,0,0,0,null,15.8]
["2022-09-18",10.100000000000001,10.100000000000001,10.100000000000001,10.100000000000001,21.633333333333333,5.5120000000000005,5.5120000000000005,5.5120000000000005,5.5120000000000005,2.2866666666666662,2.2866666666666662,2.2866666666666662,2.2866666666666662,0.41485244315432984,0.41485244315432984,0.41485244315432984,0.41485244315432984,0.41485244315432984,0.41485244315432984,0.41485244315432984,0.41485244315432984,0,0,0,0,0.41485244315432984,0,39729.591784424418,39828.599396881167,6973.9234330817408,6973.9234330817408,null,null,null,null,12.071428571428569,1,1,0.13828414771810996,0.13828414771810996,0.13828414771810996,0.13828414771810996,0.10924349443585192,0.10924349443585192,0.13830227972796874,null,null,2.2866666666666662,2.2866666666666662,2.2866666666666662,2.2866666666666662,null,10.100000000000001]
["2022-09-23",8.6999999999999993,8.6999999999999993,8.6999999999999993,8.6999999999999993,22.1,5.3439999999999994,5.3439999999999994,5.3439999999999994,5.3439999999999994,2.9400000000000004,2.9400000000000004,2.9400000000000004,2.9400000000000004,0.55014970059880253,0.55014970059880253,0.55014970059880253,0.55014970059880253,0.55014970059880253,0.55014970059880253,0.55014970059880253,0.55014970059880253,0,0,0,0,0.55014970059880253,0,39784.440888205405,39883.448500662154,6973.9234330817408,6973.9234330817408,null,null,null,null,10.25,1,1,0.18338323353293418,0.18338323353293418,0.18338323353293418,0.18338323353293418,0.12116576942773939,0.12116576942773939,0.14205459992459626,null,null,2.9400000000000004,2.9400000000000004,2.9400000000000004,2.9400000000000004,null,8.6999999999999993]
["2022-09-28",8.5,8.5,8.5,8.5,22.166666666666668,5.32,5.32,5.32,5.32,3.0333333333333332,3.0333333333333332,3.0333333333333332,3.0333333333333332,0.57017543859649122,0.57017543859649122,0.57017543859649122,0.57017543859649122,0.57017543859649122,0.57017543859649122,0.57017543859649122,0.57017543859649122,0,0,0,0,0.57017543859649122,0,39823.1577102964,39922.16532275315,6973.9234330817408,6973.9234330817408,null,null,null,null,10.921428571428573,1,1,0.19005847953216373,0.19005847953216373,0.19005847953216373,0.19005847953216373,0.1246069274364339,0.1246069274364339,0.16674242603627323,null,null,3.0333333333333332,3.0333333333333332,3.0333333333333332,3.0333333333333332,null,8.5]
["2022-10-05",12.3,12.3,12.3,12.3,20.9,5.7759999999999998,5.7759999999999998,5.7759999999999998,5.7759999999999998,1.2599999999999996,1.2599999999999996,1.2599999999999996,1.2599999999999996,0.21814404432132958,0.21814404432132958,0.21814404432132958,0.21814404432132958,0.21814404432132958,0.21814404432132958,0.21814404432132958,0.21814404432132958,0,0,0,0,0.21814404432132958,0,39877.197585945221,39976.205198401971,6973.9234330817408,6973.9234330817408,null,null,null,null,10.871428571428572,1,1,7.2714681440443199E-2,7.2714681440443199E-2,7.2714681440443199E-2,7.2714681440443199E-2,8.3478079714685877E-2,8.3478079714685877E-2,6.6127073879088519E-2,null,null,1.2599999999999996,1.2599999999999996,1.2599999999999996,1.2599999999999996,null,12.3]
["2022-10-10",10.399999999999999,10.399999999999999,10.399999999999999,10.399999999999999,21.533333333333335,5.548,5.548,5.548,5.548,2.1466666666666674,2.1466666666666674,2.1466666666666674,2.1466666666666674,0.38692621965873603,0.38692621965873603,0.38692621965873603,0.38692621965873603,0.38692621965873603,0.38692621965873603,0.38692621965873603,0.38692621965873603,0,0,0,0,0.38692621965873603,0,39918.128391846345,40017.136004303095,6973.9234330817408,6973.9234330817408,null,null,null,null,11.842857142857143,1,1,0.12897540655291201,0.12897540655291201,0.12897540655291201,0.12897540655291201,0.1357504451209022,0.1357504451209022,0.14572513959668307,null,null,2.1466666666666674,2.1466666666666674,2.1466666666666674,2.1466666666666674,null,10.399999999999999]
["2022-10-15",13.5,13.5,13.5,13.5,20.5,5.92,5.92,5.92,5.92,0.7,0.7,0.7,0.7,0.11824324324324324,0.11824324324324324,0.11824324324324324,0.11824324324324324,0.11824324324324324,0.11824324324324324,0.11824324324324324,0.11824324324324324,0,0,0,0,0.11824324324324324,0,39958.112182110788,40057.119794567538,6973.9234330817408,6973.9234330817408,null,null,null,null,10.87857142857143,1,1,3.9414414414414414E-2,3.9414414414414414E-2,3.9414414414414414E-2,3.9414414414414414E-2,6.67626947710145E-2,6.67626947710145E-2,2.5794905075540834E-2,null,null,0.7,0.7,0.7,0.7,null,13.5]
["2022-10-22",9.6999999999999993,9.6999999999999993,9.6999999999999993,9.6999999999999993,{"$f":"F$8+(H$7-F$8)*(M$6-B2771)/30","v":21.766666666666666},{"$f":"IF((B2771+35-$F2771)*$H$5+$H$6>1,(B2771+35-$F2771)*$H$5+$H$6,1)","v":5.4640000000000004},{"$f":"IF((C2771+35-$F2771)*$H$5+$H$6>1,(C2771+35-$F2771)*$H$5+$H$6,1)","v":5.4640000000000004},{"$f":"IF((D2771+35-$F2771)*$H$5+$H$6>1,(D2771+35-$F2771)*$H$5+$H$6,1)","v":5.4640000000000004},{"$f":"IF((E2771+35-$F2771)*$H$5+$H$6>1,(E2771+35-$F2771)*$H$5+$H$6,1)","v":5.4640000000000004},{"$f":"$M$5*($M$6-B2771)/30-$O$5","v":2.473333333333334},{"$f":"$M$5*($M$6-C2771)/30-$O$5","v":2.473333333333334},{"$f":"$M$5*($M$6-D2771)/30-$O$5","v":2.473333333333334},{"$f":"$M$5*($M$6-E2771)/30-$O$5","v":2.473333333333334},{"$f":"IF(K2771/G2771>$M$7,$M$7+K2771-$M$7*G2771,K2771/G2771)","v":0.45265983406539784},{"$f":"IF(L2771/H2771>$M$7,$M$7+L2771-$M$7*H2771,L2771/H2771)","v":0.45265983406539784},{"$f":"IF(M2771/I2771>$M$7,$M$7+M2771-$M$7*I2771,M2771/I2771)","v":0.45265983406539784},{"$f":"IF(N2771/J2771>$M$7,$M$7+N2771-$M$7*J2771,N2771/J2771)","v":0.45265983406539784},{"$f":"IF(O2771>0,O2771,)","v":0.45265983406539784},{"$f":"IF(P2771>0,P2771,)","v":0.45265983406539784},{"$f":"IF(Q2771>0,Q2771,)","v":0.45265983406539784},{"$f":"IF(R2771>0,R2771,)","v":0.45265983406539784},{"$f":"IF(O2771<0,-O2771,0)","v":0},{"$f":"IF(P2771<0,-P2771,0)","v":0},{"$f":"IF(Q2771<0,-Q2771,0)","v":0},{"$f":"IF(R2771<0,-R2771,0)","v":0},{"$f":"IF(SUM(O2771:R2771)/4>0,SUM(O2771:R2771)/4,)","v":0.45265983406539784},{"$f":"IF(SUM(O2771:R2771)/4<0,-SUM(O2771:R2771)/4,)","v":0},{"$f":"6*SUM(S2771:V2771)+AC2770","v":40019.117559134887},{"$f":"AD2770+AA2771*24","v":40118.125171591637},{"$f":"6*SUM(W2771:Z2771)+AE2770","v":6976.425028486974},{"$f":"AF2770+AB2771*24","v":6976.425028486974},null,null,null,null,{"$f":"IF(SUM(B2765:B2778)/14<$C$7,SUM(B2765:B2778)/14,0)","v":11.507142857142858},{"$f":"IF(SUM(B2765:B2778)/14<$C$7,1,0)","v":1},{"$f":"IF(SUM(AN2768:AQ2774)>0,1,0)","v":1},{"$f":"K2771/G2771/$M$7","v":0.15088661135513262},{"$f":"L2771/H2771/$M$7","v":0.15088661135513262},{"$f":"M2771/I2771/$M$7","v":0.15088661135513262},{"$f":"N2771/J2771/$M$7","v":0.15088661135513262},{"$f":"SUM(AO2768:AO2774)/7","v":0.13831003550422766},{"$f":"SUM(AQ2768:AQ2774)/7","v":0.13831003550422766},{"$f":"SUM(AN2770:AQ2772)/12","v":0.15571391820295696},null,null,{"$f":"IF(K2771>0,K2771,0)","v":2.473333333333334},{"$f":"IF(L2771>0,L2771,0)","v":2.473333333333334},{"$f":"IF(M2771>0,M2771,0)","v":2.473333333333334},{"$f":"IF(N2771>0,N2771,0)","v":2.473333333333334},null,9.6999999999999993]
["2022-10-27",12.2,12.2,12.2,12.2,20.933333333333334,5.7640000000000002,5.7640000000000002,5.7640000000000002,5.7640000000000002,1.3066666666666671,1.3066666666666671,1.3066666666666671,1.3066666666666671,0.22669442516770769,0.22669442516770769,0.22669442516770769,0.22669442516770769,0.22669442516770769,0.22669442516770769,0.22669442516770769,0.22669442516770769,0,0,0,0,0.22669442516770769,0,40049.794888083758,40148.802500540507,6976.425028486974,6976.425028486974,null,null,null,null,10.47857142857143,1,1,7.5564808389235891E-2,7.5564808389235891E-2,7.5564808389235891E-2,7.5564808389235891E-2,8.8255078766464407E-2,8.8255078766464407E-2,9.3536311265649708E-2,null,null,1.3066666666666671,1.3066666666666671,1.3066666666666671,1.3066666666666671,null,12.2]
["2022-11-02",9.3999999999999986,9.3999999999999986,9.3999999999999986,9.3999999999999986,21.866666666666667,5.427999999999999,5.427999999999999,5.427999999999999,5.427999999999999,2.6133333333333342,2.6133333333333342,2.6133333333333342,2.6133333333333342,0.48145418816015745,0.48145418816015745,0.48145418816015745,0.48145418816015745,0.48145418816015745,0.48145418816015745,0.48145418816015745,0.48145418816015745,0,0,0,0,0.48145418816015745,0,40107.825975650638,40206.833588107387,6976.425028486974,6976.425028486974,null,null,null,null,9.1571428571428584,1,1,0.16048472938671915,0.16048472938671915,0.16048472938671915,0.16048472938671915,0.18241431099309779,0.18241431099309779,0.17857677170027539,null,null,2.6133333333333342,2.6133333333333342,2.6133333333333342,2.6133333333333342,null,9.3999999999999986]
["2022-11-08",10.199999999999999,10.199999999999999,10.199999999999999,10.199999999999999,21.6,5.524,5.524,5.524,5.524,2.2400000000000007,2.2400000000000007,2.2400000000000007,2.2400000000000007,0.40550325850832741,0.40550325850832741,0.40550325850832741,0.40550325850832741,0.40550325850832741,0.40550325850832741,0.40550325850832741,0.40550325850832741,0,0,0,0,0.40550325850832741,0,40200.938940667416,40299.946553124166,6976.425028486974,6976.425028486974,null,null,null,null,6.9428571428571431,1,1,0.13516775283610913,0.13516775283610913,0.13516775283610913,0.13516775283610913,0.21511963049637359,0.21511963049637359,0.18214242736474037,null,null,2.2400000000000007,2.2400000000000007,2.2400000000000007,2.2400000000000007,null,10.199999999999999]
["2022-11-13",3.8000000000000007,3.8000000000000007,3.8000000000000007,3.8000000000000007,23.733333333333334,4.7559999999999993,4.7559999999999993,4.7559999999999993,4.7559999999999993,5.2266666666666657,5.2266666666666657,5.2266666666666657,5.2266666666666657,1.0989627137650686,1.0989627137650686,1.0989627137650686,1.0989627137650686,1.0989627137650686,1.0989627137650686,1.0989627137650686,1.0989627137650686,0,0,0,0,1.0989627137650686,0,40300.433782228407,40399.441394685156,6976.425028486974,6976.425028486974,null,null,null,null,4.6428571428571406,1,1,0.3663209045883562,0.3663209045883562,0.3663209045883562,0.3663209045883562,0.30219403831480351,0.30219403831480351,0.33949288561969154,null,null,5.2266666666666657,5.2266666666666657,5.2266666666666657,5.2266666666666657,null,3.8000000000000007]
["2022-11-14",6.5,6.5,6.5,6.5,22.833333333333332,5.08,5.08,5.08,5.08,3.9666666666666668,3.9666666666666668,3.9666666666666668,3.9666666666666668,0.78083989501312334,0.78083989501312334,0.78083989501312334,0.78083989501312334,0.78083989501312334,0.78083989501312334,0.78083989501312334,0.78083989501312334,0,0,0,0,0.78083989501312334,0,40319.173939708722,40418.181552165472,6976.425028486974,6976.425028486974,null,null,null,null,4.2,1,1,0.26027996500437445,0.26027996500437445,0.26027996500437445,0.26027996500437445,0.33027392636351216,0.33027392636351216,0.33805491791648662,null,null,3.9666666666666668,3.9666666666666668,3.9666666666666668,3.9666666666666668,null,6.5]
["2022-11-19",-2.7000000000000028,-2.7000000000000028,-2.7000000000000028,-2.7000000000000028,25.900000000000002,3.9759999999999995,3.9759999999999995,3.9759999999999995,3.9759999999999995,8.2600000000000016,8.2600000000000016,8.2600000000000016,8.2600000000000016,2.0774647887323949,2.0774647887323949,2.0774647887323949,2.0774647887323949,2.0774647887323949,2.0774647887323949,2.0774647887323949,2.0774647887323949,0,0,0,0,2.0774647887323949,0,40478.059601344474,40577.067213801223,6976.425028486974,6976.425028486974,null,null,null,null,2.9857142857142853,1,1,0.69248826291079835,0.69248826291079835,0.69248826291079835,0.69248826291079835,0.48721249423304652,0.48721249423304652,0.6187996482646031,null,null,8.2600000000000016,8.2600000000000016,8.2600000000000016,8.2600000000000016,null,-2.7000000000000028]
["2022-11-26",6,6,6,6,23,5.0199999999999996,5.0199999999999996,5.0199999999999996,5.0199999999999996,4.2,4.2,4.2,4.2,0.83665338645418341,0.83665338645418341,0.83665338645418341,0.83665338645418341,0.83665338645418341,0.83665338645418341,0.83665338645418341,0.83665338645418341,0,0,0,0,0.83665338645418341,0,40687.748809910983,40786.756422367733,6976.425028486974,6976.425028486974,null,null,null,null,2.0357142857142856,1,1,0.27888446215139445,0.27888446215139445,0.27888446215139445,0.27888446215139445,0.37872216634201894,0.37872216634201894,0.36968664378809901,null,null,4.2,4.2,4.2,4.2,null,6]
["2022-12-01",0.89999999999999858,0.89999999999999858,0.89999999999999858,0.89999999999999858,24.7,4.4079999999999995,4.4079999999999995,4.4079999999999995,4.4079999999999995,6.580000000000001,6.580000000000001,6.580000000000001,6.580000000000001,1.4927404718693289,1.4927404718693289,1.4927404718693289,1.4927404718693289,1.4927404718693289,1.4927404718693289,1.4927404718693289,1.4927404718693289,0,0,0,0,1.4927404718693289,0,40853.769849999706,40952.777462456455,6976.425028486974,6976.425028486974,null,null,null,null,2.5928571428571425,1,1,0.49758015728977628,0.49758015728977628,0.49758015728977628,0.49758015728977628,0.46154488343414996,0.46154488343414996,0.50787287133956638,null,null,6.580000000000001,6.580000000000001,6.580000000000001,6.580000000000001,null,0.89999999999999858]
["2022-12-06",3.1999999999999993,3.1999999999999993,3.1999999999999993,3.1999999999999993,23.933333333333334,4.6840000000000002,4.6840000000000002,4.6840000000000002,4.6840000000000002,5.5066666666666668,5.5066666666666668,5.5066666666666668,5.5066666666666668,1.1756333617990322,1.1756333617990322,1.1756333617990322,1.1756333617990322,1.1756333617990322,1.1756333617990322,1.1756333617990322,1.1756333617990322,0,0,0,0,1.1756333617990322,0,41007.200134492508,41106.207746949258,6976.425028486974,6976.425028486974,null,null,null,null,0.2857142857142857,1,1,0.39187778726634409,0.39187778726634409,0.39187778726634409,0.39187778726634409,0.43164763843819853,0.43164763843819853,0.3771774979540185,null,null,5.5066666666666668,5.5066666666666668,5.5066666666666668,5.5066666666666668,null,3.1999999999999993]
["2022-12-13",-9.1000000000000014,-9.1000000000000014,-9.1000000000000014,-9.1000000000000014,28.033333333333331,3.2080000000000002,3.2080000000000002,3.2080000000000002,3.2080000000000002,11.246666666666668,11.246666666666668,11.246666666666668,11.246666666666668,4.6226666666666674,4.6226666666666674,4.6226666666666674,4.6226666666666674,4.6226666666666674,4.6226666666666674,4.6226666666666674,4.6226666666666674,0,0,0,0,4.6226666666666674,0,41362.874937248176,41461.882549704926,6976.425028486974,6976.425028486974,null,null,null,null,-3.1428571428571423,1,1,1.1686062621224715,1.1686062621224715,1.1686062621224715,1.1686062621224715,0.8098460265005244,0.8098460265005244,0.96414605585477497,null,null,11.246666666666668,11.246666666666668,11.246666666666668,11.246666666666668,null,-9.1000000000000014]
["2022-12-18",-8.3999999999999986,-8.3999999999999986,-8.3999999999999986,-8.3999999999999986,27.8,3.2919999999999998,3.2919999999999998,3.2919999999999998,3.2919999999999998,10.919999999999998,10.919999999999998,10.919999999999998,10.919999999999998,4.0439999999999987,4.0439999999999987,4.0439999999999987,4.0439999999999987,4.0439999999999987,4.0439999999999987,4.0439999999999987,4.0439999999999987,0,0,0,0,4.0439999999999987,0,41700.386698188711,41799.394310645461,6976.425028486974,6976.425028486974,null,null,null,null,-1.3142857142857136,1,1,1.1057108140947751,1.1057108140947751,1.1057108140947751,1.1057108140947751,0.77372408764432499,0.77372408764432499,0.88884651274954685,null,null,10.919999999999998,10.919999999999998,10.919999999999998,10.919999999999998,null,-8.3999999999999986]
["2022-12-23",8,8,8,8,22.333333333333332,5.26,5.26,5.26,5.26,3.2666666666666666,3.2666666666666666,3.2666666666666666,3.2666666666666666,0.62103929024081117,0.62103929024081117,0.62103929024081117,0.62103929024081117,0.62103929024081117,0.62103929024081117,0.62103929024081117,0.62103929024081117,0,0,0,0,0.62103929024081117,0,41875.600457154222,41974.608069610971,6976.425028486974,6976.425028486974,null,null,null,null,3.0071428571428576,1,1,0.20701309674693705,0.20701309674693705,0.20701309674693705,0.20701309674693705,0.33262844621644572,0.33262844621644572,0.23425406465441187,null,null,3.2666666666666666,3.2666666666666666,3.2666666666666666,3.2666666666666666,null,8]
["2022-12-30",7.3000000000000007,7.3000000000000007,7.3000000000000007,7.3000000000000007,22.566666666666666,5.1760000000000002,5.1760000000000002,5.1760000000000002,5.1760000000000002,3.5933333333333328,3.5933333333333328,3.5933333333333328,3.5933333333333328,0.69422977846470879,0.69422977846470879,0.69422977846470879,0.69422977846470879,0.69422977846470879,0.69422977846470879,0.69422977846470879,0.69422977846470879,0,0,0,0,0.69422977846470879,0,42005.249511274043,42104.257123730793,6976.425028486974,6976.425028486974,null,null,null,null,7.8642857142857139,1,1,0.23140992615490294,0.23140992615490294,0.23140992615490294,0.23140992615490294,0.21088856298627714,0.21088856298627714,0.15467905201538493,null,null,3.5933333333333328,3.5933333333333328,3.5933333333333328,3.5933333333333328,null,7.3000000000000007]
["2023-01-04",5.1999999999999993,5.1999999999999993,5.1999999999999993,5.1999999999999993,23.266666666666666,4.9240000000000004,4.9240000000000004,4.9240000000000004,4.9240000000000004,4.5733333333333341,4.5733333333333341,4.5733333333333341,4.5733333333333341,0.92878418629840243,0.92878418629840243,0.92878418629840243,0.92878418629840243,0.92878418629840243,0.92878418629840243,0.92878418629840243,0.92878418629840243,0,0,0,0,0.92878418629840243,0,42068.81827262669,42167.825885083439,6976.425028486974,6976.425028486974,null,null,null,null,7.4357142857142859,1,1,0.30959472876613414,0.30959472876613414,0.30959472876613414,0.30959472876613414,0.20431514647575666,0.20431514647575666,0.23632526156348321,null,null,4.5733333333333341,4.5733333333333341,4.5733333333333341,4.5733333333333341,null,5.1999999999999993]
["2023-01-07",6.8999999999999986,6.8999999999999986,6.8999999999999986,6.8999999999999986,22.7,5.1280000000000001,5.1280000000000001,5.1280000000000001,5.1280000000000001,3.7800000000000007,3.7800000000000007,3.7800000000000007,3.7800000000000007,0.73712948517940724,0.73712948517940724,0.73712948517940724,0.73712948517940724,0.73712948517940724,0.73712948517940724,0.73712948517940724,0.73712948517940724,0,0,0,0,0.73712948517940724,0,42112.246232922727,42211.253845379477,6976.425028486974,6976.425028486974,null,null,null,null,6.9071428571428584,1,1,0.24570982839313574,0.24570982839313574,0.24570982839313574,0.24570982839313574,0.2767715070931443,0.2767715070931443,0.26520114985974225,null,null,3.7800000000000007,3.7800000000000007,3.7800000000000007,3.7800000000000007,null,6.8999999999999986]
["2023-01-16",3.3000000000000007,3.3000000000000007,3.3000000000000007,3.3000000000000007,23.9,4.6959999999999997,4.6959999999999997,4.6959999999999997,4.6959999999999997,5.4599999999999991,5.4599999999999991,5.4599999999999991,5.4599999999999991,1.1626916524701874,1.1626916524701874,1.1626916524701874,1.1626916524701874,1.1626916524701874,1.1626916524701874,1.1626916524701874,1.1626916524701874,0,0,0,0,1.1626916524701874,0,42304.956729937432,42403.964342394182,6976.425028486974,6976.425028486974,null,null,null,null,2.9571428571428564,1,1,0.3875638841567291,0.3875638841567291,0.3875638841567291,0.3875638841567291,0.36684157350599406,0.36684157350599406,0.33895866814423498,null,null,5.4599999999999991,5.4599999999999991,5.4599999999999991,5.4599999999999991,null,3.3000000000000007]
["2023-01-21",-1.3000000000000007,-1.3000000000000007,-1.3000000000000007,-1.3000000000000007,25.433333333333334,4.1440000000000001,4.1440000000000001,4.1440000000000001,4.1440000000000001,7.6066666666666674,7.6066666666666674,7.6066666666666674,7.6066666666666674,1.8355855855855856,1.8355855855855856,1.8355855855855856,1.8355855855855856,1.8355855855855856,1.8355855855855856,1.8355855855855856,1.8355855855855856,0,0,0,0,1.8355855855855856,0,42500.608489985905,42599.616102442655,6976.425028486974,6976.425028486974,null,null,null,null,0.73571428571428521,1,1,0.61186186186186187,0.61186186186186187,0.61186186186186187,0.61186186186186187,0.55948468907581339,0.55948468907581339,0.59738851951021077,null,null,7.6066666666666674,7.6066666666666674,7.6066666666666674,7.6066666666666674,null,-1.3000000000000007]
["2023-01-24",0.89999999999999858,0.89999999999999858,0.89999999999999858,0.89999999999999858,24.7,4.4079999999999995,4.4079999999999995,4.4079999999999995,4.4079999999999995,6.580000000000001,6.580000000000001,6.580000000000001,6.580000000000001,1.4927404718693289,1.4927404718693289,1.4927404718693289,1.4927404718693289,1.4927404718693289,1.4927404718693289,1.4927404718693289,1.4927404718693289,0,0,0,0,1.4927404718693289,0,42616.093639737664,42715.101252194414,6976.425028486974,6976.425028486974,null,null,null,null,-0.12857142857142886,1,1,0.49758015728977628,0.49758015728977628,0.49758015728977628,0.49758015728977628,0.54927946892829238,0.54927946892829238,0.51246987572141689,null,null,6.580000000000001,6.580000000000001,6.580000000000001,6.580000000000001,null,0.89999999999999858]
["2023-01-28",-1.3000000000000007,-1.3000000000000007,-1.3000000000000007,-1.3000000000000007,25.433333333333334,4.1440000000000001,4.1440000000000001,4.1440000000000001,4.1440000000000001,7.6066666666666674,7.6066666666666674,7.6066666666666674,7.6066666666666674,1.8355855855855856,1.8355855855855856,1.8355855855855856,1.8355855855855856,1.8355855855855856,1.8355855855855856,1.8355855855855856,1.8355855855855856,0,0,0,0,1.8355855855855856,0,42777.445342325773,42876.452954782522,6976.425028486974,6976.425028486974,null,null,null,null,0.99999999999999944,1,1,0.61186186186186187,0.61186186186186187,0.61186186186186187,0.61186186186186187,0.54479534530404528,0.54479534530404528,0.62810736605852913,null,null,7.6066666666666674,7.6066666666666674,7.6066666666666674,7.6066666666666674,null,-1.3000000000000007]
["2023-02-02",3.6000000000000014,3.6000000000000014,3.6000000000000014,3.6000000000000014,23.8,4.7320000000000002,4.7320000000000002,4.7320000000000002,4.7320000000000002,5.3199999999999985,5.3199999999999985,5.3199999999999985,5.3199999999999985,1.1242603550295855,1.1242603550295855,1.1242603550295855,1.1242603550295855,1.1242603550295855,1.1242603550295855,1.1242603550295855,1.1242603550295855,0,0,0,0,1.1242603550295855,0,42944.027847421974,43043.035459878723,6976.425028486974,6976.425028486974,null,null,null,null,-0.40000000000000008,1,1,0.37475345167652852,0.37475345167652852,0.37475345167652852,0.37475345167652852,0.44868768333977321,0.44868768333977321,0.36086687937971224,null,null,5.3199999999999985,5.3199999999999985,5.3199999999999985,5.3199999999999985,null,3.6000000000000014]
["2023-02-10",-1.6000000000000014,-1.6000000000000014,-1.6000000000000014,-1.6000000000000014,25.533333333333331,4.1079999999999997,4.1079999999999997,4.1079999999999997,4.1079999999999997,7.7466666666666679,7.7466666666666679,7.7466666666666679,7.7466666666666679,1.885751379422266,1.885751379422266,1.885751379422266,1.885751379422266,1.885751379422266,1.885751379422266,1.885751379422266,1.885751379422266,0,0,0,0,1.885751379422266,0,43320.405784362818,43419.413396819567,6976.425028486974,6976.425028486974,null,null,null,null,0.54999999999999971,1,1,0.6285837931407553,0.6285837931407553,0.6285837931407553,0.6285837931407553,0.55501560852716669,0.55501560852716669,0.55726752552522718,null,null,7.7466666666666679,7.7466666666666679,7.7466666666666679,7.7466666666666679,null,-1.6000000000000014]
["2023-02-14",3.3000000000000007,3.3000000000000007,3.3000000000000007,3.3000000000000007,23.9,4.6959999999999997,4.6959999999999997,4.6959999999999997,4.6959999999999997,5.4599999999999991,5.4599999999999991,5.4599999999999991,5.4599999999999991,1.1626916524701874,1.1626916524701874,1.1626916524701874,1.1626916524701874,1.1626916524701874,1.1626916524701874,1.1626916524701874,1.1626916524701874,0,0,0,0,1.1626916524701874,0,43420.566850635136,43519.574463091885,6976.425028486974,6976.425028486974,null,null,null,null,3.7857142857142851,1,1,0.3875638841567291,0.3875638841567291,0.3875638841567291,0.3875638841567291,0.37512591850288712,0.37512591850288712,0.41211791152523064,null,null,5.4599999999999991,5.4599999999999991,5.4599999999999991,5.4599999999999991,null,3.3000000000000007]
["2023-02-20",7.3999999999999986,7.3999999999999986,7.3999999999999986,7.3999999999999986,22.533333333333335,5.1879999999999997,5.1879999999999997,5.1879999999999997,5.1879999999999997,3.5466666666666673,3.5466666666666673,3.5466666666666673,3.5466666666666673,0.6836288871755335,0.6836288871755335,0.6836288871755335,0.6836288871755335,0.6836288871755335,0.6836288871755335,0.6836288871755335,0.6836288871755335,0,0,0,0,0.6836288871755335,0,43553.506507276164,43652.514119732914,6976.425028486974,6976.425028486974,null,null,null,null,5.1071428571428568,1,1,0.22787629572517784,0.22787629572517784,0.22787629572517784,0.22787629572517784,0.19524293431388903,0.19524293431388903,0.21637105354562949,null,null,3.5466666666666673,3.5466666666666673,3.5466666666666673,3.5466666666666673,null,7.3999999999999986]
["2023-02-27",-1.3999999999999986,-1.3999999999999986,-1.3999999999999986,-1.3999999999999986,{"$f":"F$8+(H$7-F$8)*(M$6-B2899)/30","v":25.466666666666669},{"$f":"IF((B2899+35-$F2899)*$H$5+$H$6>1,(B2899+35-$F2899)*$H$5+$H$6,1)","v":4.1319999999999997},{"$f":"IF((C2899+35-$F2899)*$H$5+$H$6>1,(C2899+35-$F2899)*$H$5+$H$6,1)","v":4.1319999999999997},{"$f":"IF((D2899+35-$F2899)*$H$5+$H$6>1,(D2899+35-$F2899)*$H$5+$H$6,1)","v":4.1319999999999997},{"$f":"IF((E2899+35-$F2899)*$H$5+$H$6>1,(E2899+35-$F2899)*$H$5+$H$6,1)","v":4.1319999999999997},{"$f":"$M$5*($M$6-B2899)/30-$O$5","v":7.6533333333333324},{"$f":"$M$5*($M$6-C2899)/30-$O$5","v":7.6533333333333324},{"$f":"$M$5*($M$6-D2899)/30-$O$5","v":7.6533333333333324},{"$f":"$M$5*($M$6-E2899)/30-$O$5","v":7.6533333333333324},{"$f":"IF(K2899/G2899>$M$7,$M$7+K2899-$M$7*G2899,K2899/G2899)","v":1.8522103904485316},{"$f":"IF(L2899/H2899>$M$7,$M$7+L2899-$M$7*H2899,L2899/H2899)","v":1.8522103904485316},{"$f":"IF(M2899/I2899>$M$7,$M$7+M2899-$M$7*I2899,M2899/I2899)","v":1.8522103904485316},{"$f":"IF(N2899/J2899>$M$7,$M$7+N2899-$M$7*J2899,N2899/J2899)","v":1.8522103904485316},{"$f":"IF(O2899>0,O2899,)","v":1.8522103904485316},{"$f":"IF(P2899>0,P2899,)","v":1.8522103904485316},{"$f":"IF(Q2899>0,Q2899,)","v":1.8522103904485316},{"$f":"IF(R2899>0,R2899,)","v":1.8522103904485316},{"$f":"IF(O2899<0,-O2899,0)","v":0},{"$f":"IF(P2899<0,-P2899,0)","v":0},{"$f":"IF(Q2899<0,-Q2899,0)","v":0},{"$f":"IF(R2899<0,-R2899,0)","v":0},{"$f":"IF(SUM(O2899:R2899)/4>0,SUM(O2899:R2899)/4,)","v":1.8522103904485316},{"$f":"IF(SUM(O2899:R2899)/4<0,-SUM(O2899:R2899)/4,)","v":0},{"$f":"6*SUM(S2899:V2899)+AC2898","v":43724.364373748205},{"$f":"AD2898+AA2899*24","v":43823.371986204955},{"$f":"6*SUM(W2899:Z2899)+AE2898","v":6976.425028486974},{"$f":"AF2898+AB2899*24","v":6976.425028486974},null,null,null,null,{"$f":"IF(SUM(B2893:B2906)/14<$C$7,SUM(B2893:B2906)/14,0)","v":2.8571428571428572},{"$f":"IF(SUM(B2893:B2906)/14<$C$7,1,0)","v":1},{"$f":"IF(SUM(AN2896:AQ2902)>0,1,0)","v":1},{"$f":"K2899/G2899/$M$7","v":0.61740346348284392},{"$f":"L2899/H2899/$M$7","v":0.61740346348284392},{"$f":"M2899/I2899/$M$7","v":0.61740346348284392},{"$f":"N2899/J2899/$M$7","v":0.61740346348284392},{"$f":"SUM(AO2896:AO2902)/7","v":0.47919270166323086},{"$f":"SUM(AQ2896:AQ2902)/7","v":0.47919270166323086},{"$f":"SUM(AN2898:AQ2900)/12","v":0.57791851340352696},null,null,{"$f":"IF(K2899>0,K2899,0)","v":7.6533333333333324},{"$f":"IF(L2899>0,L2899,0)","v":7.6533333333333324},{"$f":"IF(M2899>0,M2899,0)","v":7.6533333333333324},{"$f":"IF(N2899>0,N2899,0)","v":7.6533333333333324},null,-1.3999999999999986]
["2023-03-03",-0.30000000000000071,-0.30000000000000071,-0.30000000000000071,-0.30000000000000071,25.1,4.2640000000000002,4.2640000000000002,4.2640000000000002,4.2640000000000002,7.1400000000000006,7.1400000000000006,7.1400000000000006,7.1400000000000006,1.6744840525328331,1.6744840525328331,1.6744840525328331,1.6744840525328331,1.6744840525328331,1.6744840525328331,1.6744840525328331,1.6744840525328331,0,0,0,0,1.6744840525328331,0,43875.888214555198,43974.895827011947,6976.425028486974,6976.425028486974,null,null,null,null,2.3285714285714287,1,1,0.55816135084427765,0.55816135084427765,0.55816135084427765,0.55816135084427765,0.50383450431308252,0.50383450431308252,0.50697133455696364,null,null,7.1400000000000006,7.1400000000000006,7.1400000000000006,7.1400000000000006,null,-0.30000000000000071]
["2023-03-09",8.8000000000000007,8.8000000000000007,8.8000000000000007,8.8000000000000007,22.066666666666666,5.3559999999999999,5.3559999999999999,5.3559999999999999,5.3559999999999999,2.8933333333333326,2.8933333333333326,2.8933333333333326,2.8933333333333326,0.54020413243714205,0.54020413243714205,0.54020413243714205,0.54020413243714205,0.54020413243714205,0.54020413243714205,0.54020413243714205,0.54020413243714205,0,0,0,0,0.54020413243714205,0,44042.219409534075,44141.227021990824,6976.425028486974,6976.425028486974,null,null,null,null,4.05,1,1,0.18006804414571401,0.18006804414571401,0.18006804414571401,0.18006804414571401,0.3502588655413178,0.3502588655413178,0.23087659952465289,null,null,2.8933333333333326,2.8933333333333326,2.8933333333333326,2.8933333333333326,null,8.8000000000000007]
["2023-03-16",1.6000000000000014,1.6000000000000014,1.6000000000000014,1.6000000000000014,24.466666666666669,4.492,4.492,4.492,4.492,6.2533333333333321,6.2533333333333321,6.2533333333333321,6.2533333333333321,1.3921044820421486,1.3921044820421486,1.3921044820421486,1.3921044820421486,1.3921044820421486,1.3921044820421486,1.3921044820421486,1.3921044820421486,0,0,0,0,1.3921044820421486,0,44207.218923748391,44306.22653620514,6976.425028486974,6976.425028486974,null,null,null,null,7.2785714285714294,1,1,0.46403482734738288,0.46403482734738288,0.46403482734738288,0.46403482734738288,0.28528879768510479,0.28528879768510479,0.40070158532278927,null,null,6.2533333333333321,6.2533333333333321,6.2533333333333321,6.2533333333333321,null,1.6000000000000014]
["2023-03-21",10.399999999999999,10.399999999999999,10.399999999999999,10.399999999999999,21.533333333333335,5.548,5.548,5.548,5.548,2.1466666666666674,2.1466666666666674,2.1466666666666674,2.1466666666666674,0.38692621965873603,0.38692621965873603,0.38692621965873603,0.38692621965873603,0.38692621965873603,0.38692621965873603,0.38692621965873603,0.38692621965873603,0,0,0,0,0.38692621965873603,0,44284.784715825153,44383.792328281903,6976.425028486974,6976.425028486974,null,null,null,null,7.6928571428571422,1,1,0.12897540655291201,0.12897540655291201,0.12897540655291201,0.12897540655291201,0.12771023719989821,0.12771023719989821,0.10992710756624718,null,null,2.1466666666666674,2.1466666666666674,2.1466666666666674,2.1466666666666674,null,10.399999999999999]
["2023-03-26",9.1000000000000014,9.1000000000000014,9.1000000000000014,9.1000000000000014,21.966666666666665,5.3920000000000003,5.3920000000000003,5.3920000000000003,5.3920000000000003,2.7533333333333325,2.7533333333333325,2.7533333333333325,2.7533333333333325,0.51063303659742809,0.51063303659742809,0.51063303659742809,0.51063303659742809,0.51063303659742809,0.51063303659742809,0.51063303659742809,0.51063303659742809,0,0,0,0,0.51063303659742809,0,44316.663244907257,44415.670857364006,6976.425028486974,6976.425028486974,null,null,null,null,8.7857142857142865,1,1,0.1702110121991427,0.1702110121991427,0.1702110121991427,0.1702110121991427,0.22266988514138505,0.22266988514138505,0.24016558775212793,null,null,2.7533333333333325,2.7533333333333325,2.7533333333333325,2.7533333333333325,null,9.1000000000000014]
["2023-03-27",3.1000000000000014,3.1000000000000014,3.1000000000000014,3.1000000000000014,23.966666666666665,4.6720000000000006,4.6720000000000006,4.6720000000000006,4.6720000000000006,5.5533333333333319,5.5533333333333319,5.5533333333333319,5.5533333333333319,1.1886415525114151,1.1886415525114151,1.1886415525114151,1.1886415525114151,1.1886415525114151,1.1886415525114151,1.1886415525114151,1.1886415525114151,0,0,0,0,1.1886415525114151,0,44345.19064216753,44444.19825462428,6976.425028486974,6976.425028486974,null,null,null,null,8.2214285714285715,1,1,0.39621385083713839,0.39621385083713839,0.39621385083713839,0.39621385083713839,0.24150035607849793,0.24150035607849793,0.3312087526598706,null,null,5.5533333333333319,5.5533333333333319,5.5533333333333319,5.5533333333333319,null,3.1000000000000014]
["2023-04-02",5.1000000000000014,5.1000000000000014,5.1000000000000014,5.1000000000000014,23.3,4.9119999999999999,4.9119999999999999,4.9119999999999999,4.9119999999999999,4.6199999999999992,4.6199999999999992,4.6199999999999992,4.6199999999999992,0.94055374592833862,0.94055374592833862,0.94055374592833862,0.94055374592833862,0.94055374592833862,0.94055374592833862,0.94055374592833862,0.94055374592833862,0,0,0,0,0.94055374592833862,0,44456.930169031701,44555.93778148845,6976.425028486974,6976.425028486974,null,null,null,null,4.8071428571428569,1,1,0.31351791530944623,0.31351791530944623,0.31351791530944623,0.31351791530944623,0.31020128646470768,0.31020128646470768,0.30165710620010183,null,null,4.6199999999999992,4.6199999999999992,4.6199999999999992,4.6199999999999992,null,5.1000000000000014]
["2023-04-07",4.3999999999999986,4.3999999999999986,4.3999999999999986,4.3999999999999986,23.533333333333335,4.8279999999999994,4.8279999999999994,4.8279999999999994,4.8279999999999994,4.9466666666666681,4.9466666666666681,4.9466666666666681,4.9466666666666681,1.0245788456227565,1.0245788456227565,1.0245788456227565,1.0245788456227565,1.0245788456227565,1.0245788456227565,1.0245788456227565,1.0245788456227565,0,0,0,0,1.0245788456227565,0,44609.668803866123,44708.676416322873,6976.425028486974,6976.425028486974,null,null,null,null,5.7071428571428573,1,1,0.34152628187425216,0.34152628187425216,0.34152628187425216,0.34152628187425216,0.34621747345920567,0.34621747345920567,0.34622829826570517,null,null,4.9466666666666681,4.9466666666666681,4.9466666666666681,4.9466666666666681,null,4.3999999999999986]
["2023-04-13",9.5,9.5,9.5,9.5,21.833333333333332,5.4399999999999995,5.4399999999999995,5.4399999999999995,5.4399999999999995,2.5666666666666669,2.5666666666666669,2.5666666666666669,2.5666666666666669,0.47181372549019618,0.47181372549019618,0.47181372549019618,0.47181372549019618,0.47181372549019618,0.47181372549019618,0.47181372549019618,0.47181372549019618,0,0,0,0,0.47181372549019618,0,44705.459547784856,44804.467160241606,6976.425028486974,6976.425028486974,null,null,null,null,7.4785714285714269,1,1,0.15727124183006538,0.15727124183006538,0.15727124183006538,0.15727124183006538,0.20254565989577106,0.20254565989577106,0.20704750226128601,null,null,2.5666666666666669,2.5666666666666669,2.5666666666666669,2.5666666666666669,null,9.5]
["2023-04-19",7.8999999999999986,7.8999999999999986,7.8999999999999986,7.8999999999999986,22.366666666666667,5.2479999999999993,5.2479999999999993,5.2479999999999993,5.2479999999999993,3.3133333333333339,3.3133333333333339,3.3133333333333339,3.3133333333333339,0.63135162601626038,0.63135162601626038,0.63135162601626038,0.63135162601626038,0.63135162601626038,0.63135162601626038,0.63135162601626038,0.63135162601626038,0,0,0,0,0.63135162601626038,0,44795.921710878632,44894.929323335382,6976.425028486974,6976.425028486974,null,null,null,null,9.25,1,1,0.21045054200542013,0.21045054200542013,0.21045054200542013,0.21045054200542013,0.15815972313748819,0.15815972313748819,0.21438683549711859,null,null,3.3133333333333339,3.3133333333333339,3.3133333333333339,3.3133333333333339,null,7.8999999999999986]
["2023-04-24",11.600000000000001,11.600000000000001,11.600000000000001,11.600000000000001,21.133333333333333,5.6920000000000002,5.6920000000000002,5.6920000000000002,5.6920000000000002,1.586666666666666,1.586666666666666,1.586666666666666,1.586666666666666,0.27875380651206361,0.27875380651206361,0.27875380651206361,0.27875380651206361,0.27875380651206361,0.27875380651206361,0.27875380651206361,0.27875380651206361,0,0,0,0,0.27875380651206361,0,44830.483732634289,44929.491345091039,6976.425028486974,6976.425028486974,null,null,null,null,10.114285714285714,1,1,9.2917935504021207E-2,9.2917935504021207E-2,9.2917935504021207E-2,9.2917935504021207E-2,0.13239232261353936,0.13239232261353936,0.11131742249449966,null,null,1.586666666666666,1.586666666666666,1.586666666666666,1.586666666666666,null,11.600000000000001]
["2023-04-28",9.3999999999999986,9.3999999999999986,9.3999999999999986,9.3999999999999986,21.866666666666667,5.427999999999999,5.427999999999999,5.427999999999999,5.427999999999999,2.6133333333333342,2.6133333333333342,2.6133333333333342,2.6133333333333342,0.48145418816015745,0.48145418816015745,0.48145418816015745,0.48145418816015745,0.48145418816015745,0.48145418816015745,0.48145418816015745,0.48145418816015745,0,0,0,0,0.48145418816015745,0,44892.153866620327,44991.161479077076,6976.425028486974,6976.425028486974,null,null,null,null,11.107142857142858,1,1,0.16048472938671915,0.16048472938671915,0.16048472938671915,0.16048472938671915,0.15927991245686288,0.15927991245686288,0.15093843336197965,null,null,2.6133333333333342,2.6133333333333342,2.6133333333333342,2.6133333333333342,null,9.3999999999999986]
["2023-05-06",14.9,14.9,14.9,14.9,20.033333333333331,6.0879999999999992,6.0879999999999992,6.0879999999999992,6.0879999999999992,4.6666666666666502E-2,4.6666666666666502E-2,4.6666666666666502E-2,4.6666666666666502E-2,7.6653526062198602E-3,7.6653526062198602E-3,7.6653526062198602E-3,7.6653526062198602E-3,7.6653526062198602E-3,7.6653526062198602E-3,7.6653526062198602E-3,7.6653526062198602E-3,0,0,0,0,7.6653526062198602E-3,0,44931.115122843818,45030.122735300567,6976.425028486974,6976.425028486974,null,null,null,null,12.557142857142855,1,1,2.5551175354066201E-3,2.5551175354066201E-3,2.5551175354066201E-3,2.5551175354066201E-3,8.8782487432160287E-2,8.8782487432160287E-2,4.8135879871480262E-2,null,null,4.6666666666666502E-2,4.6666666666666502E-2,4.6666666666666502E-2,4.6666666666666502E-2,null,14.9]
["2023-05-11",15,15,15,15,20,6.1,6.1,6.1,6.1,0,0,0,0,0,0,0,0,0,0,0,0,0,0,0,0,0,0,44960.214815969026,45059.222428425775,6976.425028486974,6976.425028486974,null,null,null,null,12.457142857142857,1,1,0,0,0,0,5.7937533345302765E-2,5.7937533345302765E-2,1.2984232963802361E-2,null,null,0,0,0,0,null,15]
["2023-05-15",12.5,12.5,12.5,12.5,20.833333333333332,5.8,5.8,5.8,5.8,1.1666666666666667,1.1666666666666667,1.1666666666666667,1.1666666666666667,0.20114942528735635,0.20114942528735635,0.20114942528735635,0.20114942528735635,0.20114942528735635,0.20114942528735635,0.20114942528735635,0.20114942528735635,0,0,0,0,0.20114942528735635,0,44974.429455128557,45073.437067585306,6976.425028486974,6976.425028486974,null,null,null,null,13.714285714285714,1,1,6.7049808429118785E-2,6.7049808429118785E-2,6.7049808429118785E-2,6.7049808429118785E-2,8.0518207869384989E-2,8.0518207869384989E-2,7.2920752233787869E-2,null,null,1.1666666666666667,1.1666666666666667,1.1666666666666667,1.1666666666666667,null,12.5]
["2023-05-23",16.100000000000001,16.100000000000001,16.100000000000001,16.100000000000001,19.633333333333333,6.2319999999999993,6.2319999999999993,6.2319999999999993,6.2319999999999993,-0.51333333333333397,-0.51333333333333397,-0.51333333333333397,-0.51333333333333397,-8.2370560547710858E-2,-8.2370560547710858E-2,-8.2370560547710858E-2,-8.2370560547710858E-2,0,0,0,0,8.2370560547710858E-2,8.2370560547710858E-2,8.2370560547710858E-2,8.2370560547710858E-2,0,8.2370560547710858E-2,45005.219069658277,45104.226682115026,6994.5820141435834,6994.5820141435834,null,null,null,null,14.921428571428573,1,0,-2.7456853515903618E-2,-2.7456853515903618E-2,-2.7456853515903618E-2,-2.7456853515903618E-2,-2.3152217654771073E-2,-2.3152217654771073E-2,-1.6230566597044953E-2,null,null,0,0,0,0,null,16.100000000000001]
["2023-05-28",15.6,15.6,15.6,15.6,19.8,6.1719999999999997,6.1719999999999997,6.1719999999999997,6.1719999999999997,-0.27999999999999986,-0.27999999999999986,-0.27999999999999986,-0.27999999999999986,-4.5366169799092658E-2,-4.5366169799092658E-2,-4.5366169799092658E-2,-4.5366169799092658E-2,0,0,0,0,4.5366169799092658E-2,4.5366169799092658E-2,4.5366169799092658E-2,4.5366169799092658E-2,0,4.5366169799092658E-2,45014.26822948239,45113.275841939139,6997.1168964731187,6997.1168964731187,null,null,null,null,0,0,0,-1.5122056599697552E-2,-1.5122056599697552E-2,-1.5122056599697552E-2,-1.5122056599697552E-2,-1.8097023345405982E-2,-1.8097023345405982E-2,-1.5448251492765399E-2,null,null,0,0,0,0,null,15.6]
["2023-06-01",18,18,18,18,19,6.46,6.46,6.46,6.46,-1.4,-1.4,-1.4,-1.4,-0.21671826625386995,-0.21671826625386995,-0.21671826625386995,-0.21671826625386995,0,0,0,0,0.21671826625386995,0.21671826625386995,0.21671826625386995,0.21671826625386995,0,0.21671826625386995,45014.26822948239,45113.275841939139,7011.8918596099047,7011.8918596099047,null,null,null,null,0,0,0,-7.223942208462332E-2,-7.223942208462332E-2,-7.223942208462332E-2,-7.223942208462332E-2,-2.9895229936530997E-2,-2.9895229936530997E-2,-4.4689158905917507E-2,null,null,0,0,0,0,null,18]
["2023-06-09",18.3,18.3,18.3,18.3,18.899999999999999,6.4959999999999996,6.4959999999999996,6.4959999999999996,6.4959999999999996,-1.5400000000000003,-1.5400000000000003,-1.5400000000000003,-1.5400000000000003,-0.23706896551724144,-0.23706896551724144,-0.23706896551724144,-0.23706896551724144,0,0,0,0,0.23706896551724144,0.23706896551724144,0.23706896551724144,0.23706896551724144,0,0.23706896551724144,45016.33257264593,45115.340185102679,7035.5130087048774,7035.5130087048774,null,null,null,null,0,0,0,-7.9022988505747141E-2,-7.9022988505747141E-2,-7.9022988505747141E-2,-7.9022988505747141E-2,-7.52214422767776E-2,-7.52214422767776E-2,-9.3002441002290756E-2,null,null,0,0,0,0,null,18.3]
["2023-06-10",19,19,19,19,18.666666666666668,6.5799999999999992,6.5799999999999992,6.5799999999999992,6.5799999999999992,-1.8666666666666667,-1.8666666666666667,-1.8666666666666667,-1.8666666666666667,-0.28368794326241137,-0.28368794326241137,-0.28368794326241137,-0.28368794326241137,0,0,0,0,0.28368794326241137,0.28368794326241137,0.28368794326241137,0.28368794326241137,0,0.28368794326241137,45016.33257264593,45115.340185102679,7042.3215193431752,7042.3215193431752,null,null,null,null,0,0,0,-9.4562647754137127E-2,-9.4562647754137127E-2,-9.4562647754137127E-2,-9.4562647754137127E-2,-7.2715791123882295E-2,-7.2715791123882295E-2,-8.7179093278333231E-2,null,null,0,0,0,0,null,19]
["2023-06-18",18.8,18.8,18.8,18.8,18.733333333333334,6.5559999999999992,6.5559999999999992,6.5559999999999992,6.5559999999999992,-1.7733333333333337,-1.7733333333333337,-1.7733333333333337,-1.7733333333333337,-0.2704901362619484,-0.2704901362619484,-0.2704901362619484,-0.2704901362619484,0,0,0,0,0.2704901362619484,0.2704901362619484,0.2704901362619484,0.2704901362619484,0,0.2704901362619484,45016.516541108482,45115.524153565231,7064.0712744610473,7064.0712744610473,null,null,null,null,0,0,0,-9.0163378753982795E-2,-9.0163378753982795E-2,-9.0163378753982795E-2,-9.0163378753982795E-2,-9.7966214100878898E-2,-9.7966214100878898E-2,-8.1957332016639114E-2,null,null,0,0,0,0,null,18.8]
["2023-06-21",24.5,24.5,24.5,24.5,16.833333333333332,7.24,7.24,7.24,7.24,-4.4333333333333336,-4.4333333333333336,-4.4333333333333336,-4.4333333333333336,-0.61233885819521183,-0.61233885819521183,-0.61233885819521183,-0.61233885819521183,0,0,0,0,0.61233885819521183,0.61233885819521183,0.61233885819521183,0.61233885819521183,0,0.61233885819521183,45016.516541108482,45115.524153565231,7102.0840344162225,7102.0840344162225,null,null,null,null,0,0,0,-0.20411295273173727,-0.20411295273173727,-0.20411295273173727,-0.20411295273173727,-0.14579656563065654,-0.14579656563065654,-0.19863679400495052,null,null,0,0,0,0,null,24.5]
["2023-06-27",17.5,17.5,17.5,17.5,19.166666666666668,6.3999999999999995,6.3999999999999995,6.3999999999999995,6.3999999999999995,-1.1666666666666667,-1.1666666666666667,-1.1666666666666667,-1.1666666666666667,-0.18229166666666669,-0.18229166666666669,-0.18229166666666669,-0.18229166666666669,0,0,0,0,0.18229166666666669,0.18229166666666669,0.18229166666666669,0.18229166666666669,0,0.18229166666666669,45016.516541108482,45115.524153565231,7156.469776194047,7156.469776194047,null,null,null,null,0,0,0,-6.0763888888888895E-2,-6.0763888888888895E-2,-6.0763888888888895E-2,-6.0763888888888895E-2,-9.9810634001011492E-2,-9.9810634001011492E-2,-9.6786227219902585E-2,null,null,0,0,0,0,null,17.5]
["2023-07-05",20.3,20.3,20.3,20.3,{"$f":"F$8+(H$7-F$8)*(M$6-B3027)/30","v":18.233333333333334},{"$f":"IF((B3027+35-$F3027)*$H$5+$H$6>1,(B3027+35-$F3027)*$H$5+$H$6,1)","v":6.7359999999999989},{"$f":"IF((C3027+35-$F3027)*$H$5+$H$6>1,(C3027+35-$F3027)*$H$5+$H$6,1)","v":6.7359999999999989},{"$f":"IF((D3027+35-$F3027)*$H$5+$H$6>1,(D3027+35-$F3027)*$H$5+$H$6,1)","v":6.7359999999999989},{"$f":"IF((E3027+35-$F3027)*$H$5+$H$6>1,(E3027+35-$F3027)*$H$5+$H$6,1)","v":6.7359999999999989},{"$f":"$M$5*($M$6-B3027)/30-$O$5","v":-2.473333333333334},{"$f":"$M$5*($M$6-C3027)/30-$O$5","v":-2.473333333333334},{"$f":"$M$5*($M$6-D3027)/30-$O$5","v":-2.473333333333334},{"$f":"$M$5*($M$6-E3027)/30-$O$5","v":-2.473333333333334},{"$f":"IF(K3027/G3027>$M$7,$M$7+K3027-$M$7*G3027,K3027/G3027)","v":-0.36718131433095819},{"$f":"IF(L3027/H3027>$M$7,$M$7+L3027-$M$7*H3027,L3027/H3027)","v":-0.36718131433095819},{"$f":"IF(M3027/I3027>$M$7,$M$7+M3027-$M$7*I3027,M3027/I3027)","v":-0.36718131433095819},{"$f":"IF(N3027/J3027>$M$7,$M$7+N3027-$M$7*J3027,N3027/J3027)","v":-0.36718131433095819},{"$f":"IF(O3027>0,O3027,)","v":0},{"$f":"IF(P3027>0,P3027,)","v":0},{"$f":"IF(Q3027>0,Q3027,)","v":0},{"$f":"IF(R3027>0,R3027,)","v":0},{"$f":"IF(O3027<0,-O3027,0)","v":0.36718131433095819},{"$f":"IF(P3027<0,-P3027,0)","v":0.36718131433095819},{"$f":"IF(Q3027<0,-Q3027,0)","v":0.36718131433095819},{"$f":"IF(R3027<0,-R3027,0)","v":0.36718131433095819},{"$f":"IF(SUM(O3027:R3027)/4>0,SUM(O3027:R3027)/4,)","v":0},{"$f":"IF(SUM(O3027:R3027)/4<0,-SUM(O3027:R3027)/4,)","v":0.36718131433095819},{"$f":"6*SUM(S3027:V3027)+AC3026","v":45016.516541108482},{"$f":"AD3026+AA3027*24","v":45115.524153565231},{"$f":"6*SUM(W3027:Z3027)+AE3026","v":7219.7043345598577},{"$f":"AF3026+AB3027*24","v":7219.7043345598577},null,null,null,null,{"$f":"IF(SUM(B3021:B3034)/14<$C$7,SUM(B3021:B3034)/14,0)","v":0},{"$f":"IF(SUM(B3021:B3034)/14<$C$7,1,0)","v":0},{"$f":"IF(SUM(AN3024:AQ3030)>0,1,0)","v":0},{"$f":"K3027/G3027/$M$7","v":-0.12239377144365272},{"$f":"L3027/H3027/$M$7","v":-0.12239377144365272},{"$f":"M3027/I3027/$M$7","v":-0.12239377144365272},{"$f":"N3027/J3027/$M$7","v":-0.12239377144365272},{"$f":"SUM(AO3024:AO3030)/7","v":-0.13228292615704981},{"$f":"SUM(AQ3024:AQ3030)/7","v":-0.13228292615704981},{"$f":"SUM(AN3026:AQ3028)/12","v":-0.11953266811181984},null,null,{"$f":"IF(K3027>0,K3027,0)","v":0},{"$f":"IF(L3027>0,L3027,0)","v":0},{"$f":"IF(M3027>0,M3027,0)","v":0},{"$f":"IF(N3027>0,N3027,0)","v":0},null,20.3]
["2023-07-09",24.7,24.7,24.7,24.7,16.766666666666666,7.2640000000000002,7.2640000000000002,7.2640000000000002,7.2640000000000002,-4.5266666666666664,-4.5266666666666664,-4.5266666666666664,-4.5266666666666664,-0.62316446402349479,-0.62316446402349479,-0.62316446402349479,-0.62316446402349479,0,0,0,0,0.62316446402349479,0.62316446402349479,0.62316446402349479,0.62316446402349479,0,0.62316446402349479,45016.516541108482,45115.524153565231,7265.9424673878466,7265.9424673878466,null,null,null,null,0,0,0,-0.20772148800783161,-0.20772148800783161,-0.20772148800783161,-0.20772148800783161,-0.17712179296428232,-0.17712179296428232,-0.19303566226133215,null,null,0,0,0,0,null,24.7]
["2023-07-14",21.9,21.9,21.9,21.9,17.7,6.9279999999999999,6.9279999999999999,6.9279999999999999,6.9279999999999999,-3.2199999999999993,-3.2199999999999993,-3.2199999999999993,-3.2199999999999993,-0.46478060046189368,-0.46478060046189368,-0.46478060046189368,-0.46478060046189368,0,0,0,0,0.46478060046189368,0.46478060046189368,0.46478060046189368,0.46478060046189368,0,0.46478060046189368,45016.516541108482,45115.524153565231,7331.7080046065621,7331.7080046065621,null,null,null,null,0,0,0,-0.15492686682063123,-0.15492686682063123,-0.15492686682063123,-0.15492686682063123,-0.1897857211298071,-0.1897857211298071,-0.17863990227474205,null,null,0,0,0,0,null,21.9]
["2023-07-22",18.399999999999999,18.399999999999999,18.399999999999999,18.399999999999999,18.866666666666667,6.5079999999999991,6.5079999999999991,6.5079999999999991,6.5079999999999991,-1.586666666666666,-1.586666666666666,-1.586666666666666,-1.586666666666666,-0.2438024994878098,-0.2438024994878098,-0.2438024994878098,-0.2438024994878098,0,0,0,0,0.2438024994878098,0.2438024994878098,0.2438024994878098,0.2438024994878098,0,0.2438024994878098,45016.516541108482,45115.524153565231,7417.2809492964043,7417.2809492964043,null,null,null,null,0,0,0,-8.1267499829269937E-2,-8.1267499829269937E-2,-8.1267499829269937E-2,-8.1267499829269937E-2,-0.12220241702421918,-0.12220241702421918,-0.11367938915124702,null,null,0,0,0,0,null,18.399999999999999]
["2023-07-26",15.5,15.5,15.5,15.5,19.833333333333332,6.16,6.16,6.16,6.16,-0.23333333333333334,-0.23333333333333334,-0.23333333333333334,-0.23333333333333334,-3.787878787878788E-2,-3.787878787878788E-2,-3.787878787878788E-2,-3.787878787878788E-2,0,0,0,0,3.787878787878788E-2,3.787878787878788E-2,3.787878787878788E-2,3.787878787878788E-2,0,3.787878787878788E-2,45016.516541108482,45115.524153565231,7449.1714326024749,7449.1714326024749,null,null,null,null,0,0,0,-1.2626262626262626E-2,-1.2626262626262626E-2,-1.2626262626262626E-2,-1.2626262626262626E-2,-0.10275903461664877,-0.10275903461664877,-4.1195621763362396E-2,null,null,0,0,0,0,null,15.5]
["2023-07-31",18.399999999999999,18.399999999999999,18.399999999999999,18.399999999999999,18.866666666666667,6.5079999999999991,6.5079999999999991,6.5079999999999991,6.5079999999999991,-1.586666666666666,-1.586666666666666,-1.586666666666666,-1.586666666666666,-0.2438024994878098,-0.2438024994878098,-0.2438024994878098,-0.2438024994878098,0,0,0,0,0.2438024994878098,0.2438024994878098,0.2438024994878098,0.2438024994878098,0,0.2438024994878098,45016.516541108482,45115.524153565231,7480.4502149209084,7480.4502149209084,null,null,null,null,0,0,0,-8.1267499829269937E-2,-8.1267499829269937E-2,-8.1267499829269937E-2,-8.1267499829269937E-2,-0.10007480717950853,-0.10007480717950853,-8.4200105629682762E-2,null,null,0,0,0,0,null,18.399999999999999]
["2023-08-02",18.100000000000001,18.100000000000001,18.100000000000001,18.100000000000001,18.966666666666665,6.4720000000000004,6.4720000000000004,6.4720000000000004,6.4720000000000004,-1.4466666666666674,-1.4466666666666674,-1.4466666666666674,-1.4466666666666674,-0.22352698805109197,-0.22352698805109197,-0.22352698805109197,-0.22352698805109197,0,0,0,0,0.22352698805109197,0.22352698805109197,0.22352698805109197,0.22352698805109197,0,0.22352698805109197,45016.516541108482,45115.524153565231,7492.6233732724322,7492.6233732724322,null,null,null,null,0,0,0,-7.4508996017030663E-2,-7.4508996017030663E-2,-7.4508996017030663E-2,-7.4508996017030663E-2,-8.682370221783195E-2,-8.682370221783195E-2,-9.7850990523999218E-2,null,null,0,0,0,0,null,18.100000000000001]
["2023-08-12",22.9,22.9,22.9,22.9,17.366666666666667,7.048,7.048,7.048,7.048,-3.6866666666666661,-3.6866666666666661,-3.6866666666666661,-3.6866666666666661,-0.52307983352251219,-0.52307983352251219,-0.52307983352251219,-0.52307983352251219,0,0,0,0,0.52307983352251219,0.52307983352251219,0.52307983352251219,0.52307983352251219,0,0.52307983352251219,45016.88520470295,45115.8928171597,7540.7338846133671,7540.7338846133671,null,null,null,null,0,0,0,-0.17435994450750406,-0.17435994450750406,-0.17435994450750406,-0.17435994450750406,-0.13191157232015577,-0.13191157232015577,-0.15690787690576521,null,null,0,0,0,0,null,22.9]
["2023-08-17",22.1,22.1,22.1,22.1,17.633333333333333,6.952,6.952,6.952,6.952,-3.3133333333333339,-3.3133333333333339,-3.3133333333333339,-3.3133333333333339,-0.47660145761411593,-0.47660145761411593,-0.47660145761411593,-0.47660145761411593,0,0,0,0,0.47660145761411593,0.47660145761411593,0.47660145761411593,0.47660145761411593,0,0.47660145761411593,45016.88520470295,45115.8928171597,7607.4863262153676,7607.4863262153676,null,null,null,null,0,0,0,-0.15886715253803865,-0.15886715253803865,-0.15886715253803865,-0.15886715253803865,-0.18960669614074796,-0.18960669614074796,-0.16788515674962731,null,null,0,0,0,0,null,22.1]
["2023-08-23",23.5,23.5,23.5,23.5,17.166666666666668,7.1199999999999992,7.1199999999999992,7.1199999999999992,7.1199999999999992,-3.9666666666666668,-3.9666666666666668,-3.9666666666666668,-3.9666666666666668,-0.55711610486891394,-0.55711610486891394,-0.55711610486891394,-0.55711610486891394,0,0,0,0,0.55711610486891394,0.55711610486891394,0.55711610486891394,0.55711610486891394,0,0.55711610486891394,45016.88520470295,45115.8928171597,7693.3065846390391,7693.3065846390391,null,null,null,null,0,0,0,-0.18570536828963799,-0.18570536828963799,-0.18570536828963799,-0.18570536828963799,-0.19464141199570409,-0.19464141199570409,-0.19109284787559364,null,null,0,0,0,0,null,23.5]
["2023-08-24",23,23,23,23,17.333333333333332,7.0600000000000005,7.0600000000000005,7.0600000000000005,7.0600000000000005,-3.7333333333333334,-3.7333333333333334,-3.7333333333333334,-3.7333333333333334,-0.52880075542965055,-0.52880075542965055,-0.52880075542965055,-0.52880075542965055,0,0,0,0,0.52880075542965055,0.52880075542965055,0.52880075542965055,0.52880075542965055,0,0.52880075542965055,45016.88520470295,45115.8928171597,7705.9978027693505,7705.9978027693505,null,null,null,null,0,0,0,-0.17626691847655018,-0.17626691847655018,-0.17626691847655018,-0.17626691847655018,-0.17386785231003188,-0.17386785231003188,-0.18687578497939714,null,null,0,0,0,0,null,23]
["2023-08-29",12.899999999999999,12.899999999999999,12.899999999999999,12.899999999999999,20.7,5.8479999999999999,5.8479999999999999,5.8479999999999999,5.8479999999999999,0.98000000000000065,0.98000000000000065,0.98000000000000065,0.98000000000000065,0.16757865937072514,0.16757865937072514,0.16757865937072514,0.16757865937072514,0.16757865937072514,0.16757865937072514,0.16757865937072514,0.16757865937072514,0,0,0,0,0.16757865937072514,0,45022.210284017208,45121.217896473958,7736.7531113312007,7736.7531113312007,null,null,null,null,0,0,0,5.5859553123575045E-2,5.5859553123575045E-2,5.5859553123575045E-2,5.5859553123575045E-2,-2.5318702743475304E-2,-2.5318702743475304E-2,2.4653144973421776E-2,null,null,0.98000000000000065,0.98000000000000065,0.98000000000000065,0.98000000000000065,null,12.899999999999999]
["2023-09-03",18,18,18,18,19,6.46,6.46,6.46,6.46,-1.4,-1.4,-1.4,-1.4,-0.21671826625386995,-0.21671826625386995,-0.21671826625386995,-0.21671826625386995,0,0,0,0,0.21671826625386995,0.21671826625386995,0.21671826625386995,0.21671826625386995,0,0.21671826625386995,45022.210284017208,45121.217896473958,7749.4391715525062,7749.4391715525062,null,null,null,null,0,0,0,-7.223942208462332E-2,-7.223942208462332E-2,-7.223942208462332E-2,-7.223942208462332E-2,-5.6428119839323318E-2,-5.6428119839323318E-2,-7.1423603600927366E-2,null,null,0,0,0,0,null,18]
["2023-09-10",20.6,20.6,20.6,20.6,18.133333333333333,6.7720000000000002,6.7720000000000002,6.7720000000000002,6.7720000000000002,-2.6133333333333342,-2.6133333333333342,-2.6133333333333342,-2.6133333333333342,-0.38590273675920467,-0.38590273675920467,-0.38590273675920467,-0.38590273675920467,0,0,0,0,0.38590273675920467,0.38590273675920467,0.38590273675920467,0.38590273675920467,0,0.38590273675920467,45022.210284017208,45121.217896473958,7801.0365688847478,7801.0365688847478,null,null,null,null,0,0,0,-0.12863424558640155,-0.12863424558640155,-0.12863424558640155,-0.12863424558640155,-0.13802319787030512,-0.13802319787030512,-0.13742679995231175,null,null,0,0,0,0,null,20.6]
["2023-09-16",18.399999999999999,18.399999999999999,18.399999999999999,18.399999999999999,18.866666666666667,6.5079999999999991,6.5079999999999991,6.5079999999999991,6.5079999999999991,-1.586666666666666,-1.586666666666666,-1.586666666666666,-1.586666666666666,-0.2438024994878098,-0.2438024994878098,-0.2438024994878098,-0.2438024994878098,0,0,0,0,0.2438024994878098,0.2438024994878098,0.2438024994878098,0.2438024994878098,0,0.2438024994878098,45022.210284017208,45121.217896473958,7847.1353018122736,7847.1353018122736,null,null,null,null,0,0,0,-8.1267499829269937E-2,-8.1267499829269937E-2,-8.1267499829269937E-2,-8.1267499829269937E-2,-8.9368639132416106E-2,-8.9368639132416106E-2,-7.291095111763711E-2,null,null,0,0,0,0,null,18.399999999999999]
["2023-09-20",18.600000000000001,18.600000000000001,18.600000000000001,18.600000000000001,18.8,6.532,6.532,6.532,6.532,-1.6800000000000006,-1.6800000000000006,-1.6800000000000006,-1.6800000000000006,-0.25719534598897742,-0.25719534598897742,-0.25719534598897742,-0.25719534598897742,0,0,0,0,0.25719534598897742,0.25719534598897742,0.25719534598897742,0.25719534598897742,0,0.25719534598897742,45022.210284017208,45121.217896473958,7875.6793425974456,7875.6793425974456,null,null,null,null,0,0,0,-8.5731781996325807E-2,-8.5731781996325807E-2,-8.5731781996325807E-2,-8.5731781996325807E-2,-6.4284762959697025E-2,-6.4284762959697025E-2,-7.6734059539972782E-2,null,null,0,0,0,0,null,18.600000000000001]
["2023-09-27",19.100000000000001,19.100000000000001,19.100000000000001,19.100000000000001,18.633333333333333,6.5920000000000005,6.5920000000000005,6.5920000000000005,6.5920000000000005,-1.913333333333334,-1.913333333333334,-1.913333333333334,-1.913333333333334,-0.29025080906148876,-0.29025080906148876,-0.29025080906148876,-0.29025080906148876,0,0,0,0,0.29025080906148876,0.29025080906148876,0.29025080906148876,0.29025080906148876,0,0.29025080906148876,45033.170794404657,45132.178406861407,7893.3253706981795,7893.3253706981795,null,null,null,null,0,0,0,-9.6750269687162924E-2,-9.6750269687162924E-2,-9.6750269687162924E-2,-9.6750269687162924E-2,-3.1478019906894604E-2,-3.1478019906894604E-2,-7.2759349154980224E-2,null,null,0,0,0,0,null,19.100000000000001]
["2023-10-03",18.600000000000001,18.600000000000001,18.600000000000001,18.600000000000001,18.8,6.532,6.532,6.532,6.532,-1.6800000000000006,-1.6800000000000006,-1.6800000000000006,-1.6800000000000006,-0.25719534598897742,-0.25719534598897742,-0.25719534598897742,-0.25719534598897742,0,0,0,0,0.25719534598897742,0.25719534598897742,0.25719534598897742,0.25719534598897742,0,0.25719534598897742,45034.097946722541,45133.10555917929,7917.0744277843805,7917.0744277843805,null,null,null,null,0,0,0,-8.5731781996325807E-2,-8.5731781996325807E-2,-8.5731781996325807E-2,-8.5731781996325807E-2,-1.694796603676179E-5,-1.694796603676179E-5,-3.7365196262895611E-2,null,null,0,0,0,0,null,18.600000000000001]
["2023-10-07",15.9,15.9,15.9,15.9,19.7,6.2080000000000002,6.2080000000000002,6.2080000000000002,6.2080000000000002,-0.42000000000000015,-0.42000000000000015,-0.42000000000000015,-0.42000000000000015,-6.7654639175257755E-2,-6.7654639175257755E-2,-6.7654639175257755E-2,-6.7654639175257755E-2,0,0,0,0,6.7654639175257755E-2,6.7654639175257755E-2,6.7654639175257755E-2,6.7654639175257755E-2,0,6.7654639175257755E-2,45046.203791378575,45145.211403835325,7918.6981391245863,7918.6981391245863,null,null,null,null,0,0,1,-2.2551546391752584E-2,-2.2551546391752584E-2,-2.2551546391752584E-2,-2.2551546391752584E-2,3.6734989626720248E-2,3.6734989626720248E-2,3.4394793101142192E-2,null,null,0,0,0,0,null,15.9]
["2023-10-14",15.8,15.8,15.8,15.8,19.733333333333334,6.1959999999999997,6.1959999999999997,6.1959999999999997,6.1959999999999997,-0.37333333333333368,-0.37333333333333368,-0.37333333333333368,-0.37333333333333368,-6.0253927264902148E-2,-6.0253927264902148E-2,-6.0253927264902148E-2,-6.0253927264902148E-2,0,0,0,0,6.0253927264902148E-2,6.0253927264902148E-2,6.0253927264902148E-2,6.0253927264902148E-2,0,6.0253927264902148E-2,45055.859804174826,45154.867416631576,7937.1436166478115,7937.1436166478115,null,null,null,null,12.099999999999998,1,1,-2.008464242163405E-2,-2.008464242163405E-2,-2.008464242163405E-2,-2.008464242163405E-2,8.4100116271756509E-2,8.4100116271756509E-2,3.5220318165344357E-2,null,null,0,0,0,0,null,15.8]
["2023-10-20",12,12,12,12,21,5.74,5.74,5.74,5.74,1.4,1.4,1.4,1.4,0.24390243902439021,0.24390243902439021,0.24390243902439021,0.24390243902439021,0.24390243902439021,0.24390243902439021,0.24390243902439021,0.24390243902439021,0,0,0,0,0.24390243902439021,0,45158.553444568657,45257.561057025407,7937.1436166478115,7937.1436166478115,null,null,null,null,10.278571428571428,1,1,8.1300813008130066E-2,8.1300813008130066E-2,8.1300813008130066E-2,8.1300813008130066E-2,0.15256106652127369,0.15256106652127369,9.8184424484719798E-2,null,null,1.4,1.4,1.4,1.4,null,12]
["2023-10-24",10.899999999999999,10.899999999999999,10.899999999999999,10.899999999999999,21.366666666666667,5.6079999999999997,5.6079999999999997,5.6079999999999997,5.6079999999999997,1.913333333333334,1.913333333333334,1.913333333333334,1.913333333333334,0.34117926771279139,0.34117926771279139,0.34117926771279139,0.34117926771279139,0.34117926771279139,0.34117926771279139,0.34117926771279139,0.34117926771279139,0,0,0,0,0.34117926771279139,0,45178.121407013583,45277.129019470332,7937.6912046530269,7937.6912046530269,null,null,null,null,11.12142857142857,1,1,0.11372642257093046,0.11372642257093046,0.11372642257093046,0.11372642257093046,8.0219010342091862E-2,8.0219010342091862E-2,0.10284307040555331,null,null,1.913333333333334,1.913333333333334,1.913333333333334,1.913333333333334,null,10.899999999999999]
["2023-10-27",10.399999999999999,10.399999999999999,10.399999999999999,10.399999999999999,21.533333333333335,5.548,5.548,5.548,5.548,2.1466666666666674,2.1466666666666674,2.1466666666666674,2.1466666666666674,0.38692621965873603,0.38692621965873603,0.38692621965873603,0.38692621965873603,0.38692621965873603,0.38692621965873603,0.38692621965873603,0.38692621965873603,0,0,0,0,0.38692621965873603,0,45199.531413786295,45298.539026243045,7937.6912046530269,7937.6912046530269,null,null,null,null,11.407142857142857,1,1,0.12897540655291201,0.12897540655291201,0.12897540655291201,0.12897540655291201,9.9875472865506673E-2,9.9875472865506673E-2,0.10699730582178403,null,null,2.1466666666666674,2.1466666666666674,2.1466666666666674,2.1466666666666674,null,10.399999999999999]
["2023-11-01",11.5,11.5,11.5,11.5,21.166666666666668,5.68,5.68,5.68,5.68,1.6333333333333333,1.6333333333333333,1.6333333333333333,1.6333333333333333,0.28755868544600938,0.28755868544600938,0.28755868544600938,0.28755868544600938,0.28755868544600938,0.28755868544600938,0.28755868544600938,0.28755868544600938,0,0,0,0,0.28755868544600938,0,45233.8618427197,45332.869455176449,7937.6912046530269,7937.6912046530269,null,null,null,null,10.228571428571428,1,1,9.5852895148669792E-2,9.5852895148669792E-2,9.5852895148669792E-2,9.5852895148669792E-2,0.13239822046104316,0.13239822046104316,0.11749442919015514,null,null,1.6333333333333333,1.6333333333333333,1.6333333333333333,1.6333333333333333,null,11.5]
["2023-11-10",6.8000000000000007,6.8000000000000007,6.8000000000000007,6.8000000000000007,{"$f":"F$8+(H$7-F$8)*(M$6-B3155)/30","v":22.733333333333334},{"$f":"IF((B3155+35-$F3155)*$H$5+$H$6>1,(B3155+35-$F3155)*$H$5+$H$6,1)","v":5.1159999999999997},{"$f":"IF((C3155+35-$F3155)*$H$5+$H$6>1,(C3155+35-$F3155)*$H$5+$H$6,1)","v":5.1159999999999997},{"$f":"IF((D3155+35-$F3155)*$H$5+$H$6>1,(D3155+35-$F3155)*$H$5+$H$6,1)","v":5.1159999999999997},{"$f":"IF((E3155+35-$F3155)*$H$5+$H$6>1,(E3155+35-$F3155)*$H$5+$H$6,1)","v":5.1159999999999997},{"$f":"$M$5*($M$6-B3155)/30-$O$5","v":3.8266666666666662},{"$f":"$M$5*($M$6-C3155)/30-$O$5","v":3.8266666666666662},{"$f":"$M$5*($M$6-D3155)/30-$O$5","v":3.8266666666666662},{"$f":"$M$5*($M$6-E3155)/30-$O$5","v":3.8266666666666662},{"$f":"IF(K3155/G3155>$M$7,$M$7+K3155-$M$7*G3155,K3155/G3155)","v":0.74798019285900441},{"$f":"IF(L3155/H3155>$M$7,$M$7+L3155-$M$7*H3155,L3155/H3155)","v":0.74798019285900441},{"$f":"IF(M3155/I3155>$M$7,$M$7+M3155-$M$7*I3155,M3155/I3155)","v":0.74798019285900441},{"$f":"IF(N3155/J3155>$M$7,$M$7+N3155-$M$7*J3155,N3155/J3155)","v":0.74798019285900441},{"$f":"IF(O3155>0,O3155,)","v":0.74798019285900441},{"$f":"IF(P3155>0,P3155,)","v":0.74798019285900441},{"$f":"IF(Q3155>0,Q3155,)","v":0.74798019285900441},{"$f":"IF(R3155>0,R3155,)","v":0.74798019285900441},{"$f":"IF(O3155<0,-O3155,0)","v":0},{"$f":"IF(P3155<0,-P3155,0)","v":0},{"$f":"IF(Q3155<0,-Q3155,0)","v":0},{"$f":"IF(R3155<0,-R3155,0)","v":0},{"$f":"IF(SUM(O3155:R3155)/4>0,SUM(O3155:R3155)/4,)","v":0.74798019285900441},{"$f":"IF(SUM(O3155:R3155)/4<0,-SUM(O3155:R3155)/4,)","v":0},{"$f":"6*SUM(S3155:V3155)+AC3154","v":45356.776709581231},{"$f":"AD3154+AA3155*24","v":45455.78432203798},{"$f":"6*SUM(W3155:Z3155)+AE3154","v":7937.6912046530269},{"$f":"AF3154+AB3155*24","v":7937.6912046530269},null,null,null,null,{"$f":"IF(SUM(B3149:B3162)/14<$C$7,SUM(B3149:B3162)/14,0)","v":7.4571428571428564},{"$f":"IF(SUM(B3149:B3162)/14<$C$7,1,0)","v":1},{"$f":"IF(SUM(AN3152:AQ3158)>0,1,0)","v":1},{"$f":"K3155/G3155/$M$7","v":0.24932673095300148},{"$f":"L3155/H3155/$M$7","v":0.24932673095300148},{"$f":"M3155/I3155/$M$7","v":0.24932673095300148},{"$f":"N3155/J3155/$M$7","v":0.24932673095300148},{"$f":"SUM(AO3152:AO3158)/7","v":0.26701877941137353},{"$f":"SUM(AQ3152:AQ3158)/7","v":0.26701877941137353},{"$f":"SUM(AN3154:AQ3156)/12","v":0.28038170707792093},null,null,{"$f":"IF(K3155>0,K3155,0)","v":3.8266666666666662},{"$f":"IF(L3155>0,L3155,0)","v":3.8266666666666662},{"$f":"IF(M3155>0,M3155,0)","v":3.8266666666666662},{"$f":"IF(N3155>0,N3155,0)","v":3.8266666666666662},null,6.8000000000000007]
["2023-11-13",5.6999999999999993,5.6999999999999993,5.6999999999999993,5.6999999999999993,23.1,4.984,4.984,4.984,4.984,4.3400000000000007,4.3400000000000007,4.3400000000000007,4.3400000000000007,0.87078651685393271,0.87078651685393271,0.87078651685393271,0.87078651685393271,0.87078651685393271,0.87078651685393271,0.87078651685393271,0.87078651685393271,0,0,0,0,0.87078651685393271,0,45426.283643668037,45525.291256124787,7937.6912046530269,7937.6912046530269,null,null,null,null,6.7642857142857151,1,1,0.29026217228464424,0.29026217228464424,0.29026217228464424,0.29026217228464424,0.25463289881600598,0.25463289881600598,0.25340777716057034,null,null,4.3400000000000007,4.3400000000000007,4.3400000000000007,4.3400000000000007,null,5.6999999999999993]
["2023-11-19",6.3000000000000007,6.3000000000000007,6.3000000000000007,6.3000000000000007,22.9,5.056,5.056,5.056,5.056,4.0599999999999996,4.0599999999999996,4.0599999999999996,4.0599999999999996,0.803006329113924,0.803006329113924,0.803006329113924,0.803006329113924,0.803006329113924,0.803006329113924,0.803006329113924,0.803006329113924,0,0,0,0,0.803006329113924,0,45536.803664019128,45635.811276475877,7937.6912046530269,7937.6912046530269,null,null,null,null,5.1428571428571432,1,1,0.26766877637130798,0.26766877637130798,0.26766877637130798,0.26766877637130798,0.3087995338700722,0.3087995338700722,0.2602306176836085,null,null,4.0599999999999996,4.0599999999999996,4.0599999999999996,4.0599999999999996,null,6.3000000000000007]
["2023-11-23",4,4,4,4,23.666666666666668,4.7799999999999994,4.7799999999999994,4.7799999999999994,4.7799999999999994,5.1333333333333337,5.1333333333333337,5.1333333333333337,5.1333333333333337,1.073919107391911,1.073919107391911,1.073919107391911,1.073919107391911,1.073919107391911,1.073919107391911,1.073919107391911,1.073919107391911,0,0,0,0,1.073919107391911,0,45630.356023459608,45729.363635916357,7937.6912046530269,7937.6912046530269,null,null,null,null,2.835714285714285,1,1,0.35797303579730366,0.35797303579730366,0.35797303579730366,0.35797303579730366,0.38240999790517316,0.38240999790517316,0.41233911839653103,null,null,5.1333333333333337,5.1333333333333337,5.1333333333333337,5.1333333333333337,null,4]
["2023-11-24",4.3999999999999986,4.3999999999999986,4.3999999999999986,4.3999999999999986,23.533333333333335,4.8279999999999994,4.8279999999999994,4.8279999999999994,4.8279999999999994,4.9466666666666681,4.9466666666666681,4.9466666666666681,4.9466666666666681,1.0245788456227565,1.0245788456227565,1.0245788456227565,1.0245788456227565,1.0245788456227565,1.0245788456227565,1.0245788456227565,1.0245788456227565,0,0,0,0,1.0245788456227565,0,45654.945915754557,45753.953528211307,7937.6912046530269,7937.6912046530269,null,null,null,null,2.3642857142857134,1,1,0.34152628187425216,0.34152628187425216,0.34152628187425216,0.34152628187425216,0.4244866815637609,0.4244866815637609,0.39418254083401294,null,null,4.9466666666666681,4.9466666666666681,4.9466666666666681,4.9466666666666681,null,4.3999999999999986]
["2023-11-25",1.1999999999999993,1.1999999999999993,1.1999999999999993,1.1999999999999993,24.6,4.444,4.444,4.444,4.444,6.44,6.44,6.44,6.44,1.4491449144914492,1.4491449144914492,1.4491449144914492,1.4491449144914492,1.4491449144914492,1.4491449144914492,1.4491449144914492,1.4491449144914492,0,0,0,0,1.4491449144914492,0,45689.725393702349,45788.733006159098,7937.6912046530269,7937.6912046530269,null,null,null,null,1.8642857142857141,1,1,0.48304830483048306,0.48304830483048306,0.48304830483048306,0.48304830483048306,0.47110297867079937,0.47110297867079937,0.45917721992468757,null,null,6.44,6.44,6.44,6.44,null,1.1999999999999993]
["2023-11-26",-0.19999999999999929,-0.19999999999999929,-0.19999999999999929,-0.19999999999999929,25.066666666666666,4.2759999999999998,4.2759999999999998,4.2759999999999998,4.2759999999999998,7.0933333333333328,7.0933333333333328,7.0933333333333328,7.0933333333333328,1.6588712192079824,1.6588712192079824,1.6588712192079824,1.6588712192079824,1.6588712192079824,1.6588712192079824,1.6588712192079824,1.6588712192079824,0,0,0,0,1.6588712192079824,0,45729.538302963338,45828.545915420087,7937.6912046530269,7937.6912046530269,null,null,null,null,1.1642857142857141,1,1,0.55295707306932751,0.55295707306932751,0.55295707306932751,0.55295707306932751,0.48491798620790511,0.48491798620790511,0.49380959162168597,null,null,7.0933333333333328,7.0933333333333328,7.0933333333333328,7.0933333333333328,null,-0.19999999999999929]
["2023-11-27",2,2,2,2,24.333333333333332,4.54,4.54,4.54,4.54,6.0666666666666664,6.0666666666666664,6.0666666666666664,6.0666666666666664,1.3362701908957415,1.3362701908957415,1.3362701908957415,1.3362701908957415,1.3362701908957415,1.3362701908957415,1.3362701908957415,1.3362701908957415,0,0,0,0,1.3362701908957415,0,45761.608787544836,45860.616400001585,7937.6912046530269,7937.6912046530269,null,null,null,null,4.2857142857142705E-2,1,1,0.44542339696524719,0.44542339696524719,0.44542339696524719,0.44542339696524719,0.51501587836863771,0.51501587836863771,0.5258850635585065,null,null,6.0666666666666664,6.0666666666666664,6.0666666666666664,6.0666666666666664,null,2]
["2023-11-28",-0.69999999999999929,-0.69999999999999929,-0.69999999999999929,-0.69999999999999929,25.233333333333334,4.2159999999999993,4.2159999999999993,4.2159999999999993,4.2159999999999993,7.3266666666666662,7.3266666666666662,7.3266666666666662,7.3266666666666662,1.7378241619228338,1.7378241619228338,1.7378241619228338,1.7378241619228338,1.7378241619228338,1.7378241619228338,1.7378241619228338,1.7378241619228338,0,0,0,0,1.7378241619228338,0,45803.316567430986,45902.324179887735,7937.6912046530269,7937.6912046530269,null,null,null,null,-0.59999999999999987,1,1,0.57927472064094465,0.57927472064094465,0.57927472064094465,0.57927472064094465,0.56009992731602021,0.56009992731602021,0.55297373596132315,null,null,7.3266666666666662,7.3266666666666662,7.3266666666666662,7.3266666666666662,null,-0.69999999999999929]
["2023-11-29",-1.6999999999999993,-1.6999999999999993,-1.6999999999999993,-1.6999999999999993,25.566666666666666,4.0960000000000001,4.0960000000000001,4.0960000000000001,4.0960000000000001,7.793333333333333,7.793333333333333,7.793333333333333,7.793333333333333,1.9026692708333333,1.9026692708333333,1.9026692708333333,1.9026692708333333,1.9026692708333333,1.9026692708333333,1.9026692708333333,1.9026692708333333,0,0,0,0,1.9026692708333333,0,45848.980629930986,45947.988242387735,7937.6912046530269,7937.6912046530269,null,null,null,null,-0.7142857142857143,1,1,0.63422309027777779,0.63422309027777779,0.63422309027777779,0.63422309027777779,0.59349175937091592,0.59349175937091592,0.59405203061371814,null,null,7.793333333333333,7.793333333333333,7.793333333333333,7.793333333333333,null,-1.6999999999999993]
["2023-11-30",-0.5,-0.5,-0.5,-0.5,25.166666666666668,4.24,4.24,4.24,4.24,7.2333333333333334,7.2333333333333334,7.2333333333333334,7.2333333333333334,1.7059748427672956,1.7059748427672956,1.7059748427672956,1.7059748427672956,1.7059748427672956,1.7059748427672956,1.7059748427672956,1.7059748427672956,0,0,0,0,1.7059748427672956,0,45889.924026157401,45988.931638614151,7937.6912046530269,7937.6912046530269,null,null,null,null,-0.93571428571428583,1,1,0.56865828092243187,0.56865828092243187,0.56865828092243187,0.56865828092243187,0.62045436372543683,0.62045436372543683,0.6199986652353795,null,null,7.2333333333333334,7.2333333333333334,7.2333333333333334,7.2333333333333334,null,-0.5]
["2023-12-01",-2.1000000000000014,-2.1000000000000014,-2.1000000000000014,-2.1000000000000014,25.7,4.048,4.048,4.048,4.048,7.9800000000000013,7.9800000000000013,7.9800000000000013,7.9800000000000013,1.9713438735177868,1.9713438735177868,1.9713438735177868,1.9713438735177868,1.9713438735177868,1.9713438735177868,1.9713438735177868,1.9713438735177868,0,0,0,0,1.9713438735177868,0,45937.236279121826,46036.243891578575,7937.6912046530269,7937.6912046530269,null,null,null,null,-1.3285714285714287,1,1,0.65711462450592895,0.65711462450592895,0.65711462450592895,0.65711462450592895,0.68717626737791437,0.68717626737791437,0.6475213448810383,null,null,7.9800000000000013,7.9800000000000013,7.9800000000000013,7.9800000000000013,null,-2.1000000000000014]
["2023-12-02",-3.1000000000000014,-3.1000000000000014,-3.1000000000000014,-3.1000000000000014,26.033333333333331,3.9279999999999999,3.9279999999999999,3.9279999999999999,3.9279999999999999,8.4466666666666672,8.4466666666666672,8.4466666666666672,8.4466666666666672,2.1503733876442634,2.1503733876442634,2.1503733876442634,2.1503733876442634,2.1503733876442634,2.1503733876442634,2.1503733876442634,2.1503733876442634,0,0,0,0,2.1503733876442634,0,45988.845240425289,46087.852852882039,7937.6912046530269,7937.6912046530269,null,null,null,null,-1.35,1,1,0.71679112921475452,0.71679112921475452,0.71679112921475452,0.71679112921475452,0.69996061966604095,0.69996061966604095,0.70520035242388568,null,null,8.4466666666666672,8.4466666666666672,8.4466666666666672,8.4466666666666672,null,-3.1000000000000014]
["2023-12-03",-3.5,-3.5,-3.5,-3.5,26.166666666666668,3.88,3.88,3.88,3.88,8.6333333333333329,8.6333333333333329,8.6333333333333329,8.6333333333333329,2.2250859106529211,2.2250859106529211,2.2250859106529211,2.2250859106529211,2.2250859106529211,2.2250859106529211,2.2250859106529211,2.2250859106529211,0,0,0,0,2.2250859106529211,0,46042.247302280957,46141.254914737707,7937.6912046530269,7937.6912046530269,null,null,null,null,-1.0785714285714287,1,1,0.74169530355097368,0.74169530355097368,0.74169530355097368,0.74169530355097368,0.6983540848089751,0.6983540848089751,0.79032105176610556,null,null,8.6333333333333329,8.6333333333333329,8.6333333333333329,8.6333333333333329,null,-3.5]
["2023-12-04",-6,-6,-6,-6,27,3.58,3.58,3.58,3.58,9.8000000000000007,9.8000000000000007,9.8000000000000007,9.8000000000000007,2.7374301675977657,2.7374301675977657,2.7374301675977657,2.7374301675977657,2.7374301675977657,2.7374301675977657,2.7374301675977657,2.7374301675977657,0,0,0,0,2.7374301675977657,0,46107.945626303306,46206.953238760056,7937.6912046530269,7937.6912046530269,null,null,null,null,-0.7071428571428573,1,1,0.9124767225325886,0.9124767225325886,0.9124767225325886,0.9124767225325886,0.68820006714716708,0.68820006714716708,0.77431240424713099,null,null,9.8000000000000007,9.8000000000000007,9.8000000000000007,9.8000000000000007,null,-6]
["2023-12-05",-2.2999999999999972,-2.2999999999999972,-2.2999999999999972,-2.2999999999999972,25.766666666666666,4.024,4.024,4.024,4.024,8.0733333333333324,8.0733333333333324,8.0733333333333324,8.0733333333333324,2.0062955599734922,2.0062955599734922,2.0062955599734922,2.0062955599734922,2.0062955599734922,2.0062955599734922,2.0062955599734922,2.0062955599734922,0,0,0,0,2.0062955599734922,0,46156.096719742673,46255.104332199422,7937.6912046530269,7937.6912046530269,null,null,null,null,-0.15000000000000011,1,1,0.66876518665783069,0.66876518665783069,0.66876518665783069,0.66876518665783069,0.68016574748387304,0.68016574748387304,0.73473975182291218,null,null,8.0733333333333324,8.0733333333333324,8.0733333333333324,8.0733333333333324,null,-2.2999999999999972]
["2023-12-06",-1.5,-1.5,-1.5,-1.5,25.5,4.12,4.12,4.12,4.12,7.7,7.7,7.7,7.7,1.8689320388349515,1.8689320388349515,1.8689320388349515,1.8689320388349515,1.8689320388349515,1.8689320388349515,1.8689320388349515,1.8689320388349515,0,0,0,0,1.8689320388349515,0,46200.951088674708,46299.958701131458,7937.6912046530269,7937.6912046530269,null,null,null,null,0.39999999999999986,1,1,0.62297734627831713,0.62297734627831713,0.62297734627831713,0.62297734627831713,0.64884989435173335,0.64884989435173335,0.59644089674197465,null,null,7.7,7.7,7.7,7.7,null,-1.5]
["2023-12-07",0.89999999999999858,0.89999999999999858,0.89999999999999858,0.89999999999999858,24.7,4.4079999999999995,4.4079999999999995,4.4079999999999995,4.4079999999999995,6.580000000000001,6.580000000000001,6.580000000000001,6.580000000000001,1.4927404718693289,1.4927404718693289,1.4927404718693289,1.4927404718693289,1.4927404718693289,1.4927404718693289,1.4927404718693289,1.4927404718693289,0,0,0,0,1.4927404718693289,0,46236.776859999569,46335.784472456318,7937.6912046530269,7937.6912046530269,null,null,null,null,0.7928571428571427,1,1,0.49758015728977628,0.49758015728977628,0.49758015728977628,0.49758015728977628,0.59642962979824132,0.59642962979824132,0.57381063014365474,null,null,6.580000000000001,6.580000000000001,6.580000000000001,6.580000000000001,null,0.89999999999999858]
["2023-12-08",-1.1000000000000014,-1.1000000000000014,-1.1000000000000014,-1.1000000000000014,25.366666666666667,4.1679999999999993,4.1679999999999993,4.1679999999999993,4.1679999999999993,7.5133333333333345,7.5133333333333345,7.5133333333333345,7.5133333333333345,1.8026231605886123,1.8026231605886123,1.8026231605886123,1.8026231605886123,1.8026231605886123,1.8026231605886123,1.8026231605886123,1.8026231605886123,0,0,0,0,1.8026231605886123,0,46280.039815853699,46379.047428310449,7937.6912046530269,7937.6912046530269,null,null,null,null,1.1928571428571428,1,1,0.60087438686287076,0.60087438686287076,0.60087438686287076,0.60087438686287076,0.4996415236284682,0.4996415236284682,0.53201156714747433,null,null,7.5133333333333345,7.5133333333333345,7.5133333333333345,7.5133333333333345,null,-1.1000000000000014]
["2023-12-09",0.89999999999999858,0.89999999999999858,0.89999999999999858,0.89999999999999858,24.7,4.4079999999999995,4.4079999999999995,4.4079999999999995,4.4079999999999995,6.580000000000001,6.580000000000001,6.580000000000001,6.580000000000001,1.4927404718693289,1.4927404718693289,1.4927404718693289,1.4927404718693289,1.4927404718693289,1.4927404718693289,1.4927404718693289,1.4927404718693289,0,0,0,0,1.4927404718693289,0,46315.86558717856,46414.873199635309,7937.6912046530269,7937.6912046530269,null,null,null,null,1.7714285714285716,1,1,0.49758015728977628,0.49758015728977628,0.49758015728977628,0.49758015728977628,0.43817886411282225,0.43817886411282225,0.49106933194305852,null,null,6.580000000000001,6.580000000000001,6.580000000000001,6.580000000000001,null,0.89999999999999858]
["2023-12-10",3.6000000000000014,3.6000000000000014,3.6000000000000014,3.6000000000000014,23.8,4.7320000000000002,4.7320000000000002,4.7320000000000002,4.7320000000000002,5.3199999999999985,5.3199999999999985,5.3199999999999985,5.3199999999999985,1.1242603550295855,1.1242603550295855,1.1242603550295855,1.1242603550295855,1.1242603550295855,1.1242603550295855,1.1242603550295855,1.1242603550295855,0,0,0,0,1.1242603550295855,0,46342.847835699271,46441.85544815602,7937.6912046530269,7937.6912046530269,null,null,null,null,2.3785714285714286,1,1,0.37475345167652852,0.37475345167652852,0.37475345167652852,0.37475345167652852,0.38902273780897617,0.38902273780897617,0.36909786277016082,null,null,5.3199999999999985,5.3199999999999985,5.3199999999999985,5.3199999999999985,null,3.6000000000000014]
["2023-12-11",7.1999999999999993,7.1999999999999993,7.1999999999999993,7.1999999999999993,22.6,5.1639999999999997,5.1639999999999997,5.1639999999999997,5.1639999999999997,3.6400000000000006,3.6400000000000006,3.6400000000000006,3.6400000000000006,0.70487993803253302,0.70487993803253302,0.70487993803253302,0.70487993803253302,0.70487993803253302,0.70487993803253302,0.70487993803253302,0.70487993803253302,0,0,0,0,0.70487993803253302,0,46359.764954212049,46458.772566668798,7937.6912046530269,7937.6912046530269,null,null,null,null,3.2214285714285711,1,1,0.23495997934417767,0.23495997934417767,0.23495997934417767,0.23495997934417767,0.36329133211905351,0.36329133211905351,0.28274666702300516,null,null,3.6400000000000006,3.6400000000000006,3.6400000000000006,3.6400000000000006,null,7.1999999999999993]
["2023-12-12",7.1000000000000014,7.1000000000000014,7.1000000000000014,7.1000000000000014,22.633333333333333,5.1520000000000001,5.1520000000000001,5.1520000000000001,5.1520000000000001,3.6866666666666661,3.6866666666666661,3.6866666666666661,3.6866666666666661,0.71557971014492738,0.71557971014492738,0.71557971014492738,0.71557971014492738,0.71557971014492738,0.71557971014492738,0.71557971014492738,0.71557971014492738,0,0,0,0,0.71557971014492738,0,46376.938867255529,46475.946479712278,7937.6912046530269,7937.6912046530269,null,null,null,null,3.9071428571428561,1,1,0.23852657004830913,0.23852657004830913,0.23852657004830913,0.23852657004830913,0.33159526017281066,0.33159526017281066,0.25079033718129384,null,null,3.6866666666666661,3.6866666666666661,3.6866666666666661,3.6866666666666661,null,7.1000000000000014]
["2023-12-13",6,6,6,6,23,5.0199999999999996,5.0199999999999996,5.0199999999999996,5.0199999999999996,4.2,4.2,4.2,4.2,0.83665338645418341,0.83665338645418341,0.83665338645418341,0.83665338645418341,0.83665338645418341,0.83665338645418341,0.83665338645418341,0.83665338645418341,0,0,0,0,0.83665338645418341,0,46397.018548530432,46496.026160987181,7937.6912046530269,7937.6912046530269,null,null,null,null,4.371428571428571,1,1,0.27888446215139445,0.27888446215139445,0.27888446215139445,0.27888446215139445,0.305863854482888,0.305863854482888,0.27829044988667362,null,null,4.2,4.2,4.2,4.2,null,6]
["2023-12-14",5,5,5,5,23.333333333333332,4.9000000000000004,4.9000000000000004,4.9000000000000004,4.9000000000000004,4.666666666666667,4.666666666666667,4.666666666666667,4.666666666666667,0.95238095238095233,0.95238095238095233,0.95238095238095233,0.95238095238095233,0.95238095238095233,0.95238095238095233,0.95238095238095233,0.95238095238095233,0,0,0,0,0.95238095238095233,0,46419.875691387577,46518.883303844326,7937.6912046530269,7937.6912046530269,null,null,null,null,4.7357142857142858,1,1,0.31746031746031744,0.31746031746031744,0.31746031746031744,0.31746031746031744,0.29767912102342925,0.29767912102342925,0.32511555428362771,null,null,4.666666666666667,4.666666666666667,4.666666666666667,4.666666666666667,null,5]
["2023-12-15",3.5,3.5,3.5,3.5,23.833333333333332,4.72,4.72,4.72,4.72,5.3666666666666663,5.3666666666666663,5.3666666666666663,5.3666666666666663,1.1370056497175141,1.1370056497175141,1.1370056497175141,1.1370056497175141,1.1370056497175141,1.1370056497175141,1.1370056497175141,1.1370056497175141,0,0,0,0,1.1370056497175141,0,46447.163826980795,46546.171439437545,7937.6912046530269,7937.6912046530269,null,null,null,null,5,1,1,0.37900188323917133,0.37900188323917133,0.37900188323917133,0.37900188323917133,0.30503503587838754,0.30503503587838754,0.3379741727199353,null,null,5.3666666666666663,5.3666666666666663,5.3666666666666663,5.3666666666666663,null,3.5]
["2023-12-16",5,5,5,5,23.333333333333332,4.9000000000000004,4.9000000000000004,4.9000000000000004,4.9000000000000004,4.666666666666667,4.666666666666667,4.666666666666667,4.666666666666667,0.95238095238095233,0.95238095238095233,0.95238095238095233,0.95238095238095233,0.95238095238095233,0.95238095238095233,0.95238095238095233,0.95238095238095233,0,0,0,0,0.95238095238095233,0,46470.02096983794,46569.02858229469,7937.6912046530269,7937.6912046530269,null,null,null,null,5.0428571428571427,1,1,0.31746031746031744,0.31746031746031744,0.31746031746031744,0.31746031746031744,0.30401837246504376,0.30401837246504376,0.3379741727199353,null,null,4.666666666666667,4.666666666666667,4.666666666666667,4.666666666666667,null,5]
["2023-12-17",5,5,5,5,23.333333333333332,4.9000000000000004,4.9000000000000004,4.9000000000000004,4.9000000000000004,4.666666666666667,4.666666666666667,4.666666666666667,4.666666666666667,0.95238095238095233,0.95238095238095233,0.95238095238095233,0.95238095238095233,0.95238095238095233,0.95238095238095233,0.95238095238095233,0.95238095238095233,0,0,0,0,0.95238095238095233,0,46492.878112695085,46591.885725151835,7937.6912046530269,7937.6912046530269,null,null,null,null,5.3714285714285719,1,1,0.31746031746031744,0.31746031746031744,0.31746031746031744,0.31746031746031744,0.30952920893774705,0.30952920893774705,0.30712400608317347,null,null,4.666666666666667,4.666666666666667,4.666666666666667,4.666666666666667,null,5]
["2023-12-18",5.8000000000000007,5.8000000000000007,5.8000000000000007,5.8000000000000007,23.066666666666666,4.9959999999999996,4.9959999999999996,4.9959999999999996,4.9959999999999996,4.293333333333333,4.293333333333333,4.293333333333333,4.293333333333333,0.85935414998665605,0.85935414998665605,0.85935414998665605,0.85935414998665605,0.85935414998665605,0.85935414998665605,0.85935414998665605,0.85935414998665605,0,0,0,0,0.85935414998665605,0,46513.502612294767,46612.510224751517,7937.6912046530269,7937.6912046530269,null,null,null,null,5.6071428571428568,1,1,0.28645138332888537,0.28645138332888537,0.28645138332888537,0.28645138332888537,0.30401837246504376,0.30401837246504376,0.27844054231470189,null,null,4.293333333333333,4.293333333333333,4.293333333333333,4.293333333333333,null,5.8000000000000007]
["2023-12-19",7.3000000000000007,7.3000000000000007,7.3000000000000007,7.3000000000000007,22.566666666666666,5.1760000000000002,5.1760000000000002,5.1760000000000002,5.1760000000000002,3.5933333333333328,3.5933333333333328,3.5933333333333328,3.5933333333333328,0.69422977846470879,0.69422977846470879,0.69422977846470879,0.69422977846470879,0.69422977846470879,0.69422977846470879,0.69422977846470879,0.69422977846470879,0,0,0,0,0.69422977846470879,0,46530.164126977921,46629.171739434671,7937.6912046530269,7937.6912046530269,null,null,null,null,5.757142857142858,1,1,0.23140992615490294,0.23140992615490294,0.23140992615490294,0.23140992615490294,0.30962276483866008,0.30962276483866008,0.27844054231470183,null,null,3.5933333333333328,3.5933333333333328,3.5933333333333328,3.5933333333333328,null,7.3000000000000007]
["2023-12-20",5,5,5,5,23.333333333333332,4.9000000000000004,4.9000000000000004,4.9000000000000004,4.9000000000000004,4.666666666666667,4.666666666666667,4.666666666666667,4.666666666666667,0.95238095238095233,0.95238095238095233,0.95238095238095233,0.95238095238095233,0.95238095238095233,0.95238095238095233,0.95238095238095233,0.95238095238095233,0,0,0,0,0.95238095238095233,0,46553.021269835066,46652.028882291816,7937.6912046530269,7937.6912046530269,null,null,null,null,5.6928571428571439,1,1,0.31746031746031744,0.31746031746031744,0.31746031746031744,0.31746031746031744,0.33123557663004333,0.33123557663004333,0.27591823525553832,null,null,4.666666666666667,4.666666666666667,4.666666666666667,4.666666666666667,null,5]
["2023-12-21",6,6,6,6,23,5.0199999999999996,5.0199999999999996,5.0199999999999996,5.0199999999999996,4.2,4.2,4.2,4.2,0.83665338645418341,0.83665338645418341,0.83665338645418341,0.83665338645418341,0.83665338645418341,0.83665338645418341,0.83665338645418341,0.83665338645418341,0,0,0,0,0.83665338645418341,0,46573.100951109969,46672.108563566719,7937.6912046530269,7937.6912046530269,null,null,null,null,5.8000000000000016,1,1,0.27888446215139445,0.27888446215139445,0.27888446215139445,0.27888446215139445,0.31448196627850933,0.31448196627850933,0.33819246982206591,null,null,4.2,4.2,4.2,4.2,null,6]
["2023-12-22",2.6000000000000014,2.6000000000000014,2.6000000000000014,2.6000000000000014,24.133333333333333,4.6120000000000001,4.6120000000000001,4.6120000000000001,4.6120000000000001,5.7866666666666653,5.7866666666666653,5.7866666666666653,5.7866666666666653,1.2546978895634573,1.2546978895634573,1.2546978895634573,1.2546978895634573,1.2546978895634573,1.2546978895634573,1.2546978895634573,1.2546978895634573,0,0,0,0,1.2546978895634573,0,46603.213700459492,46702.221312916241,7937.6912046530269,7937.6912046530269,null,null,null,null,6.2142857142857153,1,1,0.41823262985448578,0.41823262985448578,0.41823262985448578,0.41823262985448578,0.29154595159945995,0.29154595159945995,0.3886223640019601,null,null,5.7866666666666653,5.7866666666666653,5.7866666666666653,5.7866666666666653,null,2.6000000000000014]
["2023-12-23",1.5,1.5,1.5,1.5,24.5,4.4800000000000004,4.4800000000000004,4.4800000000000004,4.4800000000000004,6.3,6.3,6.3,6.3,1.4062499999999998,1.4062499999999998,1.4062499999999998,1.4062499999999998,1.4062499999999998,1.4062499999999998,1.4062499999999998,1.4062499999999998,0,0,0,0,1.4062499999999998,0,46636.963700459492,46735.971312916241,7937.6912046530269,7937.6912046530269,null,null,null,null,6.4071428571428584,1,1,0.46874999999999994,0.46874999999999994,0.46874999999999994,0.46874999999999994,0.28233803633249172,0.28233803633249172,0.36238922495135512,null,null,6.3,6.3,6.3,6.3,null,1.5]
["2023-12-24",8.1999999999999993,8.1999999999999993,8.1999999999999993,8.1999999999999993,22.266666666666666,5.2840000000000007,5.2840000000000007,5.2840000000000007,5.2840000000000007,3.1733333333333338,3.1733333333333338,3.1733333333333338,3.1733333333333338,0.60055513499873836,0.60055513499873836,0.60055513499873836,0.60055513499873836,0.60055513499873836,0.60055513499873836,0.60055513499873836,0.60055513499873836,0,0,0,0,0.60055513499873836,0,46651.377023699461,46750.38463615621,7937.6912046530269,7937.6912046530269,null,null,null,null,6.2428571428571447,1,1,0.20018504499957945,0.20018504499957945,0.20018504499957945,0.20018504499957945,0.28177483602522446,0.28177483602522446,0.26494477519170639,null,null,3.1733333333333338,3.1733333333333338,3.1733333333333338,3.1733333333333338,null,8.1999999999999993]
["2023-12-25",10.5,10.5,10.5,10.5,21.5,5.5600000000000005,5.5600000000000005,5.5600000000000005,5.5600000000000005,2.1,2.1,2.1,2.1,0.37769784172661869,0.37769784172661869,0.37769784172661869,0.37769784172661869,0.37769784172661869,0.37769784172661869,0.37769784172661869,0.37769784172661869,0,0,0,0,0.37769784172661869,0,46660.4417719009,46759.449384357649,7937.6912046530269,7937.6912046530269,null,null,null,null,6.2357142857142867,1,1,0.12589928057553956,0.12589928057553956,0.12589928057553956,0.12589928057553956,0.27911705071850729,0.27911705071850729,0.16434628162041484,null,null,2.1,2.1,2.1,2.1,null,10.5]
["2023-12-26",9.1999999999999993,9.1999999999999993,9.1999999999999993,9.1999999999999993,21.933333333333334,5.4039999999999999,5.4039999999999999,5.4039999999999999,5.4039999999999999,2.7066666666666674,2.7066666666666674,2.7066666666666674,2.7066666666666674,0.50086355785837666,0.50086355785837666,0.50086355785837666,0.50086355785837666,0.50086355785837666,0.50086355785837666,0.50086355785837666,0.50086355785837666,0,0,0,0,0.50086355785837666,0,46672.462497289504,46771.470109746253,7937.6912046530269,7937.6912046530269,null,null,null,null,6.0785714285714301,1,1,0.16695451928612556,0.16695451928612556,0.16695451928612556,0.16695451928612556,0.24275702601326279,0.24275702601326279,0.20212390505703712,null,null,2.7066666666666674,2.7066666666666674,2.7066666666666674,2.7066666666666674,null,9.1999999999999993]
["2023-12-27",5.1000000000000014,5.1000000000000014,5.1000000000000014,5.1000000000000014,23.3,4.9119999999999999,4.9119999999999999,4.9119999999999999,4.9119999999999999,4.6199999999999992,4.6199999999999992,4.6199999999999992,4.6199999999999992,0.94055374592833862,0.94055374592833862,0.94055374592833862,0.94055374592833862,0.94055374592833862,0.94055374592833862,0.94055374592833862,0.94055374592833862,0,0,0,0,0.94055374592833862,0,46695.03578719178,46794.04339964853,7937.6912046530269,7937.6912046530269,null,null,null,null,6.3714285714285728,1,1,0.31351791530944623,0.31351791530944623,0.31351791530944623,0.31351791530944623,0.20684599876418042,0.20684599876418042,0.24691746653331539,null,null,4.6199999999999992,4.6199999999999992,4.6199999999999992,4.6199999999999992,null,5.1000000000000014]
["2023-12-28",6.5,6.5,6.5,6.5,22.833333333333332,5.08,5.08,5.08,5.08,3.9666666666666668,3.9666666666666668,3.9666666666666668,3.9666666666666668,0.78083989501312334,0.78083989501312334,0.78083989501312334,0.78083989501312334,0.78083989501312334,0.78083989501312334,0.78083989501312334,0.78083989501312334,0,0,0,0,0.78083989501312334,0,46713.775944672096,46812.783557128845,7937.6912046530269,7937.6912046530269,null,null,null,null,6.4857142857142867,1,1,0.26027996500437445,0.26027996500437445,0.26027996500437445,0.26027996500437445,0.23736001523894806,0.23736001523894806,0.24583677907719839,null,null,3.9666666666666668,3.9666666666666668,3.9666666666666668,3.9666666666666668,null,6.5]
["2023-12-29",9.3000000000000007,9.3000000000000007,9.3000000000000007,9.3000000000000007,21.9,5.4160000000000004,5.4160000000000004,5.4160000000000004,5.4160000000000004,2.6599999999999993,2.6599999999999993,2.6599999999999993,2.6599999999999993,0.49113737075332331,0.49113737075332331,0.49113737075332331,0.49113737075332331,0.49113737075332331,0.49113737075332331,0.49113737075332331,0.49113737075332331,0,0,0,0,0.49113737075332331,0,46725.563241570177,46824.570854026926,7937.6912046530269,7937.6912046530269,null,null,null,null,6.5928571428571416,1,1,0.16371245691777445,0.16371245691777445,0.16371245691777445,0.16371245691777445,0.26084042834024868,0.26084042834024868,0.21378841039285737,null,null,2.6599999999999993,2.6599999999999993,2.6599999999999993,2.6599999999999993,null,9.3000000000000007]
["2023-12-30",7.6999999999999993,7.6999999999999993,7.6999999999999993,7.6999999999999993,22.433333333333334,5.2240000000000002,5.2240000000000002,5.2240000000000002,5.2240000000000002,3.4066666666666672,3.4066666666666672,3.4066666666666672,3.4066666666666672,0.65211842776927009,0.65211842776927009,0.65211842776927009,0.65211842776927009,0.65211842776927009,0.65211842776927009,0.65211842776927009,0.65211842776927009,0,0,0,0,0.65211842776927009,0,46741.214083836639,46840.221696293389,7937.6912046530269,7937.6912046530269,null,null,null,null,6.7142857142857135,1,1,0.21737280925642335,0.21737280925642335,0.21737280925642335,0.21737280925642335,0.28177805634358027,0.28177805634358027,0.26495614216571683,null,null,3.4066666666666672,3.4066666666666672,3.4066666666666672,3.4066666666666672,null,7.6999999999999993]
["2023-12-31",2.6999999999999993,2.6999999999999993,2.6999999999999993,2.6999999999999993,24.1,4.6239999999999997,4.6239999999999997,4.6239999999999997,4.6239999999999997,5.74,5.74,5.74,5.74,1.2413494809688583,1.2413494809688583,1.2413494809688583,1.2413494809688583,1.2413494809688583,1.2413494809688583,1.2413494809688583,1.2413494809688583,0,0,0,0,1.2413494809688583,0,46771.006471379893,46870.014083836642,7937.6912046530269,7937.6912046530269,null,null,null,null,5.9428571428571422,1,1,0.41378316032295276,0.41378316032295276,0.41378316032295276,0.41378316032295276,0.26130564161353687,0.26130564161353687,0.30713938062134011,null,null,5.74,5.74,5.74,5.74,null,2.6999999999999993]
["2024-01-01",5.6999999999999993,5.6999999999999993,5.6999999999999993,5.6999999999999993,23.1,4.984,4.984,4.984,4.984,4.3400000000000007,4.3400000000000007,4.3400000000000007,4.3400000000000007,0.87078651685393271,0.87078651685393271,0.87078651685393271,0.87078651685393271,0.87078651685393271,0.87078651685393271,0.87078651685393271,0.87078651685393271,0,0,0,0,0.87078651685393271,0,46791.905347784385,46890.912960241134,7937.6912046530269,7937.6912046530269,null,null,null,null,4.6999999999999984,1,1,0.29026217228464424,0.29026217228464424,0.29026217228464424,0.29026217228464424,0.25567391081396201,0.25567391081396201,0.33918774930568102,null,null,4.3400000000000007,4.3400000000000007,4.3400000000000007,4.3400000000000007,null,5.6999999999999993]
["2024-01-02",{"$f":"BB3208+A$7","v":5.1000000000000014},5.1000000000000014,5.1000000000000014,5.1000000000000014,23.3,4.9119999999999999,4.9119999999999999,4.9119999999999999,4.9119999999999999,4.6199999999999992,4.6199999999999992,4.6199999999999992,4.6199999999999992,0.94055374592833862,0.94055374592833862,0.94055374592833862,0.94055374592833862,0.94055374592833862,0.94055374592833862,0.94055374592833862,0.94055374592833862,0,0,0,0,0.94055374592833862,0,46814.478637686661,46913.486250143411,7937.6912046530269,7937.6912046530269,null,null,null,null,3.4071428571428579,1,1,0.31351791530944623,0.31351791530944623,0.31351791530944623,0.31351791530944623,0.2828336252787122,0.2828336252787122,0.25799703326441104,null,null,4.6199999999999992,4.6199999999999992,4.6199999999999992,4.6199999999999992,null,5.1000000000000014]
["2024-01-03",9.1000000000000014,9.1000000000000014,9.1000000000000014,9.1000000000000014,21.966666666666665,5.3920000000000003,5.3920000000000003,5.3920000000000003,5.3920000000000003,2.7533333333333325,2.7533333333333325,2.7533333333333325,2.7533333333333325,0.51063303659742809,0.51063303659742809,0.51063303659742809,0.51063303659742809,0.51063303659742809,0.51063303659742809,0.51063303659742809,0.51063303659742809,0,0,0,0,0.51063303659742809,0,46826.733830564997,46925.741443021747,7937.6912046530269,7937.6912046530269,null,null,null,null,2.5571428571428574,1,1,0.1702110121991427,0.1702110121991427,0.1702110121991427,0.1702110121991427,0.30776290785155808,0.30776290785155808,0.23486225897197976,null,null,2.7533333333333325,2.7533333333333325,2.7533333333333325,2.7533333333333325,null,9.1000000000000014]
["2024-01-04",7.6000000000000014,7.6000000000000014,7.6000000000000014,7.6000000000000014,22.466666666666665,5.2119999999999997,5.2119999999999997,5.2119999999999997,5.2119999999999997,3.4533333333333327,3.4533333333333327,3.4533333333333327,3.4533333333333327,0.66257354822205161,0.66257354822205161,0.66257354822205161,0.66257354822205161,0.66257354822205161,0.66257354822205161,0.66257354822205161,0.66257354822205161,0,0,0,0,0.66257354822205161,0,46842.635595722328,46941.643208179077,7937.6912046530269,7937.6912046530269,null,null,null,null,1.678571428571429,1,1,0.22085784940735054,0.22085784940735054,0.22085784940735054,0.22085784940735054,0.34672302156447687,0.34672302156447687,0.24829977325917299,null,null,3.4533333333333327,3.4533333333333327,3.4533333333333327,3.4533333333333327,null,7.6000000000000014]
["2024-01-05",4.1000000000000014,4.1000000000000014,4.1000000000000014,4.1000000000000014,23.633333333333333,4.7919999999999998,4.7919999999999998,4.7919999999999998,4.7919999999999998,5.0866666666666651,5.0866666666666651,5.0866666666666651,5.0866666666666651,1.0614913745130772,1.0614913745130772,1.0614913745130772,1.0614913745130772,1.0614913745130772,1.0614913745130772,1.0614913745130772,1.0614913745130772,0,0,0,0,1.0614913745130772,0,46868.11138871064,46967.11900116739,7937.6912046530269,7937.6912046530269,null,null,null,null,0.90714285714285781,1,1,0.35383045817102571,0.35383045817102571,0.35383045817102571,0.35383045817102571,0.44542596776651694,0.44542596776651694,0.32218869828157343,null,null,5.0866666666666651,5.0866666666666651,5.0866666666666651,5.0866666666666651,null,4.1000000000000014]
["2024-01-06",3.1999999999999993,3.1999999999999993,3.1999999999999993,3.1999999999999993,23.933333333333334,4.6840000000000002,4.6840000000000002,4.6840000000000002,4.6840000000000002,5.5066666666666668,5.5066666666666668,5.5066666666666668,5.5066666666666668,1.1756333617990322,1.1756333617990322,1.1756333617990322,1.1756333617990322,1.1756333617990322,1.1756333617990322,1.1756333617990322,1.1756333617990322,0,0,0,0,1.1756333617990322,0,46896.326589393815,46995.334201850565,7937.6912046530269,7937.6912046530269,null,null,null,null,0.33571428571428619,1,1,0.39187778726634409,0.39187778726634409,0.39187778726634409,0.39187778726634409,0.56496662704417111,0.56496662704417111,0.47740406725025158,null,null,5.5066666666666668,5.5066666666666668,5.5066666666666668,5.5066666666666668,null,3.1999999999999993]
["2024-01-07",-2.6000000000000014,-2.6000000000000014,-2.6000000000000014,-2.6000000000000014,25.866666666666667,3.9879999999999995,3.9879999999999995,3.9879999999999995,3.9879999999999995,8.2133333333333347,8.2133333333333347,8.2133333333333347,8.2133333333333347,2.0595118689401546,2.0595118689401546,2.0595118689401546,2.0595118689401546,2.0595118689401546,2.0595118689401546,2.0595118689401546,2.0595118689401546,0,0,0,0,2.0595118689401546,0,46945.754874248378,47044.762486705127,7937.6912046530269,7937.6912046530269,null,null,null,null,0.15714285714285786,1,1,0.6865039563133849,0.6865039563133849,0.6865039563133849,0.6865039563133849,0.67969911616215117,0.67969911616215117,0.68652151309288456,null,null,8.2133333333333347,8.2133333333333347,8.2133333333333347,8.2133333333333347,null,-2.6000000000000014]
["2024-01-08",-6.8999999999999986,-6.8999999999999986,-6.8999999999999986,-6.8999999999999986,27.3,3.472,3.472,3.472,3.472,10.219999999999999,10.219999999999999,10.219999999999999,10.219999999999999,2.943548387096774,2.943548387096774,2.943548387096774,2.943548387096774,2.943548387096774,2.943548387096774,2.943548387096774,2.943548387096774,0,0,0,0,2.943548387096774,0,47016.400035538703,47115.407647995453,7937.6912046530269,7937.6912046530269,null,null,null,null,-0.27142857142857074,1,1,0.98118279569892464,0.98118279569892464,0.98118279569892464,0.98118279569892464,0.77640055370343308,0.77640055370343308,0.93932976075511165,null,null,10.219999999999999,10.219999999999999,10.219999999999999,10.219999999999999,null,-6.8999999999999986]
["2024-01-09",-8.8999999999999986,-8.8999999999999986,-8.8999999999999986,-8.8999999999999986,27.966666666666669,3.2319999999999998,3.2319999999999998,3.2319999999999998,3.2319999999999998,11.153333333333332,11.153333333333332,11.153333333333332,11.153333333333332,4.4573333333333327,4.4573333333333327,4.4573333333333327,4.4573333333333327,4.4573333333333327,4.4573333333333327,4.4573333333333327,4.4573333333333327,0,0,0,0,4.4573333333333327,0,47123.376035538706,47222.383647995455,7937.6912046530269,7937.6912046530269,null,null,null,null,-0.67857142857142805,1,1,1.1503025302530252,1.1503025302530252,1.1503025302530252,1.1503025302530252,0.81485010914733191,0.81485010914733191,1.0349412539923175,null,null,11.153333333333332,11.153333333333332,11.153333333333332,11.153333333333332,null,-8.8999999999999986]
["2024-01-10",-6.7999999999999972,-6.7999999999999972,-6.7999999999999972,-6.7999999999999972,27.266666666666666,3.4840000000000004,3.4840000000000004,3.4840000000000004,3.4840000000000004,10.17333333333333,10.17333333333333,10.17333333333333,10.17333333333333,2.9200153080750084,2.9200153080750084,2.9200153080750084,2.9200153080750084,2.9200153080750084,2.9200153080750084,2.9200153080750084,2.9200153080750084,0,0,0,0,2.9200153080750084,0,47193.456402932505,47292.464015389254,7937.6912046530269,7937.6912046530269,null,null,null,null,-1.5642857142857136,1,1,0.97333843602500281,0.97333843602500281,0.97333843602500281,0.97333843602500281,0.83860490394417941,0.83860490394417941,1.0071362928247847,null,null,10.17333333333333,10.17333333333333,10.17333333333333,10.17333333333333,null,-6.7999999999999972]
["2024-01-11",-5.7999999999999972,-5.7999999999999972,-5.7999999999999972,-5.7999999999999972,26.933333333333334,3.6040000000000001,3.6040000000000001,3.6040000000000001,3.6040000000000001,9.7066666666666652,9.7066666666666652,9.7066666666666652,9.7066666666666652,2.6933037365889749,2.6933037365889749,2.6933037365889749,2.6933037365889749,2.6933037365889749,2.6933037365889749,2.6933037365889749,2.6933037365889749,0,0,0,0,2.6933037365889749,0,47258.095692610637,47357.103305067387,7937.6912046530269,7937.6912046530269,null,null,null,null,-2.1857142857142855,1,1,0.89776791219632501,0.89776791219632501,0.89776791219632501,0.89776791219632501,0.81659417033519144,0.81659417033519144,0.83136123149988139,null,null,9.7066666666666652,9.7066666666666652,9.7066666666666652,9.7066666666666652,null,-5.7999999999999972]
["2024-01-12",-1.5,-1.5,-1.5,-1.5,25.5,4.12,4.12,4.12,4.12,7.7,7.7,7.7,7.7,1.8689320388349515,1.8689320388349515,1.8689320388349515,1.8689320388349515,1.8689320388349515,1.8689320388349515,1.8689320388349515,1.8689320388349515,0,0,0,0,1.8689320388349515,0,47302.950061542673,47401.957673999423,7937.6912046530269,7937.6912046530269,null,null,null,null,-2.7071428571428569,1,1,0.62297734627831713,0.62297734627831713,0.62297734627831713,0.62297734627831713,0.75616253535595612,0.75616253535595612,0.69296886977297312,null,null,7.7,7.7,7.7,7.7,null,-1.5]
["2024-01-13",-0.30000000000000071,-0.30000000000000071,-0.30000000000000071,-0.30000000000000071,{"$f":"F$8+(H$7-F$8)*(M$6-B3219)/30","v":25.1},{"$f":"IF((B3219+35-$F3219)*$H$5+$H$6>1,(B3219+35-$F3219)*$H$5+$H$6,1)","v":4.2640000000000002},{"$f":"IF((C3219+35-$F3219)*$H$5+$H$6>1,(C3219+35-$F3219)*$H$5+$H$6,1)","v":4.2640000000000002},{"$f":"IF((D3219+35-$F3219)*$H$5+$H$6>1,(D3219+35-$F3219)*$H$5+$H$6,1)","v":4.2640000000000002},{"$f":"IF((E3219+35-$F3219)*$H$5+$H$6>1,(E3219+35-$F3219)*$H$5+$H$6,1)","v":4.2640000000000002},{"$f":"$M$5*($M$6-B3219)/30-$O$5","v":7.1400000000000006},{"$f":"$M$5*($M$6-C3219)/30-$O$5","v":7.1400000000000006},{"$f":"$M$5*($M$6-D3219)/30-$O$5","v":7.1400000000000006},{"$f":"$M$5*($M$6-E3219)/30-$O$5","v":7.1400000000000006},{"$f":"IF(K3219/G3219>$M$7,$M$7+K3219-$M$7*G3219,K3219/G3219)","v":1.6744840525328331},{"$f":"IF(L3219/H3219>$M$7,$M$7+L3219-$M$7*H3219,L3219/H3219)","v":1.6744840525328331},{"$f":"IF(M3219/I3219>$M$7,$M$7+M3219-$M$7*I3219,M3219/I3219)","v":1.6744840525328331},{"$f":"IF(N3219/J3219>$M$7,$M$7+N3219-$M$7*J3219,N3219/J3219)","v":1.6744840525328331},{"$f":"IF(O3219>0,O3219,)","v":1.6744840525328331},{"$f":"IF(P3219>0,P3219,)","v":1.6744840525328331},{"$f":"IF(Q3219>0,Q3219,)","v":1.6744840525328331},{"$f":"IF(R3219>0,R3219,)","v":1.6744840525328331},{"$f":"IF(O3219<0,-O3219,0)","v":0},{"$f":"IF(P3219<0,-P3219,0)","v":0},{"$f":"IF(Q3219<0,-Q3219,0)","v":0},{"$f":"IF(R3219<0,-R3219,0)","v":0},{"$f":"IF(SUM(O3219:R3219)/4>0,SUM(O3219:R3219)/4,)","v":1.6744840525328331},{"$f":"IF(SUM(O3219:R3219)/4<0,-SUM(O3219:R3219)/4,)","v":0},{"$f":"6*SUM(S3219:V3219)+AC3218","v":47343.137678803461},{"$f":"AD3218+AA3219*24","v":47442.145291260211},{"$f":"6*SUM(W3219:Z3219)+AE3218","v":7937.6912046530269},{"$f":"AF3218+AB3219*24","v":7937.6912046530269},null,null,null,null,{"$f":"IF(SUM(B3213:B3226)/14<$C$7,SUM(B3213:B3226)/14,0)","v":-3.157142857142857},{"$f":"IF(SUM(B3213:B3226)/14<$C$7,1,0)","v":1},{"$f":"IF(SUM(AN3216:AQ3222)>0,1,0)","v":1},{"$f":"K3219/G3219/$M$7","v":0.55816135084427765},{"$f":"L3219/H3219/$M$7","v":0.55816135084427765},{"$f":"M3219/I3219/$M$7","v":0.55816135084427765},{"$f":"N3219/J3219/$M$7","v":0.55816135084427765},{"$f":"SUM(AO3216:AO3222)/7","v":0.6738266645881793},{"$f":"SUM(AQ3216:AQ3222)/7","v":0.6738266645881793},{"$f":"SUM(AN3218:AQ3220)/12","v":0.57118917272435421},null,null,{"$f":"IF(K3219>0,K3219,0)","v":7.1400000000000006},{"$f":"IF(L3219>0,L3219,0)","v":7.1400000000000006},{"$f":"IF(M3219>0,M3219,0)","v":7.1400000000000006},{"$f":"IF(N3219>0,N3219,0)","v":7.1400000000000006},null,-0.30000000000000071]
["2024-01-14",0.19999999999999929,0.19999999999999929,0.19999999999999929,0.19999999999999929,24.933333333333334,4.3239999999999998,4.3239999999999998,4.3239999999999998,4.3239999999999998,6.9066666666666672,6.9066666666666672,6.9066666666666672,6.9066666666666672,1.5972864631514032,1.5972864631514032,1.5972864631514032,1.5972864631514032,1.5972864631514032,1.5972864631514032,1.5972864631514032,1.5972864631514032,0,0,0,0,1.5972864631514032,0,47381.472553919099,47480.480166375848,7937.6912046530269,7937.6912046530269,null,null,null,null,-3.3,1,1,0.53242882105046774,0.53242882105046774,0.53242882105046774,0.53242882105046774,0.63894498325127425,0.63894498325127425,0.5495838409130076,null,null,6.9066666666666672,6.9066666666666672,6.9066666666666672,6.9066666666666672,null,0.19999999999999929]
["2024-01-15",-0.30000000000000071,-0.30000000000000071,-0.30000000000000071,-0.30000000000000071,25.1,4.2640000000000002,4.2640000000000002,4.2640000000000002,4.2640000000000002,7.1400000000000006,7.1400000000000006,7.1400000000000006,7.1400000000000006,1.6744840525328331,1.6744840525328331,1.6744840525328331,1.6744840525328331,1.6744840525328331,1.6744840525328331,1.6744840525328331,1.6744840525328331,0,0,0,0,1.6744840525328331,0,47421.660171179887,47520.667783636636,7937.6912046530269,7937.6912046530269,null,null,null,null,-2.6500000000000008,1,1,0.55816135084427765,0.55816135084427765,0.55816135084427765,0.55816135084427765,0.5965316224893521,0.5965316224893521,0.55484720225777762,null,null,7.1400000000000006,7.1400000000000006,7.1400000000000006,7.1400000000000006,null,-0.30000000000000071]
["2024-01-16",-0.60000000000000142,-0.60000000000000142,-0.60000000000000142,-0.60000000000000142,25.2,4.2279999999999998,4.2279999999999998,4.2279999999999998,4.2279999999999998,7.2800000000000011,7.2800000000000011,7.2800000000000011,7.2800000000000011,1.7218543046357619,1.7218543046357619,1.7218543046357619,1.7218543046357619,1.7218543046357619,1.7218543046357619,1.7218543046357619,1.7218543046357619,0,0,0,0,1.7218543046357619,0,47462.984674491148,47561.992286947898,7937.6912046530269,7937.6912046530269,null,null,null,null,-1.6785714285714288,1,1,0.57395143487858735,0.57395143487858735,0.57395143487858735,0.57395143487858735,0.61081484965574717,0.61081484965574717,0.62042648412984369,null,null,7.2800000000000011,7.2800000000000011,7.2800000000000011,7.2800000000000011,null,-0.60000000000000142]
["2024-01-17",-3.2999999999999972,-3.2999999999999972,-3.2999999999999972,-3.2999999999999972,26.099999999999998,3.9040000000000004,3.9040000000000004,3.9040000000000004,3.9040000000000004,8.5399999999999974,8.5399999999999974,8.5399999999999974,8.5399999999999974,2.1874999999999991,2.1874999999999991,2.1874999999999991,2.1874999999999991,2.1874999999999991,2.1874999999999991,2.1874999999999991,2.1874999999999991,0,0,0,0,2.1874999999999991,0,47515.484674491148,47614.492286947898,7937.6912046530269,7937.6912046530269,null,null,null,null,-0.58571428571428619,1,1,0.72916666666666641,0.72916666666666641,0.72916666666666641,0.72916666666666641,0.63347624656581536,0.63347624656581536,0.63466416280270821,null,null,8.5399999999999974,8.5399999999999974,8.5399999999999974,8.5399999999999974,null,-3.2999999999999972]
["2024-01-18",-1.1000000000000014,-1.1000000000000014,-1.1000000000000014,-1.1000000000000014,25.366666666666667,4.1679999999999993,4.1679999999999993,4.1679999999999993,4.1679999999999993,7.5133333333333345,7.5133333333333345,7.5133333333333345,7.5133333333333345,1.8026231605886123,1.8026231605886123,1.8026231605886123,1.8026231605886123,1.8026231605886123,1.8026231605886123,1.8026231605886123,1.8026231605886123,0,0,0,0,1.8026231605886123,0,47558.747630345279,47657.755242802028,7937.6912046530269,7937.6912046530269,null,null,null,null,0.34285714285714214,1,1,0.60087438686287076,0.60087438686287076,0.60087438686287076,0.60087438686287076,0.67362511329823405,0.67362511329823405,0.68433366332420664,null,null,7.5133333333333345,7.5133333333333345,7.5133333333333345,7.5133333333333345,null,-1.1000000000000014]
["2024-01-19",-3.2000000000000028,{"$f":"$B3225+C$9","v":-3.2000000000000028},-3.2000000000000028,-3.2000000000000028,26.066666666666666,3.9159999999999995,3.9159999999999995,3.9159999999999995,3.9159999999999995,8.4933333333333341,8.4933333333333341,8.4933333333333341,8.4933333333333341,2.1688798093292481,2.1688798093292481,2.1688798093292481,2.1688798093292481,2.1688798093292481,2.1688798093292481,2.1688798093292481,2.1688798093292481,0,0,0,0,2.1688798093292481,0,47610.800745769178,47709.808358225928,7937.6912046530269,7937.6912046530269,null,null,null,null,0.81428571428571372,1,1,0.72295993644308265,0.72295993644308265,0.72295993644308265,0.72295993644308265,0.65621127536965729,0.65621127536965729,0.68020848417356916,null,null,8.4933333333333341,8.4933333333333341,8.4933333333333341,8.4933333333333341,null,-3.2000000000000028]
["2024-01-20",-3.1000000000000014,-3.1000000000000014,-3.1000000000000014,-3.1000000000000014,26.033333333333331,3.9279999999999999,3.9279999999999999,3.9279999999999999,3.9279999999999999,8.4466666666666672,8.4466666666666672,8.4466666666666672,8.4466666666666672,2.1503733876442634,2.1503733876442634,2.1503733876442634,2.1503733876442634,2.1503733876442634,2.1503733876442634,2.1503733876442634,2.1503733876442634,0,0,0,0,2.1503733876442634,0,47662.409707072642,47761.417319529392,7937.6912046530269,7937.6912046530269,null,null,null,null,1.0999999999999994,1,1,0.71679112921475452,0.71679112921475452,0.71679112921475452,0.71679112921475452,0.62127596178215649,0.62127596178215649,0.75107398461174524,null,null,8.4466666666666672,8.4466666666666672,8.4466666666666672,8.4466666666666672,null,-3.1000000000000014]
["2024-01-21",-4.6000000000000014,-4.6000000000000014,-4.6000000000000014,-4.6000000000000014,26.533333333333331,3.7479999999999998,3.7479999999999998,3.7479999999999998,3.7479999999999998,9.1466666666666683,9.1466666666666683,9.1466666666666683,9.1466666666666683,2.4404126645321957,2.4404126645321957,2.4404126645321957,2.4404126645321957,2.4404126645321957,2.4404126645321957,2.4404126645321957,2.4404126645321957,0,0,0,0,2.4404126645321957,0,47720.979611021416,47819.987223478165,7937.6912046530269,7937.6912046530269,null,null,null,null,1.1142857142857137,1,1,0.81347088817739854,0.81347088817739854,0.81347088817739854,0.81347088817739854,0.54426050647722746,0.54426050647722746,0.65550883424546436,null,null,9.1466666666666683,9.1466666666666683,9.1466666666666683,9.1466666666666683,null,-4.6000000000000014]
["2024-01-22",2.1999999999999993,2.1999999999999993,2.1999999999999993,2.1999999999999993,24.266666666666666,4.5640000000000001,4.5640000000000001,4.5640000000000001,4.5640000000000001,5.9733333333333336,5.9733333333333336,5.9733333333333336,5.9733333333333336,1.3087934560327199,1.3087934560327199,1.3087934560327199,1.3087934560327199,1.3087934560327199,1.3087934560327199,1.3087934560327199,1.3087934560327199,0,0,0,0,1.3087934560327199,0,47752.390653966198,47851.398266422948,7937.6912046530269,7937.6912046530269,null,null,null,null,1.0071428571428565,1,1,0.43626448534423995,0.43626448534423995,0.43626448534423995,0.43626448534423995,0.49198701968884267,0.49198701968884267,0.52637987109590678,null,null,5.9733333333333336,5.9733333333333336,5.9733333333333336,5.9733333333333336,null,2.1999999999999993]
["2024-01-23",4.6999999999999993,4.6999999999999993,4.6999999999999993,4.6999999999999993,23.433333333333334,4.8639999999999999,4.8639999999999999,4.8639999999999999,4.8639999999999999,4.8066666666666675,4.8066666666666675,4.8066666666666675,4.8066666666666675,0.98821271929824583,0.98821271929824583,0.98821271929824583,0.98821271929824583,0.98821271929824583,0.98821271929824583,0.98821271929824583,0.98821271929824583,0,0,0,0,0.98821271929824583,0,47776.107759229359,47875.115371686108,7937.6912046530269,7937.6912046530269,null,null,null,null,0.90714285714285658,1,1,0.32940423976608196,0.32940423976608196,0.32940423976608196,0.32940423976608196,0.4334953023840375,0.4334953023840375,0.31857573488082858,null,null,4.8066666666666675,4.8066666666666675,4.8066666666666675,4.8066666666666675,null,4.6999999999999993]
["2024-01-24",8.5,8.5,8.5,8.5,22.166666666666668,5.32,5.32,5.32,5.32,3.0333333333333332,3.0333333333333332,3.0333333333333332,3.0333333333333332,0.57017543859649122,0.57017543859649122,0.57017543859649122,0.57017543859649122,0.57017543859649122,0.57017543859649122,0.57017543859649122,0.57017543859649122,0,0,0,0,0.57017543859649122,0,47789.791969755672,47888.799582212421,7937.6912046530269,7937.6912046530269,null,null,null,null,1.2142857142857135,1,1,0.19005847953216373,0.19005847953216373,0.19005847953216373,0.19005847953216373,0.38402892864225791,0.38402892864225791,0.25147423288080778,null,null,3.0333333333333332,3.0333333333333332,3.0333333333333332,3.0333333333333332,null,8.5]
["2024-01-25",7.1999999999999993,7.1999999999999993,7.1999999999999993,7.1999999999999993,22.6,5.1639999999999997,5.1639999999999997,5.1639999999999997,5.1639999999999997,3.6400000000000006,3.6400000000000006,3.6400000000000006,3.6400000000000006,0.70487993803253302,0.70487993803253302,0.70487993803253302,0.70487993803253302,0.70487993803253302,0.70487993803253302,0.70487993803253302,0.70487993803253302,0,0,0,0,0.70487993803253302,0,47806.70908826845,47905.716700725199,7937.6912046530269,7937.6912046530269,null,null,null,null,1.6499999999999992,1,1,0.23495997934417767,0.23495997934417767,0.23495997934417767,0.23495997934417767,0.34243803921249649,0.34243803921249649,0.24617879139526247,null,null,3.6400000000000006,3.6400000000000006,3.6400000000000006,3.6400000000000006,null,7.1999999999999993]
["2024-01-26",5.1000000000000014,5.1000000000000014,5.1000000000000014,5.1000000000000014,23.3,4.9119999999999999,4.9119999999999999,4.9119999999999999,4.9119999999999999,4.6199999999999992,4.6199999999999992,4.6199999999999992,4.6199999999999992,0.94055374592833862,0.94055374592833862,0.94055374592833862,0.94055374592833862,0.94055374592833862,0.94055374592833862,0.94055374592833862,0.94055374592833862,0,0,0,0,0.94055374592833862,0,47829.282378170727,47928.289990627476,7937.6912046530269,7937.6912046530269,null,null,null,null,2.214285714285714,1,1,0.31351791530944623,0.31351791530944623,0.31351791530944623,0.31351791530944623,0.3715281880577273,0.3715281880577273,0.30633480255864048,null,null,4.6199999999999992,4.6199999999999992,4.6199999999999992,4.6199999999999992,null,5.1000000000000014]
["2024-01-27",3.6999999999999993,3.6999999999999993,3.6999999999999993,3.6999999999999993,23.766666666666666,4.7439999999999998,4.7439999999999998,4.7439999999999998,4.7439999999999998,5.2733333333333343,5.2733333333333343,5.2733333333333343,5.2733333333333343,1.1115795390668917,1.1115795390668917,1.1115795390668917,1.1115795390668917,1.1115795390668917,1.1115795390668917,1.1115795390668917,1.1115795390668917,0,0,0,0,1.1115795390668917,0,47855.960287108333,47954.967899565083,7937.6912046530269,7937.6912046530269,null,null,null,null,3.028571428571428,1,1,0.37052651302229722,0.37052651302229722,0.37052651302229722,0.37052651302229722,0.41751915325808453,0.41751915325808453,0.40212636350027076,null,null,5.2733333333333343,5.2733333333333343,5.2733333333333343,5.2733333333333343,null,3.6999999999999993]
["2024-01-28",0.39999999999999858,0.39999999999999858,0.39999999999999858,0.39999999999999858,24.866666666666667,4.3479999999999999,4.3479999999999999,4.3479999999999999,4.3479999999999999,6.8133333333333344,6.8133333333333344,6.8133333333333344,6.8133333333333344,1.5670039865072067,1.5670039865072067,1.5670039865072067,1.5670039865072067,1.5670039865072067,1.5670039865072067,1.5670039865072067,1.5670039865072067,0,0,0,0,1.5670039865072067,0,47893.568382784506,47992.575995241255,7937.6912046530269,7937.6912046530269,null,null,null,null,3.9714285714285715,1,1,0.52233466216906888,0.52233466216906888,0.52233466216906888,0.52233466216906888,0.46075507110700548,0.46075507110700548,0.51091890081740721,null,null,6.8133333333333344,6.8133333333333344,6.8133333333333344,6.8133333333333344,null,0.39999999999999858]
["2024-01-29",-1.8000000000000007,-1.8000000000000007,-1.8000000000000007,-1.8000000000000007,25.6,4.0839999999999996,4.0839999999999996,4.0839999999999996,4.0839999999999996,7.8400000000000007,7.8400000000000007,7.8400000000000007,7.8400000000000007,1.9196865817825666,1.9196865817825666,1.9196865817825666,1.9196865817825666,1.9196865817825666,1.9196865817825666,1.9196865817825666,1.9196865817825666,0,0,0,0,1.9196865817825666,0,47939.640860747284,48038.648473204034,7937.6912046530269,7937.6912046530269,null,null,null,null,4.5571428571428569,1,1,0.63989552726085552,0.63989552726085552,0.63989552726085552,0.63989552726085552,0.47254083369502542,0.47254083369502542,0.60452372853283565,null,null,7.8400000000000007,7.8400000000000007,7.8400000000000007,7.8400000000000007,null,-1.8000000000000007]
["2024-01-30",-2,-2,-2,-2,25.666666666666668,4.0599999999999996,4.0599999999999996,4.0599999999999996,4.0599999999999996,7.9333333333333336,7.9333333333333336,7.9333333333333336,7.9333333333333336,1.9540229885057474,1.9540229885057474,1.9540229885057474,1.9540229885057474,1.9540229885057474,1.9540229885057474,1.9540229885057474,1.9540229885057474,0,0,0,0,1.9540229885057474,0,47986.537412471422,48085.545024928171,7937.6912046530269,7937.6912046530269,null,null,null,null,4.7714285714285714,1,1,0.65134099616858243,0.65134099616858243,0.65134099616858243,0.65134099616858243,0.47481030861740198,0.47481030861740198,0.59464880930134945,null,null,7.9333333333333336,7.9333333333333336,7.9333333333333336,7.9333333333333336,null,-2]
["2024-01-31",1,1,1,1,24.666666666666668,4.42,4.42,4.42,4.42,6.5333333333333332,6.5333333333333332,6.5333333333333332,6.5333333333333332,1.4781297134238311,1.4781297134238311,1.4781297134238311,1.4781297134238311,1.4781297134238311,1.4781297134238311,1.4781297134238311,1.4781297134238311,0,0,0,0,1.4781297134238311,0,48022.012525593593,48121.020138050342,7937.6912046530269,7937.6912046530269,null,null,null,null,4.5714285714285712,1,1,0.49270990447461038,0.49270990447461038,0.49270990447461038,0.49270990447461038,0.4499914105071337,0.4499914105071337,0.4871704060345034,null,null,6.5333333333333332,6.5333333333333332,6.5333333333333332,6.5333333333333332,null,1]
["2024-02-01",5,5,5,5,23.333333333333332,4.9000000000000004,4.9000000000000004,4.9000000000000004,4.9000000000000004,4.666666666666667,4.666666666666667,4.666666666666667,4.666666666666667,0.95238095238095233,0.95238095238095233,0.95238095238095233,0.95238095238095233,0.95238095238095233,0.95238095238095233,0.95238095238095233,0.95238095238095233,0,0,0,0,0.95238095238095233,0,48044.869668450738,48143.877280907487,7937.6912046530269,7937.6912046530269,null,null,null,null,4.1928571428571422,1,1,0.31746031746031744,0.31746031746031744,0.31746031746031744,0.31746031746031744,0.40204550805482636,0.40204550805482636,0.3798581539003365,null,null,4.666666666666667,4.666666666666667,4.666666666666667,4.666666666666667,null,5]
["2024-02-02",4.6999999999999993,4.6999999999999993,4.6999999999999993,4.6999999999999993,23.433333333333334,4.8639999999999999,4.8639999999999999,4.8639999999999999,4.8639999999999999,4.8066666666666675,4.8066666666666675,4.8066666666666675,4.8066666666666675,0.98821271929824583,0.98821271929824583,0.98821271929824583,0.98821271929824583,0.98821271929824583,0.98821271929824583,0.98821271929824583,0.98821271929824583,0,0,0,0,0.98821271929824583,0,48068.586773713898,48167.594386170647,7937.6912046530269,7937.6912046530269,null,null,null,null,4.5071428571428571,1,1,0.32940423976608196,0.32940423976608196,0.32940423976608196,0.32940423976608196,0.32905691938226306,0.32905691938226306,0.28121959449227291,null,null,4.8066666666666675,4.8066666666666675,4.8066666666666675,4.8066666666666675,null,4.6999999999999993]
["2024-02-03",8.3000000000000007,8.3000000000000007,8.3000000000000007,8.3000000000000007,22.233333333333334,5.2959999999999994,5.2959999999999994,5.2959999999999994,5.2959999999999994,3.126666666666666,3.126666666666666,3.126666666666666,3.126666666666666,0.59038267875125872,0.59038267875125872,0.59038267875125872,0.59038267875125872,0.59038267875125872,0.59038267875125872,0.59038267875125872,0.59038267875125872,0,0,0,0,0.59038267875125872,0,48082.755958003931,48181.76357046068,7937.6912046530269,7937.6912046530269,null,null,null,null,4.8357142857142863,1,1,0.19679422625041956,0.19679422625041956,0.19679422625041956,0.19679422625041956,0.26706146410909748,0.26706146410909748,0.23763727033980633,null,null,3.126666666666666,3.126666666666666,3.126666666666666,3.126666666666666,null,8.3000000000000007]
["2024-02-04",8.6000000000000014,8.6000000000000014,8.6000000000000014,8.6000000000000014,22.133333333333333,5.3319999999999999,5.3319999999999999,5.3319999999999999,5.3319999999999999,2.9866666666666659,2.9866666666666659,2.9866666666666659,2.9866666666666659,0.56014003500875209,0.56014003500875209,0.56014003500875209,0.56014003500875209,0.56014003500875209,0.56014003500875209,0.56014003500875209,0.56014003500875209,0,0,0,0,0.56014003500875209,0,48096.199318844141,48195.206931300891,7937.6912046530269,7937.6912046530269,null,null,null,null,5.3500000000000005,1,1,0.18671334500291736,0.18671334500291736,0.18671334500291736,0.18671334500291736,0.23814035951053084,0.23814035951053084,0.17082765926874968,null,null,2.9866666666666659,2.9866666666666659,2.9866666666666659,2.9866666666666659,null,8.6000000000000014]
["2024-02-05",10.399999999999999,10.399999999999999,10.399999999999999,10.399999999999999,21.533333333333335,5.548,5.548,5.548,5.548,2.1466666666666674,2.1466666666666674,2.1466666666666674,2.1466666666666674,0.38692621965873603,0.38692621965873603,0.38692621965873603,0.38692621965873603,0.38692621965873603,0.38692621965873603,0.38692621965873603,0.38692621965873603,0,0,0,0,0.38692621965873603,0,48105.485548115954,48204.493160572703,7937.6912046530269,7937.6912046530269,null,null,null,null,6.0214285714285722,1,1,0.12897540655291201,0.12897540655291201,0.12897540655291201,0.12897540655291201,0.25708020871287374,0.25708020871287374,0.17768718693741758,null,null,2.1466666666666674,2.1466666666666674,2.1466666666666674,2.1466666666666674,null,10.399999999999999]
["2024-02-06",7.6999999999999993,7.6999999999999993,7.6999999999999993,7.6999999999999993,22.433333333333334,5.2240000000000002,5.2240000000000002,5.2240000000000002,5.2240000000000002,3.4066666666666672,3.4066666666666672,3.4066666666666672,3.4066666666666672,0.65211842776927009,0.65211842776927009,0.65211842776927009,0.65211842776927009,0.65211842776927009,0.65211842776927009,0.65211842776927009,0.65211842776927009,0,0,0,0,0.65211842776927009,0,48121.136390382417,48220.144002839166,7937.6912046530269,7937.6912046530269,null,null,null,null,6.5357142857142865,1,1,0.21737280925642335,0.21737280925642335,0.21737280925642335,0.21737280925642335,0.23248978043629998,0.23248978043629998,0.21220346269799317,null,null,3.4066666666666672,3.4066666666666672,3.4066666666666672,3.4066666666666672,null,7.6999999999999993]
["2024-02-07",5.6999999999999993,5.6999999999999993,5.6999999999999993,5.6999999999999993,23.1,4.984,4.984,4.984,4.984,4.3400000000000007,4.3400000000000007,4.3400000000000007,4.3400000000000007,0.87078651685393271,0.87078651685393271,0.87078651685393271,0.87078651685393271,0.87078651685393271,0.87078651685393271,0.87078651685393271,0.87078651685393271,0,0,0,0,0.87078651685393271,0,48142.035266786908,48241.042879243658,7937.6912046530269,7937.6912046530269,null,null,null,null,6.878571428571429,1,1,0.29026217228464424,0.29026217228464424,0.29026217228464424,0.29026217228464424,0.23248978043629998,0.23248978043629998,0.31922474780592852,null,null,4.3400000000000007,4.3400000000000007,4.3400000000000007,4.3400000000000007,null,5.6999999999999993]
["2024-02-08",1.8999999999999986,1.8999999999999986,1.8999999999999986,1.8999999999999986,24.366666666666667,4.5279999999999996,4.5279999999999996,4.5279999999999996,4.5279999999999996,6.1133333333333342,6.1133333333333342,6.1133333333333342,6.1133333333333342,1.3501177856301534,1.3501177856301534,1.3501177856301534,1.3501177856301534,1.3501177856301534,1.3501177856301534,1.3501177856301534,1.3501177856301534,0,0,0,0,1.3501177856301534,0,48174.438093642035,48273.445706098784,7937.6912046530269,7937.6912046530269,null,null,null,null,7.1785714285714297,1,1,0.45003926187671778,0.45003926187671778,0.45003926187671778,0.45003926187671778,0.23736756677979046,0.23736756677979046,0.29919089199714249,null,null,6.1133333333333342,6.1133333333333342,6.1133333333333342,6.1133333333333342,null,1.8999999999999986]
["2024-02-09",9.5,9.5,9.5,9.5,21.833333333333332,5.4399999999999995,5.4399999999999995,5.4399999999999995,5.4399999999999995,2.5666666666666669,2.5666666666666669,2.5666666666666669,2.5666666666666669,0.47181372549019618,0.47181372549019618,0.47181372549019618,0.47181372549019618,0.47181372549019618,0.47181372549019618,0.47181372549019618,0.47181372549019618,0,0,0,0,0.47181372549019618,0,48185.761623053797,48284.769235510546,7937.6912046530269,7937.6912046530269,null,null,null,null,7.3785714285714281,1,1,0.15727124183006538,0.15727124183006538,0.15727124183006538,0.15727124183006538,0.2504936300447102,0.2504936300447102,0.2680349099857342,null,null,2.5666666666666669,2.5666666666666669,2.5666666666666669,2.5666666666666669,null,9.5]
["2024-02-10",8.3000000000000007,8.3000000000000007,8.3000000000000007,8.3000000000000007,22.233333333333334,5.2959999999999994,5.2959999999999994,5.2959999999999994,5.2959999999999994,3.126666666666666,3.126666666666666,3.126666666666666,3.126666666666666,0.59038267875125872,0.59038267875125872,0.59038267875125872,0.59038267875125872,0.59038267875125872,0.59038267875125872,0.59038267875125872,0.59038267875125872,0,0,0,0,0.59038267875125872,0,48199.93080734383,48298.938419800579,7937.6912046530269,7937.6912046530269,null,null,null,null,7.4428571428571431,1,1,0.19679422625041956,0.19679422625041956,0.19679422625041956,0.19679422625041956,0.2636681899746689,0.2636681899746689,0.19164110582927849,null,null,3.126666666666666,3.126666666666666,3.126666666666666,3.126666666666666,null,8.3000000000000007]
["2024-02-11",7.6000000000000014,7.6000000000000014,7.6000000000000014,7.6000000000000014,22.466666666666665,5.2119999999999997,5.2119999999999997,5.2119999999999997,5.2119999999999997,3.4533333333333327,3.4533333333333327,3.4533333333333327,3.4533333333333327,0.66257354822205161,0.66257354822205161,0.66257354822205161,0.66257354822205161,0.66257354822205161,0.66257354822205161,0.66257354822205161,0.66257354822205161,0,0,0,0,0.66257354822205161,0,48215.83257250116,48314.84018495791,7937.6912046530269,7937.6912046530269,null,null,null,null,7.3071428571428578,1,1,0.22085784940735054,0.22085784940735054,0.22085784940735054,0.22085784940735054,0.26312379155241755,0.26312379155241755,0.21283664168837349,null,null,3.4533333333333327,3.4533333333333327,3.4533333333333327,3.4533333333333327,null,7.6000000000000014]
["2024-02-12",7.6000000000000014,7.6000000000000014,7.6000000000000014,7.6000000000000014,22.466666666666665,5.2119999999999997,5.2119999999999997,5.2119999999999997,5.2119999999999997,3.4533333333333327,3.4533333333333327,3.4533333333333327,3.4533333333333327,0.66257354822205161,0.66257354822205161,0.66257354822205161,0.66257354822205161,0.66257354822205161,0.66257354822205161,0.66257354822205161,0.66257354822205161,0,0,0,0,0.66257354822205161,0,48231.73433765849,48330.74195011524,7937.6912046530269,7937.6912046530269,null,null,null,null,7.1428571428571432,1,1,0.22085784940735054,0.22085784940735054,0.22085784940735054,0.22085784940735054,0.22268311403947585,0.22268311403947585,0.25043680919361178,null,null,3.4533333333333327,3.4533333333333327,3.4533333333333327,3.4533333333333327,null,7.6000000000000014]
["2024-02-13",5.1999999999999993,5.1999999999999993,5.1999999999999993,5.1999999999999993,23.266666666666666,4.9240000000000004,4.9240000000000004,4.9240000000000004,4.9240000000000004,4.5733333333333341,4.5733333333333341,4.5733333333333341,4.5733333333333341,0.92878418629840243,0.92878418629840243,0.92878418629840243,0.92878418629840243,0.92878418629840243,0.92878418629840243,0.92878418629840243,0.92878418629840243,0,0,0,0,0.92878418629840243,0,48254.025158129654,48353.032770586404,7937.6912046530269,7937.6912046530269,null,null,null,null,7.1357142857142861,1,1,0.30959472876613414,0.30959472876613414,0.30959472876613414,0.30959472876613414,0.23226707582931999,0.23226707582931999,0.27230132050079009,null,null,4.5733333333333341,4.5733333333333341,4.5733333333333341,4.5733333333333341,null,5.1999999999999993]
["2024-02-14",5.8000000000000007,5.8000000000000007,5.8000000000000007,5.8000000000000007,23.066666666666666,4.9959999999999996,4.9959999999999996,4.9959999999999996,4.9959999999999996,4.293333333333333,4.293333333333333,4.293333333333333,4.293333333333333,0.85935414998665605,0.85935414998665605,0.85935414998665605,0.85935414998665605,0.85935414998665605,0.85935414998665605,0.85935414998665605,0.85935414998665605,0,0,0,0,0.85935414998665605,0,48274.649657729336,48373.657270186086,7937.6912046530269,7937.6912046530269,null,null,null,null,7.3071428571428578,1,1,0.28645138332888537,0.28645138332888537,0.28645138332888537,0.28645138332888537,0.22800426054870657,0.22800426054870657,0.25433354379371509,null,null,4.293333333333333,4.293333333333333,4.293333333333333,4.293333333333333,null,5.8000000000000007]
["2024-02-15",9.1999999999999993,9.1999999999999993,9.1999999999999993,9.1999999999999993,21.933333333333334,5.4039999999999999,5.4039999999999999,5.4039999999999999,5.4039999999999999,2.7066666666666674,2.7066666666666674,2.7066666666666674,2.7066666666666674,0.50086355785837666,0.50086355785837666,0.50086355785837666,0.50086355785837666,0.50086355785837666,0.50086355785837666,0.50086355785837666,0.50086355785837666,0,0,0,0,0.50086355785837666,0,48286.67038311794,48385.67799557469,7937.6912046530269,7937.6912046530269,null,null,null,null,7.8428571428571434,1,1,0.16695451928612556,0.16695451928612556,0.16695451928612556,0.16695451928612556,0.23259037361789583,0.23259037361789583,0.22592162565799509,null,null,2.7066666666666674,2.7066666666666674,2.7066666666666674,2.7066666666666674,null,9.1999999999999993]
["2024-02-16",7.5,7.5,7.5,7.5,22.5,5.1999999999999993,5.1999999999999993,5.1999999999999993,5.1999999999999993,3.5,3.5,3.5,3.5,0.67307692307692313,0.67307692307692313,0.67307692307692313,0.67307692307692313,0.67307692307692313,0.67307692307692313,0.67307692307692313,0.67307692307692313,0,0,0,0,0.67307692307692313,0,48302.824229271784,48401.831841728534,7937.6912046530269,7937.6912046530269,null,null,null,null,7.7500000000000009,1,1,0.22435897435897437,0.22435897435897437,0.22435897435897437,0.22435897435897437,0.2301237236953341,0.2301237236953341,0.18608933764374183,null,null,3.5,3.5,3.5,3.5,null,7.5]
["2024-02-17",9.1999999999999993,9.1999999999999993,9.1999999999999993,9.1999999999999993,21.933333333333334,5.4039999999999999,5.4039999999999999,5.4039999999999999,5.4039999999999999,2.7066666666666674,2.7066666666666674,2.7066666666666674,2.7066666666666674,0.50086355785837666,0.50086355785837666,0.50086355785837666,0.50086355785837666,0.50086355785837666,0.50086355785837666,0.50086355785837666,0.50086355785837666,0,0,0,0,0.50086355785837666,0,48314.844954660388,48413.852567117137,7937.6912046530269,7937.6912046530269,null,null,null,null,7.5785714285714283,1,1,0.16695451928612556,0.16695451928612556,0.16695451928612556,0.16695451928612556,0.21744702664407931,0.21744702664407931,0.2147580448455918,null,null,2.7066666666666674,2.7066666666666674,2.7066666666666674,2.7066666666666674,null,9.1999999999999993]
["2024-02-18",6.6999999999999993,6.6999999999999993,6.6999999999999993,6.6999999999999993,22.766666666666666,5.1040000000000001,5.1040000000000001,5.1040000000000001,5.1040000000000001,3.873333333333334,3.873333333333334,3.873333333333334,3.873333333333334,0.75888192267502619,0.75888192267502619,0.75888192267502619,0.75888192267502619,0.75888192267502619,0.75888192267502619,0.75888192267502619,0.75888192267502619,0,0,0,0,0.75888192267502619,0,48333.058120804591,48432.065733261341,7937.6912046530269,7937.6912046530269,null,null,null,null,7.3142857142857149,1,1,0.25296064089167541,0.25296064089167541,0.25296064089167541,0.25296064089167541,0.20560987187558402,0.20560987187558402,0.20783548670907312,null,null,3.873333333333334,3.873333333333334,3.873333333333334,3.873333333333334,null,6.6999999999999993]
["2024-02-19",8.1000000000000014,8.1000000000000014,8.1000000000000014,8.1000000000000014,22.3,5.2720000000000002,5.2720000000000002,5.2720000000000002,5.2720000000000002,3.2199999999999993,3.2199999999999993,3.2199999999999993,3.2199999999999993,0.61077389984825481,0.61077389984825481,0.61077389984825481,0.61077389984825481,0.61077389984825481,0.61077389984825481,0.61077389984825481,0.61077389984825481,0,0,0,0,0.61077389984825481,0,48347.716694400951,48446.724306857701,7937.6912046530269,7937.6912046530269,null,null,null,null,6.9428571428571439,1,1,0.20359129994941827,0.20359129994941827,0.20359129994941827,0.20359129994941827,0.20468561617566877,0.20468561617566877,0.22580326341614806,null,null,3.2199999999999993,3.2199999999999993,3.2199999999999993,3.2199999999999993,null,8.1000000000000014]
["2024-02-20",7.6000000000000014,7.6000000000000014,7.6000000000000014,7.6000000000000014,22.466666666666665,5.2119999999999997,5.2119999999999997,5.2119999999999997,5.2119999999999997,3.4533333333333327,3.4533333333333327,3.4533333333333327,3.4533333333333327,0.66257354822205161,0.66257354822205161,0.66257354822205161,0.66257354822205161,0.66257354822205161,0.66257354822205161,0.66257354822205161,0.66257354822205161,0,0,0,0,0.66257354822205161,0,48363.618459558282,48462.626072015031,7937.6912046530269,7937.6912046530269,null,null,null,null,6.8500000000000005,1,1,0.22085784940735054,0.22085784940735054,0.22085784940735054,0.22085784940735054,0.20123219769575523,0.20123219769575523,0.20934681643539568,null,null,3.4533333333333327,3.4533333333333327,3.4533333333333327,3.4533333333333327,null,7.6000000000000014]
["2024-02-21",8.1000000000000014,8.1000000000000014,8.1000000000000014,8.1000000000000014,22.3,5.2720000000000002,5.2720000000000002,5.2720000000000002,5.2720000000000002,3.2199999999999993,3.2199999999999993,3.2199999999999993,3.2199999999999993,0.61077389984825481,0.61077389984825481,0.61077389984825481,0.61077389984825481,0.61077389984825481,0.61077389984825481,0.61077389984825481,0.61077389984825481,0,0,0,0,0.61077389984825481,0,48378.277033154642,48477.284645611391,7937.6912046530269,7937.6912046530269,null,null,null,null,6.7714285714285731,1,1,0.20359129994941827,0.20359129994941827,0.20359129994941827,0.20359129994941827,0.2177613887891669,0.2177613887891669,0.19497795958116268,null,null,3.2199999999999993,3.2199999999999993,3.2199999999999993,3.2199999999999993,null,8.1000000000000014]
["2024-02-22",9.3999999999999986,9.3999999999999986,9.3999999999999986,9.3999999999999986,21.866666666666667,5.427999999999999,5.427999999999999,5.427999999999999,5.427999999999999,2.6133333333333342,2.6133333333333342,2.6133333333333342,2.6133333333333342,0.48145418816015745,0.48145418816015745,0.48145418816015745,0.48145418816015745,0.48145418816015745,0.48145418816015745,0.48145418816015745,0.48145418816015745,0,0,0,0,0.48145418816015745,0,48389.831933670488,48488.839546127238,7937.6912046530269,7937.6912046530269,null,null,null,null,6.257142857142858,1,1,0.16048472938671915,0.16048472938671915,0.16048472938671915,0.16048472938671915,0.23335793513669681,0.23335793513669681,0.18808702477857228,null,null,2.6133333333333342,2.6133333333333342,2.6133333333333342,2.6133333333333342,null,9.3999999999999986]
["2024-02-23",8.1999999999999993,8.1999999999999993,8.1999999999999993,8.1999999999999993,22.266666666666666,5.2840000000000007,5.2840000000000007,5.2840000000000007,5.2840000000000007,3.1733333333333338,3.1733333333333338,3.1733333333333338,3.1733333333333338,0.60055513499873836,0.60055513499873836,0.60055513499873836,0.60055513499873836,0.60055513499873836,0.60055513499873836,0.60055513499873836,0.60055513499873836,0,0,0,0,0.60055513499873836,0,48404.245256910457,48503.252869367207,7937.6912046530269,7937.6912046530269,null,null,null,null,6.128571428571429,1,1,0.20018504499957945,0.20018504499957945,0.20018504499957945,0.20018504499957945,0.26530223442154138,0.26530223442154138,0.21444287710876855,null,null,3.1733333333333338,3.1733333333333338,3.1733333333333338,3.1733333333333338,null,8.1999999999999993]
["2024-02-24",5.8999999999999986,5.8999999999999986,5.8999999999999986,5.8999999999999986,23.033333333333335,5.0079999999999991,5.0079999999999991,5.0079999999999991,5.0079999999999991,4.246666666666667,4.246666666666667,4.246666666666667,4.246666666666667,0.84797657082002154,0.84797657082002154,0.84797657082002154,0.84797657082002154,0.84797657082002154,0.84797657082002154,0.84797657082002154,0.84797657082002154,0,0,0,0,0.84797657082002154,0,48424.59669461014,48523.604307066889,7937.6912046530269,7937.6912046530269,null,null,null,null,6.128571428571429,1,1,0.2826588569400072,0.2826588569400072,0.2826588569400072,0.2826588569400072,0.28548489383826059,0.28548489383826059,0.28166012242132382,null,null,4.246666666666667,4.246666666666667,4.246666666666667,4.246666666666667,null,5.8999999999999986]
["2024-02-25",3.8999999999999986,3.8999999999999986,3.8999999999999986,3.8999999999999986,23.7,4.7679999999999998,4.7679999999999998,4.7679999999999998,4.7679999999999998,5.1800000000000015,5.1800000000000015,5.1800000000000015,5.1800000000000015,1.0864093959731547,1.0864093959731547,1.0864093959731547,1.0864093959731547,1.0864093959731547,1.0864093959731547,1.0864093959731547,1.0864093959731547,0,0,0,0,1.0864093959731547,0,48450.670520113497,48549.678132570247,7937.6912046530269,7937.6912046530269,null,null,null,null,6.3000000000000016,1,1,0.36213646532438487,0.36213646532438487,0.36213646532438487,0.36213646532438487,0.30345817095492683,0.30345817095492683,0.35733223906924089,null,null,5.1800000000000015,5.1800000000000015,5.1800000000000015,5.1800000000000015,null,3.8999999999999986]
["2024-02-26",2.3999999999999986,2.3999999999999986,2.3999999999999986,2.3999999999999986,24.2,4.5880000000000001,4.5880000000000001,4.5880000000000001,4.5880000000000001,5.8800000000000008,5.8800000000000008,5.8800000000000008,5.8800000000000008,1.2816041848299915,1.2816041848299915,1.2816041848299915,1.2816041848299915,1.2816041848299915,1.2816041848299915,1.2816041848299915,1.2816041848299915,0,0,0,0,1.2816041848299915,0,48481.429020549418,48580.436633006168,7937.6912046530269,7937.6912046530269,null,null,null,null,6.2357142857142858,1,1,0.42720139494333048,0.42720139494333048,0.42720139494333048,0.42720139494333048,0.34416369489471654,0.34416369489471654,0.38382477519736674,null,null,5.8800000000000008,5.8800000000000008,5.8800000000000008,5.8800000000000008,null,2.3999999999999986]
["2024-02-27",3.8999999999999986,3.8999999999999986,3.8999999999999986,3.8999999999999986,23.7,4.7679999999999998,4.7679999999999998,4.7679999999999998,4.7679999999999998,5.1800000000000015,5.1800000000000015,5.1800000000000015,5.1800000000000015,1.0864093959731547,1.0864093959731547,1.0864093959731547,1.0864093959731547,1.0864093959731547,1.0864093959731547,1.0864093959731547,1.0864093959731547,0,0,0,0,1.0864093959731547,0,48507.502846052776,48606.510458509525,7937.6912046530269,7937.6912046530269,null,null,null,null,6.1428571428571432,1,1,0.36213646532438487,0.36213646532438487,0.36213646532438487,0.36213646532438487,0.35703185593544007,0.35703185593544007,0.37291403334459911,null,null,5.1800000000000015,5.1800000000000015,5.1800000000000015,5.1800000000000015,null,3.8999999999999986]
["2024-02-28",4.6999999999999993,4.6999999999999993,4.6999999999999993,4.6999999999999993,23.433333333333334,4.8639999999999999,4.8639999999999999,4.8639999999999999,4.8639999999999999,4.8066666666666675,4.8066666666666675,4.8066666666666675,4.8066666666666675,0.98821271929824583,0.98821271929824583,0.98821271929824583,0.98821271929824583,0.98821271929824583,0.98821271929824583,0.98821271929824583,0.98821271929824583,0,0,0,0,0.98821271929824583,0,48531.219951315936,48630.227563772685,7937.6912046530269,7937.6912046530269,null,null,null,null,5.9785714285714286,1,1,0.32940423976608196,0.32940423976608196,0.32940423976608196,0.32940423976608196,0.34050266484202846,0.34050266484202846,0.37898803401857134,null,null,4.8066666666666675,4.8066666666666675,4.8066666666666675,4.8066666666666675,null,4.6999999999999993]
["2024-02-29",2,2,2,2,24.333333333333332,4.54,4.54,4.54,4.54,6.0666666666666664,6.0666666666666664,6.0666666666666664,6.0666666666666664,1.3362701908957415,1.3362701908957415,1.3362701908957415,1.3362701908957415,1.3362701908957415,1.3362701908957415,1.3362701908957415,1.3362701908957415,0,0,0,0,1.3362701908957415,0,48563.290435897434,48662.298048354183,7937.6912046530269,7937.6912046530269,null,null,null,null,5.5571428571428561,1,1,0.44542339696524719,0.44542339696524719,0.44542339696524719,0.44542339696524719,0.3130847429669939,0.3130847429669939,0.35502993633865776,null,null,6.0666666666666664,6.0666666666666664,6.0666666666666664,6.0666666666666664,null,2]
["2024-03-01",5.6999999999999993,5.6999999999999993,5.6999999999999993,5.6999999999999993,23.1,4.984,4.984,4.984,4.984,4.3400000000000007,4.3400000000000007,4.3400000000000007,4.3400000000000007,0.87078651685393271,0.87078651685393271,0.87078651685393271,0.87078651685393271,0.87078651685393271,0.87078651685393271,0.87078651685393271,0.87078651685393271,0,0,0,0,0.87078651685393271,0,48584.189312301925,48683.196924758675,7937.6912046530269,7937.6912046530269,null,null,null,null,5.1999999999999984,1,1,0.29026217228464424,0.29026217228464424,0.29026217228464424,0.29026217228464424,0.28562168359568629,0.28562168359568629,0.30088002951200571,null,null,4.3400000000000007,4.3400000000000007,4.3400000000000007,4.3400000000000007,null,5.6999999999999993]
["2024-03-02",9.1999999999999993,9.1999999999999993,9.1999999999999993,9.1999999999999993,21.933333333333334,5.4039999999999999,5.4039999999999999,5.4039999999999999,5.4039999999999999,2.7066666666666674,2.7066666666666674,2.7066666666666674,2.7066666666666674,0.50086355785837666,0.50086355785837666,0.50086355785837666,0.50086355785837666,0.50086355785837666,0.50086355785837666,0.50086355785837666,0.50086355785837666,0,0,0,0,0.50086355785837666,0,48596.210037690529,48695.217650147279,7937.6912046530269,7937.6912046530269,null,null,null,null,5.1857142857142851,1,1,0.16695451928612556,0.16695451928612556,0.16695451928612556,0.16695451928612556,0.27212629945953243,0.27212629945953243,0.20914256792330413,null,null,2.7066666666666674,2.7066666666666674,2.7066666666666674,2.7066666666666674,null,9.1999999999999993]
["2024-03-03",9.1000000000000014,9.1000000000000014,9.1000000000000014,9.1000000000000014,21.966666666666665,5.3920000000000003,5.3920000000000003,5.3920000000000003,5.3920000000000003,2.7533333333333325,2.7533333333333325,2.7533333333333325,2.7533333333333325,0.51063303659742809,0.51063303659742809,0.51063303659742809,0.51063303659742809,0.51063303659742809,0.51063303659742809,0.51063303659742809,0.51063303659742809,0,0,0,0,0.51063303659742809,0,48608.465230568865,48707.472843025615,7937.6912046530269,7937.6912046530269,null,null,null,null,5.5142857142857142,1,1,0.1702110121991427,0.1702110121991427,0.1702110121991427,0.1702110121991427,0.26599017711136153,0.26599017711136153,0.19070850360981531,null,null,2.7533333333333325,2.7533333333333325,2.7533333333333325,2.7533333333333325,null,9.1000000000000014]
["2024-03-04",7.1999999999999993,7.1999999999999993,7.1999999999999993,7.1999999999999993,22.6,5.1639999999999997,5.1639999999999997,5.1639999999999997,5.1639999999999997,3.6400000000000006,3.6400000000000006,3.6400000000000006,3.6400000000000006,0.70487993803253302,0.70487993803253302,0.70487993803253302,0.70487993803253302,0.70487993803253302,0.70487993803253302,0.70487993803253302,0.70487993803253302,0,0,0,0,0.70487993803253302,0,48625.382349081643,48724.389961538393,7937.6912046530269,7937.6912046530269,null,null,null,null,6.0642857142857149,1,1,0.23495997934417767,0.23495997934417767,0.23495997934417767,0.23495997934417767,0.25650138943620782,0.25650138943620782,0.22427992263820948,null,null,3.6400000000000006,3.6400000000000006,3.6400000000000006,3.6400000000000006,null,7.1999999999999993]
["2024-03-05",6.3000000000000007,6.3000000000000007,6.3000000000000007,6.3000000000000007,22.9,5.056,5.056,5.056,5.056,4.0599999999999996,4.0599999999999996,4.0599999999999996,4.0599999999999996,0.803006329113924,0.803006329113924,0.803006329113924,0.803006329113924,0.803006329113924,0.803006329113924,0.803006329113924,0.803006329113924,0,0,0,0,0.803006329113924,0,48644.654500980374,48743.662113437123,7937.6912046530269,7937.6912046530269,null,null,null,null,6.4785714285714286,1,1,0.26766877637130798,0.26766877637130798,0.26766877637130798,0.26766877637130798,0.27101790586216495,0.27101790586216495,0.26302671301479036,null,null,4.0599999999999996,4.0599999999999996,4.0599999999999996,4.0599999999999996,null,6.3000000000000007]
["2024-03-06",{"$f":"BB3272+A$7","v":5.8000000000000007},5.8000000000000007,5.8000000000000007,5.8000000000000007,23.066666666666666,4.9959999999999996,4.9959999999999996,4.9959999999999996,4.9959999999999996,4.293333333333333,4.293333333333333,4.293333333333333,4.293333333333333,0.85935414998665605,0.85935414998665605,0.85935414998665605,0.85935414998665605,0.85935414998665605,0.85935414998665605,0.85935414998665605,0.85935414998665605,0,0,0,0,0.85935414998665605,0,48665.279000580056,48764.286613036806,7937.6912046530269,7937.6912046530269,null,null,null,null,6.6571428571428584,1,1,0.28645138332888537,0.28645138332888537,0.28645138332888537,0.28645138332888537,0.28863328486195333,0.28863328486195333,0.31104068097978821,null,null,4.293333333333333,4.293333333333333,4.293333333333333,4.293333333333333,null,5.8000000000000007]
["2024-03-07",3.5,3.5,3.5,3.5,23.833333333333332,4.72,4.72,4.72,4.72,5.3666666666666663,5.3666666666666663,5.3666666666666663,5.3666666666666663,1.1370056497175141,1.1370056497175141,1.1370056497175141,1.1370056497175141,1.1370056497175141,1.1370056497175141,1.1370056497175141,1.1370056497175141,0,0,0,0,1.1370056497175141,0,48692.567136173275,48791.574748630024,7937.6912046530269,7937.6912046530269,null,null,null,null,7.0928571428571434,1,1,0.37900188323917133,0.37900188323917133,0.37900188323917133,0.37900188323917133,0.29146863733809919,0.29146863733809919,0.35244368461146691,null,null,5.3666666666666663,5.3666666666666663,5.3666666666666663,5.3666666666666663,null,3.5]
["2024-03-08",3.1999999999999993,3.1999999999999993,3.1999999999999993,3.1999999999999993,23.933333333333334,4.6840000000000002,4.6840000000000002,4.6840000000000002,4.6840000000000002,5.5066666666666668,5.5066666666666668,5.5066666666666668,5.5066666666666668,1.1756333617990322,1.1756333617990322,1.1756333617990322,1.1756333617990322,1.1756333617990322,1.1756333617990322,1.1756333617990322,1.1756333617990322,0,0,0,0,1.1756333617990322,0,48720.78233685645,48819.789949313199,7937.6912046530269,7937.6912046530269,null,null,null,null,7.5214285714285714,1,1,0.39187778726634409,0.39187778726634409,0.39187778726634409,0.39187778726634409,0.27765780424866099,0.27765780424866099,0.35371394759671987,null,null,5.5066666666666668,5.5066666666666668,5.5066666666666668,5.5066666666666668,null,3.1999999999999993]
["2024-03-09",5.6999999999999993,5.6999999999999993,5.6999999999999993,5.6999999999999993,23.1,4.984,4.984,4.984,4.984,4.3400000000000007,4.3400000000000007,4.3400000000000007,4.3400000000000007,0.87078651685393271,0.87078651685393271,0.87078651685393271,0.87078651685393271,0.87078651685393271,0.87078651685393271,0.87078651685393271,0.87078651685393271,0,0,0,0,0.87078651685393271,0,48741.681213260941,48840.688825717691,7937.6912046530269,7937.6912046530269,null,null,null,null,7.5928571428571434,1,1,0.29026217228464424,0.29026217228464424,0.29026217228464424,0.29026217228464424,0.2609746378177788,0.2609746378177788,0.29073281302771736,null,null,4.3400000000000007,4.3400000000000007,4.3400000000000007,4.3400000000000007,null,5.6999999999999993]
["2024-03-10",8.5,8.5,8.5,8.5,22.166666666666668,5.32,5.32,5.32,5.32,3.0333333333333332,3.0333333333333332,3.0333333333333332,3.0333333333333332,0.57017543859649122,0.57017543859649122,0.57017543859649122,0.57017543859649122,0.57017543859649122,0.57017543859649122,0.57017543859649122,0.57017543859649122,0,0,0,0,0.57017543859649122,0,48755.365423787254,48854.373036244004,7937.6912046530269,7937.6912046530269,null,null,null,null,7.3214285714285721,1,1,0.19005847953216373,0.19005847953216373,0.19005847953216373,0.19005847953216373,0.25361872296282051,0.25361872296282051,0.20620159984497263,null,null,3.0333333333333332,3.0333333333333332,3.0333333333333332,3.0333333333333332,null,8.5]
["2024-03-11",10.100000000000001,10.100000000000001,10.100000000000001,10.100000000000001,21.633333333333333,5.5120000000000005,5.5120000000000005,5.5120000000000005,5.5120000000000005,2.2866666666666662,2.2866666666666662,2.2866666666666662,2.2866666666666662,0.41485244315432984,0.41485244315432984,0.41485244315432984,0.41485244315432984,0.41485244315432984,0.41485244315432984,0.41485244315432984,0.41485244315432984,0,0,0,0,0.41485244315432984,0,48765.321882422955,48864.329494879705,7937.6912046530269,7937.6912046530269,null,null,null,null,7.0428571428571427,1,1,0.13828414771810996,0.13828414771810996,0.13828414771810996,0.13828414771810996,0.2285600682071415,0.2285600682071415,0.15974307953513545,null,null,2.2866666666666662,2.2866666666666662,2.2866666666666662,2.2866666666666662,null,10.100000000000001]
["2024-03-12",9.6999999999999993,9.6999999999999993,9.6999999999999993,9.6999999999999993,21.766666666666666,5.4640000000000004,5.4640000000000004,5.4640000000000004,5.4640000000000004,2.473333333333334,2.473333333333334,2.473333333333334,2.473333333333334,0.45265983406539784,0.45265983406539784,0.45265983406539784,0.45265983406539784,0.45265983406539784,0.45265983406539784,0.45265983406539784,0.45265983406539784,0,0,0,0,0.45265983406539784,0,48776.185718440523,48875.193330897273,7937.6912046530269,7937.6912046530269,null,null,null,null,6.8071428571428569,1,1,0.15088661135513262,0.15088661135513262,0.15088661135513262,0.15088661135513262,0.18543400215740463,0.18543400215740463,0.1747102461391401,null,null,2.473333333333334,2.473333333333334,2.473333333333334,2.473333333333334,null,9.6999999999999993]
["2024-03-13",7.1999999999999993,7.1999999999999993,7.1999999999999993,7.1999999999999993,22.6,5.1639999999999997,5.1639999999999997,5.1639999999999997,5.1639999999999997,3.6400000000000006,3.6400000000000006,3.6400000000000006,3.6400000000000006,0.70487993803253302,0.70487993803253302,0.70487993803253302,0.70487993803253302,0.70487993803253302,0.70487993803253302,0.70487993803253302,0.70487993803253302,0,0,0,0,0.70487993803253302,0,48793.102836953301,48892.110449410051,7937.6912046530269,7937.6912046530269,null,null,null,null,6.8642857142857139,1,1,0.23495997934417767,0.23495997934417767,0.23495997934417767,0.23495997934417767,0.16327765652189963,0.16327765652189963,0.19647929688290952,null,null,3.6400000000000006,3.6400000000000006,3.6400000000000006,3.6400000000000006,null,7.1999999999999993]
["2024-03-14",8.1000000000000014,8.1000000000000014,8.1000000000000014,8.1000000000000014,22.3,5.2720000000000002,5.2720000000000002,5.2720000000000002,5.2720000000000002,3.2199999999999993,3.2199999999999993,3.2199999999999993,3.2199999999999993,0.61077389984825481,0.61077389984825481,0.61077389984825481,0.61077389984825481,0.61077389984825481,0.61077389984825481,0.61077389984825481,0.61077389984825481,0,0,0,0,0.61077389984825481,0,48807.761410549661,48906.769023006411,7937.6912046530269,7937.6912046530269,null,null,null,null,6.6142857142857139,1,1,0.20359129994941827,0.20359129994941827,0.20359129994941827,0.20359129994941827,0.17979653340075266,0.17979653340075266,0.17618220140392737,null,null,3.2199999999999993,3.2199999999999993,3.2199999999999993,3.2199999999999993,null,8.1000000000000014]
["2024-03-15",11.7,11.7,11.7,11.7,21.1,5.7039999999999997,5.7039999999999997,5.7039999999999997,5.7039999999999997,1.5400000000000003,1.5400000000000003,1.5400000000000003,1.5400000000000003,0.26998597475455827,0.26998597475455827,0.26998597475455827,0.26998597475455827,0.26998597475455827,0.26998597475455827,0.26998597475455827,0.26998597475455827,0,0,0,0,0.26998597475455827,0,48814.241073943769,48913.248686400519,7937.6912046530269,7937.6912046530269,null,null,null,null,6.3857142857142861,1,1,8.9995324918186084E-2,8.9995324918186084E-2,8.9995324918186084E-2,8.9995324918186084E-2,0.21540792432055536,0.21540792432055536,0.14291812590123781,null,null,1.5400000000000003,1.5400000000000003,1.5400000000000003,1.5400000000000003,null,11.7]
["2024-03-16",10.199999999999999,10.199999999999999,10.199999999999999,10.199999999999999,21.6,5.524,5.524,5.524,5.524,2.2400000000000007,2.2400000000000007,2.2400000000000007,2.2400000000000007,0.40550325850832741,0.40550325850832741,0.40550325850832741,0.40550325850832741,0.40550325850832741,0.40550325850832741,0.40550325850832741,0.40550325850832741,0,0,0,0,0.40550325850832741,0,48823.97315214797,48922.980764604719,7937.6912046530269,7937.6912046530269,null,null,null,null,5.9785714285714278,1,1,0.13516775283610913,0.13516775283610913,0.13516775283610913,0.13516775283610913,0.25107730070779477,0.25107730070779477,0.17695123181281,null,null,2.2400000000000007,2.2400000000000007,2.2400000000000007,2.2400000000000007,null,10.199999999999999]
["2024-03-17",5.3000000000000007,5.3000000000000007,5.3000000000000007,5.3000000000000007,{"$f":"F$8+(H$7-F$8)*(M$6-B3283)/30","v":23.233333333333334},{"$f":"IF((B3283+35-$F3283)*$H$5+$H$6>1,(B3283+35-$F3283)*$H$5+$H$6,1)","v":4.9359999999999999},{"$f":"IF((C3283+35-$F3283)*$H$5+$H$6>1,(C3283+35-$F3283)*$H$5+$H$6,1)","v":4.9359999999999999},{"$f":"IF((D3283+35-$F3283)*$H$5+$H$6>1,(D3283+35-$F3283)*$H$5+$H$6,1)","v":4.9359999999999999},{"$f":"IF((E3283+35-$F3283)*$H$5+$H$6>1,(E3283+35-$F3283)*$H$5+$H$6,1)","v":4.9359999999999999},{"$f":"$M$5*($M$6-B3283)/30-$O$5","v":4.5266666666666664},{"$f":"$M$5*($M$6-C3283)/30-$O$5","v":4.5266666666666664},{"$f":"$M$5*($M$6-D3283)/30-$O$5","v":4.5266666666666664},{"$f":"$M$5*($M$6-E3283)/30-$O$5","v":4.5266666666666664},{"$f":"IF(K3283/G3283>$M$7,$M$7+K3283-$M$7*G3283,K3283/G3283)","v":0.91707185305240402},{"$f":"IF(L3283/H3283>$M$7,$M$7+L3283-$M$7*H3283,L3283/H3283)","v":0.91707185305240402},{"$f":"IF(M3283/I3283>$M$7,$M$7+M3283-$M$7*I3283,M3283/I3283)","v":0.91707185305240402},{"$f":"IF(N3283/J3283>$M$7,$M$7+N3283-$M$7*J3283,N3283/J3283)","v":0.91707185305240402},{"$f":"IF(O3283>0,O3283,)","v":0.91707185305240402},{"$f":"IF(P3283>0,P3283,)","v":0.91707185305240402},{"$f":"IF(Q3283>0,Q3283,)","v":0.91707185305240402},{"$f":"IF(R3283>0,R3283,)","v":0.91707185305240402},{"$f":"IF(O3283<0,-O3283,0)","v":0},{"$f":"IF(P3283<0,-P3283,0)","v":0},{"$f":"IF(Q3283<0,-Q3283,0)","v":0},{"$f":"IF(R3283<0,-R3283,0)","v":0},{"$f":"IF(SUM(O3283:R3283)/4>0,SUM(O3283:R3283)/4,)","v":0.91707185305240402},{"$f":"IF(SUM(O3283:R3283)/4<0,-SUM(O3283:R3283)/4,)","v":0},{"$f":"6*SUM(S3283:V3283)+AC3282","v":48845.98287662123},{"$f":"AD3282+AA3283*24","v":48944.99048907798},{"$f":"6*SUM(W3283:Z3283)+AE3282","v":7937.6912046530269},{"$f":"AF3282+AB3283*24","v":7937.6912046530269},null,null,null,null,{"$f":"IF(SUM(B3277:B3290)/14<$C$7,SUM(B3277:B3290)/14,0)","v":5.371428571428571},{"$f":"IF(SUM(B3277:B3290)/14<$C$7,1,0)","v":1},{"$f":"IF(SUM(AN3280:AQ3286)>0,1,0)","v":1},{"$f":"K3283/G3283/$M$7","v":0.30569061768413469},{"$f":"L3283/H3283/$M$7","v":0.30569061768413469},{"$f":"M3283/I3283/$M$7","v":0.30569061768413469},{"$f":"N3283/J3283/$M$7","v":0.30569061768413469},{"$f":"SUM(AO3280:AO3286)/7","v":0.25417040058003454},{"$f":"SUM(AQ3280:AQ3286)/7","v":0.25417040058003454},{"$f":"SUM(AN3282:AQ3284)/12","v":0.27614075155899104},null,null,{"$f":"IF(K3283>0,K3283,0)","v":4.5266666666666664},{"$f":"IF(L3283>0,L3283,0)","v":4.5266666666666664},{"$f":"IF(M3283>0,M3283,0)","v":4.5266666666666664},{"$f":"IF(N3283>0,N3283,0)","v":4.5266666666666664},null,5.3000000000000007]
["2024-03-18",3.3000000000000007,3.3000000000000007,3.3000000000000007,3.3000000000000007,23.9,4.6959999999999997,4.6959999999999997,4.6959999999999997,4.6959999999999997,5.4599999999999991,5.4599999999999991,5.4599999999999991,5.4599999999999991,1.1626916524701874,1.1626916524701874,1.1626916524701874,1.1626916524701874,1.1626916524701874,1.1626916524701874,1.1626916524701874,1.1626916524701874,0,0,0,0,1.1626916524701874,0,48873.887476280514,48972.895088737263,7937.6912046530269,7937.6912046530269,null,null,null,null,4.6499999999999995,1,1,0.3875638841567291,0.3875638841567291,0.3875638841567291,0.3875638841567291,0.22508592915868905,0.22508592915868905,0.36460891596889061,null,null,5.4599999999999991,5.4599999999999991,5.4599999999999991,5.4599999999999991,null,3.3000000000000007]
["2024-03-19",3,3,3,3,24,4.66,4.66,4.66,4.66,5.6,5.6,5.6,5.6,1.2017167381974247,1.2017167381974247,1.2017167381974247,1.2017167381974247,1.2017167381974247,1.2017167381974247,1.2017167381974247,1.2017167381974247,0,0,0,0,1.2017167381974247,0,48902.728677997249,49001.736290453999,7937.6912046530269,7937.6912046530269,null,null,null,null,3.9571428571428569,1,1,0.40057224606580827,0.40057224606580827,0.40057224606580827,0.40057224606580827,0.21222945417037672,0.21222945417037672,0.34824926955746438,null,null,5.6,5.6,5.6,5.6,null,3]
["2024-03-20",6.6000000000000014,6.6000000000000014,6.6000000000000014,6.6000000000000014,22.8,5.0919999999999996,5.0919999999999996,5.0919999999999996,5.0919999999999996,3.9199999999999995,3.9199999999999995,3.9199999999999995,3.9199999999999995,0.76983503534956788,0.76983503534956788,0.76983503534956788,0.76983503534956788,0.76983503534956788,0.76983503534956788,0.76983503534956788,0.76983503534956788,0,0,0,0,0.76983503534956788,0,48921.204718845642,49020.212331302391,7937.6912046530269,7937.6912046530269,null,null,null,null,3.4428571428571426,1,1,0.25661167844985594,0.25661167844985594,0.25661167844985594,0.25661167844985594,0.19291977519378972,0.19291977519378972,0.21906130817188804,null,null,3.9199999999999995,3.9199999999999995,3.9199999999999995,3.9199999999999995,null,6.6000000000000014]
["2024-03-21"]
["2024-03-22"]
["2024-03-23"]
["2024-03-24"]
["2024-03-25"]
["2024-03-26"]

{"sheet":"návod","index":1,"n_rows":50,"n_cols":20,"rows_kept":50,"cut":false,"hidden":false,"merged":[]}
["V listu SCOP-norma je výpočetní vztah z počasí daný normou. Střední pásmo přibližně odpovídá zimě 2020/21 v ČR  280 m.n.m."]
["na listu data Kbely používám archiv teplot za uplynulých cca 6 let. Lze korigovat zadáním nadmořské výšky (A6)"]
["Meteorologická data jsou porovnávána z míst  Karlovy Vary, Praha Brno, Vídeň a pro ČR byla ověřena velmi přesná souvislost mezi teplotami a nadmořskou výškou. Vídeň už je asi o 0,5K teplejší,"]
["patrně vliv nižší rovnoběžky.",null,null,null,"v listu data-Kbely zadávejte žlutá pole."]
[null,null,null,null,null,null,null,null,"O5","možnost konstantní výroby tepla, např, TUV",null,null,null,null,null,"Příklad TZ 3 kW , TČ 4,1 kW/1kW kompresor."]
["A6","nadmořská výška",null,null,null,null,null,null,"M5","TZ domu pro dT 30 K, tedy 30 U",null,null,null,null,null,"topná voda","SCOP","náklady","zhoršení proti PT"]
["H5","strmost křivky COP. 0,1 znamená nárůst o 1 na 10 stupňů.",null,null,null,null,null,null,"M6","pata ekvitermu - viz list SCOP-norma",null,null,null,null,null,20,5.0782200512962961,{"$f":"10/Q7","v":1.9691939102653382}]
["H6","COP pro A0/W35",null,null,null,null,null,null,"M7","dosažitelný příkon kompresoru (kW).",null,null,null,null,null,30,4.5232627087922781,{"$f":"10/Q8","v":2.2107935452349667},{"$f":"R8/T8","v":1},2.2107935452349667]
["F8","požadovaná teplota vytápění (typicky 20°C)",null,null,null,null,null,null,null,null,null,null,null,null,null,40,3.8559859662149676,2.5933704343369257,{"$f":"R9/T9","v":1.1730495775720651},2.2107935452349667]
["H7","nutná teplota topné vody pro venkovní dT 30K",null,null,null,null,null,null,null,null,null,null,null,null,null,50,3.1466316369609508,3.1780014802298573,1.4374935584010375,2.2107935452349667]
[null,null,null,null,null,null,null,null,null,null,null,null,null,null,null,60,2.569723084358265,3.8914698867241144,1.7602140621007298,2.2107935452349667]
[null,null,null,null,null,null,null,null,null,null,null,null,null,null,null,70,2.141650949057905,4.6692949681641256,2.1120447805848217,2.2107935452349667]
["Počasí za posledních 7 let je dáno nasbíranými daty z letště Kbely korigované Vaší nadmořskou výškou (A6)",null,null,null,null,null,null,null,null,null,null,null,null,null,null,80,1.8131832343692806,5.5151624008251545,2.4946528420585712,2.2107935452349667]
["Je možné vytápět konstantním výkonem a nebo v poli C9 zadat amplitudu denního kolísání - typicky C9 = 3",null,null,null,null,null,null,null,null,null,null,null,null,null,null,90,1.597378443531462,6.26025726119863,2.8316788217025843,2.2107935452349667]
["Sloupce B-C-D-E jsou šestihodinové bloky venkovní teploty. G-H-I-J jsou dosažitelné COPy  O-P-Q-R jsou pak příkony včetně dotopu."]
["Výsledky pro jednotlivé topné sezóny nacházíme v poli U1 až AA8.     X je roční potřeba tepla,  Z je spotřeba EE"]
["Y je pak dosažený SCOP za uplynulou sezonu.    V je počet DS 15(15) pokud je v poli M6 hodnota 15  Odpovídá výpočtu SCOP dle normy."]
[]
["Kontrolně porovnáváme  počet maximálních topných dnů v polích K1 K2 a K3.   Bývají kolem 75  Tedy roční náklady = TZ * 24 * 75."]
["L6 je příkon motoru. Představuje topný výkon v okamžiku, kdy COP klesne na 1.   Veškerý další potřebný výkon je doplňován elektrokotlem."]
["Na kolik % pracuje kompresor vidíte v grafu   vytížení kompresoru."]
["Kontrolně pak vidíte COP při A7/W35 v poli  M8"]
[]
[]
["náklady 7 kW 280 m.n.m. 7 kW TZ 15°C pata",null,null,null,null,"http://kondenzace.kvalitne.cz/kks/optimalizace-tc.xlsm "]
["Pokud instalujeme radiátory, vyplatí se 3 až 5 násobek TZ."]
["topná voda při TZ","75°C",{"$f":"20+55/2","v":47.5},{"$f":"20+55/3","v":38.333333333333329},{"$f":"20+55/4","v":33.75},{"$f":"20+55/5","v":31},{"$f":"20+55/10","v":25.5}]
[null,10899.165997088749,6322.1672464033527,5301.6164329385792,4884.9760389707462,4663.9886722703395,4267.4855425701226]
[null,13616.406270991876,8535.4111452504694,6693.7042503672783,5957.1989494228965,5575.7431376182758,4932.1326493079223]
[null,12269.020350909821,7025.3888339714558,5700.0316581289726,5200.9154711442425,4929.7063371934719,4471.1372448194234]
[null,10890.077363068795,6119.400893886932,4983.0133694043898,4577.1523382333471,4378.6981496551116,4056.2601763204239]
["kWh prumer",{"$f":"SUM(B28:B31)/4","v":11918.667495514808},{"$f":"SUM(C28:C31)/4","v":7000.5920298780529},5669.5914277098054,5155.0606994428081,4887.0340741843002,4431.7539032544737]
["Kč/kWh",5,{"$f":"B33","v":5},{"$f":"C33","v":5},5,5,5]
["Kč ee",{"$f":"B32*B33","v":59593.337477574038},{"$f":"C32*C33","v":35002.960149390266},28347.957138549027,25775.303497214041,24435.1703709215,22158.769516272368]
["7 kW radiátorů",{"$f":"7/2*2800","v":9800},{"$f":"2*B35","v":19600},{"$f":"3*B35","v":29400},{"$f":"4*B35","v":39200},{"$f":"5*B35","v":49000},{"$f":"10*B35","v":98000}]
["20 let amort",{"$f":"B35/20","v":490},{"$f":"C35/20","v":980},1470,1960,2450,4900]
["násobek",1,2,3,4,5,10]
["roční náklady",{"$f":"B36+B34","v":60083.337477574038},35982.960149390266,29817.957138549027,27735.303497214041,26885.1703709215,27058.769516272368]
[null,{"$f":"B34","v":59593.337477574038},{"$f":"C34","v":35002.960149390266},28347.957138549027,25775.303497214041,24435.1703709215,22158.769516272368]
[null,{"$f":"B36","v":490},{"$f":"C36","v":980},1470,1960,2450,4900]
[]
["Energie při vychlazování 100% vlhkého vzduchu",null,null,null,null,"suchý","asi chyba v ledu - doložit"]
[null,"g/kg","kJ/kg 100%","kJ/kg zamrz","suchý kJ/kg","led kJ/kg","kJ/K 100%","kJ/kg zam","kJ/kg suchý"]
[15,10.92,42.75,{"$f":"C44","v":42.75},15.15]
[10,7.82,29.8,{"$f":"C45","v":29.8},10.1,null,{"$f":"(C44-C45)","v":12.95},{"$f":"(D44-D45)","v":12.95},{"$f":"(E44-E45)","v":5.0500000000000007},{"$f":"H45-G45","v":0}]
[5,5.53,18.940000000000001,{"$f":"C46","v":18.940000000000001},5.05,null,{"$f":"(C45-C46)","v":10.86},10.86,5.05,{"$f":"H46-G46","v":0}]
[0,3.8650000000000002,9.66,{"$f":"C47-334*B47/1000","v":8.3690899999999999},0,{"$f":"334*B47/1000","v":1.29091},9.2800000000000011,10.570910000000001,5.05,1.2909100000000002]
[-5,2.5350000000000001,1.26,{"$f":"C48-334*B48/1000","v":0.41330999999999996},-5.05,{"$f":"334*B48/1000","v":0.84669000000000005},8.4,7.9557799999999999,5.05,-0.4442200000000005]
[-10,1.64,-6.04,-6.5877600000000003,-10.1,{"$f":"334*B49/1000","v":0.54776000000000002},7.3,7.0010700000000003,5.05,-0.29892999999999947]
[-15,1.04,-12.58,-12.92736,-15.15,{"$f":"334*B50/1000","v":0.34736},6.54,6.3395999999999999,5.0500000000000007,-0.20040000000000013]

{"sheet":"výsl. křivka","index":2,"n_rows":60,"n_cols":52,"rows_kept":60,"cut":false,"hidden":false,"merged":[]}
[null,null,null,null,null,"Data převzatá z listu data Kbely - nevyplňovat!!!"]
[null,null,null,null,null,null,null,null,null,null,"dní TZ:",null,null,"https://kondenzace.kvalitne.cz/kks/optimalizace-tc.xlsm ",null,null,null,null,null,null,null,null,null,null,null,null,null,null,null,null,null,null,null,null,null,null,null,null,null,null,null,null,null,null,null,null,null,"https://www.pocasicz.cz/aktuality-o-pocasi/aktuality-471/zmena-teploty-s-vyskou-1455 "]
[null,null,null,{"$f":"24*6.3","v":151.19999999999999},null,null,null,7,{"$f":"IF(H3*H$5+H$6>1,H3*H$5+H$6,1)","v":4.03},"COP při A7/W35"]
[null,null,null,null,null,null,null,-7,{"$f":"IF(H4*H$5+H$6>1,H4*H$5+H$6,1)","v":2.77},"COP při A-7/W45",null,null,null,null,null,null,null,null,null,null,null,null,null,null,null,null,null,null,null,null,null,null,null,null,null,null,null,null,null,null,null,null,null,null,null,null,null,"www.degreedays.net (using temperature data from www.wunderground.com)"]
[null,null,null,null,null,null,null,{"$f":"'data Kbely'!H5","v":0.09},"křivka TČ sklon. Většinou bývá 0,1 a znamená, že COP klesá o 1 při změně venkovní tepoty o 10K. Maximum pro SCOP je 0,13",null,null,null,{"$f":"'data Kbely'!M5","v":14},"kW pro dT 30K. Tedy topení 20°C, venku -10°C.",{"$f":"'data Kbely'!O5","v":0},"kW topení ostatních zdrojů",null,null,null,null,null,null,null,null,null,null,null,null,null,null,null,null,null,null,null,null,{"$f":"SUM(B10:B23)/14","v":13.5}]
[null,null,null,null,null,null,null,{"$f":"'data Kbely'!H6","v":3.4},"křivka TČ konst znamená COP při 0°C. Od Stiebel 3,8 pres LG 3,4 až po NIBE 2,7",null,null,null,{"$f":"'data Kbely'!M6","v":15},"°C je topná teplota",null,null,null,null,null,null,null,null,null,null,null,null,null,null,null,null,null,null,null,null,null,null,null,null,null,null,null,{"$f":"SUM(AN10:AQ16)","v":-1.3238230222125478}]
[null,null,null,null,null,null,null,{"$f":"'data Kbely'!H7","v":30},"°C Teplota topné vody při výpočtových ztrátách dT 30K",null,null,null,{"$f":"'data Kbely'!M7","v":3},"kW je výkon TČ při COP =1 (příkon motoru)",null,null,null,null,null,null,null,null,null,null,null,null,null,null,null,null,null,null,null,null,null,null,"průměrná teplota za topné období","počet topných dnů","počet DNŮ topení TČ"]
["Průměr °C",{"$f":"SUM(#REF!)/1096","v":{"$error":"#REF!"}},"odpoledne","průměr","v noci",{"$f":"'data Kbely'!F8","v":20},"°C bez výkonu",null,null,null,null,null,{"$f":"M7*I3","v":12.09},"kW je výkon čerpadla při A7/W35",null,null,null,null,null,null,null,null,null,null,null,null,null,null,null,null,null,null,null,null,null,null,{"$f":"AK9/AL9","v":{"$error":"#REF!"}},{"$f":"AL9/3","v":{"$error":"#REF!"}},{"$f":"AM9/3","v":{"$error":"#REF!"}}]
["°C venk","Kbely 2015-18 (°C)",0,0,{"$f":"-C9","v":0},"topná teplota","dosažený COP",null,null,null,"Potřebný topný výkon (kW)",null,null,null,"Příkon(kW)",null,null,null,"topení (kW)",null,null,null,"chlaz (kW)",null,null,null,"kW topení","kW chlazení","kWh celkem po šesti hodinách","kWh celkem z průměrů za týden","kWh chlazení po šesti hodinách","kWh chlazení jako týdenní průměry",null,null,null,null,{"$f":"SUM(#REF!)","v":{"$error":"#REF!"}},{"$f":"SUM(#REF!)","v":{"$error":"#REF!"}},{"$f":"SUM(#REF!)","v":{"$error":"#REF!"}},"procent výkonu kompresoru",null,null,null,"min","max","vytížení kompresoru",null,null,"Potřebný topný výkon (kW) jen kladný"]
[20,{"$f":"A10","v":20},{"$f":"$B10+C$9","v":20},20,20,{"$f":"F$8+(H$7-F$8)*(M$6-B10)/30","v":18.333333333333332},{"$f":"IF((B10+35-$F10)*$H$5+$H$6>1,(B10+35-$F10)*$H$5+$H$6,1)","v":6.7},{"$f":"IF((C10+35-$F10)*$H$5+$H$6>1,(C10+35-$F10)*$H$5+$H$6,1)","v":6.7},{"$f":"IF((D10+35-$F10)*$H$5+$H$6>1,(D10+35-$F10)*$H$5+$H$6,1)","v":6.7},{"$f":"IF((E10+35-$F10)*$H$5+$H$6>1,(E10+35-$F10)*$H$5+$H$6,1)","v":6.7},{"$f":"$M$5*($M$6-B10)/30-$O$5","v":-2.3333333333333335},{"$f":"$M$5*($M$6-C10)/30-$O$5","v":-2.3333333333333335},{"$f":"$M$5*($M$6-D10)/30-$O$5","v":-2.3333333333333335},{"$f":"$M$5*($M$6-E10)/30-$O$5","v":-2.3333333333333335},{"$f":"IF(K10/G10>$M$7,$M$7+K10-$M$7*G10,K10/G10)","v":-0.34825870646766172},{"$f":"IF(L10/H10>$M$7,$M$7+L10-$M$7*H10,L10/H10)","v":-0.34825870646766172},{"$f":"IF(M10/I10>$M$7,$M$7+M10-$M$7*I10,M10/I10)","v":-0.34825870646766172},{"$f":"IF(N10/J10>$M$7,$M$7+N10-$M$7*J10,N10/J10)","v":-0.34825870646766172},{"$f":"IF(O10>0,O10,0)","v":0},{"$f":"IF(P10>0,P10,)","v":0},{"$f":"IF(Q10>0,Q10,)","v":0},{"$f":"IF(R10>0,R10,)","v":0},{"$f":"IF(O10<0,-O10,0)","v":0.34825870646766172},{"$f":"IF(P10<0,-P10,0)","v":0.34825870646766172},{"$f":"IF(Q10<0,-Q10,0)","v":0.34825870646766172},{"$f":"IF(R10<0,-R10,0)","v":0.34825870646766172},null,null,{"$f":"6*SUM(S10:V10)","v":0},null,{"$f":"6*SUM(W10:Z10)","v":8.3582089552238816},null,null,null,null,null,null,{"$f":"IF(B10<$C$7,1,0)","v":0},null,{"$f":"K10/G10/$M$7","v":-0.11608623548922058},{"$f":"L10/H10/$M$7","v":-0.11608623548922058},{"$f":"M10/I10/$M$7","v":-0.11608623548922058},{"$f":"N10/J10/$M$7","v":-0.11608623548922058},null,null,null,null,null,{"$f":"IF(K10>0,K10,0)","v":0},{"$f":"IF(L10>0,L10,0)","v":0},{"$f":"IF(M10>0,M10,0)","v":0},{"$f":"IF(N10>0,N10,0)","v":0}]
[19,19,19,19,19,18.666666666666668,6.5799999999999992,6.5799999999999992,6.5799999999999992,6.5799999999999992,-1.8666666666666667,-1.8666666666666667,-1.8666666666666667,-1.8666666666666667,-0.28368794326241137,-0.28368794326241137,-0.28368794326241137,-0.28368794326241137,{"$f":"IF(O11>0,O11,)","v":0},0,0,0,0.28368794326241137,0.28368794326241137,0.28368794326241137,0.28368794326241137,null,null,{"$f":"6*SUM(S11:V11)+AC10","v":0},{"$f":"AD10+AA11*24","v":0},{"$f":"6*SUM(W11:Z11)+AE10","v":15.166719593521755},{"$f":"AF10+AB11*24","v":0},null,null,null,null,null,0,null,-9.4562647754137127E-2,-9.4562647754137127E-2,-9.4562647754137127E-2,-9.4562647754137127E-2,null,null,{"$f":"SUM(AN10:AQ12)/12","v":-9.4296101775993679E-2},null,null,0,0,0,0]
[18,18,18,18,18,19,6.46,6.46,6.46,6.46,-1.4,-1.4,-1.4,-1.4,-0.21671826625386995,-0.21671826625386995,-0.21671826625386995,-0.21671826625386995,0,0,0,0,0.21671826625386995,0.21671826625386995,0.21671826625386995,0.21671826625386995,null,null,0,{"$f":"AC12","v":0},20.367957983614634,0,null,null,null,null,null,0,null,-7.223942208462332E-2,-7.223942208462332E-2,-7.223942208462332E-2,-7.223942208462332E-2,null,null,-7.1957741003619999E-2,null,null,0,0,0,0]
[17,17,17,17,17,19.333333333333332,6.34,6.34,6.34,6.34,-0.93333333333333335,-0.93333333333333335,-0.93333333333333335,-0.93333333333333335,-0.14721345951629863,-0.14721345951629863,-0.14721345951629863,-0.14721345951629863,0,0,0,0,0.14721345951629863,0.14721345951629863,0.14721345951629863,0.14721345951629863,{"$f":"IF(SUM(O10:R16)/28>0,SUM(O10:R16)/28,)","v":0},{"$f":"IF(SUM(O10:R16)/28<0,-SUM(O10:R16)/28,)","v":0.14183818095134446},0,{"$f":"AD12+AA13*24","v":0},23.9010810120058,3.4041163428322667,null,null,null,null,null,0,{"$f":"IF(SUM(AN10:AQ16)>0,1,0)","v":0},-4.9071153172099542E-2,-4.9071153172099542E-2,-4.9071153172099542E-2,-4.9071153172099542E-2,{"$f":"SUM(AO10:AO16)/7","v":-4.727939365044815E-2},{"$f":"SUM(AQ10:AQ16)/7","v":-4.727939365044815E-2},-4.877316900602207E-2,null,null,0,0,0,0]
[16,16,16,16,16,19.666666666666668,6.22,6.22,6.22,6.22,-0.46666666666666667,-0.46666666666666667,-0.46666666666666667,-0.46666666666666667,-7.5026795284030015E-2,-7.5026795284030015E-2,-7.5026795284030015E-2,-7.5026795284030015E-2,0,0,0,0,7.5026795284030015E-2,7.5026795284030015E-2,7.5026795284030015E-2,7.5026795284030015E-2,0,6.9333808615073586E-2,0,0,25.70172409882252,5.0681277495940327,null,null,null,null,null,0,0,-2.5008931761343337E-2,-2.5008931761343337E-2,-2.5008931761343337E-2,-2.5008931761343337E-2,-2.3111269538357852E-2,-2.3111269538357852E-2,-2.4693361644480962E-2,null,null,0,0,0,0]
[15,15,15,15,15,20,6.1,6.1,6.1,6.1,0,0,0,0,0,0,0,0,0,0,0,0,0,0,0,0,6.0362459973266674E-3,0,0,0.14486990393584001,25.70172409882252,5.0681277495940327,null,null,null,null,null,0,1,0,0,0,0,2.0120819991088878E-3,2.0120819991088878E-3,3.3456764898118105E-4,null,null,0,0,0,0]
[14,14,14,14,14,20.333333333333332,5.98,5.98,5.98,5.98,0.46666666666666667,0.46666666666666667,0.46666666666666667,0.46666666666666667,7.8037904124860641E-2,7.8037904124860641E-2,7.8037904124860641E-2,7.8037904124860641E-2,7.8037904124860641E-2,7.8037904124860641E-2,7.8037904124860641E-2,7.8037904124860641E-2,0,0,0,0,8.4445583135440941E-2,0,1.8729096989966554,2.1715638991864226,25.70172409882252,5.0681277495940327,null,null,null,null,{"$f":"IF(SUM(B10:B23)/14<$C$7,SUM(B10:B23)/14,0)","v":0},{"$f":"IF(SUM(B10:B23)/14<$C$7,1,0)","v":0},1,2.601263470828688E-2,2.601263470828688E-2,2.601263470828688E-2,2.601263470828688E-2,2.8148527711813649E-2,2.8148527711813649E-2,2.6367756001232784E-2,null,null,0.46666666666666667,0.46666666666666667,0.46666666666666667,0.46666666666666667]
[13,13,13,13,13,20.666666666666668,5.8599999999999994,5.8599999999999994,5.8599999999999994,5.8599999999999994,0.93333333333333335,0.93333333333333335,0.93333333333333335,0.93333333333333335,0.15927189988623439,0.15927189988623439,0.15927189988623439,0.15927189988623439,0.15927189988623439,0.15927189988623439,0.15927189988623439,0.15927189988623439,0,0,0,0,0.16608213795811561,0,5.6954352962662806,6.1575352101811971,25.70172409882252,5.0681277495940327,null,null,null,null,0,0,1,5.3090633295411464E-2,5.3090633295411464E-2,5.3090633295411464E-2,5.3090633295411464E-2,5.5360712652705209E-2,5.5360712652705209E-2,5.3468027003942813E-2,null,null,0.93333333333333335,0.93333333333333335,0.93333333333333335,0.93333333333333335]
[12,12,12,12,12,21,5.74,5.74,5.74,5.74,1.4,1.4,1.4,1.4,0.24390243902439021,0.24390243902439021,0.24390243902439021,0.24390243902439021,0.24390243902439021,0.24390243902439021,0.24390243902439021,0.24390243902439021,0,0,0,0,0.25114969394930209,0,11.549093832851646,12.185127864964446,25.70172409882252,5.0681277495940327,null,null,null,null,0,0,1,8.1300813008130066E-2,8.1300813008130066E-2,8.1300813008130066E-2,8.1300813008130066E-2,8.3716564649767358E-2,8.3716564649767358E-2,8.170238140261718E-2,null,null,1.4,1.4,1.4,1.4]
[11,11,11,11,11,21.333333333333332,5.62,5.62,5.62,5.62,1.8666666666666667,1.8666666666666667,1.8666666666666667,1.8666666666666667,0.33214709371293,0.33214709371293,0.33214709371293,0.33214709371293,0.33214709371293,0.33214709371293,0.33214709371293,0.33214709371293,0,0,0,0,0.33986959255513222,0,19.520624081961966,20.341998086287617,25.70172409882252,5.0681277495940327,null,null,null,null,0,0,1,0.11071569790431,0.11071569790431,0.11071569790431,0.11071569790431,0.11328986418504407,0.11328986418504407,0.11114355077552716,null,null,1.8666666666666667,1.8666666666666667,1.8666666666666667,1.8666666666666667]
[10,10,10,10,10,21.666666666666668,5.5,5.5,5.5,5.5,2.3333333333333335,2.3333333333333335,2.3333333333333335,2.3333333333333335,0.42424242424242425,0.42424242424242425,0.42424242424242425,0.42424242424242425,0.42424242424242425,0.42424242424242425,0.42424242424242425,0.42424242424242425,0,0,0,0,0.43248266943483088,0,29.702442263780149,30.721582152723556,25.70172409882252,5.0681277495940327,null,null,null,null,0,0,1,0.14141414141414141,0.14141414141414141,0.14141414141414141,0.14141414141414141,0.14416088981161021,0.14416088981161021,0.14187062384551435,null,null,2.3333333333333335,2.3333333333333335,2.3333333333333335,2.3333333333333335]
[9,9,9,9,9,22,5.38,5.38,5.38,5.38,2.8,2.8,2.8,2.8,0.5204460966542751,0.5204460966542751,0.5204460966542751,0.5204460966542751,0.5204460966542751,0.5204460966542751,0.5204460966542751,0.5204460966542751,0,0,0,0,0.52925145323025224,0,42.193148583482753,43.423617030249609,25.70172409882252,5.0681277495940327,null,null,null,null,0,0,1,0.17348203221809169,0.17348203221809169,0.17348203221809169,0.17348203221809169,0.17641715107675066,0.17641715107675066,0.17396975679305671,null,null,2.8,2.8,2.8,2.8]
[8,8,8,8,8,22.333333333333332,5.26,5.26,5.26,5.26,3.2666666666666666,3.2666666666666666,3.2666666666666666,3.2666666666666666,0.62103929024081117,0.62103929024081117,0.62103929024081117,0.62103929024081117,0.62103929024081117,0.62103929024081117,0.62103929024081117,0.62103929024081117,0,0,0,0,0.63046266942404683,0,57.098091549262222,58.554721096426732,25.70172409882252,5.0681277495940327,null,null,null,null,0,0,1,0.20701309674693705,0.20701309674693705,0.20701309674693705,0.20701309674693705,0.21015422314134885,0.21015422314134885,0.20753498101975953,null,null,3.2666666666666666,3.2666666666666666,3.2666666666666666,3.2666666666666666]
[7,7,7,7,7,22.666666666666668,5.14,5.14,5.14,5.14,3.7333333333333334,3.7333333333333334,3.7333333333333334,3.7333333333333334,0.72632944228274976,0.72632944228274976,0.72632944228274976,0.72632944228274976,0.72632944228274976,0.72632944228274976,0.72632944228274976,0.72632944228274976,0,0,0,0,0.73643009994961572,0,74.529998164048209,76.22904349521751,25.70172409882252,5.0681277495940327,null,null,null,null,0,0,1,0.24210981409424992,0.24210981409424992,0.24210981409424992,0.24210981409424992,0.24547669998320507,0.24547669998320507,0.24266912433086052,null,null,3.7333333333333334,3.7333333333333334,3.7333333333333334,3.7333333333333334]
[6,6,6,6,6,23,5.0199999999999996,5.0199999999999996,5.0199999999999996,5.0199999999999996,4.2,4.2,4.2,4.2,0.83665338645418341,0.83665338645418341,0.83665338645418341,0.83665338645418341,0.83665338645418341,0.83665338645418341,0.83665338645418341,0.83665338645418341,0,0,0,0,0.84749785908604436,0,94.609679438948604,96.568992113282576,25.70172409882252,5.0681277495940327,null,null,null,null,0,0,1,0.27888446215139445,0.27888446215139445,0.27888446215139445,0.27888446215139445,0.28249928636201466,0.28249928636201466,0.27948486456865385,null,null,4.2,4.2,4.2,4.2]
[5,5,5,5,5,23.333333333333332,4.9000000000000004,4.9000000000000004,4.9000000000000004,4.9000000000000004,4.666666666666667,4.666666666666667,4.666666666666667,4.666666666666667,0.95238095238095233,0.95238095238095233,0.95238095238095233,0.95238095238095233,0.95238095238095233,0.95238095238095233,0.95238095238095233,0.95238095238095233,0,0,0,0,0.96404415826339662,0,117.46682229609146,119.70605191160409,25.70172409882252,5.0681277495940327,null,null,null,null,0,0,1,0.31746031746031744,0.31746031746031744,0.31746031746031744,0.31746031746031744,0.32134805275446537,0.32134805275446537,0.31810593846967183,null,null,4.666666666666667,4.666666666666667,4.666666666666667,4.666666666666667]
[4,4,4,4,4,23.666666666666668,4.7799999999999994,4.7799999999999994,4.7799999999999994,4.7799999999999994,5.1333333333333337,5.1333333333333337,5.1333333333333337,5.1333333333333337,1.073919107391911,1.073919107391911,1.073919107391911,1.073919107391911,1.073919107391911,1.073919107391911,1.073919107391911,1.073919107391911,0,0,0,0,1.0864856472895423,0,143.24088087349733,145.7817074465531,25.70172409882252,5.0681277495940327,null,null,null,null,0,0,1,0.35797303579730366,0.35797303579730366,0.35797303579730366,0.35797303579730366,0.36216188242984731,0.36216188242984731,0.35866853310780972,null,null,5.1333333333333337,5.1333333333333337,5.1333333333333337,5.1333333333333337]
[3,3,3,3,3,24,4.66,4.66,4.66,4.66,5.6,5.6,5.6,5.6,1.2017167381974247,1.2017167381974247,1.2017167381974247,1.2017167381974247,1.2017167381974247,1.2017167381974247,1.2017167381974247,1.2017167381974247,0,0,0,0,1.2152824379268901,0,172.08208259023553,174.94848595679846,25.70172409882252,5.0681277495940327,null,null,null,null,0,0,1,0.40057224606580827,0.40057224606580827,0.40057224606580827,0.40057224606580827,0.40509414597562998,0.40509414597562998,0.40132289294278634,null,null,5.6,5.6,5.6,5.6]
[2,2,2,2,2,24.333333333333332,4.54,4.54,4.54,4.54,6.0666666666666664,6.0666666666666664,6.0666666666666664,6.0666666666666664,1.3362701908957415,1.3362701908957415,1.3362701908957415,1.3362701908957415,1.3362701908957415,1.3362701908957415,1.3362701908957415,1.3362701908957415,0,0,0,0,1.3509439386544424,0,204.15256717173332,207.37114048450508,25.70172409882252,5.0681277495940327,null,null,null,null,0,0,1,0.44542339696524719,0.44542339696524719,0.44542339696524719,0.44542339696524719,0.45031464621814749,0.45031464621814749,0.44623518250188859,null,null,6.0666666666666664,6.0666666666666664,6.0666666666666664,6.0666666666666664]
[1,1,1,1,1,24.666666666666668,4.42,4.42,4.42,4.42,6.5333333333333332,6.5333333333333332,6.5333333333333332,6.5333333333333332,1.4781297134238311,1.4781297134238311,1.4781297134238311,1.4781297134238311,1.4781297134238311,1.4781297134238311,1.4781297134238311,1.4781297134238311,0,0,0,0,1.4940356581008418,0,239.62768029390526,243.22799627892527,25.70172409882252,5.0681277495940327,null,null,null,null,0,0,1,0.49270990447461038,0.49270990447461038,0.49270990447461038,0.49270990447461038,0.4980118860336139,0.4980118860336139,0.49358965345152878,null,null,6.5333333333333332,6.5333333333333332,6.5333333333333332,6.5333333333333332]
[0,0,{"$f":"$B30+C$9","v":0},0,0,25,4.3,4.3,4.3,4.3,7,7,7,7,1.6279069767441861,1.6279069767441861,1.6279069767441861,1.6279069767441861,1.6279069767441861,1.6279069767441861,1.6279069767441861,1.6279069767441861,0,0,0,0,1.6451871706779222,0,278.69744773576571,282.71248837519539,25.70172409882252,5.0681277495940327,null,null,null,null,-0.5,1,1,0.54263565891472865,0.54263565891472865,0.54263565891472865,0.54263565891472865,0.54839572355930721,0.54839572355930721,0.54359117574611859,null,null,7,7,7,7]
[-1,-1,-1,-1,-1,25.333333333333332,4.18,4.18,4.18,4.18,7.4666666666666668,7.4666666666666668,7.4666666666666668,7.4666666666666668,1.7862838915470496,1.7862838915470496,1.7862838915470496,1.7862838915470496,1.7862838915470496,1.7862838915470496,1.7862838915470496,1.7862838915470496,0,0,0,0,1.805101483570686,0,321.56826113289492,326.03492398089185,25.70172409882252,5.0681277495940327,null,null,null,null,-1.5,1,1,0.59542796384901653,0.59542796384901653,0.59542796384901653,0.59542796384901653,0.60170049452356189,0.60170049452356189,0.59646820631077591,null,null,7.4666666666666668,7.4666666666666668,7.4666666666666668,7.4666666666666668]
[-2,-2,-2,-2,-2,25.666666666666668,4.0599999999999996,4.0599999999999996,4.0599999999999996,4.0599999999999996,7.9333333333333336,7.9333333333333336,7.9333333333333336,7.9333333333333336,1.9540229885057474,1.9540229885057474,1.9540229885057474,1.9540229885057474,1.9540229885057474,1.9540229885057474,1.9540229885057474,1.9540229885057474,0,0,0,0,1.9745661023745116,0,368.46481285703283,373.42451043788014,25.70172409882252,5.0681277495940327,null,null,null,null,-2.5,1,1,0.65134099616858243,0.65134099616858243,0.65134099616858243,0.65134099616858243,0.65818870079150393,0.65818870079150393,0.65247628616491882,null,null,7.9333333333333336,7.9333333333333336,7.9333333333333336,7.9333333333333336]
[-3,-3,-3,-3,-3,26,3.94,3.94,3.94,3.94,8.4,8.4,8.4,8.4,2.1319796954314723,2.1319796954314723,2.1319796954314723,2.1319796954314723,2.1319796954314723,2.1319796954314723,2.1319796954314723,2.1319796954314723,0,0,0,0,2.1544661672565018,0,419.63232554738818,425.13169845203618,25.70172409882252,5.0681277495940327,null,null,null,null,-3.5,1,1,0.71065989847715738,0.71065989847715738,0.71065989847715738,0.71065989847715738,0.71815538908550081,0.71815538908550081,0.71190217915377685,null,null,8.4,8.4,8.4,8.4]
[-4,-4,-4,-4,-4,26.333333333333332,3.82,3.82,3.82,3.82,8.8666666666666671,8.8666666666666671,8.8666666666666671,8.8666666666666671,2.3211169284467714,2.3211169284467714,2.3211169284467714,2.3211169284467714,2.3211169284467714,2.3211169284467714,2.3211169284467714,2.3211169284467714,0,0,0,0,2.3458001279142962,0,475.33913183011066,481.43090152197931,25.70172409882252,5.0681277495940327,null,null,null,null,-4.5,1,1,0.77370564281559051,0.77370564281559051,0.77370564281559051,0.77370564281559051,0.78193337597143231,0.78193337597143231,0.77506879404452944,null,null,8.8666666666666671,8.8666666666666671,8.8666666666666671,8.8666666666666671]
[-5,-5,-5,-5,-5,26.666666666666668,3.6999999999999997,3.6999999999999997,3.6999999999999997,3.6999999999999997,9.3333333333333339,9.3333333333333339,9.3333333333333339,9.3333333333333339,2.522522522522523,2.522522522522523,2.522522522522523,2.522522522522523,2.522522522522523,2.522522522522523,2.522522522522523,2.522522522522523,0,0,0,0,2.6210929053123371,0,535.87967237065118,544.33713124947542,25.70172409882252,5.0681277495940327,null,null,null,null,-5.5,1,1,0.84084084084084099,0.84084084084084099,0.84084084084084099,0.84084084084084099,0.84989951705449751,0.84989951705449751,0.84234106872967318,null,null,9.3333333333333339,9.3333333333333339,9.3333333333333339,9.3333333333333339]
[-6,-6,-6,-6,-6,27,3.58,3.58,3.58,3.58,9.8000000000000007,9.8000000000000007,9.8000000000000007,9.8000000000000007,2.7374301675977657,2.7374301675977657,2.7374301675977657,2.7374301675977657,2.7374301675977657,2.7374301675977657,2.7374301675977657,2.7374301675977657,0,0,0,0,2.9905181926686573,0,601.57799639299753,616.10956787352325,25.70172409882252,5.0681277495940327,null,null,null,null,-6.5,1,1,0.9124767225325886,0.9124767225325886,0.9124767225325886,0.9124767225325886,0.92248227329542465,0.92248227329542465,0.91413304349655966,null,null,9.8000000000000007,9.8000000000000007,9.8000000000000007,9.8000000000000007]
[-7,-7,-7,-7,-7,27.333333333333332,3.46,3.46,3.46,3.46,10.266666666666667,10.266666666666667,10.266666666666667,10.266666666666667,2.967244701348748,2.967244701348748,2.967244701348748,2.967244701348748,2.967244701348748,2.967244701348748,2.967244701348748,2.967244701348748,0,0,0,0,3.4526163314165439,0,672.79186922536746,698.97235982752034,25.70172409882252,5.0681277495940327,null,null,null,null,-7.5,1,1,0.98908156711624928,0.98908156711624928,0.98908156711624928,0.98908156711624928,1.0001709001898809,1.0001709001898809,0.99091641369310335,null,null,10.266666666666667,10.266666666666667,10.266666666666667,10.266666666666667]
[-8,-8,-8,-8,-8,27.666666666666668,3.34,3.34,3.34,3.34,10.733333333333333,10.733333333333333,10.733333333333333,10.733333333333333,3.7133333333333329,3.7133333333333329,3.7133333333333329,3.7133333333333329,3.7133333333333329,3.7133333333333329,3.7133333333333329,3.7133333333333329,0,0,0,0,4.0057901035431955,0,761.91186922536747,795.11132231255704,25.70172409882252,5.0681277495940327,null,null,null,null,-8.5,1,1,1.0711909514304725,1.0711909514304725,1.0711909514304725,1.0711909514304725,1.0835266829729098,1.0835266829729098,1.0732309361339314,null,null,10.733333333333333,10.733333333333333,10.733333333333333,10.733333333333333]
[-9,-9,-9,-9,-9,28,3.2199999999999998,3.2199999999999998,3.2199999999999998,3.2199999999999998,11.2,11.2,11.2,11.2,4.5399999999999991,4.5399999999999991,4.5399999999999991,4.5399999999999991,4.5399999999999991,4.5399999999999991,4.5399999999999991,4.5399999999999991,0,0,0,0,4.6482868860399771,0,870.87186922536739,906.67020757751652,25.70172409882252,5.0681277495940327,null,null,null,null,-9.5,1,1,1.1594202898550725,1.1594202898550725,1.1594202898550725,1.1594202898550725,1.1731967726429995,1.1731967726429995,1.1616971760079655,null,null,11.2,11.2,11.2,11.2]
[-10,-10,-10,-10,-10,28.333333333333336,3.0999999999999996,3.0999999999999996,3.0999999999999996,3.0999999999999996,11.666666666666666,11.666666666666666,11.666666666666666,11.666666666666666,5.3666666666666671,5.3666666666666671,5.3666666666666671,5.3666666666666671,5.3666666666666671,5.3666666666666671,5.3666666666666671,5.3666666666666671,0,0,0,0,5.3781778144783905,0,999.67186922536735,1035.7464751249979,25.70172409882252,5.0681277495940327,null,null,null,null,-10.5,1,1,1.2544802867383513,1.2544802867383513,1.2544802867383513,1.2544802867383513,1.2699313574092279,1.2699313574092279,1.2570322329634058,null,null,11.666666666666666,11.666666666666666,11.666666666666666,11.666666666666666]
[-11,-11,-11,-11,-11,28.666666666666664,2.98,2.98,2.98,2.98,12.133333333333333,12.133333333333333,12.133333333333333,12.133333333333333,6.1933333333333334,6.1933333333333334,6.1933333333333334,6.1933333333333334,6.1933333333333334,6.1933333333333334,6.1933333333333334,6.1933333333333334,0,0,0,0,6.1933333333333342,0,1148.3118692253674,1184.386475124998,25.70172409882252,5.0681277495940327,null,null,null,null,-11.5,1,1,1.3571961222967934,1.3571961222967934,1.3571961222967934,1.3571961222967934,1.3746051526800316,1.3746051526800316,1.3600692925222042,null,null,12.133333333333333,12.133333333333333,12.133333333333333,12.133333333333333]
[-12,{"$f":"A42","v":-12},-12,-12,-12,{"$f":"F$8+(H$7-F$8)*(M$6-B42)/30","v":29},{"$f":"IF((B42+35-$F42)*$H$5+$H$6>1,(B42+35-$F42)*$H$5+$H$6,1)","v":2.86},{"$f":"IF((C42+35-$F42)*$H$5+$H$6>1,(C42+35-$F42)*$H$5+$H$6,1)","v":2.86},{"$f":"IF((D42+35-$F42)*$H$5+$H$6>1,(D42+35-$F42)*$H$5+$H$6,1)","v":2.86},{"$f":"IF((E42+35-$F42)*$H$5+$H$6>1,(E42+35-$F42)*$H$5+$H$6,1)","v":2.86},{"$f":"$M$5*($M$6-B42)/30-$O$5","v":12.6},{"$f":"$M$5*($M$6-C42)/30-$O$5","v":12.6},{"$f":"$M$5*($M$6-D42)/30-$O$5","v":12.6},{"$f":"$M$5*($M$6-E42)/30-$O$5","v":12.6},{"$f":"IF(K42/G42>$M$7,$M$7+K42-$M$7*G42,K42/G42)","v":7.02},{"$f":"IF(L42/H42>$M$7,$M$7+L42-$M$7*H42,L42/H42)","v":7.02},{"$f":"IF(M42/I42>$M$7,$M$7+M42-$M$7*I42,M42/I42)","v":7.02},{"$f":"IF(N42/J42>$M$7,$M$7+N42-$M$7*J42,N42/J42)","v":7.02},7.02,{"$f":"IF(P42>0,P42,)","v":7.02},{"$f":"IF(Q42>0,Q42,)","v":7.02},{"$f":"IF(R42>0,R42,)","v":7.02},{"$f":"IF(O42<0,-O42,0)","v":0},{"$f":"IF(P42<0,-P42,0)","v":0},{"$f":"IF(Q42<0,-Q42,0)","v":0},{"$f":"IF(R42<0,-R42,0)","v":0},7.0200000000000005,0,1316.7918692253675,1352.866475124998,25.70172409882252,5.0681277495940327,null,null,null,null,-12.5,1,1,{"$f":"K42/G42/$M$7","v":1.4685314685314685},{"$f":"L42/H42/$M$7","v":1.4685314685314685},{"$f":"M42/I42/$M$7","v":1.4685314685314685},{"$f":"N42/J42/$M$7","v":1.4685314685314685},1.4882445405709164,1.4882445405709164,1.4717821355748166,null,null,{"$f":"IF(K42>0,K42,0)","v":12.6},{"$f":"IF(L42>0,L42,0)","v":12.6},{"$f":"IF(M42>0,M42,0)","v":12.6},{"$f":"IF(N42>0,N42,0)","v":12.6}]
[-13,-13,-13,-13,-13,29.333333333333336,2.7399999999999998,2.7399999999999998,2.7399999999999998,2.7399999999999998,13.066666666666666,13.066666666666666,13.066666666666666,13.066666666666666,7.8466666666666676,7.8466666666666676,7.8466666666666676,7.8466666666666676,{"$f":"IF(O43>0,O43,)","v":7.8466666666666676},7.8466666666666676,7.8466666666666676,7.8466666666666676,0,0,0,0,7.846666666666664,0,{"$f":"6*SUM(S43:V43)+AC42","v":1505.1118692253674},1541.186475124998,{"$f":"6*SUM(W43:Z43)+AE42","v":25.70172409882252},{"$f":"AF42+AB43*24","v":5.0681277495940327},null,null,null,null,-13.5,1,1,1.5896188158961884,1.5896188158961884,1.5896188158961884,1.5896188158961884,1.6120621835701452,1.6120621835701452,{"$f":"SUM(AN42:AQ44)/12","v":1.5933161394798436},null,null,13.066666666666666,13.066666666666666,13.066666666666666,13.066666666666666]
[-14,-14,-14,-14,-14,29.666666666666664,2.62,2.62,2.62,2.62,13.533333333333333,13.533333333333333,13.533333333333333,13.533333333333333,8.673333333333332,8.673333333333332,8.673333333333332,8.673333333333332,8.673333333333332,8.673333333333332,8.673333333333332,8.673333333333332,0,0,0,0,8.673333333333332,0,1713.2718692253675,1749.3464751249981,25.70172409882252,5.0681277495940327,null,null,null,null,-14.5,1,1,1.7217981340118744,1.7217981340118744,1.7217981340118744,1.7217981340118744,1.7475016481560555,1.7475016481560555,1.7260278721915767,null,null,13.533333333333333,13.533333333333333,13.533333333333333,13.533333333333333]
[-15,-15,-15,-15,-15,30,2.5,2.5,2.5,2.5,14,14,14,14,9.5,9.5,9.5,9.5,9.5,9.5,9.5,9.5,0,0,0,0,9.4999999999999964,0,1941.2718692253675,1977.3464751249981,25.70172409882252,5.0681277495940327,null,null,null,null,-15.5,1,1,1.8666666666666665,1.8666666666666665,1.8666666666666665,1.8666666666666665,1.8962956155537989,1.8962956155537989,1.8715361971760716,null,null,14,14,14,14]
[-16,-16,-16,-16,-16,30.333333333333336,2.38,2.38,2.38,2.38,14.466666666666667,14.466666666666667,14.466666666666667,14.466666666666667,10.326666666666668,10.326666666666668,10.326666666666668,10.326666666666668,10.326666666666668,10.326666666666668,10.326666666666668,10.326666666666668,0,0,0,0,10.326666666666666,0,2189.1118692253676,2225.1864751249982,25.70172409882252,5.0681277495940327,null,null,null,null,-16.5,1,1,2.0261437908496736,2.0261437908496736,2.0261437908496736,2.0261437908496736,2.0605428095039633,2.0605428095039633,2.0317889987853541,null,null,14.466666666666667,14.466666666666667,14.466666666666667,14.466666666666667]
[-17,-17,-17,-17,-17,30.666666666666664,2.2600000000000002,2.2600000000000002,2.2600000000000002,2.2600000000000002,14.933333333333334,14.933333333333334,14.933333333333334,14.933333333333334,11.153333333333332,11.153333333333332,11.153333333333332,11.153333333333332,11.153333333333332,11.153333333333332,11.153333333333332,11.153333333333332,0,0,0,0,11.153333333333332,0,2456.7918692253675,2492.866475124998,25.70172409882252,5.0681277495940327,null,null,null,null,-17.5,1,1,2.2025565388397244,2.2025565388397244,2.2025565388397244,2.2025565388397244,2.2428111323792783,2.2428111323792783,2.2091514079234646,null,null,14.933333333333334,14.933333333333334,14.933333333333334,14.933333333333334]
[-18,-18,-18,-18,-18,31,2.1399999999999997,2.1399999999999997,2.1399999999999997,2.1399999999999997,15.4,15.4,15.4,15.4,11.98,11.98,11.98,11.98,11.98,11.98,11.98,11.98,0,0,0,0,11.979999999999995,0,2744.3118692253674,2780.386475124998,25.70172409882252,5.0681277495940327,null,null,null,null,-18.5,1,1,2.3987538940809974,2.3987538940809974,2.3987538940809974,2.3987538940809974,2.4462781726247727,2.4462781726247727,2.4065240863677797,null,null,15.4,15.4,15.4,15.4]
[-19,-19,-19,-19,-19,31.333333333333336,2.0199999999999996,2.0199999999999996,2.0199999999999996,2.0199999999999996,15.866666666666667,15.866666666666667,15.866666666666667,15.866666666666667,12.806666666666668,12.806666666666668,12.806666666666668,12.806666666666668,12.806666666666668,12.806666666666668,12.806666666666668,12.806666666666668,0,0,0,0,12.80666666666667,0,3051.6718692253676,3087.7464751249981,25.70172409882252,5.0681277495940327,null,null,null,null,-19.5,1,1,2.6182618261826192,2.6182618261826192,2.6182618261826192,2.6182618261826192,2.6749260976582403,2.6749260976582403,2.6275042654290028,null,null,15.866666666666667,15.866666666666667,15.866666666666667,15.866666666666667]
[-20,-20,{"$f":"$B50+C$9","v":-20},-20,-20,31.666666666666664,1.9000000000000001,1.9000000000000001,1.9000000000000001,1.9000000000000001,16.333333333333332,16.333333333333332,16.333333333333332,16.333333333333332,13.633333333333333,13.633333333333333,13.633333333333333,13.633333333333333,13.633333333333333,13.633333333333333,13.633333333333333,13.633333333333333,0,0,0,0,13.633333333333338,0,3378.8718692253674,3414.9464751249984,25.70172409882252,5.0681277495940327,null,null,null,null,-20.5,1,1,2.8654970760233915,2.8654970760233915,2.8654970760233915,2.8654970760233915,2.9338175330202638,2.9338175330202638,2.876608772645449,null,null,16.333333333333332,16.333333333333332,16.333333333333332,16.333333333333332]
[-21,-21,-21,-21,-21,32,1.78,1.78,1.78,1.78,16.8,16.8,16.8,16.8,14.46,14.46,14.46,14.46,14.46,14.46,14.46,14.46,0,0,0,0,14.460000000000004,0,3725.9118692253674,3761.9864751249984,25.70172409882252,5.0681277495940327,null,null,null,null,-21.5,1,1,3.1460674157303372,3.1460674157303372,3.1460674157303372,3.1460674157303372,3.2294952373979555,3.2294952373979555,3.1595888778848882,null,null,16.8,16.8,16.8,16.8]
[-22,-22,-22,-22,-22,32.333333333333336,1.6599999999999997,1.6599999999999997,1.6599999999999997,1.6599999999999997,17.266666666666666,17.266666666666666,17.266666666666666,17.266666666666666,15.286666666666667,15.286666666666667,15.286666666666667,15.286666666666667,15.286666666666667,15.286666666666667,15.286666666666667,15.286666666666667,0,0,0,0,15.286666666666665,0,4092.7918692253675,4128.866475124998,25.70172409882252,5.0681277495940327,null,null,null,null,-22.5,1,1,3.4672021419009376,3.4672021419009376,3.4672021419009376,3.4672021419009376,3.5705767934327826,3.5705767934327826,3.4838844653383716,null,null,17.266666666666666,17.266666666666666,17.266666666666666,17.266666666666666]
[-23,-23,-23,-23,-23,32.666666666666664,1.5400000000000003,1.5400000000000003,1.5400000000000003,1.5400000000000003,17.733333333333334,17.733333333333334,17.733333333333334,17.733333333333334,16.113333333333333,16.113333333333333,16.113333333333333,16.113333333333333,16.113333333333333,16.113333333333333,16.113333333333333,16.113333333333333,0,0,0,0,16.113333333333337,0,4479.5118692253673,4515.5864751249983,25.70172409882252,5.0681277495940327,null,null,null,null,-23.5,1,1,3.8383838383838378,3.8383838383838378,3.8383838383838378,3.8383838383838378,3.9686674499560621,3.9686674499560621,3.8592954832561142,null,null,17.733333333333334,17.733333333333334,17.733333333333334,17.733333333333334]
[-24,-24,-24,-24,-24,33,1.42,1.42,1.42,1.42,18.2,18.2,18.2,18.2,16.939999999999998,16.939999999999998,16.939999999999998,16.939999999999998,16.939999999999998,16.939999999999998,16.939999999999998,16.939999999999998,0,0,0,0,16.940000000000005,0,4886.0718692253668,4922.1464751249987,25.70172409882252,5.0681277495940327,null,null,null,null,{"$f":"IF(SUM(B48:B60)/14<$C$7,SUM(B48:B60)/14,0)","v":-22.285714285714285},{"$f":"IF(SUM(B48:B60)/14<$C$7,1,0)","v":1},1,4.272300469483568,4.272300469483568,4.272300469483568,4.272300469483568,4.4398138694639515,4.4398138694639515,4.2990030313973966,null,null,18.2,18.2,18.2,18.2]
[-25,-25,-25,-25,-25,33.333333333333336,1.2999999999999998,1.2999999999999998,1.2999999999999998,1.2999999999999998,18.666666666666668,18.666666666666668,18.666666666666668,18.666666666666668,17.766666666666669,17.766666666666669,17.766666666666669,17.766666666666669,17.766666666666669,17.766666666666669,17.766666666666669,17.766666666666669,0,0,0,0,17.740952380952386,0,5312.4718692253664,5347.9293322678559,25.70172409882252,5.0681277495940327,null,null,null,null,{"$f":"IF(SUM(B49:B60)/14<$C$7,SUM(B49:B60)/14,0)","v":-21},{"$f":"IF(SUM(B49:B60)/14<$C$7,1,0)","v":1},1,4.7863247863247871,4.7863247863247871,4.7863247863247871,4.7863247863247871,4.945931222772316,4.945931222772316,4.8211738925513083,null,null,18.666666666666668,18.666666666666668,18.666666666666668,18.666666666666668]
[-26,-26,-26,-26,-26,33.666666666666664,1.1800000000000002,1.1800000000000002,1.1800000000000002,1.1800000000000002,19.133333333333333,19.133333333333333,19.133333333333333,19.133333333333333,18.593333333333334,18.593333333333334,18.593333333333334,18.593333333333334,18.593333333333334,18.593333333333334,18.593333333333334,18.593333333333334,0,0,0,0,18.490476190476198,0,5758.7118692253662,5791.7007608392851,25.70172409882252,5.0681277495940327,null,null,null,null,{"$f":"IF(SUM(B50:B60)/14<$C$7,SUM(B50:B60)/14,0)","v":-19.642857142857142},{"$f":"IF(SUM(B50:B60)/14<$C$7,1,0)","v":1},1,5.4048964218455735,5.4048964218455735,5.4048964218455735,5.4048964218455735,5.4283944088499601,5.4283944088499601,5.4515810735829922,null,null,19.133333333333333,19.133333333333333,19.133333333333333,19.133333333333333]
[-27,-27,-27,-27,-27,34,1.06,1.06,1.06,1.06,19.600000000000001,19.600000000000001,19.600000000000001,19.600000000000001,19.420000000000002,19.420000000000002,19.420000000000002,19.420000000000002,19.420000000000002,19.420000000000002,19.420000000000002,19.420000000000002,0,0,0,0,19.188571428571436,0,6224.7918692253661,6252.2264751249995,25.70172409882252,5.0681277495940327,null,null,null,null,{"$f":"IF(SUM(B51:B60)/14<$C$7,SUM(B51:B60)/14,0)","v":-18.214285714285715},{"$f":"IF(SUM(B51:B60)/14<$C$7,1,0)","v":1},1,6.1635220125786168,6.1635220125786168,6.1635220125786168,6.1635220125786168,5.8800538605094124,5.8800538605094124,6.0857691077710259,null,null,19.600000000000001,19.600000000000001,19.600000000000001,19.600000000000001]
[-28,-28,-28,-28,-28,34.333333333333336,1,1,1,1,20.066666666666666,20.066666666666666,20.066666666666666,20.066666666666666,20.066666666666666,20.066666666666666,20.066666666666666,20.066666666666666,20.066666666666666,20.066666666666666,20.066666666666666,20.066666666666666,0,0,0,0,{"$f":"IF(SUM(O55:R60)/28>0,SUM(O55:R60)/28,)","v":16.768571428571434},{"$f":"IF(SUM(O55:R60)/28<0,-SUM(O55:R60)/28,)","v":0},6706.3918692253665,6654.6721894107141,25.70172409882252,5.0681277495940327,null,null,null,null,{"$f":"IF(SUM(B52:B60)/14<$C$7,SUM(B52:B60)/14,0)","v":-16.714285714285715},{"$f":"IF(SUM(B52:B60)/14<$C$7,1,0)","v":1},{"$f":"IF(SUM(AN55:AQ60)>0,1,0)","v":1},6.6888888888888891,6.6888888888888891,6.6888888888888891,6.6888888888888891,{"$f":"SUM(AO55:AO60)/7","v":5.2697252220117594},{"$f":"SUM(AQ55:AQ60)/7","v":5.2697252220117594},6.5656184486373173,null,null,20.066666666666666,20.066666666666666,20.066666666666666,20.066666666666666]
[-29,-29,-29,-29,-29,34.666666666666664,1,1,1,1,20.533333333333335,20.533333333333335,20.533333333333335,20.533333333333335,20.533333333333335,20.533333333333335,20.533333333333335,20.533333333333335,20.533333333333335,20.533333333333335,20.533333333333335,20.533333333333335,0,0,0,0,{"$f":"IF(SUM(O56:R60)/28>0,SUM(O56:R60)/28,)","v":14.230476190476192},{"$f":"IF(SUM(O56:R60)/28<0,-SUM(O56:R60)/28,)","v":0},7199.1918692253666,6996.2036179821425,25.70172409882252,5.0681277495940327,null,null,null,null,{"$f":"IF(SUM(B53:B60)/14<$C$7,SUM(B53:B60)/14,0)","v":-15.142857142857142},{"$f":"IF(SUM(B53:B60)/14<$C$7,1,0)","v":1},{"$f":"IF(SUM(AN56:AQ60)>0,1,0)","v":1},6.844444444444445,6.844444444444445,6.844444444444445,6.844444444444445,{"$f":"SUM(AO56:AO60)/7","v":4.5859645382510745},{"$f":"SUM(AQ56:AQ60)/7","v":4.5859645382510745},6.844444444444445,null,null,20.533333333333335,20.533333333333335,20.533333333333335,20.533333333333335]
[-30,-30,-30,-30,-30,35,1,1,1,1,21,21,21,21,21,21,21,21,21,21,21,21,0,0,0,0,{"$f":"IF(SUM(O57:R60)/28>0,SUM(O57:R60)/28,)","v":11.574285714285713},{"$f":"IF(SUM(O57:R60)/28<0,-SUM(O57:R60)/28,)","v":0},7703.1918692253666,7273.9864751249997,25.70172409882252,5.0681277495940327,null,null,null,null,{"$f":"IF(SUM(B54:B60)/14<$C$7,SUM(B54:B60)/14,0)","v":-13.5},{"$f":"IF(SUM(B54:B60)/14<$C$7,1,0)","v":1},{"$f":"IF(SUM(AN57:AQ60)>0,1,0)","v":1},7,7,7,7,{"$f":"SUM(AO57:AO60)/7","v":3.8138364779874214},{"$f":"SUM(AQ57:AQ60)/7","v":3.8138364779874214},{"$f":"SUM(AN59:AQ60)/12","v":4.6148148148148147},null,null,21,21,21,21]

{"sheet":"křivky TC","index":3,"n_rows":284,"n_cols":36,"rows_kept":284,"cut":false,"hidden":false,"merged":[]}
["porovnávací měření  Topin cca 3,8 a strmost",null,null,null,null,null,{"$f":"(5.8-3.8)/15","v":0.13333333333333333}]
["https://www.topin.cz/clanky/vyznam-atestacnich-mereni-tepelnych-cerpadel-vzduch-voda-1-cast-detail-8961"]
[]
["teoretická mez",null,null,null,null,"konstanty přepočtu COP:"]
["venk. tepl.","topná voda:",null,"COP teorie","COP vzorec","a (G4)","b (G5)"]
[10,35,{"$f":"A6+35-B6","v":10},{"$f":"(A6+275)/(B6-A6)+1","v":12.4},{"$f":"A6*F6+G6","v":11.5},0.25,9]
[7,{"$f":"B6","v":35},7,11.071428571428571,10.75,{"$f":"F6","v":0.25},{"$f":"G6","v":9}]
[2,{"$f":"B7","v":35},2,9.3939393939393945,9.5,{"$f":"F7","v":0.25},9]
[-2,35,-2,8.378378378378379,8.5,0.25,9]
[-7,35,-7,7.3809523809523814,7.25,0.25,9]
[-11,35,-11,6.7391304347826084,6.25,0.25,9]
[-20,35,-20,5.6363636363636367]
[-30,35,-30,4.7692307692307692]
[null,null,null,null,null,"celkem stupňů ztrát"]
[10,35,{"$f":"A15+35-B15","v":10},{"$f":"(A15+275+$I$15)/(B15-A15+$I$15)+1","v":9.4285714285714288},{"$f":"A15*F15+G15","v":8.9},0.16,7.3,null,10]
[7,{"$f":"B15","v":35},7,8.6842105263157894,8.42,{"$f":"F15","v":0.16},{"$f":"G15","v":7.3}]
[2,{"$f":"B16","v":35},2,7.6744186046511631,7.62,{"$f":"F16","v":0.16},7.3]
[-2,35,-2,7.0212765957446805,6.9799999999999995,0.16,7.3]
[-7,35,-7,6.3461538461538458,6.18,0.16,7.3]
[-11,35,-11,5.8928571428571432,5.54,0.16,7.3]
[-20,35,-20,5.0769230769230766]
[-30,35,-30,4.4000000000000004]
[null,null,null,null,null,null,"max 4,6 min 3,0"]
[10,35,10,{"$f":"A24*F24+G24","v":8.9},null,0.16,7.3,null,{"$f":"8.9/0.25","v":35.6}]
[-10,35,-10,{"$f":"A25*F25+G25","v":5.6999999999999993},null,{"$f":"F24","v":0.16},{"$f":"G24","v":7.3}]
["Loria2017",null,null,null,"http://www.brilon.cz/download/katalog/2017/Loria2017CZ.pdf "]
["venk. tepl.","topná voda:",null,"COP výrobce","COP vzorec","a (G4)","b (G5)"]
[10,35,{"$f":"A28+35-B28","v":10},null,{"$f":"A28*F28+G28","v":5.0999999999999996},0.19,3.2]
[7,35,{"$f":"A29+35-B29","v":7},4.8,4.53,{"$f":"F28","v":0.19},{"$f":"G28","v":3.2}]
[2,35,2,3.51,3.58,{"$f":"F29","v":0.19},3.2]
[2,35,2,3.51,3.58,0.19,3.2]
[-7,45,-17,1.9,1.87,0.19,3.2]
[-11,45,-21,null,1.1100000000000003,0.19,3.2]
[]
["vst","výst",null,"11ASK"]
[7,35,{"$f":"A36+35-B36","v":7},4.5199999999999996,null,null,null,null,null,null,"porovnání typů"]
[2,35,2,3.96,null,null,null,null,null,null,null,null,"HOTJET","IVT","NIBE 2025-10","Stiebel Eltron","Mastertherm","Dimplex","Climatec"]
[-7,35,-7,3.15,null,null,null,null,null,null,"vst","výst","11ASK","AIR 120","2025-10","WPL013E","Boxair 26Z","LA-11AS","Acond TC 12","model","a (G4)","b (G5)"]
[null,null,null,null,null,null,null,null,null,null,7,35,4.5199999999999996,3.8,3.57,4.3499999999999996,4.2,3.8,null,{"$f":"K39*U39+V39","v":4.2},0.1,3.5]
["vst","výst",null,"AIR 120",null,null,null,null,null,null,2,35,3.96,3.3,3.38,3.8,3.2,3.2,3.4,{"$f":"K40*U40+V40","v":3.7},{"$f":"U39","v":0.1},{"$f":"V39","v":3.5}]
[7,35,{"$f":"A41+35-B41","v":7},3.8,null,null,null,null,null,null,-7,35,3.15,2.5,null,3.2,null,2.9,null,2.8,{"$f":"U40","v":0.1},3.5]
[2,35,2,3.3]
[-7,35,-7,2.5]
[]
[]
["https://www.lg.com/cz/lg-therma-v-vlastnosti "]
[]
["http://www.clgservis.cz/product/therma-v-monoblok-tepelna-cerpadla/lg-therma-v-hm091m_u42/87 "]
["LG Therma V HM091M.U43 monoblok je nejnovější 9 kW ",null,null,null,null,null,null,null,null,107337,"2021-08-15"]
["LG Therma V",null,null,null,null,null,null,null,null,null,null,null,null,null,null,null,null,null,null,null,null,null,null,null,"topení na 35"]
["vzd","voda",null,"COP","model",null,null,"kW příkon","kW výkon",null,null,"výkon","příkon",null,null,null,null,null,null,null,null,null,null,null,0.1,3.4]
[7,35,{"$f":"A52+35-B52","v":7},4.09,{"$f":"C52*F52+G52","v":4.13},0.09,3.5,null,null,"vzd","voda","kW","kW","COP","model","a (G4)","b (G5)","kontrola","dT","COP","model"]
[2,50,-13,2.4500000000000002,{"$f":"C53*F53+G53","v":2.33},{"$f":"F52","v":0.09},3.5,null,null,7,35,9,2.2000000000000002,4.09,{"$f":"J53*P53+Q53","v":4.0999999999999996},0.1,3.4,{"$f":"L53/M53/N53","v":1.0002222716159146},{"$f":"J53-K53+35","v":7},4.09,{"$f":"S53*V53+W53","v":4.13},0.09,3.5,null,"topení na 50"]
[-2,50,-17,2.2200000000000002,{"$f":"C54*F54+G54","v":1.97},{"$f":"F53","v":0.09},3.5,null,null,2,50,6.29,2.57,2.4500000000000002,{"$f":"J54*P54+Q54","v":3.6},{"$f":"P53","v":0.1},{"$f":"Q53","v":3.4},{"$f":"L54/M54/N54","v":0.99896768045739692},{"$f":"J54-K54+35","v":-13},2.4500000000000002,{"$f":"S54*V54+W54","v":2.33},{"$f":"V53","v":0.09},3.5,null,5.6000000000000001E-2,2.2999999999999998]
[-7,35,-7,2.7,2.87,{"$f":"F54","v":0.09},3.5,null,null,-2,50,5.88,2.65,2.2200000000000002,3.1999999999999997,0.1,{"$f":"Q54","v":3.4},0.99949005609382957,-17,2.2200000000000002,{"$f":"S55*V55+W55","v":1.97},{"$f":"V54","v":0.09},3.5,null,null,{"$f":"Z54-Z51","v":-1.1000000000000001},"korekce na 50"]
["http://www.clgservis.cz/product/tepelna-cerpadla-lg-monoblok-s-_2022_/lg-therma-v-hm163mr_u34/93",null,null,null,null,null,null,null,null,-7,35,8.61,3.19,2.7,2.6999999999999997,0.1,3.4,0.99965168930686155,-7,2.7,2.87,{"$f":"V55","v":0.09},3.5]
[-7,35,-7,2.8,null,null,null,{"$f":"I57/D57","v":5.7142857142857144},16,null,null,null,null,null,null,0.1,3.4]
[null,null,null,null,null,null,null,null,null,35,18,9,2.65,3.4,6.9,0.1,3.4,0.99889012208657058]
["F2040-6"]
[null,null,null,"COP","model",null,null,null,null,null,"dT+35","COP","model"]
[-20,35,{"$f":"A61+35-B61","v":-20},1.5,{"$f":"C61*F61+G61","v":1.9999999999999998},0.04,2.8,"na 35",2.7,null,{"$f":"A61-B61+35","v":-20},1.5,{"$f":"K61*N61+O61","v":2.02},3.4000000000000002E-2,2.7,null,null,null,"ze zdroje",null,"https://forum.tzb-info.cz/150258-vyber-tc-pro-rd-stari-41-let-nezatepelny-tz-16-kw/vse#gallery-550251"]
[-15,35,-15,2.2000000000000002,{"$f":"C62*F62+G62","v":2.1999999999999997},{"$f":"F61","v":0.04},{"$f":"G61","v":2.8},"na 45",2.4,null,{"$f":"A62-B62+35","v":-15},2.2000000000000002,{"$f":"K62*N62+O62","v":2.1900000000000004},{"$f":"N61","v":3.4000000000000002E-2},2.7,null,null,null,null,null,null,"F2040-8",null,null,null,"F2040-12",null,null,null,"F2040-16",null,"https://www.nibe.cz/cenik"]
[-10,35,-10,2.4500000000000002,2.4,0.04,2.8,"na 55",2.2000000000000002,null,-10,2.4500000000000002,{"$f":"K63*N63+O63","v":2.3600000000000003},{"$f":"N62","v":3.4000000000000002E-2},2.7,null,null,null,"2021-08-15",null,null,"121000Kč+DPH",null,null,null,"142500Kč+DPH",null,null,null,"175500Kč+DPH"]
[-5,35,-5,2.6,2.5999999999999996,0.04,2.8,null,null,null,-5,2.6,2.5300000000000002,{"$f":"N63","v":3.4000000000000002E-2},2.7,null,null,null,null,null,"dT","kW výk","kW přík","COP",null,"kW výk","kW přík","COP",null,"kW výk","kW přík","COP",null,"model"]
[0,35,0,2.6,2.8,0.04,2.8,"88500Kč+DPH",null,null,0,2.6,2.7,{"$f":"N64","v":3.4000000000000002E-2},2.7,null,null,null,7,35,{"$f":"S65-T65+35","v":7},3.86,0.83,4.6500000000000004,{"$f":"V65/W65/X65","v":1.0001295504599041},5.21,1.0900000000000001,4.78,{"$f":"Z65/AA65/AB65","v":0.99996161375762915},7.03,1.45,4.8499999999999996,{"$f":"AD65/AE65/AF65","v":0.99964450764308577},{"$f":"U65*AI65+AJ65","v":4.26},0.08,3.7]
[5,35,5,3.2,3,0.04,2.8,null,null,null,5,3.2,2.87,{"$f":"N65","v":3.4000000000000002E-2},2.7,null,null,null,2,35,{"$f":"S66-T66+35","v":2},5.1100000000000003,1.36,3.76,{"$f":"V66/W66/X66","v":0.99929599499374222},6.91,1.79,3.86,1.0000868382203956,9.33,2.38,3.92,1.0000428742925742,{"$f":"U66*AI66+AJ66","v":3.8600000000000003},{"$f":"AI65","v":0.08},{"$f":"AJ65","v":3.7}]
[null,null,null,null,null,0.04,2.8,null,null,null,35,null,null,{"$f":"N66","v":3.4000000000000002E-2},2.7,null,null,null,-7,35,-7,6.64,2.48,2.68,0.99903707270101094,8.98,3.26,2.75,1.0016731734523148,12.12,4.33,2.8,0.99967007588254697,3.14,{"$f":"AI66","v":0.08},3.7]
[-20,45,-30,1.6,1.5999999999999999,0.04,2.8,null,null,null,-30,1.6,1.6800000000000002,{"$f":"N67","v":3.4000000000000002E-2},2.7,null,null,null,null,null,null,null,null,null,null,null,null,null,null,null,null,null,null,null,0.08,3.7]
[-15,45,-25,1.8,1.7999999999999998,0.04,2.8,null,null,null,-25,1.8,1.85,{"$f":"N68","v":3.4000000000000002E-2},2.7,null,null,null,7,55,-13,3.5,1.17,2.99,{"$f":"V69/W69/X69","v":1.0004859503187262},4.7300000000000004,1.54,3.07,{"$f":"Z69/AA69/AB69","v":1.0004653327128898},6.38,2.04,3.13,{"$f":"AD69/AE69/AF69","v":0.99918561673870832},2.66,0.08,3.7]
[-10,45,-20,2,1.9999999999999998,0.04,2.8,null,null,null,-20,2,2.02,{"$f":"N69","v":3.4000000000000002E-2},2.7,null,null,null,2,55,-18,4.75,2.0699999999999998,2.29,{"$f":"V70/W70/X70","v":1.0020462839904647},6.42,2.72,2.36,{"$f":"Z70/AA70/AB70","v":1.000124626121635},8.67,3.62,2.4,{"$f":"AD70/AE70/AF70","v":0.99792817679557999},2.2600000000000002,0.08,3.7]
[-5,45,-15,2.2000000000000002,2.1999999999999997,0.04,2.8,null,null,null,-15,2.2000000000000002,2.1900000000000004,{"$f":"N70","v":3.4000000000000002E-2},2.7,null,null,null,-7,55,-27,5.29,2.68,1.97,{"$f":"V71/W71/X71","v":1.0019698462004698},7.15,3.53,2.0299999999999998,{"$f":"Z71/AA71/AB71","v":0.99778115798434264},9.66,4.6900000000000004,2.06,{"$f":"AD71/AE71/AF71","v":0.99985509346471513},1.54,0.08,3.7]
[0,45,-10,2.2999999999999998,2.4,0.04,2.8,null,null,null,-10,2.2999999999999998,2.3600000000000003,{"$f":"N71","v":3.4000000000000002E-2},2.7,null,null,null,null,null,null,null,null,null,null,null,null,null,null,null,null,null,null,null,0.08,3.7]
[5,45,-5,2.8,2.5999999999999996,0.04,2.8,null,null,null,-5,2.8,2.5300000000000002,{"$f":"N72","v":3.4000000000000002E-2},2.7,null,null,null,7,45,-3,3.7,1,3.7,{"$f":"V73/W73/X73","v":1},5,1.31,3.82,{"$f":"Z73/AA73/AB73","v":0.99916070500779341},6.75,1.74,3.88,{"$f":"AD73/AE73/AF73","v":0.99982225382154288},3.46,0.08,3.7]
[null,null,null,null,null,0.04,2.8,null,null,null,35,null,null,{"$f":"N73","v":3.4000000000000002E-2},2.7,null,null,null,2,45,-8,5.03,1.7,2.96,{"$f":"V74/W74/X74","v":0.99960254372019086},6.8,2.2400000000000002,3.04,{"$f":"Z74/AA74/AB74","v":0.99859022556390953},9.18,2.98,3.08,{"$f":"AD74/AE74/AF74","v":1.0001743223219732},3.06,0.08,3.7]
[-20,55,-40,1.4,1.1999999999999997,0.04,2.8,null,null,null,-40,1.4,1.34,{"$f":"N74","v":3.4000000000000002E-2},2.7,null,null,null,-7,45,-17,6.58,3.06,2.15,{"$f":"V75/W75/X75","v":1.0001519987840097},8.9,4.03,2.21,{"$f":"Z75/AA75/AB75","v":0.99929263555011616},12.01,5.36,2.2400000000000002,{"$f":"AD75/AE75/AF75","v":1.0002998400852876},2.34,0.08,3.7]
[-15,55,-35,1.6,1.3999999999999997,0.04,2.8,null,null,null,-35,1.6,1.51,{"$f":"N75","v":3.4000000000000002E-2},2.7,null,null,null,-15,45,-25,5.13,3.03,1.69,{"$f":"V76/W76/X76","v":1.0018161579471558},6.94,3.99,1.74,{"$f":"Z76/AA76/AB76","v":0.99962550053294152},9.36,5.31,1.76,{"$f":"AD76/AE76/AF76","v":1.0015408320493067},1.7000000000000002,0.08,3.7]
[-10,55,-30,1.7,1.5999999999999999,0.04,2.8,null,null,null,-30,1.7,1.6800000000000002,{"$f":"N76","v":3.4000000000000002E-2},2.7]
[-5,55,-25,1.9,1.7999999999999998,0.04,2.8,null,null,null,-25,1.9,1.85,{"$f":"N77","v":3.4000000000000002E-2},2.7]
[0,55,-20,2.1,1.9999999999999998,0.04,2.8,null,null,null,-20,2.1,2.02,{"$f":"N78","v":3.4000000000000002E-2},2.7]
[5,55,-15,2.5,2.1999999999999997,0.04,2.8,null,null,null,-15,2.5,2.1900000000000004,{"$f":"N79","v":3.4000000000000002E-2},2.7]
[]
[]
[]
["https://forum.tzb-info.cz/142277-jake-vytapeni-do-novostavby/vsechny-prispevky#text48 "]
[]
[]
[null,null,null,"COP",null,"a (G4)","b (G5)","SCOP"]
[-10,35,{"$f":"A88+35-B88","v":-10},3,{"$f":"C88*F88+G88","v":2.9},0.06,3.5,2.94]
[8,35,8,4,{"$f":"C89*F89+G89","v":3.98},{"$f":"F88","v":0.06},{"$f":"G88","v":3.5}]
[9,35,9,5,4.04,{"$f":"F89","v":0.06},3.5]
[20,35,20,6.4,4.7,0.06,3.5]
[null,null,null,null,null,null,null,"SCOP"]
[-5,50,-20,2,2.2999999999999998,0.06,3.5,1.81,2.23]
[2,50,-13,2.2000000000000002,2.7199999999999998,0.06,3.5]
[4,50,-11,2.8,2.84,0.06,3.5]
[20,50,5,3.6,3.8,0.06,3.5]
[]
[]
[]
[null,"ftp://194.209.16.218/05%20Luft-Wasser%20(F%202...)/01%20Technische%20Daten/Technische%20Daten%20(F2120-8).pdf"]
["F2120-8"]
[null,null,null,"COP",null,"a (G4)","b (G5)","kW"]
[7,35,{"$f":"A103+35-B103","v":7},4.8,{"$f":"A103*F103+G103","v":4.74},0.12,3.9,5]
[2,35,2,4.45,{"$f":"A104*F104+G104","v":4.1399999999999997},{"$f":"F103","v":0.12},{"$f":"G103","v":3.9},4.05]
[-7,35,-7,3.1,3.06,{"$f":"F104","v":0.12},3.9,3.25]
[]
[2,35,2,3.85,4.1399999999999997,{"$f":"F105","v":0.12},{"$f":"G105","v":3.9},5.8]
[-7,35,-7,3,3.06,{"$f":"F107","v":0.12},3.9,5.2]
[]
[2,55,-18,2.6,2.58,0.04,2.5,6]
[-7,55,-27,2.2000000000000002,{"$f":"$A111*F111+G111","v":2.2199999999999998},0.04,2.5,5.55]
[]
[]
[]
[]
[]
[]
[]
["https://www.nibe.cz/cs/ke-stazeni/category/166-nibe-f2120?download=1548:nibe-f2120-technicke-udaje"]
["https://www.nibe.cz/cs/tepelna-cerpadla-vzduch-voda/tepelne-cerpadlo-nibe-f2120#ke-stazeni"]
[]
["F2120 8 a 12"]
[null,null,null,"COP",null,null,null,null,"výkon","příkon"]
[7,35,{"$f":"A124+35-B124","v":7},4.57,{"$f":"$A124*F124+G124","v":4.58},0.04,4.3,null,3.57,0.78]
[2,35,2,4.43,{"$f":"$A125*F125+G125","v":4.38},{"$f":"F124","v":0.04},{"$f":"G124","v":4.3},null,4.03,0.91]
[]
[7,45,-3,3.74,{"$f":"$A127*F127+G127","v":3.6799999999999997},0.04,3.4,null,3.66,0.98]
[2,45,-8,3.51,{"$f":"$A128*F128+G128","v":3.48},{"$f":"F127","v":0.04},3.4,null,4.07,1.1599999999999999]
[]
[7,35,7,5.12,{"$f":"$A130*F130+G130","v":5.09},0.17,3.9,null,3.54,0.69]
[2,35,2,4.2699999999999996,{"$f":"$A131*F131+G131","v":4.24},0.17,3.9,null,5.21,1.22]
[null,null,null,null,null,null,null,null,null,null,null,null,null,null,"COP",null,null,null,null,"výkon","příkon"]
[7,45,-3,4,{"$f":"$A133*F133+G133","v":4},0.1,3.3,null,3.64,0.91,null,35,18,{"$f":"L133+35-M133","v":52},3.73,{"$f":"$L133*Q133+R133","v":0},{"$f":"F135","v":0},{"$f":"G135","v":0},null,5.0999999999999996,1.37]
[2,45,-8,3.54,{"$f":"$A134*F134+G134","v":3.5},0.1,3.3,null,5.27,1.49,null,35,18,{"$f":"L134+35-M134","v":52},3.15,{"$f":"$L134*Q134+R134","v":0},{"$f":"Q133","v":0},{"$f":"R133","v":0},null,5.44,1.73]
[]
[]
[]
[]
["Scroll kompresor"]
["R410A"]
[]
["https://www.tepelnacerpadla-nosreti.cz/o-parku/ ",null,null,null,null,null,null,"WWBC 9,5 H-B/P 51 050 Kč 61 771 Kč ES2 25-60/180mm "]
[null,null,null,"COP","model",null,null,null,"příkon","výkon"]
[7,35,{"$f":"A144+35-B144","v":7},4.2,{"$f":"C144*F144+G144","v":4.03},0.09,3.4,null,2.2999999999999998,9.6]
[2,35,2,3.3,{"$f":"C145*F145+G145","v":3.58},{"$f":"F144","v":0.09},3.4,null,2.1,7]
[-2,35,-2,3.05,{"$f":"C146*F146+G146","v":3.2199999999999998},{"$f":"F145","v":0.09},3.4,null,2.08,6.34]
[-7,35,-7,2.5499999999999998,{"$f":"C147*F147+G147","v":2.77},{"$f":"F146","v":0.09},3.4,null,2.04,5.2]
[null,null,null,null,null,{"$f":"F147","v":0.09},3.4]
[7,45,-3,3.2,{"$f":"C149*F149+G149","v":3.13},{"$f":"F148","v":0.09},3.4,null,2.7,8.5]
[2,45,-8,2.9,{"$f":"C150*F150+G150","v":2.6799999999999997},{"$f":"F149","v":0.09},3.4,null,2.4,7]
[-2,45,-12,2.4500000000000002,{"$f":"C151*F151+G151","v":2.3199999999999998},{"$f":"F150","v":0.09},3.4,null,2.36,5.78]
[-7,45,-17,1.85,{"$f":"C152*F152+G152","v":1.8699999999999999},{"$f":"F151","v":0.09},3.4,null,2.31,3.94]
[]
["https://forum.tzb-info.cz/106288-tepelne-cerpadlo-nordline "]
[]
["AirMaster ON/OFF split 12 kW"]
[null,null,null,"data","model"]
[7,55,{"$f":"A158+35-B158","v":-13},3,{"$f":"$C158*F158+G158","v":2.87},0.06,3.65]
[0,55,-20,2.5,{"$f":"$C159*F159+G159","v":2.4500000000000002},{"$f":"F158","v":0.06},3.65]
[-7,55,-27,2.2000000000000002,{"$f":"$C160*F160+G160","v":2.0300000000000002},0.06,3.65]
[null,null,null,null,null,0.06,3.65]
[]
["https://www.dilynakotle.cz/data/files/Prospekt%20tepeln%C3%A1%20%C4%8Derpadla%20Mango%202018.pdf"]
["dilynakotle.cz"]
["Mango Energy",null,null,null,null,null,null,"s DPH",null,"Kč bez DPH","kW","Kč/kW",null,"mango 29.10.2019"]
[null,null,null,null,"mgk-020ic",null,43200,{"$f":"G166*1.21","v":52272},null,35375,3.5,{"$f":"J166/K166","v":10107.142857142857}]
[null,null,null,null,null,null,null,null,null,40500,5.2,{"$f":"J167/K167","v":7788.4615384615381},null,"kW","Kč s DPH","Kč/kW"]
["A","W",null,"data","model",null,null,null,null,43200,7,6171.4285714285716,null,7,54363,{"$f":"O168/N168","v":7766.1428571428569}]
[20,35,{"$f":"A169+35-B169","v":20},4.13,{"$f":"$C169*F169+G169","v":4.2},0.06,3,null,null,57876,9.5,6092.2105263157891,null,9.5,72831,{"$f":"O169/N169","v":7666.4210526315792}]
[12,35,12,3.88,{"$f":"$C170*F170+G170","v":3.7199999999999998},{"$f":"F169","v":0.06},3,null,null,65520,13.5,4853.333333333333,null,13.5,86591,6414.1481481481478]
[7,35,7,3.44,{"$f":"$C171*F171+G171","v":3.42},{"$f":"F170","v":0.06},3,null,null,81900,17.5,4680,null,18,119077,6615.3888888888887]
[-7,35,-7,2.5299999999999998,{"$f":"$C172*F172+G172","v":2.58},{"$f":"F171","v":0.06},3,null,null,67275,13.5,4983.333333333333,null,24,130008,5417]
[-10,35,-10,2.3199999999999998,{"$f":"$C173*F173+G173","v":2.4},{"$f":"F172","v":0.06},3,null,null,83655,18.5,4521.8918918918916]
[null,null,null,null,null,null,null,null,null,89544,24,3731]
["https://www.dilynakotle.cz/data/files/Technick%C3%BD%20list%20MANGO.pdf",null,null,null,null,null,null,null,null,101556,27,3761.3333333333335]
[null,null,null,null,null,2.2857142857142878E-2]
[null,null,null,null,null,3.96]
["°C",null,null,"COP","model"]
[7,35,{"$f":"A179+35-B179","v":7},4.12,{"$f":"C179*F$176+F$177","v":4.12}]
[-7,35,-7,3.8,{"$f":"C180*F$176+F$177","v":3.8}]
[]
["vyrobce Oschner u luftbojleru, ktery pracuje do -10 stupnu.",null,null,null,null,null,null,null,null,null,"https://forum.tzb-info.cz/145264-moznosti-vytapeni-novostavby-ned/vsechny-prispevky#text32"]
[null,null,null,"COP ",null,null,null,null,null,null,"kW W35","kW W60","spotř kW W35","spotř kW W60","COP W35","COP W60",null,null,"a-b"]
[-5,35,{"$f":"A184+35-B184","v":-5},2.2999999999999998,{"$f":"$C184*F184+G184","v":2.7},0.06,3,null,null,-5,1.1000000000000001,0.9,0.48,0.57999999999999996,2.2999999999999998,1.5,{"$f":"K184/M184","v":2.291666666666667},{"$f":"L184/N184","v":1.5517241379310347},{"$f":"$J184*T184+U184","v":1.5249999999999999},4.4999999999999998E-2,1.75]
[0,35,0,2.75,3,{"$f":"F184","v":0.06},3,null,null,0,1.3,1.05,0.49,0.6,2.75,1.7,{"$f":"K185/M185","v":2.6530612244897962},1.7500000000000002,1.75,{"$f":"T184","v":4.4999999999999998E-2},{"$f":"U184","v":1.75}]
[5,35,5,3.15,3.3,{"$f":"F185","v":0.06},3,null,null,5,1.55,1.22,0.495,0.62,3.15,2,3.1313131313131315,1.967741935483871,1.9750000000000001,{"$f":"T185","v":4.4999999999999998E-2},1.75]
[10,35,10,3.5,3.6,{"$f":"F186","v":0.06},3,null,null,10,1.75,1.35,0.5,0.64,3.5,2.2999999999999998,3.5,2.109375,2.2000000000000002,4.4999999999999998E-2,1.75]
[15,35,15,4,3.9,{"$f":"F187","v":0.06},3,null,null,15,1.95,1.6,0.5,0.66,4,2.4,3.9,2.4242424242424243,2.4249999999999998,4.4999999999999998E-2,1.75]
[20,35,20,4.3,4.2,{"$f":"F188","v":0.06},3,null,null,20,2.2000000000000002,1.75,0.5,0.67,4.3,2.65,4.4000000000000004,2.6119402985074625,2.65,4.4999999999999998E-2,1.75]
[null,null,null,null,3,{"$f":"F189","v":0.06},3]
[-5,60,-30,1.5,1.2000000000000002,{"$f":"F190","v":0.06},3,null,null,null,null,null,null,null,null,"pro W35 je křivka 0,08 a 2,7"]
[0,60,-25,1.7,1.5,{"$f":"F191","v":0.06},3,null,null,null,null,null,null,null,null,"pro W60 je křivka 0,045 a 1,75"]
[5,60,-20,2,1.8,{"$f":"F192","v":0.06},3]
[10,60,-15,2.2999999999999998,2.1,{"$f":"F193","v":0.06},3]
[15,60,-10,2.4,2.4,{"$f":"F194","v":0.06},3]
[20,60,-5,2.65,2.7,{"$f":"F195","v":0.06},3]
["https://eshop.biomacenergy.cz/sinclair-split-gsh-70erad-g4278.html"]
["https://www.sinclair-solutions.com/cs/produkty/tepelna-cerpadla/s-therm-3-venkovni-jednotky/5205-gsh-70erad-053121000001330.html"]
[null,null,null,"COP ",null,null,null,"GSH-70ERAD",null,null,"Napájení ","- ","210 - 240 / 1 / 50 ","V / Ph / Hz",null,null,"výkon kW","příkon kW","COP","kontr","krivka","a","b"]
[7,35,{"$f":"A200+35-B200","v":7},4.1500000000000004,{"$f":"$C200*F200+G200","v":4.04},0.12,3.2,null,1,"a","A7 / W35 ","Topný výkon ",6.65,"kW",null,7,6.65,1.6,4.1500000000000004,{"$f":"Q200/R200","v":4.15625},{"$f":"P200*V200+W200","v":4.04},0.12,3.2]
[2,35,2,3.38,3.4400000000000004,{"$f":"F200","v":0.12},3.2,null,4,"a","A2 / W35 ","Topný výkon ",4.92,"kW",null,2,4.92,1.46,3.38,{"$f":"Q201/R201","v":3.3698630136986303},{"$f":"P201*V201+W201","v":3.4400000000000004},{"$f":"V200","v":0.12},{"$f":"W200","v":3.2}]
[-7,35,-7,2.2999999999999998,2.3600000000000003,{"$f":"F201","v":0.12},3.2,null,7,"a","A-7 / W35 ","Topný výkon ",3.9,"kW",null,-7,3.9,1.7,2.2999999999999998,{"$f":"Q202/R202","v":2.2941176470588234},{"$f":"P202*V202+W202","v":2.3600000000000003},{"$f":"V201","v":0.12},{"$f":"W201","v":3.2}]
[null,null,null,null,null,null,null,null,2,"b","A7 / W35 ","Příkon ",1.6,"kW"]
[null,null,null,null,null,null,null,null,5,"b","A2 / W35 ","Příkon ",1.46,"kW"]
[null,null,null,null,null,null,null,null,8,"b","A-7 / W35 ","Příkon ",1.7,"kW"]
[null,null,null,null,null,null,null,null,3,"c","A7 / W35 ","COP ",4.1500000000000004,"-"]
[null,null,null,null,null,null,null,null,6,"c","A2 / W35 ","COP ",3.38,"-"]
[null,null,null,null,null,null,null,null,9,"c","A-7 / W35 ","COP ",2.2999999999999998,"-"]
[null,"https://www.dedietrich-vytapeni.cz/tepelna-cerpadla/alezio-s-vzduch-voda-split-inverter/"]
[null,"Alezio S 11"]
[null,null,null,"COP","model",null,null,null,"kW",null,-22,"°C pro COP",null,null,6000,"m3/hod",null,0.8,"m3/hod"]
[7,35,{"$f":"A212+35-B212","v":7},4.6500000000000004,{"$f":"$A212*F212+G212","v":4.625},0.125,3.75,null,11.39,null,-31,"°C pro výkon",null,null,7,"st",null,12,"st"]
[-7,35,-7,2.88,2.875,{"$f":"F212","v":0.125},3.75,null,8.09,null,null,null,null,null,{"$f":"O211*O212*1/3600","v":11.666666666666666},"kW",null,{"$f":"R211*R212*4200/3600","v":11.200000000000003},"kW"]
[-22,35,-22,1,1,{"$f":"F213","v":0.125},3.75,null,2.4500000000000002]
[]
["https://www.ivarcs.cz/clanky/atlas-nove-tepelne-cerpadlo-svetove-tridy-pokorilo-limit-snu-v-hodnote-scop-81/"]
[null,null,null,null,null,null,null,null,null,"Ot/minTeplota nemrznoucí kapaliny-50+5WW +7,5*",null,null,null,null,null,null,null,null,null,null,-5,0,5,7.5]
[null,"st",null,"COP","model",null,null,"kW",null,"1200Topný výkon (kW)",2.2999999999999998,2.7,3,3,"Příkon (kW)",0.7,0.7,0.7,0.7,"COP",3.5,4.0999999999999996,4.5999999999999996,4.5999999999999996]
[5,35,{"$f":"A219+35-B219","v":5},5.2,{"$f":"$A219*F219+G219","v":5.1999999999999993},0.12,4.5999999999999996,11.2,null,"2100Topný výkon (kW)",4,4.5999999999999996,5.2,5.2,"Příkon (kW)",1,1,1,1,"COP",4,4.5999999999999996,5.3,5.3]
[0,35,0,4.5999999999999996,{"$f":"$A220*F220+G220","v":4.5999999999999996},{"$f":"F219","v":0.12},4.5999999999999996,10,null,"3200Topný výkon (kW)",6.2,7,8,8,"Příkon (kW)",1.5,1.5,1.5,1.5,"COP",4.0999999999999996,4.7,5.3,5.3]
[-5,35,-5,4,{"$f":"$A221*F221+G221","v":3.9999999999999996},{"$f":"F220","v":0.12},4.5999999999999996,8.6999999999999993,null,"4500Topný výkon (kW)",8.6999999999999993,10,11.2,11.2,"Příkon (kW)",2.2000000000000002,2.2000000000000002,2.2000000000000002,2.2000000000000002,"COP",4,4.5999999999999996,5.2,5.2]
[null,null,null,null,null,null,null,null,null,"5300Topný výkon (kW)",10.199999999999999,11.6,12.1,12.1,"Příkon (kW)",2.6,2.7,2.7,2.7,"COP",3.9,4.4000000000000004,4.5999999999999996,4.5999999999999996]
[]
[null,null,null,null,null,null,null,null,null,null,null,null,null,null,null,null,null,null,null,null,{"$f":"K218/P218/U218","v":0.93877551020408156},0.94076655052264824,0.93167701863354047,0.93167701863354047]
[null,null,null,null,null,null,null,null,null,null,null,null,null,null,null,null,null,null,null,null,1,1,0.98113207547169823,0.98113207547169823]
[null,null,null,null,null,null,null,null,null,null,null,null,null,null,null,null,null,null,null,null,1.0081300813008132,0.99290780141843971,1.0062893081761006,1.0062893081761006]
[null,null,null,null,null,null,null,null,null,null,null,null,null,null,null,null,null,null,null,null,0.98863636363636342,0.98814229249011853,0.97902097902097884,0.97902097902097884]
[null,null,null,null,null,null,null,null,null,null,null,null,null,null,null,null,null,null,null,null,1.0059171597633134,0.97643097643097621,0.97423510466988728,0.97423510466988728]
[]
[]
[]
[]
[]
[]
["https://vytapeni.tzb-info.cz/tepelna-cerpadla/16197-tepelna-cerpadla-od-firmy-viessmann-efektivni-vyuziti-obnovitelnych-zdroju-a-elektricke-energie"]
[]
[null,null,null,null,null,null,null,null,null,null,"kW","COP","model"]
[null,null,null,null,null,null,null,null,2,35,11.39,4,{"$f":"$I238*N238+O238","v":4},0.22,3.56]
[null,null,null,null,null,null,null,null,7,35,8.09,5.0999999999999996,{"$f":"$I239*N239+O239","v":5.0999999999999996},{"$f":"N238","v":0.22},3.56]
[null,null,null,null,null,null,null,null,-22,35,2.4500000000000002,1,{"$f":"$I240*N240+O240","v":-1.2799999999999998},{"$f":"N239","v":0.22},3.56]
[]
[]
[]
[]
["https://tepelna-cerpadla-acond.cz/technicka-specifikace/"]
["PRO N",0.67]
[null,"1,5 - 9",null,"COP","model"]
[7,35,{"$f":"A248-B248+35","v":7},4.9000000000000004,{"$f":"$C248*F248+G248","v":4.66},0.08,4.0999999999999996]
[2,35,{"$f":"A249-B249+35","v":2},4.3099999999999996,{"$f":"$C249*F249+G249","v":4.26},{"$f":"F248","v":0.08},4.0999999999999996]
[-7,52,-24,2.38,2.1799999999999997,{"$f":"F249","v":0.08},4.0999999999999996]
[]
["PRO R",1.24]
[null,"3,0 - 18"]
[7,35,7,5.22,{"$f":"$C254*F254+G254","v":4.66},0.08,4.0999999999999996]
[2,35,2,4.5,4.26,{"$f":"F254","v":0.08},4.0999999999999996]
[-7,52,-24,2.5,2.1799999999999997,{"$f":"F255","v":0.08},4.0999999999999996]
[]
[]
[]
[]
[]
["https://www.ctcplzen.cz/wp-content/uploads/2019/09/140-zubadan_inverter_-_new_generation_puhz-shw140yha_2015.pdf"]
[null,null,null,null,null,2.8]
[null,null,null,null,null,0.04,null,"max",null,"mid"]
[null,null,null,"cop max","cop mid","krivka",null,"kW výkon","kW příkon"]
[-20,35,{"$f":"A266-B266+35","v":-20},2.06,2,{"$f":"F$263+$C266*F$264","v":1.9999999999999998},null,20.27,{"$f":"H266/D266","v":9.8398058252427187},16.22,{"$f":"J266/E266","v":8.11}]
[-15,35,-15,2.2000000000000002,2.36,2.1999999999999997,null,22.91,10.413636363636362,18.329999999999998,7.7669491525423728]
[-10,35,-10,2.34,2.72,2.4,null,25.55,10.918803418803419,18.399999999999999,6.7647058823529402]
[-7,35,-7,2.4300000000000002,2.93,2.5199999999999996,null,27.13,11.164609053497941,18.399999999999999,6.2798634812286682]
[2,35,2,2.29,2.9,2.88,null,23.2,10.131004366812226,18.399999999999999,6.3448275862068959]
[7,35,7,3.28,4.01,3.08,null,27.95,8.5213414634146343,18.399999999999999,4.5885286783042396]
[12,35,12,3.48,4.58,3.28,null,29.53,8.4856321839080469,19.420000000000002,4.2401746724890836]
[15,35,15,3.6,4.91,3.4,null,30.48,8.4666666666666668,20.57,4.1894093686354381]
[20,35,20,3.8,5.55,3.5999999999999996,null,32.06,8.4368421052631586,22.48,4.0504504504504508]
[]
[-20,55,{"$f":"A276-B276+35","v":-40}]
[-15,55,-35,1.41,1.66,{"$f":"F$263+$C277*F$264","v":1.3999999999999997},null,20.79,{"$f":"H277/D277","v":14.74468085106383},16.63,{"$f":"J277/E277","v":10.018072289156626}]
[-10,55,-30,1.69,1.9,1.5999999999999999,null,25.57,15.1301775147929,18.399999999999999,9.6842105263157894]
[-7,55,-27,1.86,2.0499999999999998,1.7199999999999998,null,28.43,15.284946236559138,18.399999999999999,8.9756097560975618]
[2,55,-18,2.02,2.21,2.08,null,22.78,11.277227722772277,18.22,8.2443438914027141]
[7,55,-13,2.42,2.4900000000000002,2.2799999999999998,null,27.5,11.363636363636363,18.399999999999999,7.3895582329317255]
[12,55,-8,2.54,2.76,2.48,null,28.5,11.220472440944881,19.420000000000002,7.0362318840579725]
[15,55,-5,2.61,2.96,2.5999999999999996,null,29.1,11.149425287356323,20.57,6.9493243243243246]
[20,55,0,2.73,3.34,2.8,null,30.1,11.025641025641026,22.48,6.7305389221556888]

{"sheet":"SCOP-norma","index":4,"n_rows":405,"n_cols":21,"rows_kept":405,"cut":false,"hidden":false,"merged":[[2,0,2,10]]}
["https://vytapeni.tzb-info.cz/tepelna-cerpadla/13507-hodnoceni-scop-tepelnych-cerpadel-pro-vytapeni"]
["TZ12 kW/30K, pata 15°C a TČ 3,4/0,09 SCOP 3,2 Uvažováno konstantní topení 35°C kompresor 3 kW"]
["Tab. 2 – Určení SCOPon pro střední klimatické podmínky tepelného čerpadla vzduch-voda"]
["Venkovní teplota","Počet hodin","Tepelná ztráta","Výkon tepelného čerpadla","Elektrický dohřev","CR","COPDC","COPpl","Celková spotřeba el. en. za hodinu.","Celková roční potřeba tepla","Celková spotřeba el. en."]
[null,null,null,"[kW]",null,null,null,null,"[kWh/h]","[kWh]","[kWh]"]
["[˚C]","[–]","[kW]",null,"[kW]",null,null,null,null,null,null,null,null,null,"hodiny 2020/21","hodiny norma","součty hodin:",null,"s COP dc:"]
[null,"hodin",null,null,null,"[–]","[–]","[–]",null,null,null,"odchylky:",null,null,null,null,"20/21 280 m.n.m.","norma",null,null,"příkon kompresoru kW:"]
[-10,1,10,7.48,2.52,1,2.5,2.5,5.51,10,6,{"$f":"D8/H8-I8+E8","v":2.0000000000002238E-3},{"$f":"C8-D8-E8","v":0},{"$f":"I8*B8-K8","v":-0.49000000000000021},24,1,24,1,{"$f":"D8/G8+E8","v":5.5120000000000005},{"$f":"T7+S8*B8","v":5.5120000000000005},{"$f":"D8/G8","v":2.992}]
[-9,25,9.6199999999999992,7.58,2.0299999999999998,1,2.59,2.59,4.96,240,124,-3.3590733590731503E-3,9.9999999999993427E-3,0,0,25,{"$f":"Q8+O9","v":24},{"$f":"R8+P9","v":26},4.9566409266409268,{"$f":"T8+S9*B9","v":129.42802316602317},{"$f":"D9/G9","v":2.926640926640927}]
[-8,23,9.23,7.68,1.55,1,2.68,2.68,4.42,212,102,-4.3283582089552741E-3,0,-0.34000000000000341,24,23,48,49,4.4156716417910449,230.98847092721718,2.8656716417910446]
[-7,24,8.85,7.77,1.07,1,2.76,2.76,3.88,212,93,5.2173913043478404E-3,1.0000000000000009E-2,0.12000000000000455,48,24,96,73,3.885217391304348,324.23368831852156,2.8152173913043477]
[-6,27,8.4600000000000009,7.87,0.59,1,2.85,2.85,3.35,228,90,1.4035087719298511E-3,0,0.45000000000000284,24,27,120,100,3.3514035087719298,414.72158305536368,2.76140350877193]
[-5,68,8.08,7.97,0.11,1,2.94,2.94,2.82,549,192,8.8435374149677115E-4,3.1918911957973251E-16,-0.24000000000000909,72,68,192,168,2.8208843537414965,606.54171910978539,2.7108843537414966]
[-4,91,7.69,8.06,0,0.95,3.03,3.01,2.5499999999999998,700,232,{"$f":"C14/H14-I14","v":4.8172757475088979E-3},null,4.9999999999982947E-2,0,91,192,259,{"$f":"C14/G14","v":2.5379537953795381},837.49551448932334,2.6600660066006605]
[-3,89,7.31,8.16,0,0.9,3.12,3.08,2.37,650,211,3.3766233766230336E-3,null,-6.9999999999993179E-2,48,89,240,348,2.3429487179487176,1046.0179503867591,2.6153846153846154]
[-2,165,6.92,8.26,0,0.84,3.2,3.14,2.2000000000000002,1142,363,3.8216560509551911E-3,null,0,48,165,288,513,2.1624999999999996,1402.8304503867591,2.5812499999999998]
[-1,173,6.54,8.35,0,0.78,3.29,3.2,2.04,1131,353,3.749999999999698E-3,null,-7.9999999999984084E-2,72,173,360,686,1.9878419452887537,1746.7271069217136,2.5379939209726441]
[0,240,6.15,8.4499999999999993,0,0.73,3.38,3.26,1.89,1477,453,-3.4969325153371145E-3,null,0.59999999999996589,120,240,480,926,1.819526627218935,2183.413497454258,2.5]
[1,280,5.77,8.5500000000000007,0,0.67,3.47,3.31,1.74,1615,488,3.2024169184288187E-3,null,-0.80000000000001137,216,280,696,1206,1.6628242074927952,2649.0042755522409,2.4639769452449567]
[2,320,5.38,8.65,0,0.62,3.56,3.35,1.61,1723,514,-4.029850746268826E-3,null,1.2000000000000455,432,320,1128,1526,1.5112359550561798,3132.5997811702182,2.4297752808988764]
[3,357,5,8.74,0,0.56999999999999995,3.64,3.39,1.47,1785,527,4.9262536873155849E-3,null,-2.2100000000000364,408,357,1536,1883,1.3736263736263736,3622.9843965548334,2.401098901098901]
[4,356,4.62,8.84,0,0.52,3.73,3.42,1.35,1643,481,8.7719298245603206E-4,null,-0.39999999999997726,504,356,2040,2239,1.2386058981233243,4063.9280962867369,2.3699731903485253]
[5,303,4.2300000000000004,8.94,0,0.47,3.82,3.44,1.23,1282,373,-3.4883720930212192E-4,null,-0.31000000000000227,384,303,2424,2542,1.1073298429319374,4399.4490386951138,2.3403141361256545]
[6,330,3.85,9.0299999999999994,0,0.43,3.91,3.44,1.1200000000000001,1269,369,-8.1395348837220993E-4,null,0.60000000000002274,456,330,2880,2872,0.98465473145780047,4724.3851000761879,2.3094629156010229]
[7,326,3.46,9.1300000000000008,0,0.38,4,3.43,1.01,1128,329,-1.2536443148689624E-3,null,0.25999999999999091,360,326,3240,3198,0.86499999999999999,5006.3751000761877,2.2825000000000002]
[8,348,3.08,9.23,0,0.33,4.08,3.4,0.9,1071,315,5.8823529411764497E-3,null,-1.8000000000000114,144,348,3384,3546,0.75490196078431371,5269.0809824291291,2.2622549019607843]
[9,335,2.69,9.32,0,0.28999999999999998,4.17,3.35,0.8,902,269,2.9850746268655914E-3,null,-1,480,335,3864,3881,0.64508393285371701,5485.1840999351243,2.2350119904076742]
[10,315,2.31,9.42,0,0.24,4.26,3.26,0.71,727,223,-1.4110429447852235E-3,null,0.64999999999997726,408,315,4272,4196,0.54225352112676062,5655.993959090054,2.211267605633803]
[11,215,1.92,9.52,0,0.2,4.3499999999999996,3.12,0.62,413,133,-4.6153846153846878E-3,null,0.30000000000001137,216,215,4488,4411,0.44137931034482758,5750.8905108141917,2.1885057471264369]
[12,169,1.54,9.61,0,0.16,4.4400000000000004,2.91,0.53,260,89,-7.9037800687287163E-4,null,0.57000000000000739,288,169,4776,4580,0.3468468468468468,5809.5076279313089,2.1644144144144142]
[13,151,1.1499999999999999,9.7100000000000009,0,0.12,4.5199999999999996,2.6,0.44,174,67,2.3076923076922329E-3,null,-0.56000000000000227,288,151,5064,4731,0.25442477876106195,5847.9257695242295,2.1482300884955756]
[14,105,0.77,9.81,0,0.08,4.6100000000000003,2.12,0.36,81,38,3.2075471698113089E-3,null,-0.20000000000000284,360,105,5424,4836,0.16702819956616052,5865.4637304786766,2.1279826464208242]
[15,74,0.38,9.9,0,0.04,4.7,1.35,0.28000000000000003,28,21,1.481481481481417E-3,null,-0.27999999999999758,360,74,5784,4910,8.0851063829787226E-2,5871.4467092020805,2.1063829787234041]
[null,null,null,null,null,null,null,null,null,{"$f":"SUM(J8:J33)","v":20652},{"$f":"SUM(K8:K33)","v":6455},null,null,null,144,null,null,null,null,6455.4073398636801]
[null,null,null,null,null,null,null,null,null,20656,6454,{"$f":"J35/K35","v":3.2004958165478774},"Výsledný SCOP",null,240,null,null,null,null,{"$f":"J34/T34","v":3.1991784426164673}]
[10,null,null,null,null,null,null,{"$f":"I36+A36*J36","v":4.3},3.4,0.09,null,null,null,null,null,null,null,null,null,{"$f":"J34/T33","v":3.5173613970868471},{"$f":"T35/T36","v":0.90953930559029117}]
[0,null,"stanovení směrnice COP: vychází 3,4 /0,09",null,null,null,null,{"$f":"I37+A37*J37","v":3.4},{"$f":"I36","v":3.4},{"$f":"J36","v":0.09},null,null,null,null,"nízká účinnost cyklováním při malých průměrných výkonech"]
[null,null,null,null,null,null,null,null,null,null,{"$f":"D33/G33","v":2.1063829787234041},"kW kompresor při 15°C",null,null,"dle normy zhoršuje SCOP asi o 9%"]
[null,null,null,null,null,null,null,null,null,null,{"$f":"D8/G8","v":2.992},"kW kompresor při -10°C"]
["datum","venk tepl °C"]
["2021-02-15",-11.5,{"$f":"ROUND(B41,0)","v":-12},{"$f":"IF(C41=C40,D40+1,1)","v":1},-12,1,{"$f":"24*F41","v":24}]
["2021-02-10",-9.7000000000000028,-10,1,-11,0,0]
["2021-02-12",-9.1000000000000014,-9,1,-10,1,24]
["2021-02-14",-8.8999999999999986,-9,2,-9,2,48]
["2021-02-09",-8,-8,1,-8,1,24]
["2021-02-11",-7.3999999999999986,-7,1,-7,3,72]
["2021-02-13",-7.2999999999999972,-7,2,-6,0,0]
["2021-02-08",-7,-7,3,-5,2,48]
["2021-01-17",-4.5,-5,1,-4,2,48]
["2021-02-07",-4.5,-5,2,-3,3,72]
["2021-01-16",-4.3999999999999986,-4,1,-2,5,120]
["2021-01-31",-3.5,-4,2,-1,9,216]
["2021-01-11",-2.8999999999999986,-3,1,0,18,432]
["2021-02-01",-2.5,-3,2,1,17,408]
["2021-02-16",-2.5,-3,3,2,21,504]
["2021-03-20",-2.2000000000000028,-2,1,3,16,384]
["2021-01-18",-2,-2,2,4,19,456]
["2020-12-02",-1.8000000000000007,-2,3,5,15,360]
["2020-12-03",-1.8000000000000007,-2,4,6,6,144]
["2021-01-02",-1.6999999999999993,-2,5,7,20,480]
["2021-01-01",-1.3999999999999986,-1,1,8,17,408]
["2020-12-01",-1.3000000000000007,-1,2,9,9,216]
["2020-12-27",-1.1999999999999993,-1,3,10,12,288]
["2021-01-15",-1.1000000000000014,-1,4,11,12,288]
["2021-03-09",-1.1000000000000014,-1,5,12,15,360]
["2021-01-26",-0.89999999999999858,-1,6,13,15,360]
["2020-11-24",-0.69999999999999929,-1,7,14,6,144]
["2021-01-10",-0.69999999999999929,-1,8,15,10,240]
["2021-01-12",-0.60000000000000142,-1,9]
["2020-11-26",-0.39999999999999858,0,1]
["2021-01-09",-0.39999999999999858,0,2]
["2021-01-14",-0.39999999999999858,0,3]
["2021-01-27",-0.30000000000000071,0,4]
["2020-11-25",-0.10000000000000142,0,5]
["2020-11-27",-0.10000000000000142,0,6]
["2021-01-08",-0.10000000000000142,0,7]
["2021-03-06",-0.10000000000000142,0,8]
["2021-01-07",0,0,9]
["2021-02-06",0.10000000000000142,0,10]
["2021-01-06",0.19999999999999929,0,11]
["2021-04-06",0.19999999999999929,0,12]
["2020-11-21",0.39999999999999858,0,13]
["2020-12-26",0.39999999999999858,0,14]
["2020-12-31",0.39999999999999858,0,15]
["2021-03-02",0.39999999999999858,0,16]
["2021-03-07",0.39999999999999858,0,17]
["2021-03-08",0.39999999999999858,0,18]
["2020-11-28",0.5,1,1]
["2020-11-30",0.5,1,2]
["2021-01-25",0.60000000000000142,1,3]
["2021-01-29",0.60000000000000142,1,4]
["2021-01-13",0.69999999999999929,1,5]
["2021-01-24",0.69999999999999929,1,6]
["2021-02-23",0.80000000000000071,1,7]
["2020-12-30",0.89999999999999858,1,8]
["2021-03-03",0.89999999999999858,1,9]
["2021-03-19",0.89999999999999858,1,10]
["2021-01-30",1,1,11]
["2021-03-05",1,1,12]
["2020-12-04",1.1000000000000014,1,13]
["2021-03-10",1.1000000000000014,1,14]
["2020-12-28",1.1999999999999993,1,15]
["2021-01-05",1.1999999999999993,1,16]
["2021-01-28",1.1999999999999993,1,17]
["2020-12-19",1.5,{"$f":"ROUND(B105,0)","v":2},{"$f":"IF(C105=C104,D104+1,1)","v":1}]
["2020-11-29",1.6000000000000014,2,2]
["2021-03-17",1.6000000000000014,2,3]
["2020-12-20",1.6999999999999993,2,4]
["2021-01-03",1.6999999999999993,2,5]
["2021-02-05",1.8000000000000007,2,6]
["2020-11-07",1.8999999999999986,2,7]
["2020-12-18",1.8999999999999986,2,8]
["2021-04-07",1.8999999999999986,2,9]
["2021-01-19",2,2,10]
["2021-02-24",2,2,11]
["2021-03-01",2,2,12]
["2021-03-21",2,2,13]
["2021-04-15",2,2,14]
["2020-12-11",2.1000000000000014,2,15]
["2020-12-17",2.1000000000000014,2,16]
["2020-12-25",2.1000000000000014,2,17]
["2021-03-18",2.1000000000000014,2,18]
["2021-01-21",2.1999999999999993,2,19]
["2020-12-12",2.3000000000000007,2,20]
["2021-02-20",2.3999999999999986,2,21]
["2020-11-08",2.5,3,1]
["2020-12-21",2.5,3,2]
["2021-01-04",2.5,3,3]
["2021-04-16",2.5,3,4]
["2021-01-23",2.6000000000000014,3,5]
["2021-02-21",2.6999999999999993,3,6]
["2021-02-25",2.8000000000000007,3,7]
["2020-12-16",2.8999999999999986,3,8]
["2020-12-29",2.8999999999999986,3,9]
["2020-11-22",3,3,10]
["2020-11-06",3.1000000000000014,3,11]
["2021-02-26",3.1000000000000014,3,12]
["2020-11-09",3.1999999999999993,3,13]
["2021-04-08",3.1999999999999993,3,14]
["2020-12-15",3.3000000000000007,3,15]
["2021-03-16",3.3999999999999986,3,16]
["2020-11-20",3.5,4,1]
["2020-12-10",3.5,4,2]
["2021-02-17",3.5,4,3]
["2021-03-15",3.5,4,4]
["2021-02-27",3.6000000000000014,4,5]
["2021-03-22",3.6000000000000014,4,6]
["2021-02-22",3.6999999999999993,4,7]
["2021-04-17",3.6999999999999993,4,8]
["2021-02-02",3.8000000000000007,4,9]
["2021-04-14",3.8000000000000007,4,10]
["2020-12-13",3.8999999999999986,4,11]
["2021-03-23",3.8999999999999986,4,12]
["2021-04-13",4,4,13]
["2020-12-08",4.1000000000000014,4,14]
["2021-04-12",4.3000000000000007,4,15]
["2020-11-10",4.3999999999999986,4,16]
["2021-01-20",4.3999999999999986,4,17]
["2021-02-28",4.3999999999999986,4,18]
["2021-03-04",4.3999999999999986,4,19]
["2020-12-14",4.5,5,1]
["2021-04-04",4.5,5,2]
["2021-04-05",4.6000000000000014,5,3]
["2020-11-23",4.8000000000000007,5,4]
["2020-12-05",4.8000000000000007,5,5]
["2020-12-09",4.8000000000000007,5,6]
["2021-03-14",4.8000000000000007,5,7]
["2020-11-11",4.8999999999999986,5,8]
["2021-02-19",4.8999999999999986,{"$f":"ROUND(B169,0)","v":5},{"$f":"IF(C169=C168,D168+1,1)","v":9}]
["2021-02-18",5,5,10]
["2021-04-03",5.1000000000000014,5,11]
["2021-04-26",5.1999999999999993,5,12]
["2020-11-05",5.3999999999999986,5,13]
["2020-11-12",5.3999999999999986,5,14]
["2020-11-15",5.3999999999999986,5,15]
["2021-04-09",5.6000000000000014,6,1]
["2021-03-11",5.6999999999999993,6,2]
["2021-01-22",6.1000000000000014,6,3]
["2020-10-11",6.1999999999999993,6,4]
["2021-03-12",6.3999999999999986,6,5]
["2021-03-24",6.3999999999999986,6,6]
["2020-10-13",6.5,7,1]
["2020-10-28",6.8000000000000007,7,2]
["2021-04-23",6.8000000000000007,7,3]
["2020-10-14",6.8999999999999986,7,4]
["2020-11-19",6.8999999999999986,7,5]
["2021-04-18",6.8999999999999986,7,6]
["2021-04-25",6.8999999999999986,7,7]
["2021-04-27",6.8999999999999986,7,8]
["2020-12-07",7,7,9]
["2021-02-04",7,7,10]
["2021-03-28",7,7,11]
["2020-10-20",7.1000000000000014,7,12]
["2020-11-13",7.1000000000000014,7,13]
["2021-03-13",7.1000000000000014,7,14]
["2021-04-02",7.1999999999999993,7,15]
["2021-04-22",7.1999999999999993,7,16]
["2020-09-26",7.3000000000000007,7,17]
["2020-09-28",7.3000000000000007,7,18]
["2020-10-17",7.3000000000000007,7,19]
["2021-04-24",7.3000000000000007,7,20]
["2021-03-25",7.5,8,1]
["2020-12-22",7.6000000000000014,8,2]
["2021-05-03",7.6000000000000014,8,3]
["2021-05-07",7.6000000000000014,8,4]
["2021-05-06",7.6999999999999993,8,5]
["2020-10-12",7.8000000000000007,8,6]
["2020-11-16",7.8000000000000007,8,7]
["2021-03-27",7.8000000000000007,8,8]
["2021-05-02",7.8000000000000007,8,9]
["2020-10-18",7.8999999999999986,8,10]
["2020-12-24",7.8999999999999986,8,11]
["2020-10-27",8,8,12]
["2021-04-19",8,8,13]
["2021-02-03",8.1999999999999993,8,14]
["2020-10-16",8.3000000000000007,8,15]
["2020-10-19",8.3999999999999986,8,16]
["2020-10-29",8.3999999999999986,8,17]
["2021-05-08",8.5,9,1]
["2020-11-14",8.6000000000000014,9,2]
["2020-10-25",8.8000000000000007,9,3]
["2020-10-21",8.8999999999999986,9,4]
["2020-11-18",8.8999999999999986,9,5]
["2020-12-06",8.8999999999999986,9,6]
["2020-09-27",9.1000000000000014,9,7]
["2020-11-04",9.1000000000000014,9,8]
["2020-10-15",9.1999999999999993,9,9]
["2020-11-17",9.6000000000000014,10,1]
["2021-04-10",9.6000000000000014,10,2]
["2021-04-20",9.6999999999999993,10,3]
["2020-11-01",9.8000000000000007,10,4]
["2021-05-01",9.8000000000000007,10,5]
["2021-05-05",9.8999999999999986,{"$f":"ROUND(B233,0)","v":10},{"$f":"IF(C233=C232,D232+1,1)","v":6}]
["2021-04-21",10.199999999999999,10,7]
["2021-05-20",10.199999999999999,10,8]
["2020-10-30",10.3,10,9]
["2020-12-23",10.399999999999999,10,10]
["2021-03-26",10.399999999999999,10,11]
["2021-05-26",10.399999999999999,10,12]
["2020-09-29",10.600000000000001,11,1]
["2021-05-13",10.600000000000001,11,2]
["2021-05-19",10.600000000000001,11,3]
["2021-05-14",10.7,11,4]
["2021-05-30",10.8,11,5]
["2020-10-26",10.899999999999999,11,6]
["2021-04-28",10.899999999999999,11,7]
["2021-05-04",11,11,8]
["2020-10-10",11.3,11,9]
["2020-10-05",11.399999999999999,11,10]
["2020-10-22",11.399999999999999,11,11]
["2021-05-25",11.399999999999999,11,12]
["2020-09-30",11.5,12,1]
["2021-05-29",11.5,12,2]
["2021-04-30",11.600000000000001,12,3]
["2021-05-15",11.600000000000001,12,4]
["2021-05-23",11.600000000000001,12,5]
["2021-04-11",11.7,12,6]
["2021-03-29",11.8,12,7]
["2021-05-17",11.899999999999999,12,8]
["2021-05-27",11.899999999999999,12,9]
["2021-05-28",11.899999999999999,12,10]
["2020-10-01",12.100000000000001,12,11]
["2020-10-07",12.100000000000001,12,12]
["2020-10-06",12.3,12,13]
["2021-05-16",12.399999999999999,12,14]
["2021-05-18",12.399999999999999,12,15]
["2020-09-18",12.5,13,1]
["2020-10-08",12.5,13,2]
["2020-10-23",12.5,13,3]
["2021-05-21",12.5,13,4]
["2020-10-31",12.600000000000001,13,5]
["2021-05-24",12.600000000000001,13,6]
["2021-05-31",12.600000000000001,13,7]
["2021-04-29",12.7,13,8]
["2021-05-22",12.899999999999999,13,9]
["2020-10-02",13.100000000000001,13,10]
["2020-09-25",13.2,13,11]
["2020-10-24",13.2,13,12]
["2020-09-19",13.3,13,13]
["2021-03-30",13.3,13,14]
["2020-11-03",13.399999999999999,13,15]
["2021-06-13",13.7,14,1]
["2020-09-01",13.8,14,2]
["2020-09-02",14,14,3]
["2021-04-01",14,14,4]
["2020-10-04",14.1,14,5]
["2021-03-31",14.2,14,6]
["2021-06-01",14.7,15,1]
["2020-07-08",14.8,15,2]
["2021-05-09",14.9,15,3]
["2020-08-04",15.1,15,4]
["2021-05-12",15.1,15,5]
["2020-07-16",15.2,15,6]
["2020-10-09",15.2,15,7]
["2020-11-02",15.2,15,8]
["2020-07-07",15.3,15,9]
["2020-09-07",15.3,{"$f":"ROUND(B297,0)","v":15},{"$f":"IF(C297=C296,D296+1,1)","v":10}]
["2020-07-12",15.4,15,11]
["2020-07-11",15.5,16,1]
["2020-09-20",15.5,16,2]
["2020-07-17",15.7,16,3]
["2020-08-31",15.7,16,4]
["2020-09-06",15.7,16,5]
["2021-06-14",15.8,16,6]
["2020-09-08",16.100000000000001,16,7]
["2020-09-11",16.100000000000001,16,8]
["2020-09-03",16.2,16,9]
["2020-07-13",16.3,16,10]
["2020-09-21",16.399999999999999,16,11]
["2020-08-30",16.5,17,1]
["2020-09-10",16.5,17,2]
["2020-08-03",16.600000000000001,17,3]
["2021-06-02",16.7,17,4]
["2020-09-17",17,17,5]
["2020-10-03",17,17,6]
["2021-06-25",17.2,17,7]
["2020-08-29",17.3,17,8]
["2020-07-18",17.5,18,1]
["2020-08-05",17.7,18,2]
["2020-08-28",17.7,18,3]
["2020-09-22",17.8,18,4]
["2020-09-24",17.8,18,5]
["2020-08-24",18,18,6]
["2020-08-27",18,18,7]
["2020-09-23",18,18,8]
["2021-06-10",18,18,9]
["2020-08-25",18.100000000000001,18,10]
["2021-06-03",18.100000000000001,18,11]
["2020-07-09",18.2,18,12]
["2020-07-14",18.2,18,13]
["2020-07-15",18.2,18,14]
["2021-06-23",18.3,18,15]
["2020-09-12",18.399999999999999,18,16]
["2021-06-30",18.5,19,1]
["2020-07-22",18.600000000000001,19,2]
["2020-07-23",18.600000000000001,19,3]
["2021-06-22",18.7,19,4]
["2020-09-09",18.8,19,5]
["2021-06-26",18.8,19,6]
["2021-05-10",18.899999999999999,19,7]
["2020-07-03",19.2,19,8]
["2021-06-09",19.3,19,9]
["2020-08-23",19.399999999999999,19,10]
["2021-06-12",19.399999999999999,19,11]
["2020-08-02",19.5,20,1]
["2020-08-18",19.5,20,2]
["2021-06-24",19.600000000000001,20,3]
["2020-07-04",19.7,20,4]
["2021-06-11",19.7,20,5]
["2021-06-27",19.7,20,6]
["2020-09-13",19.8,20,7]
["2021-06-07",19.8,20,8]
["2020-07-21",19.899999999999999,20,9]
["2020-07-26",19.899999999999999,20,10]
["2020-08-19",19.899999999999999,20,11]
["2020-09-05",19.899999999999999,20,12]
["2020-07-06",20,20,13]
["2020-09-04",20.100000000000001,20,14]
["2021-06-04",20.100000000000001,20,15]
["2020-07-24",20.3,20,16]
["2020-08-06",20.3,{"$f":"ROUND(B361,0)","v":20},{"$f":"IF(C361=C360,D360+1,1)","v":17}]
["2021-06-15",20.399999999999999,20,18]
["2021-06-06",20.5,21,1]
["2020-07-19",20.7,21,2]
["2020-08-15",20.7,21,3]
["2020-07-02",20.8,21,4]
["2020-07-30",20.9,21,5]
["2020-09-14",20.9,21,6]
["2021-05-11",21,21,7]
["2021-06-05",21,21,8]
["2021-06-08",21,21,9]
["2020-07-27",21.3,21,10]
["2020-08-17",21.3,21,11]
["2021-06-28",21.4,21,12]
["2020-09-16",21.5,22,1]
["2020-08-26",21.6,22,2]
["2020-08-14",21.9,22,3]
["2020-08-16",21.9,22,4]
["2020-08-20",21.9,22,5]
["2021-06-29",21.9,22,6]
["2020-07-20",22,22,7]
["2020-07-25",22,22,8]
["2020-07-31",22,22,9]
["2020-08-22",22,22,10]
["2020-09-15",22.1,22,11]
["2020-07-05",22.4,22,12]
["2020-07-29",22.4,22,13]
["2020-07-01",22.5,23,1]
["2020-08-01",22.6,23,2]
["2021-06-16",22.6,23,3]
["2020-08-10",22.7,23,4]
["2020-08-11",22.9,23,5]
["2020-08-07",23.2,23,6]
["2021-06-17",23.5,24,1]
["2020-08-12",23.8,24,2]
["2020-07-10",24,24,3]
["2020-08-13",24.3,24,4]
["2020-08-08",24.4,24,5]
["2021-06-18",24.5,25,1]
["2020-07-28",24.6,25,2]
["2020-08-21",24.6,25,3]
["2020-08-09",24.8,25,4]
["2021-06-19",25,25,5]
["2021-06-20",25.8,26,1]
["2021-06-21",26,26,2]

{"sheet":"test2","index":5,"n_rows":21,"n_cols":17,"rows_kept":21,"cut":false,"hidden":false,"merged":[]}
[]
[]
[]
[null,null,null,null,null,null,0.19,{"$f":"G4","v":0.19},{"$f":"H4","v":0.19},0.19,"TZ při -10°C:",10,"kW pro dT 30K. Tedy topení 20°C, venku -10°C.",2,"kW topení ostatních zdrojů"]
[null,null,null,null,null,null,3.2,{"$f":"G5","v":3.2},3.2,3.2,"topná teplota:",20,"°C",{"$f":"Z1120/3+AE1120","v":0},"kWh spotřeba topení+chlazení za rok"]
[null,null,null,null,null,null,null,null,null,null,null,2,"kW je výkon TČ při COP =1 (příkon motoru)"]
[]
[null,"vnější teplota °C",null,null,null,null,"dosazeny COP",null,null,null,null,"Potřebný topný výkon (kW)",null,null,null,null,"Příkon"]
[null,20,null,null,null,null,4,{"$f":"IF(C9*H$4+H$5>1,C9*H$4+H$5,1)","v":3.2},3.2,3.2,null,{"$f":"$L$4*($L$5-B9)/30-$N$4","v":-2},4.666666666666667,4.666666666666667,4.666666666666667,null,{"$f":"IF(L9/G9>$L$6,$L$6+L9-$L$6*G9,L9/G9)","v":-0.5}]
[null,17,null,null,null,null,{"$f":"G9","v":4},3.2,3.2,3.2,null,-1,4.666666666666667,4.666666666666667,4.666666666666667,null,{"$f":"IF(L10/G10>$L$6,$L$6+L10-$L$6*G10,L10/G10)","v":-0.25}]
[null,14,null,null,null,null,{"$f":"G10","v":4},3.2,3.2,3.2,null,0,4.666666666666667,4.666666666666667,4.666666666666667,null,0]
[null,11,null,null,null,null,4,3.2,3.2,3.2,null,1,4.666666666666667,4.666666666666667,4.666666666666667,null,0.25]
[null,8,null,null,null,null,4,3.2,3.2,3.2,null,2,4.666666666666667,4.666666666666667,4.666666666666667,null,0.5]
[null,5,null,null,null,null,4,3.2,3.2,3.2,null,3,4.666666666666667,4.666666666666667,4.666666666666667,null,0.75]
[null,2,null,null,null,null,4,3.2,3.2,3.2,null,4,4.666666666666667,4.666666666666667,4.666666666666667,null,1]
[null,-1,null,null,null,null,4,3.2,3.2,3.2,null,5,4.666666666666667,4.666666666666667,4.666666666666667,null,1.25]
[null,-4,null,null,null,null,4,3.2,3.2,3.2,null,6,4.666666666666667,4.666666666666667,4.666666666666667,null,1.5]
[null,-7,null,null,null,null,4,3.2,3.2,3.2,null,7,4.666666666666667,4.666666666666667,4.666666666666667,null,1.75]
[null,-10,null,null,null,null,4,3.2,3.2,3.2,null,8,4.666666666666667,4.666666666666667,4.666666666666667,null,2]
[null,-13,null,null,null,null,4,3.2,3.2,3.2,null,9,4.666666666666667,4.666666666666667,4.666666666666667,null,3]
[null,-16,null,null,null,null,4,3.2,3.2,3.2,null,10,4.666666666666667,4.666666666666667,4.666666666666667,null,4]

{"sheet":"test3","index":6,"n_rows":24,"n_cols":35,"rows_kept":24,"cut":false,"hidden":false,"merged":[]}
["Průměr °C",{"$f":"SUM(B9:B1104)/1096","v":-3.6496350364963501E-2},null,null,null,null,"Dosažitelný COP",null,null,null,{"$f":"SUM(L100:O465)*6","v":0},"kWh 15/16",null,null,null,null,{"$f":"K1/U1","v":{"$error":"#DIV/0!"}},"SCOP 15/16",null,null,{"$f":"SUM(V100:Y465)*6","v":0},"kWh 15/16",null,null,{"$f":"Z1/U1","v":{"$error":"#DIV/0!"}},{"$f":"SUM(AA100:AD465)*6","v":0},"kWh 15/16",null,null,null,null,null,null,0,1443]
["http://kondenzace.kvalitne.cz/kks/optimalizace%20tc.xlsx ",null,null,null,null,null,null,null,null,null,{"$f":"SUM(L465:O830)*6","v":0},"kWh 16/17",null,null,null,null,{"$f":"K2/U2","v":{"$error":"#DIV/0!"}},"SCOP 16/17",null,null,{"$f":"SUM(V465:Y830)*6","v":0},"kWh 16/17",null,null,{"$f":"Z2/U2","v":{"$error":"#DIV/0!"}},{"$f":"SUM(AA465:AD830)*6","v":0},"kWh 16/17",null,null,null,null,null,null,0.25,1302.8018150839441]
[null,null,"stiebel/hotjet","teorie","Loria2017",null,null,null,null,null,{"$f":"SUM(L831:O1120)*6","v":0},"kWh 17/18",null,null,null,null,{"$error":"#DIV/0!"},"SCOP 17/18",null,null,{"$f":"SUM(V831:Y1120)*6","v":0},"kWh 17/18",null,null,{"$error":"#DIV/0!"},{"$f":"SUM(AA831:AD1120)*6","v":0},"kWh 17/18",null,null,null,null,null,null,0.5,1221.736599615039]
[null,null,0.1,0.35,0.19,"křivka TČ sklon",0.19,{"$f":"G4","v":0.19},{"$f":"H4","v":0.19},0.19,"TZ při -10°C:",5,"kW pro dT 30K. Tedy topení 20°C, venku -10°C.",0,"kW topení ostatních zdrojů",null,null,null,null,null,null,null,null,null,null,null,null,null,null,null,null,null,null,0.75,1170.7944309403401]
[null,null,3.8,8.6999999999999993,3.2,"křivka TČ konst",3.2,{"$f":"G5","v":3.2},3.2,3.2,"topná teplota:",20,"°C",{"$f":"Z24","v":1057.819104826063},"kWh spotřeba topení+chlazení za rok",null,null,null,null,null,null,null,null,null,null,"Ctrl+m      je makro přepočtu spotřeby v závislosti",null,null,null,null,null,null,null,1,1137.6261627839156]
[null,2,-28,-25,-12,null,{"$f":"B6*G$4+G$5","v":3.58},null,null,null,null,4,"kW je výkon TČ při COP =1 (příkon motoru)",null,null,null,null,null,null,null,null,null,null,null,null,"na výkonu motoru kompresoru",null,null,null,null,null,null,null,1.25,1114.1131395281018]
[null,"průměr","odpoledne","průměr","v noci",null,null,null,null,null,null,{"$f":"L6*G6","v":14.32},"kW je výkon čerpadla při 35/2",null,null,null,null,null,null,null,null,null,null,null,null,null,null,null,null,null,null,null,null,1.5,1098.4531395281017]
[null,"Kbely 2015-18",3,0,{"$f":"-C8","v":-3},null,"dosazeny COP",null,null,null,null,"Potřebný topný výkon (kW)",null,null,null,null,"Příkon",null,null,null,"průměr","topení",null,null,null,"součet kWh","chlazení",null,null,null,"součet kWh",null,null,1.75,1086.6174018231836]
[null,20,{"$f":"$B9+C$8","v":23},{"$f":"$B9+D$8","v":20},17,null,{"$f":"IF(B9*G$4+G$5>1,B9*G$4+G$5,1)","v":7},7.57,7,6.43,null,{"$f":"$L$4*($L$5-B9)/30-$N$4","v":0},-0.5,0,0.5,null,{"$f":"IF(L9/G9>$L$6,$L$6+L9-$L$6*G9,L9/G9)","v":0},{"$f":"IF(M9/H9>$L$6,$L$6+M9-$L$6*H9,M9/H9)","v":-6.6050198150594444E-2},0,7.7760497667185069E-2,{"$f":"SUM(Q9:T9)/4","v":2.9275748791476562E-3},{"$f":"IF(Q9>0,Q9,0)","v":0},{"$f":"IF(R9>0,R9,)","v":0},0,7.7760497667185069E-2,{"$f":"6*(V9+W9+X9+Y9)","v":0.46656298600311041},{"$f":"IF(Q9<0,-Q9,0)","v":0},{"$f":"IF(R9<0,-R9,0)","v":6.6050198150594444E-2},0,0,{"$f":"6*(AA9+AB9+AC9+AD9)","v":0.39630118890356669},null,null,2,1079.5974018231836]
[null,17,{"$f":"$B10+C$8","v":20},17,14,null,6.43,7,6.43,5.86,null,0.5,0,0.5,1,null,{"$f":"IF(L10/G10>$L$6,$L$6+L10-$L$6*G10,L10/G10)","v":7.7760497667185069E-2},0,7.7760497667185069E-2,0.17064846416382251,{"$f":"SUM(Q10:T10)/4","v":8.1542364874548162E-2},{"$f":"IF(Q10>0,Q10,)","v":7.7760497667185069E-2},0,7.7760497667185069E-2,0.17064846416382251,{"$f":"Z9+6*(V10+W10+X10+Y10)","v":2.4235797429922661},{"$f":"IF(Q10<0,-Q10,0)","v":0},0,0,0,{"$f":"AE9+6*(AA10+AB10+AC10+AD10)","v":0.39630118890356669},null,null,2.25,1072.5774018231837]
[null,14,17,14,11,null,5.86,6.43,5.86,5.29,null,1,0.5,1,1.5,null,0.17064846416382251,7.7760497667185069E-2,0.17064846416382251,0.28355387523629488,0.17565282530778126,0.17064846416382251,7.7760497667185069E-2,0.17064846416382251,0.28355387523629488,{"$f":"Z10+6*(V11+W11+X11+Y11)","v":6.6392475503790163},0,0,0,0,{"$f":"AE10+6*(AA11+AB11+AC11+AD11)","v":0.39630118890356669},null,null,2.5,1067.5114125183709]
[null,11,14,11,8,null,5.29,5.86,5.29,4.7200000000000006,null,1.5,1,1.5,2,null,0.28355387523629488,0.17064846416382251,0.28355387523629488,0.42372881355932196,0.29037125704893357,0.28355387523629488,0.17064846416382251,0.28355387523629488,0.42372881355932196,13.608157719553422,0,0,0,0,0.39630118890356669,null,null,2.75,1065.7114125183707]
[null,8,11,8,5,null,4.7200000000000006,5.29,4.7200000000000006,4.1500000000000004,null,2,1.5,2,2.5,null,0.42372881355932196,0.28355387523629488,0.42372881355932196,0.60240963855421681,0.43335528522728889,0.42372881355932196,0.28355387523629488,0.42372881355932196,0.60240963855421681,24.008684565008355,0,0,0,0,0.39630118890356669,null,null,3,1063.9114125183708]
[null,5,8,5,2,null,4.1500000000000004,4.7200000000000006,4.1500000000000004,3.58,null,2.5,2,2.5,3,null,0.60240963855421681,0.42372881355932196,0.60240963855421681,0.83798882681564246,0.61663422937084955,0.60240963855421681,0.42372881355932196,0.60240963855421681,0.83798882681564246,38.807906069908746,0,0,0,0,0.39630118890356669,null,null,3.25,1062.1114125183708]
[null,2,5,2,-1,null,3.58,4.1500000000000004,3.58,3.0100000000000002,null,3,2.5,3,3.5,null,0.83798882681564246,0.60240963855421681,0.83798882681564246,1.1627906976744184,0.86029449746497999,0.83798882681564246,0.60240963855421681,0.83798882681564246,1.1627906976744184,59.454974009068266,0,0,0,0,0.39630118890356669,null,null,3.5,1060.3114125183706]
[null,-1,2,-1,-4,null,3.0100000000000002,3.58,3.0100000000000002,2.4400000000000004,null,3.5,3,3.5,4,null,1.1627906976744184,0.83798882681564246,1.1627906976744184,1.6393442622950818,1.2007286211148902,1.1627906976744184,0.83798882681564246,1.1627906976744184,1.6393442622950818,88.272460915825633,0,0,0,0,0.39630118890356669,null,null,3.75,1058.5114125183709]
[null,-4,-1,-4,-7,null,2.4400000000000004,3.0100000000000002,2.4400000000000004,1.87,null,4,3.5,4,4.5,null,1.6393442622950818,1.1627906976744184,1.6393442622950818,2.4064171122994651,1.7119740836410118,1.6393442622950818,1.1627906976744184,1.6393442622950818,2.4064171122994651,129.35983892320991,0,0,0,0,0.39630118890356669,null,null,4,1057.819104826063]
[null,-7,-4,-7,-10,null,1.87,2.4400000000000004,1.87,1.3000000000000003,null,4.5,4,4.5,5,null,2.4064171122994651,1.6393442622950818,2.4064171122994651,3.8461538461538454,2.5745830832619645,2.4064171122994651,1.6393442622950818,2.4064171122994651,3.8461538461538454,191.14983292149705,0,0,0,0,0.39630118890356669]
[null,-10,-7,-10,-13,null,1.3000000000000003,1.87,1.3000000000000003,1,null,5,4.5,5,5.5,null,3.8461538461538454,2.4064171122994651,3.8461538461538454,5.5,3.8996812011517887,3.8461538461538454,2.4064171122994651,3.8461538461538454,5.5,284.74218174913995,0,0,0,0,0.39630118890356669]
[null,-13,-10,-13,-16,null,1,1.3000000000000003,1,1,null,5.5,5,5.5,6,null,5.5,3.8461538461538454,5.5,6,5.2115384615384617,5.5,3.8461538461538454,5.5,6,409.81910482606304,0,0,0,0,0.39630118890356669]
[null,-16,-13,-16,-19,null,1,1,1,1,null,6,5.5,6,6.5,null,6,5.5,6,6.5,6,6,5.5,6,6.5,553.81910482606304,0,0,0,0,0.39630118890356669]
[null,-19,-16,-19,-22,null,1,1,1,1,null,6.5,6,6.5,7,null,6.5,6,6.5,7,6.5,6.5,6,6.5,7,709.81910482606304,0,0,0,0,0.39630118890356669]
[null,-22,-19,-22,-25,null,1,1,1,1,null,7,6.5,7,7.5,null,7,6.5,7,7.5,7,7,6.5,7,7.5,877.81910482606304,0,0,0,0,0.39630118890356669]
[null,-25,-22,-25,-28,null,1,1,1,1,null,7.5,7,7.5,8,null,7.5,7,7.5,8,7.5,7.5,7,7.5,8,1057.819104826063,0,0,0,0,0.39630118890356669]

{"sheet":"test4","index":7,"n_rows":57,"n_cols":19,"rows_kept":57,"cut":false,"hidden":false,"merged":[]}
[null,null,null,null,{"$f":"P57","v":480},{"$f":"Q57","v":438.85714285714289},480,438.85714285714289]
[null,null,null,null,{"$f":"E1/24","v":20},{"$f":"F1/24","v":18.285714285714288},20,18.285714285714288]
[]
[null,"Příkon(kW)",null,null,null,"topení (kW)",null,null,null,"chlaz (kW)",null,null,null,"kW topení","kW chlazení","kWh celkem po šesti hodinách","kWh celkem z průměrů za týden","kWh chlazení po šesti hodinách","kWh chlazení jako týdenní průměry"]
["2018-01-01",1,{"$f":"B5","v":1},{"$f":"C5","v":1},1,{"$f":"IF(B5>0,B5,0)","v":1},{"$f":"IF(C5>0,C5,)","v":1},{"$f":"IF(D5>0,D5,)","v":1},{"$f":"IF(E5>0,E5,)","v":1},{"$f":"IF(B5<0,-B5,0)","v":0},{"$f":"IF(C5<0,-C5,0)","v":0},{"$f":"IF(D5<0,-D5,0)","v":0},{"$f":"IF(E5<0,-E5,0)","v":0},null,null,{"$f":"6*SUM(F5:I5)","v":24},null,{"$f":"6*SUM(J5:M5)","v":0}]
["2018-01-02",{"$f":"B5","v":1},{"$f":"B6","v":1},1,1,{"$f":"IF(B6>0,B6,)","v":1},1,1,1,0,0,0,0,null,null,{"$f":"6*SUM(F6:I6)+P5","v":48},{"$f":"Q5+N6*24","v":0},{"$f":"6*SUM(J6:M6)+R5","v":0},{"$f":"S5+O6*24","v":0}]
["2018-01-03",{"$f":"B6","v":1},{"$f":"B7","v":1},1,1,1,1,1,1,0,0,0,0,null,null,{"$f":"6*SUM(F7:I7)+P6","v":72},{"$f":"P7","v":72},0,{"$f":"S6+O7*24","v":0}]
["2018-01-04",1,{"$f":"B8","v":1},1,1,1,1,1,1,0,0,0,0,{"$f":"IF(SUM(B5:E11)/28>0,SUM(B5:E11)/28,)","v":1},{"$f":"IF(SUM(B5:E11)/28<0,-SUM(B5:E11)/28,)","v":0},96,{"$f":"Q7+N8*24","v":96},0,0]
["2018-01-05",1,{"$f":"B9","v":1},1,1,1,1,1,1,0,0,0,0,{"$f":"IF(SUM(B6:E12)/28>0,SUM(B6:E12)/28,)","v":1},{"$f":"IF(SUM(B6:E12)/28<0,-SUM(B6:E12)/28,)","v":0},120,120,0,0]
["2018-01-06",1,{"$f":"B10","v":1},1,1,1,1,1,1,0,0,0,0,1,0,144,144,0,0]
["2018-01-07",1,{"$f":"B11","v":1},1,1,1,1,1,1,0,0,0,0,1,0,168,168,0,0]
["2018-01-08",1,{"$f":"B12","v":1},1,1,1,1,1,1,0,0,0,0,1,0,192,192,0,0]
["2018-01-09",1,{"$f":"B13","v":1},1,1,1,1,1,1,0,0,0,0,1,0,216,216,0,0]
["2018-01-10",1,{"$f":"B14","v":1},1,1,1,1,1,1,0,0,0,0,1,0,240,240,0,0]
["2018-01-11",1,{"$f":"B15","v":1},1,1,1,1,1,1,0,0,0,0,1,0,264,264,0,0]
["2018-01-12",1,{"$f":"B16","v":1},1,1,1,1,1,1,0,0,0,0,1,0,288,288,0,0]
["2018-01-13",1,{"$f":"B17","v":1},1,1,1,1,1,1,0,0,0,0,1,0,312,312,0,0]
["2018-01-14",1,{"$f":"B18","v":1},1,1,1,1,1,1,0,0,0,0,1,0,336,336,0,0]
["2018-01-15",1,{"$f":"B19","v":1},1,1,1,1,1,1,0,0,0,0,1,0,360,360,0,0]
["2018-01-16",1,{"$f":"B20","v":1},1,1,1,1,1,1,0,0,0,0,1,0,384,384,0,0]
["2018-01-17",1,{"$f":"B21","v":1},1,1,1,1,1,1,0,0,0,0,1,0,408,408,0,0]
["2018-01-18",1,{"$f":"B22","v":1},1,1,1,1,1,1,0,0,0,0,0.7142857142857143,0,432,425.14285714285717,0,0]
["2018-01-19",1,{"$f":"B23","v":1},1,1,{"$f":"IF(B23>0,B23,)","v":1},{"$f":"IF(C23>0,C23,)","v":1},{"$f":"IF(D23>0,D23,)","v":1},{"$f":"IF(E23>0,E23,)","v":1},{"$f":"IF(B23<0,-B23,0)","v":0},{"$f":"IF(C23<0,-C23,0)","v":0},{"$f":"IF(D23<0,-D23,0)","v":0},{"$f":"IF(E23<0,-E23,0)","v":0},{"$f":"IF(SUM(B20:E26)/28>0,SUM(B20:E26)/28,)","v":0.42857142857142855},{"$f":"IF(SUM(B20:E26)/28<0,-SUM(B20:E26)/28,)","v":0},{"$f":"6*SUM(F23:I23)+P22","v":456},{"$f":"Q22+N23*24","v":435.42857142857144},{"$f":"6*SUM(J23:M23)+R22","v":0},{"$f":"S22+O23*24","v":0}]
["2018-01-20",1,{"$f":"B24","v":1},1,1,1,1,1,1,0,0,0,0,0.14285714285714285,0,480,438.85714285714289,0,0]
["2018-01-21",-1,{"$f":"B25","v":-1},-1,-1,0,0,0,0,1,1,1,1,0,0.14285714285714285,480,438.85714285714289,24,3.4285714285714284]
["2018-01-22",-1,{"$f":"B26","v":-1},-1,-1,0,0,0,0,1,1,1,1,0,0.42857142857142855,480,438.85714285714289,48,13.714285714285714]
["2018-01-23",-1,{"$f":"B27","v":-1},-1,-1,0,0,0,0,1,1,1,1,0,0.7142857142857143,480,438.85714285714289,72,30.857142857142854]
["2018-01-24",-1,{"$f":"B28","v":-1},-1,-1,0,0,0,0,1,1,1,1,0,1,480,438.85714285714289,96,54.857142857142854]
["2018-01-25",-1,{"$f":"B29","v":-1},-1,-1,0,0,0,0,1,1,1,1,0,1,480,438.85714285714289,120,78.857142857142861]
["2018-01-26",-1,{"$f":"B30","v":-1},-1,-1,0,0,0,0,1,1,1,1,0,1,480,438.85714285714289,144,102.85714285714286]
["2018-01-27",-1,{"$f":"B31","v":-1},-1,-1,0,0,0,0,1,1,1,1,0,1,480,438.85714285714289,168,126.85714285714286]
["2018-01-28",-1,{"$f":"B32","v":-1},-1,-1,0,0,0,0,1,1,1,1,0,1,480,438.85714285714289,192,150.85714285714286]
["2018-01-29",-1,{"$f":"B33","v":-1},-1,-1,0,0,0,0,1,1,1,1,0,1,480,438.85714285714289,216,174.85714285714286]
["2018-01-30",-1,{"$f":"B34","v":-1},-1,-1,0,0,0,0,1,1,1,1,0,1,480,438.85714285714289,240,198.85714285714286]
["2018-01-31",-1,{"$f":"B35","v":-1},-1,-1,0,0,0,0,1,1,1,1,0,1,480,438.85714285714289,264,222.85714285714286]
["2018-02-01",-1,{"$f":"B36","v":-1},-1,-1,0,0,0,0,1,1,1,1,0,1,480,438.85714285714289,288,246.85714285714286]
["2018-02-02",-1,{"$f":"B37","v":-1},-1,-1,0,0,0,0,1,1,1,1,0,1,480,438.85714285714289,312,270.85714285714289]
["2018-02-03",-1,{"$f":"B38","v":-1},-1,-1,0,0,0,0,1,1,1,1,0,1,480,438.85714285714289,336,294.85714285714289]
["2018-02-04",-1,{"$f":"B39","v":-1},-1,-1,0,0,0,0,1,1,1,1,0,1,480,438.85714285714289,360,318.85714285714289]
["2018-02-05",-1,{"$f":"B40","v":-1},-1,-1,0,0,0,0,1,1,1,1,0,1,480,438.85714285714289,384,342.85714285714289]
["2018-02-06",-1,{"$f":"B41","v":-1},-1,-1,0,0,0,0,1,1,1,1,0,1,480,438.85714285714289,408,366.85714285714289]
["2018-02-07",-1,{"$f":"B42","v":-1},-1,-1,0,0,0,0,1,1,1,1,0,0.8571428571428571,480,438.85714285714289,432,387.42857142857144]
["2018-02-08",-1,{"$f":"B43","v":-1},-1,-1,0,0,0,0,1,1,1,1,0,0.7142857142857143,480,438.85714285714289,456,404.57142857142861]
["2018-02-09",-1,{"$f":"B44","v":-1},-1,-1,0,0,0,0,1,1,1,1,0,0.5714285714285714,480,438.85714285714289,480,418.28571428571433]
["2018-02-10",0,{"$f":"B45","v":0},0,0,0,0,0,0,0,0,0,0,0,0.42857142857142855,480,438.85714285714289,480,428.57142857142861]
["2018-02-11",0,{"$f":"B46","v":0},0,0,0,0,0,0,0,0,0,0,0,0.2857142857142857,480,438.85714285714289,480,435.42857142857144]
["2018-02-12",0,{"$f":"B47","v":0},0,0,0,0,0,0,0,0,0,0,0,0.14285714285714285,480,438.85714285714289,480,438.85714285714289]
["2018-02-13",0,{"$f":"B48","v":0},0,0,0,0,0,0,0,0,0,0,0,0,480,438.85714285714289,480,438.85714285714289]
["2018-02-14",0,{"$f":"B49","v":0},0,0,0,0,0,0,0,0,0,0,0,0,480,438.85714285714289,480,438.85714285714289]
["2018-02-15",0,{"$f":"B50","v":0},0,0,0,0,0,0,0,0,0,0,0,0,480,438.85714285714289,480,438.85714285714289]
["2018-02-16",0,{"$f":"B51","v":0},0,0,0,0,0,0,0,0,0,0,0,0,480,438.85714285714289,480,438.85714285714289]
["2018-02-17",0,{"$f":"B52","v":0},0,0,0,0,0,0,0,0,0,0,0,0,480,438.85714285714289,480,438.85714285714289]
["2018-02-18",0,{"$f":"B53","v":0},0,0,0,0,0,0,0,0,0,0,0,0,480,438.85714285714289,480,438.85714285714289]
["2018-02-19",0,{"$f":"B54","v":0},0,0,0,0,0,0,0,0,0,0,0,0,480,438.85714285714289,480,438.85714285714289]
["2018-02-20",0,{"$f":"B55","v":0},0,0,0,0,0,0,0,0,0,0,0,0,480,438.85714285714289,480,438.85714285714289]
["2018-02-21",0,{"$f":"B56","v":0},0,0,0,0,0,0,0,0,0,0,0,0,480,438.85714285714289,480,438.85714285714289]
["2018-02-22",0,{"$f":"B57","v":0},0,0,0,0,0,0,0,0,0,0,0,0,480,438.85714285714289,480,438.85714285714289]

{"sheet":"poměry","index":8,"n_rows":11,"n_cols":16,"rows_kept":11,"cut":false,"hidden":false,"merged":[]}
[]
[7.4,"kW"]
[1.7,"kW zisky",null,"přímotop","TČ 0,1 3,8"]
[null,"dnů","SCOP","plyn","kWh top","kWh chl"]
[5,165,4.1399999999999997,16000,4500,6500,{"$f":"SUM(E5:F5)","v":11000}]
[2.5,192,3.99,25000,7000,5000,12000,{"$f":"SUM(A5:A6)/2","v":3.75},{"$f":"(D6-D5)/2.5","v":3600},1000,-600,400,{"$f":"D6/D5","v":1.5625},1.5555555555555556,0.76923076923076927,1.0909090909090908]
[0,223,3.81,35000,10000,3500,13500,1.25,4000,1200,-600,600,1.4,1.4285714285714286,0.7,1.125]
[-2.5,247,3.59,45000,14000,2000,16000,-1.25,4000,1600,-600,1000,1.2857142857142858,1.4,0.5714285714285714,1.1851851851851851]
[-5,289,3.35,58000,20000,1200,21200,-3.75,5200,2400,-320,2080,1.288888888888889,1.4285714285714286,0.6,1.325]
[-7.5,336,3.1,72000,27000,600,27600,-6.25,5600,2800,-240,2560,1.2413793103448276,1.35,0.5,1.3018867924528301]
[-10,359,2.82,90000,37000,200,37200,-8.75,7200,4000,-160,3840,1.25,1.3703703703703705,0.33333333333333331,1.3478260869565217]

{"sheet":"denostupně","index":9,"n_rows":1883,"n_cols":12,"rows_kept":1883,"cut":false,"hidden":false,"merged":[]}
[]
[null,"pata",13,13,14,14,15,15,16,16,17,17]
[null,null,{"$f":"SUM(C10:C1836)","v":8731.4999999999854},{"$f":"C3","v":8731.4999999999854},{"$f":"SUM(E10:E1836)","v":9851.8999999999905},{"$f":"E3","v":9851.8999999999905},{"$f":"SUM(G10:G1836)","v":11048.699999999992},{"$f":"G3","v":11048.699999999992},{"$f":"SUM(I10:I1836)","v":12312.199999999999},{"$f":"I3","v":12312.199999999999},{"$f":"SUM(K10:K1836)","v":13641.400000000001},{"$f":"K3","v":13641.400000000001}]
[null,null,{"$f":"SUM(D10:D1836)","v":-4168.7000000000007},{"$f":"C4","v":-4168.7000000000007},{"$f":"SUM(F10:F1836)","v":-3462.1000000000013},-3462.1000000000013,{"$f":"SUM(H10:H1836)","v":-2831.9000000000005},-2831.9000000000005,{"$f":"SUM(J10:J1836)","v":-2268.4000000000024},-2268.4000000000024,{"$f":"SUM(L10:L1836)","v":-1770.6000000000006},-1770.6000000000006]
[null,null,{"$f":"C3-C4","v":12900.199999999986},12900.199999999986,{"$f":"E3-E4","v":13313.999999999993},13313.999999999993,{"$f":"G3-G4","v":13880.599999999991},13880.599999999991,{"$f":"I3-I4","v":14580.600000000002},14580.600000000002,{"$f":"K3-K4","v":15412.000000000002},15412.000000000002]
[null,null,{"$f":"E3-C3","v":1120.4000000000051},{"$f":"C6","v":1120.4000000000051},{"$f":"G3-E3","v":1196.8000000000011},{"$f":"E6","v":1196.8000000000011},{"$f":"I3-G3","v":1263.5000000000073},{"$f":"G6","v":1263.5000000000073},{"$f":"K3-I3","v":1329.2000000000025},{"$f":"I6","v":1329.2000000000025}]
[null,null,{"$f":"E5-C5","v":413.80000000000655},{"$f":"C7","v":413.80000000000655},{"$f":"G5-E5","v":566.59999999999854},566.59999999999854,{"$f":"I5-G5","v":700.00000000001091},700.00000000001091,{"$f":"K5-I5","v":831.39999999999964},831.39999999999964]
[null,null,{"$f":"C7/C6","v":0.36933238129239976},0.36933238129239976,{"$f":"E7/E6","v":0.47342914438502509},0.47342914438502509,{"$f":"G7/G6","v":0.55401662049862044},0.55401662049862044,{"$f":"I7/I6","v":0.62548901594944184},0.62548901594944184]
[{"$f":"'data Kbely'!A9","v":"Date;HDD;% Estimated"},{"$f":"'data Kbely'!B9","v":"Kbely 2015-18 (°C)"}]
[{"$f":"'data Kbely'!A10","v":"2015-04-01"},{"$f":"'data Kbely'!B10","v":-10},{"$f":"IF(C$2>$B10,C$2-$B10,0)","v":23},{"$f":"IF(D$2<$B10,D$2-$B10,0)","v":0},{"$f":"IF(E$2>$B10,E$2-$B10,0)","v":24},{"$f":"IF(F$2<$B10,F$2-$B10,0)","v":0},{"$f":"IF(G$2>$B10,G$2-$B10,0)","v":25},{"$f":"IF(H$2<$B10,H$2-$B10,0)","v":0},{"$f":"IF(I$2>$B10,I$2-$B10,0)","v":26},{"$f":"IF(J$2<$B10,J$2-$B10,0)","v":0},{"$f":"IF(K$2>$B10,K$2-$B10,0)","v":27},{"$f":"IF(L$2<$B10,L$2-$B10,0)","v":0}]
[{"$f":"'data Kbely'!A11","v":"2015-04-02"},{"$f":"'data Kbely'!B11","v":2.5},10.5,0,11.5,0,12.5,0,13.5,0,14.5,0]
[{"$f":"'data Kbely'!A12","v":"2015-04-03"},{"$f":"'data Kbely'!B12","v":4},9,0,10,0,11,0,12,0,13,0]
[{"$f":"'data Kbely'!A13","v":"2015-04-04"},{"$f":"'data Kbely'!B13","v":2.6999999999999993},10.3,0,11.3,0,12.3,0,13.3,0,14.3,0]
[{"$f":"'data Kbely'!A14","v":"2015-04-05"},{"$f":"'data Kbely'!B14","v":3.1000000000000014},9.8999999999999986,0,10.899999999999999,0,11.899999999999999,0,12.899999999999999,0,13.899999999999999,0]
[{"$f":"'data Kbely'!A15","v":"2015-04-06"},{"$f":"'data Kbely'!B15","v":2},11,0,12,0,13,0,14,0,15,0]
[{"$f":"'data Kbely'!A16","v":"2015-04-07"},{"$f":"'data Kbely'!B16","v":5.1999999999999993},7.8000000000000007,0,8.8000000000000007,0,9.8000000000000007,0,10.8,0,11.8,0]
[{"$f":"'data Kbely'!A17","v":"2015-04-08"},{"$f":"'data Kbely'!B17","v":7.1000000000000014},5.8999999999999986,0,6.8999999999999986,0,7.8999999999999986,0,8.8999999999999986,0,9.8999999999999986,0]
[{"$f":"'data Kbely'!A18","v":"2015-04-09"},{"$f":"'data Kbely'!B18","v":8.8000000000000007},4.1999999999999993,0,5.1999999999999993,0,6.1999999999999993,0,7.1999999999999993,0,8.1999999999999993,0]
[{"$f":"'data Kbely'!A19","v":"2015-04-10"},{"$f":"'data Kbely'!B19","v":10},3,0,4,0,5,0,6,0,7,0]
[{"$f":"'data Kbely'!A20","v":"2015-04-11"},{"$f":"'data Kbely'!B20","v":13.399999999999999},0,-0.39999999999999858,0.60000000000000142,0,1.6000000000000014,0,2.6000000000000014,0,3.6000000000000014,0]
[{"$f":"'data Kbely'!A21","v":"2015-04-12"},{"$f":"'data Kbely'!B21","v":12.2},0.80000000000000071,0,1.8000000000000007,0,2.8000000000000007,0,3.8000000000000007,0,4.8000000000000007,0]
[{"$f":"'data Kbely'!A22","v":"2015-04-13"},{"$f":"'data Kbely'!B22","v":9.8999999999999986},3.1000000000000014,0,4.1000000000000014,0,5.1000000000000014,0,6.1000000000000014,0,7.1000000000000014,0]
[{"$f":"'data Kbely'!A23","v":"2015-04-14"},{"$f":"'data Kbely'!B23","v":9.6000000000000014},3.3999999999999986,0,4.3999999999999986,0,5.3999999999999986,0,6.3999999999999986,0,7.3999999999999986,0]
[{"$f":"'data Kbely'!A24","v":"2015-04-15"},{"$f":"'data Kbely'!B24","v":16.100000000000001},0,-3.1000000000000014,0,-2.1000000000000014,0,-1.1000000000000014,0,-0.10000000000000142,0.89999999999999858,0]
[{"$f":"'data Kbely'!A25","v":"2015-04-16"},{"$f":"'data Kbely'!B25","v":14.5},0,-1.5,0,-0.5,0.5,0,1.5,0,2.5,0]
[{"$f":"'data Kbely'!A26","v":"2015-04-17"},{"$f":"'data Kbely'!B26","v":8.6999999999999993},4.3000000000000007,0,5.3000000000000007,0,6.3000000000000007,0,7.3000000000000007,0,8.3000000000000007,0]
[{"$f":"'data Kbely'!A27","v":"2015-04-18"},{"$f":"'data Kbely'!B27","v":5.8999999999999986},7.1000000000000014,0,8.1000000000000014,0,9.1000000000000014,0,10.100000000000001,0,11.100000000000001,0]
[{"$f":"'data Kbely'!A28","v":"2015-04-19"},{"$f":"'data Kbely'!B28","v":7.8000000000000007},5.1999999999999993,0,6.1999999999999993,0,7.1999999999999993,0,8.1999999999999993,0,9.1999999999999993,0]
[{"$f":"'data Kbely'!A29","v":"2015-04-20"},{"$f":"'data Kbely'!B29","v":10.899999999999999},2.1000000000000014,0,3.1000000000000014,0,4.1000000000000014,0,5.1000000000000014,0,6.1000000000000014,0]
[{"$f":"'data Kbely'!A30","v":"2015-04-21"},{"$f":"'data Kbely'!B30","v":13},0,0,1,0,2,0,3,0,4,0]
[{"$f":"'data Kbely'!A31","v":"2015-04-22"},{"$f":"'data Kbely'!B31","v":9.6999999999999993},3.3000000000000007,0,4.3000000000000007,0,5.3000000000000007,0,6.3000000000000007,0,7.3000000000000007,0]
[{"$f":"'data Kbely'!A32","v":"2015-04-23"},{"$f":"'data Kbely'!B32","v":11.100000000000001},1.8999999999999986,0,2.8999999999999986,0,3.8999999999999986,0,4.8999999999999986,0,5.8999999999999986,0]
[{"$f":"'data Kbely'!A33","v":"2015-04-24"},{"$f":"'data Kbely'!B33","v":13.2},0,-0.19999999999999929,0.80000000000000071,0,1.8000000000000007,0,2.8000000000000007,0,3.8000000000000007,0]
[{"$f":"'data Kbely'!A34","v":"2015-04-25"},{"$f":"'data Kbely'!B34","v":14.7},0,-1.6999999999999993,0,-0.69999999999999929,0.30000000000000071,0,1.3000000000000007,0,2.3000000000000007,0]
[{"$f":"'data Kbely'!A35","v":"2015-04-26"},{"$f":"'data Kbely'!B35","v":14.2},0,-1.1999999999999993,0,-0.19999999999999929,0.80000000000000071,0,1.8000000000000007,0,2.8000000000000007,0]
[{"$f":"'data Kbely'!A36","v":"2015-04-27"},{"$f":"'data Kbely'!B36","v":14.6},0,-1.5999999999999996,0,-0.59999999999999964,0.40000000000000036,0,1.4000000000000004,0,2.4000000000000004,0]
[{"$f":"'data Kbely'!A37","v":"2015-04-28"},{"$f":"'data Kbely'!B37","v":6.8000000000000007},6.1999999999999993,0,7.1999999999999993,0,8.1999999999999993,0,9.1999999999999993,0,10.199999999999999,0]
[{"$f":"'data Kbely'!A38","v":"2015-04-29"},{"$f":"'data Kbely'!B38","v":7.3999999999999986},5.6000000000000014,0,6.6000000000000014,0,7.6000000000000014,0,8.6000000000000014,0,9.6000000000000014,0]
[{"$f":"'data Kbely'!A39","v":"2015-04-30"},{"$f":"'data Kbely'!B39","v":8.8999999999999986},4.1000000000000014,0,5.1000000000000014,0,6.1000000000000014,0,7.1000000000000014,0,8.1000000000000014,0]
[{"$f":"'data Kbely'!A40","v":"2015-05-01"},{"$f":"'data Kbely'!B40","v":9.5},3.5,0,4.5,0,5.5,0,6.5,0,7.5,0]
[{"$f":"'data Kbely'!A41","v":"2015-05-02"},{"$f":"'data Kbely'!B41","v":10.5},2.5,0,3.5,0,4.5,0,5.5,0,6.5,0]
[{"$f":"'data Kbely'!A42","v":"2015-05-03"},{"$f":"'data Kbely'!B42","v":11.3},1.6999999999999993,0,2.6999999999999993,0,3.6999999999999993,0,4.6999999999999993,0,5.6999999999999993,0]
[{"$f":"'data Kbely'!A43","v":"2015-05-04"},{"$f":"'data Kbely'!B43","v":15.8},0,-2.8000000000000007,0,-1.8000000000000007,0,-0.80000000000000071,0.19999999999999929,0,1.1999999999999993,0]
[{"$f":"'data Kbely'!A44","v":"2015-05-05"},{"$f":"'data Kbely'!B44","v":18.5},0,-5.5,0,-4.5,0,-3.5,0,-2.5,0,-1.5]
[{"$f":"'data Kbely'!A45","v":"2015-05-06"},{"$f":"'data Kbely'!B45","v":14.4},0,-1.4000000000000004,0,-0.40000000000000036,0.59999999999999964,0,1.5999999999999996,0,2.5999999999999996,0]
[{"$f":"'data Kbely'!A46","v":"2015-05-07"},{"$f":"'data Kbely'!B46","v":13.5},0,-0.5,0.5,0,1.5,0,2.5,0,3.5,0]
[{"$f":"'data Kbely'!A47","v":"2015-05-08"},{"$f":"'data Kbely'!B47","v":12.7},0.30000000000000071,0,1.3000000000000007,0,2.3000000000000007,0,3.3000000000000007,0,4.3000000000000007,0]
[{"$f":"'data Kbely'!A48","v":"2015-05-09"},{"$f":"'data Kbely'!B48","v":13.600000000000001},0,-0.60000000000000142,0.39999999999999858,0,1.3999999999999986,0,2.3999999999999986,0,3.3999999999999986,0]
[{"$f":"'data Kbely'!A49","v":"2015-05-10"},{"$f":"'data Kbely'!B49","v":13.600000000000001},0,-0.60000000000000142,0.39999999999999858,0,1.3999999999999986,0,2.3999999999999986,0,3.3999999999999986,0]
[{"$f":"'data Kbely'!A50","v":"2015-05-11"},{"$f":"'data Kbely'!B50","v":12.100000000000001},0.89999999999999858,0,1.8999999999999986,0,2.8999999999999986,0,3.8999999999999986,0,4.8999999999999986,0]
[{"$f":"'data Kbely'!A51","v":"2015-05-12"},{"$f":"'data Kbely'!B51","v":16.8},0,-3.8000000000000007,0,-2.8000000000000007,0,-1.8000000000000007,0,-0.80000000000000071,0.19999999999999929,0]
[{"$f":"'data Kbely'!A52","v":"2015-05-13"},{"$f":"'data Kbely'!B52","v":14.6},0,-1.5999999999999996,0,-0.59999999999999964,0.40000000000000036,0,1.4000000000000004,0,2.4000000000000004,0]
[{"$f":"'data Kbely'!A53","v":"2015-05-14"},{"$f":"'data Kbely'!B53","v":12},1,0,2,0,3,0,4,0,5,0]
[{"$f":"'data Kbely'!A54","v":"2015-05-15"},{"$f":"'data Kbely'!B54","v":11.100000000000001},1.8999999999999986,0,2.8999999999999986,0,3.8999999999999986,0,4.8999999999999986,0,5.8999999999999986,0]
[{"$f":"'data Kbely'!A55","v":"2015-05-16"},{"$f":"'data Kbely'!B55","v":14.1},0,-1.0999999999999996,0,-9.9999999999999645E-2,0.90000000000000036,0,1.9000000000000004,0,2.9000000000000004,0]
[{"$f":"'data Kbely'!A56","v":"2015-05-17"},{"$f":"'data Kbely'!B56","v":13},0,0,1,0,2,0,3,0,4,0]
[{"$f":"'data Kbely'!A57","v":"2015-05-18"},{"$f":"'data Kbely'!B57","v":14.4},0,-1.4000000000000004,0,-0.40000000000000036,0.59999999999999964,0,1.5999999999999996,0,2.5999999999999996,0]
[{"$f":"'data Kbely'!A58","v":"2015-05-19"},{"$f":"'data Kbely'!B58","v":15.1},0,-2.0999999999999996,0,-1.0999999999999996,0,-9.9999999999999645E-2,0.90000000000000036,0,1.9000000000000004,0]
[{"$f":"'data Kbely'!A59","v":"2015-05-20"},{"$f":"'data Kbely'!B59","v":11.2},1.8000000000000007,0,2.8000000000000007,0,3.8000000000000007,0,4.8000000000000007,0,5.8000000000000007,0]
[{"$f":"'data Kbely'!A60","v":"2015-05-21"},{"$f":"'data Kbely'!B60","v":11.5},1.5,0,2.5,0,3.5,0,4.5,0,5.5,0]
[{"$f":"'data Kbely'!A61","v":"2015-05-22"},{"$f":"'data Kbely'!B61","v":12.7},0.30000000000000071,0,1.3000000000000007,0,2.3000000000000007,0,3.3000000000000007,0,4.3000000000000007,0]
[{"$f":"'data Kbely'!A62","v":"2015-05-23"},{"$f":"'data Kbely'!B62","v":14.1},0,-1.0999999999999996,0,-9.9999999999999645E-2,0.90000000000000036,0,1.9000000000000004,0,2.9000000000000004,0]
[{"$f":"'data Kbely'!A63","v":"2015-05-24"},{"$f":"'data Kbely'!B63","v":14.7},0,-1.6999999999999993,0,-0.69999999999999929,0.30000000000000071,0,1.3000000000000007,0,2.3000000000000007,0]
[{"$f":"'data Kbely'!A64","v":"2015-05-25"},{"$f":"'data Kbely'!B64","v":15.5},0,-2.5,0,-1.5,0,-0.5,0.5,0,1.5,0]
[{"$f":"'data Kbely'!A65","v":"2015-05-26"},{"$f":"'data Kbely'!B65","v":13},0,0,1,0,2,0,3,0,4,0]
[{"$f":"'data Kbely'!A66","v":"2015-05-27"},{"$f":"'data Kbely'!B66","v":10.600000000000001},2.3999999999999986,0,3.3999999999999986,0,4.3999999999999986,0,5.3999999999999986,0,6.3999999999999986,0]
[{"$f":"'data Kbely'!A67","v":"2015-05-28"},{"$f":"'data Kbely'!B67","v":13.3},0,-0.30000000000000071,0.69999999999999929,0,1.6999999999999993,0,2.6999999999999993,0,3.6999999999999993,0]
[{"$f":"'data Kbely'!A68","v":"2015-05-29"},{"$f":"'data Kbely'!B68","v":15.8},0,-2.8000000000000007,0,-1.8000000000000007,0,-0.80000000000000071,0.19999999999999929,0,1.1999999999999993,0]
[{"$f":"'data Kbely'!A69","v":"2015-05-30"},{"$f":"'data Kbely'!B69","v":14.1},0,-1.0999999999999996,0,-9.9999999999999645E-2,0.90000000000000036,0,1.9000000000000004,0,2.9000000000000004,0]
[{"$f":"'data Kbely'!A70","v":"2015-05-31"},{"$f":"'data Kbely'!B70","v":14.4},0,-1.4000000000000004,0,-0.40000000000000036,0.59999999999999964,0,1.5999999999999996,0,2.5999999999999996,0]
[{"$f":"'data Kbely'!A71","v":"2015-06-01"},{"$f":"'data Kbely'!B71","v":18.2},0,-5.1999999999999993,0,-4.1999999999999993,0,-3.1999999999999993,0,-2.1999999999999993,0,-1.1999999999999993]
[{"$f":"'data Kbely'!A72","v":"2015-06-02"},{"$f":"'data Kbely'!B72","v":19.7},0,-6.6999999999999993,0,-5.6999999999999993,0,-4.6999999999999993,0,-3.6999999999999993,0,-2.6999999999999993]
[{"$f":"'data Kbely'!A73","v":"2015-06-03"},{"$f":"'data Kbely'!B73","v":22.4},0,-9.3999999999999986,0,-8.3999999999999986,0,-7.3999999999999986,0,-6.3999999999999986,0,-5.3999999999999986]
[{"$f":"'data Kbely'!A74","v":"2015-06-04"},{"$f":"'data Kbely'!B74","v":17.899999999999999},{"$f":"IF(C$2>$B74,C$2-$B74,0)","v":0},{"$f":"IF(D$2<$B74,D$2-$B74,0)","v":-4.8999999999999986},{"$f":"IF(E$2>$B74,E$2-$B74,0)","v":0},{"$f":"IF(F$2<$B74,F$2-$B74,0)","v":-3.8999999999999986},{"$f":"IF(G$2>$B74,G$2-$B74,0)","v":0},{"$f":"IF(H$2<$B74,H$2-$B74,0)","v":-2.8999999999999986},{"$f":"IF(I$2>$B74,I$2-$B74,0)","v":0},{"$f":"IF(J$2<$B74,J$2-$B74,0)","v":-1.8999999999999986},{"$f":"IF(K$2>$B74,K$2-$B74,0)","v":0},{"$f":"IF(L$2<$B74,L$2-$B74,0)","v":-0.89999999999999858}]
[{"$f":"'data Kbely'!A75","v":"2015-06-05"},{"$f":"'data Kbely'!B75","v":19.3},0,-6.3000000000000007,0,-5.3000000000000007,0,-4.3000000000000007,0,-3.3000000000000007,0,-2.3000000000000007]
[{"$f":"'data Kbely'!A76","v":"2015-06-06"},{"$f":"'data Kbely'!B76","v":22.6},0,-9.6000000000000014,0,-8.6000000000000014,0,-7.6000000000000014,0,-6.6000000000000014,0,-5.6000000000000014]
[{"$f":"'data Kbely'!A77","v":"2015-06-07"},{"$f":"'data Kbely'!B77","v":19.399999999999999},0,-6.3999999999999986,0,-5.3999999999999986,0,-4.3999999999999986,0,-3.3999999999999986,0,-2.3999999999999986]
[{"$f":"'data Kbely'!A78","v":"2015-06-08"},{"$f":"'data Kbely'!B78","v":15.2},0,-2.1999999999999993,0,-1.1999999999999993,0,-0.19999999999999929,0.80000000000000071,0,1.8000000000000007,0]
[{"$f":"'data Kbely'!A79","v":"2015-06-09"},{"$f":"'data Kbely'!B79","v":11.7},1.3000000000000007,0,2.3000000000000007,0,3.3000000000000007,0,4.3000000000000007,0,5.3000000000000007,0]
[{"$f":"'data Kbely'!A80","v":"2015-06-10"},{"$f":"'data Kbely'!B80","v":15.2},0,-2.1999999999999993,0,-1.1999999999999993,0,-0.19999999999999929,0.80000000000000071,0,1.8000000000000007,0]
[{"$f":"'data Kbely'!A81","v":"2015-06-11"},{"$f":"'data Kbely'!B81","v":17.7},0,-4.6999999999999993,0,-3.6999999999999993,0,-2.6999999999999993,0,-1.6999999999999993,0,-0.69999999999999929]
[{"$f":"'data Kbely'!A82","v":"2015-06-12"},{"$f":"'data Kbely'!B82","v":21.2},0,-8.1999999999999993,0,-7.1999999999999993,0,-6.1999999999999993,0,-5.1999999999999993,0,-4.1999999999999993]
[{"$f":"'data Kbely'!A83","v":"2015-06-13"},{"$f":"'data Kbely'!B83","v":20.8},0,-7.8000000000000007,0,-6.8000000000000007,0,-5.8000000000000007,0,-4.8000000000000007,0,-3.8000000000000007]
[{"$f":"'data Kbely'!A84","v":"2015-06-14"},{"$f":"'data Kbely'!B84","v":20.100000000000001},0,-7.1000000000000014,0,-6.1000000000000014,0,-5.1000000000000014,0,-4.1000000000000014,0,-3.1000000000000014]
[{"$f":"'data Kbely'!A85","v":"2015-06-15"},{"$f":"'data Kbely'!B85","v":16.899999999999999},0,-3.8999999999999986,0,-2.8999999999999986,0,-1.8999999999999986,0,-0.89999999999999858,0.10000000000000142,0]
[{"$f":"'data Kbely'!A86","v":"2015-06-16"},{"$f":"'data Kbely'!B86","v":14.5},0,-1.5,0,-0.5,0.5,0,1.5,0,2.5,0]
[{"$f":"'data Kbely'!A87","v":"2015-06-17"},{"$f":"'data Kbely'!B87","v":13.8},0,-0.80000000000000071,0.19999999999999929,0,1.1999999999999993,0,2.1999999999999993,0,3.1999999999999993,0]
[{"$f":"'data Kbely'!A88","v":"2015-06-18"},{"$f":"'data Kbely'!B88","v":15},0,-2,0,-1,0,0,1,0,2,0]
[{"$f":"'data Kbely'!A89","v":"2015-06-19"},{"$f":"'data Kbely'!B89","v":13.3},0,-0.30000000000000071,0.69999999999999929,0,1.6999999999999993,0,2.6999999999999993,0,3.6999999999999993,0]
[{"$f":"'data Kbely'!A90","v":"2015-06-20"},{"$f":"'data Kbely'!B90","v":12.3},0.69999999999999929,0,1.6999999999999993,0,2.6999999999999993,0,3.6999999999999993,0,4.6999999999999993,0]
[{"$f":"'data Kbely'!A91","v":"2015-06-21"},{"$f":"'data Kbely'!B91","v":13.7},0,-0.69999999999999929,0.30000000000000071,0,1.3000000000000007,0,2.3000000000000007,0,3.3000000000000007,0]
[{"$f":"'data Kbely'!A92","v":"2015-06-22"},{"$f":"'data Kbely'!B92","v":14.6},0,-1.5999999999999996,0,-0.59999999999999964,0.40000000000000036,0,1.4000000000000004,0,2.4000000000000004,0]
[{"$f":"'data Kbely'!A93","v":"2015-06-23"},{"$f":"'data Kbely'!B93","v":12.899999999999999},0.10000000000000142,0,1.1000000000000014,0,2.1000000000000014,0,3.1000000000000014,0,4.1000000000000014,0]
[{"$f":"'data Kbely'!A94","v":"2015-06-24"},{"$f":"'data Kbely'!B94","v":13},0,0,1,0,2,0,3,0,4,0]
[{"$f":"'data Kbely'!A95","v":"2015-06-25"},{"$f":"'data Kbely'!B95","v":15.6},0,-2.5999999999999996,0,-1.5999999999999996,0,-0.59999999999999964,0.40000000000000036,0,1.4000000000000004,0]
[{"$f":"'data Kbely'!A96","v":"2015-06-26"},{"$f":"'data Kbely'!B96","v":18},0,-5,0,-4,0,-3,0,-2,0,-1]
[{"$f":"'data Kbely'!A97","v":"2015-06-27"},{"$f":"'data Kbely'!B97","v":18.2},0,-5.1999999999999993,0,-4.1999999999999993,0,-3.1999999999999993,0,-2.1999999999999993,0,-1.1999999999999993]
[{"$f":"'data Kbely'!A98","v":"2015-06-28"},{"$f":"'data Kbely'!B98","v":17.8},0,-4.8000000000000007,0,-3.8000000000000007,0,-2.8000000000000007,0,-1.8000000000000007,0,-0.80000000000000071]
[{"$f":"'data Kbely'!A99","v":"2015-06-29"},{"$f":"'data Kbely'!B99","v":18.2},0,-5.1999999999999993,0,-4.1999999999999993,0,-3.1999999999999993,0,-2.1999999999999993,0,-1.1999999999999993]
[{"$f":"'data Kbely'!A100","v":"2015-06-30"},{"$f":"'data Kbely'!B100","v":20.6},0,-7.6000000000000014,0,-6.6000000000000014,0,-5.6000000000000014,0,-4.6000000000000014,0,-3.6000000000000014]
[{"$f":"'data Kbely'!A101","v":"2015-07-01"},{"$f":"'data Kbely'!B101","v":21.7},0,-8.6999999999999993,0,-7.6999999999999993,0,-6.6999999999999993,0,-5.6999999999999993,0,-4.6999999999999993]
[{"$f":"'data Kbely'!A102","v":"2015-07-02"},{"$f":"'data Kbely'!B102","v":22.8},0,-9.8000000000000007,0,-8.8000000000000007,0,-7.8000000000000007,0,-6.8000000000000007,0,-5.8000000000000007]
[{"$f":"'data Kbely'!A103","v":"2015-07-03"},{"$f":"'data Kbely'!B103","v":24},0,-11,0,-10,0,-9,0,-8,0,-7]
[{"$f":"'data Kbely'!A104","v":"2015-07-04"},{"$f":"'data Kbely'!B104","v":25.6},0,-12.600000000000001,0,-11.600000000000001,0,-10.600000000000001,0,-9.6000000000000014,0,-8.6000000000000014]
[{"$f":"'data Kbely'!A105","v":"2015-07-05"},{"$f":"'data Kbely'!B105","v":26.2},0,-13.2,0,-12.2,0,-11.2,0,-10.199999999999999,0,-9.1999999999999993]
[{"$f":"'data Kbely'!A106","v":"2015-07-06"},{"$f":"'data Kbely'!B106","v":24},0,-11,0,-10,0,-9,0,-8,0,-7]
[{"$f":"'data Kbely'!A107","v":"2015-07-07"},{"$f":"'data Kbely'!B107","v":24.4},0,-11.399999999999999,0,-10.399999999999999,0,-9.3999999999999986,0,-8.3999999999999986,0,-7.3999999999999986]
[{"$f":"'data Kbely'!A108","v":"2015-07-08"},{"$f":"'data Kbely'!B108","v":21.2},0,-8.1999999999999993,0,-7.1999999999999993,0,-6.1999999999999993,0,-5.1999999999999993,0,-4.1999999999999993]
[{"$f":"'data Kbely'!A109","v":"2015-07-09"},{"$f":"'data Kbely'!B109","v":17},0,-4,0,-3,0,-2,0,-1,0,0]
[{"$f":"'data Kbely'!A110","v":"2015-07-10"},{"$f":"'data Kbely'!B110","v":14.8},0,-1.8000000000000007,0,-0.80000000000000071,0.19999999999999929,0,1.1999999999999993,0,2.1999999999999993,0]
[{"$f":"'data Kbely'!A111","v":"2015-07-11"},{"$f":"'data Kbely'!B111","v":17.5},0,-4.5,0,-3.5,0,-2.5,0,-1.5,0,-0.5]
[{"$f":"'data Kbely'!A112","v":"2015-07-12"},{"$f":"'data Kbely'!B112","v":21.2},0,-8.1999999999999993,0,-7.1999999999999993,0,-6.1999999999999993,0,-5.1999999999999993,0,-4.1999999999999993]
[{"$f":"'data Kbely'!A113","v":"2015-07-13"},{"$f":"'data Kbely'!B113","v":18.100000000000001},0,-5.1000000000000014,0,-4.1000000000000014,0,-3.1000000000000014,0,-2.1000000000000014,0,-1.1000000000000014]
[{"$f":"'data Kbely'!A114","v":"2015-07-14"},{"$f":"'data Kbely'!B114","v":18.8},0,-5.8000000000000007,0,-4.8000000000000007,0,-3.8000000000000007,0,-2.8000000000000007,0,-1.8000000000000007]
[{"$f":"'data Kbely'!A115","v":"2015-07-15"},{"$f":"'data Kbely'!B115","v":20.100000000000001},0,-7.1000000000000014,0,-6.1000000000000014,0,-5.1000000000000014,0,-4.1000000000000014,0,-3.1000000000000014]
[{"$f":"'data Kbely'!A116","v":"2015-07-16"},{"$f":"'data Kbely'!B116","v":21.7},0,-8.6999999999999993,0,-7.6999999999999993,0,-6.6999999999999993,0,-5.6999999999999993,0,-4.6999999999999993]
[{"$f":"'data Kbely'!A117","v":"2015-07-17"},{"$f":"'data Kbely'!B117","v":24.4},0,-11.399999999999999,0,-10.399999999999999,0,-9.3999999999999986,0,-8.3999999999999986,0,-7.3999999999999986]
[{"$f":"'data Kbely'!A118","v":"2015-07-18"},{"$f":"'data Kbely'!B118","v":26.5},0,-13.5,0,-12.5,0,-11.5,0,-10.5,0,-9.5]
[{"$f":"'data Kbely'!A119","v":"2015-07-19"},{"$f":"'data Kbely'!B119","v":25.6},0,-12.600000000000001,0,-11.600000000000001,0,-10.600000000000001,0,-9.6000000000000014,0,-8.6000000000000014]
[{"$f":"'data Kbely'!A120","v":"2015-07-20"},{"$f":"'data Kbely'!B120","v":22.4},0,-9.3999999999999986,0,-8.3999999999999986,0,-7.3999999999999986,0,-6.3999999999999986,0,-5.3999999999999986]
[{"$f":"'data Kbely'!A121","v":"2015-07-21"},{"$f":"'data Kbely'!B121","v":25.6},0,-12.600000000000001,0,-11.600000000000001,0,-10.600000000000001,0,-9.6000000000000014,0,-8.6000000000000014]
[{"$f":"'data Kbely'!A122","v":"2015-07-22"},{"$f":"'data Kbely'!B122","v":26.5},0,-13.5,0,-12.5,0,-11.5,0,-10.5,0,-9.5]
[{"$f":"'data Kbely'!A123","v":"2015-07-23"},{"$f":"'data Kbely'!B123","v":22},0,-9,0,-8,0,-7,0,-6,0,-5]
[{"$f":"'data Kbely'!A124","v":"2015-07-24"},{"$f":"'data Kbely'!B124","v":23.2},0,-10.199999999999999,0,-9.1999999999999993,0,-8.1999999999999993,0,-7.1999999999999993,0,-6.1999999999999993]
[{"$f":"'data Kbely'!A125","v":"2015-07-25"},{"$f":"'data Kbely'!B125","v":22.2},0,-9.1999999999999993,0,-8.1999999999999993,0,-7.1999999999999993,0,-6.1999999999999993,0,-5.1999999999999993]
[{"$f":"'data Kbely'!A126","v":"2015-07-26"},{"$f":"'data Kbely'!B126","v":17.8},0,-4.8000000000000007,0,-3.8000000000000007,0,-2.8000000000000007,0,-1.8000000000000007,0,-0.80000000000000071]
[{"$f":"'data Kbely'!A127","v":"2015-07-27"},{"$f":"'data Kbely'!B127","v":17.8},0,-4.8000000000000007,0,-3.8000000000000007,0,-2.8000000000000007,0,-1.8000000000000007,0,-0.80000000000000071]
[{"$f":"'data Kbely'!A128","v":"2015-07-28"},{"$f":"'data Kbely'!B128","v":19.5},0,-6.5,0,-5.5,0,-4.5,0,-3.5,0,-2.5]
[{"$f":"'data Kbely'!A129","v":"2015-07-29"},{"$f":"'data Kbely'!B129","v":16.7},0,-3.6999999999999993,0,-2.6999999999999993,0,-1.6999999999999993,0,-0.69999999999999929,0.30000000000000071,0]
[{"$f":"'data Kbely'!A130","v":"2015-07-30"},{"$f":"'data Kbely'!B130","v":16.2},0,-3.1999999999999993,0,-2.1999999999999993,0,-1.1999999999999993,0,-0.19999999999999929,0.80000000000000071,0]
[{"$f":"'data Kbely'!A131","v":"2015-07-31"},{"$f":"'data Kbely'!B131","v":16.7},0,-3.6999999999999993,0,-2.6999999999999993,0,-1.6999999999999993,0,-0.69999999999999929,0.30000000000000071,0]
[{"$f":"'data Kbely'!A132","v":"2015-08-01"},{"$f":"'data Kbely'!B132","v":19.5},0,-6.5,0,-5.5,0,-4.5,0,-3.5,0,-2.5]
[{"$f":"'data Kbely'!A133","v":"2015-08-02"},{"$f":"'data Kbely'!B133","v":21.1},0,-8.1000000000000014,0,-7.1000000000000014,0,-6.1000000000000014,0,-5.1000000000000014,0,-4.1000000000000014]
[{"$f":"'data Kbely'!A134","v":"2015-08-03"},{"$f":"'data Kbely'!B134","v":22.8},0,-9.8000000000000007,0,-8.8000000000000007,0,-7.8000000000000007,0,-6.8000000000000007,0,-5.8000000000000007]
[{"$f":"'data Kbely'!A135","v":"2015-08-04"},{"$f":"'data Kbely'!B135","v":25.8},0,-12.8,0,-11.8,0,-10.8,0,-9.8000000000000007,0,-8.8000000000000007]
[{"$f":"'data Kbely'!A136","v":"2015-08-05"},{"$f":"'data Kbely'!B136","v":24.4},0,-11.399999999999999,0,-10.399999999999999,0,-9.3999999999999986,0,-8.3999999999999986,0,-7.3999999999999986]
[{"$f":"'data Kbely'!A137","v":"2015-08-06"},{"$f":"'data Kbely'!B137","v":25.8},0,-12.8,0,-11.8,0,-10.8,0,-9.8000000000000007,0,-8.8000000000000007]
[{"$f":"'data Kbely'!A138","v":"2015-08-07"},{"$f":"'data Kbely'!B138","v":26.9},{"$f":"IF(C$2>$B138,C$2-$B138,0)","v":0},{"$f":"IF(D$2<$B138,D$2-$B138,0)","v":-13.899999999999999},{"$f":"IF(E$2>$B138,E$2-$B138,0)","v":0},{"$f":"IF(F$2<$B138,F$2-$B138,0)","v":-12.899999999999999},{"$f":"IF(G$2>$B138,G$2-$B138,0)","v":0},{"$f":"IF(H$2<$B138,H$2-$B138,0)","v":-11.899999999999999},{"$f":"IF(I$2>$B138,I$2-$B138,0)","v":0},{"$f":"IF(J$2<$B138,J$2-$B138,0)","v":-10.899999999999999},{"$f":"IF(K$2>$B138,K$2-$B138,0)","v":0},{"$f":"IF(L$2<$B138,L$2-$B138,0)","v":-9.8999999999999986}]
[{"$f":"'data Kbely'!A139","v":"2015-08-08"},{"$f":"'data Kbely'!B139","v":27.4},0,-14.399999999999999,0,-13.399999999999999,0,-12.399999999999999,0,-11.399999999999999,0,-10.399999999999999]
[{"$f":"'data Kbely'!A140","v":"2015-08-09"},{"$f":"'data Kbely'!B140","v":25.2},0,-12.2,0,-11.2,0,-10.199999999999999,0,-9.1999999999999993,0,-8.1999999999999993]
[{"$f":"'data Kbely'!A141","v":"2015-08-10"},{"$f":"'data Kbely'!B141","v":26.4},0,-13.399999999999999,0,-12.399999999999999,0,-11.399999999999999,0,-10.399999999999999,0,-9.3999999999999986]
[{"$f":"'data Kbely'!A142","v":"2015-08-11"},{"$f":"'data Kbely'!B142","v":26.4},0,-13.399999999999999,0,-12.399999999999999,0,-11.399999999999999,0,-10.399999999999999,0,-9.3999999999999986]
[{"$f":"'data Kbely'!A143","v":"2015-08-12"},{"$f":"'data Kbely'!B143","v":26.6},0,-13.600000000000001,0,-12.600000000000001,0,-11.600000000000001,0,-10.600000000000001,0,-9.6000000000000014]
[{"$f":"'data Kbely'!A144","v":"2015-08-13"},{"$f":"'data Kbely'!B144","v":26.1},0,-13.100000000000001,0,-12.100000000000001,0,-11.100000000000001,0,-10.100000000000001,0,-9.1000000000000014]
[{"$f":"'data Kbely'!A145","v":"2015-08-14"},{"$f":"'data Kbely'!B145","v":26.3},0,-13.3,0,-12.3,0,-11.3,0,-10.3,0,-9.3000000000000007]
[{"$f":"'data Kbely'!A146","v":"2015-08-15"},{"$f":"'data Kbely'!B146","v":24.9},0,-11.899999999999999,0,-10.899999999999999,0,-9.8999999999999986,0,-8.8999999999999986,0,-7.8999999999999986]
[{"$f":"'data Kbely'!A147","v":"2015-08-16"},{"$f":"'data Kbely'!B147","v":21.1},0,-8.1000000000000014,0,-7.1000000000000014,0,-6.1000000000000014,0,-5.1000000000000014,0,-4.1000000000000014]
[{"$f":"'data Kbely'!A148","v":"2015-08-17"},{"$f":"'data Kbely'!B148","v":17.8},0,-4.8000000000000007,0,-3.8000000000000007,0,-2.8000000000000007,0,-1.8000000000000007,0,-0.80000000000000071]
[{"$f":"'data Kbely'!A149","v":"2015-08-18"},{"$f":"'data Kbely'!B149","v":15.1},0,-2.0999999999999996,0,-1.0999999999999996,0,-9.9999999999999645E-2,0.90000000000000036,0,1.9000000000000004,0]
[{"$f":"'data Kbely'!A150","v":"2015-08-19"},{"$f":"'data Kbely'!B150","v":15.7},0,-2.6999999999999993,0,-1.6999999999999993,0,-0.69999999999999929,0.30000000000000071,0,1.3000000000000007,0]
[{"$f":"'data Kbely'!A151","v":"2015-08-20"},{"$f":"'data Kbely'!B151","v":17.5},0,-4.5,0,-3.5,0,-2.5,0,-1.5,0,-0.5]
[{"$f":"'data Kbely'!A152","v":"2015-08-21"},{"$f":"'data Kbely'!B152","v":18.899999999999999},0,-5.8999999999999986,0,-4.8999999999999986,0,-3.8999999999999986,0,-2.8999999999999986,0,-1.8999999999999986]
[{"$f":"'data Kbely'!A153","v":"2015-08-22"},{"$f":"'data Kbely'!B153","v":17.8},0,-4.8000000000000007,0,-3.8000000000000007,0,-2.8000000000000007,0,-1.8000000000000007,0,-0.80000000000000071]
[{"$f":"'data Kbely'!A154","v":"2015-08-23"},{"$f":"'data Kbely'!B154","v":17.8},0,-4.8000000000000007,0,-3.8000000000000007,0,-2.8000000000000007,0,-1.8000000000000007,0,-0.80000000000000071]
[{"$f":"'data Kbely'!A155","v":"2015-08-24"},{"$f":"'data Kbely'!B155","v":20.8},0,-7.8000000000000007,0,-6.8000000000000007,0,-5.8000000000000007,0,-4.8000000000000007,0,-3.8000000000000007]
[{"$f":"'data Kbely'!A156","v":"2015-08-25"},{"$f":"'data Kbely'!B156","v":18.100000000000001},0,-5.1000000000000014,0,-4.1000000000000014,0,-3.1000000000000014,0,-2.1000000000000014,0,-1.1000000000000014]
[{"$f":"'data Kbely'!A157","v":"2015-08-26"},{"$f":"'data Kbely'!B157","v":18.600000000000001},0,-5.6000000000000014,0,-4.6000000000000014,0,-3.6000000000000014,0,-2.6000000000000014,0,-1.6000000000000014]
[{"$f":"'data Kbely'!A158","v":"2015-08-27"},{"$f":"'data Kbely'!B158","v":21.3},0,-8.3000000000000007,0,-7.3000000000000007,0,-6.3000000000000007,0,-5.3000000000000007,0,-4.3000000000000007]
[{"$f":"'data Kbely'!A159","v":"2015-08-28"},{"$f":"'data Kbely'!B159","v":22.8},0,-9.8000000000000007,0,-8.8000000000000007,0,-7.8000000000000007,0,-6.8000000000000007,0,-5.8000000000000007]
[{"$f":"'data Kbely'!A160","v":"2015-08-29"},{"$f":"'data Kbely'!B160","v":22.2},0,-9.1999999999999993,0,-8.1999999999999993,0,-7.1999999999999993,0,-6.1999999999999993,0,-5.1999999999999993]
[{"$f":"'data Kbely'!A161","v":"2015-08-30"},{"$f":"'data Kbely'!B161","v":24.6},0,-11.600000000000001,0,-10.600000000000001,0,-9.6000000000000014,0,-8.6000000000000014,0,-7.6000000000000014]
[{"$f":"'data Kbely'!A162","v":"2015-08-31"},{"$f":"'data Kbely'!B162","v":25.3},0,-12.3,0,-11.3,0,-10.3,0,-9.3000000000000007,0,-8.3000000000000007]
[{"$f":"'data Kbely'!A163","v":"2015-09-01"},{"$f":"'data Kbely'!B163","v":25.4},0,-12.399999999999999,0,-11.399999999999999,0,-10.399999999999999,0,-9.3999999999999986,0,-8.3999999999999986]
[{"$f":"'data Kbely'!A164","v":"2015-09-02"},{"$f":"'data Kbely'!B164","v":16.600000000000001},0,-3.6000000000000014,0,-2.6000000000000014,0,-1.6000000000000014,0,-0.60000000000000142,0.39999999999999858,0]
[{"$f":"'data Kbely'!A165","v":"2015-09-03"},{"$f":"'data Kbely'!B165","v":16.8},0,-3.8000000000000007,0,-2.8000000000000007,0,-1.8000000000000007,0,-0.80000000000000071,0.19999999999999929,0]
[{"$f":"'data Kbely'!A166","v":"2015-09-04"},{"$f":"'data Kbely'!B166","v":16.8},0,-3.8000000000000007,0,-2.8000000000000007,0,-1.8000000000000007,0,-0.80000000000000071,0.19999999999999929,0]
[{"$f":"'data Kbely'!A167","v":"2015-09-05"},{"$f":"'data Kbely'!B167","v":14.8},0,-1.8000000000000007,0,-0.80000000000000071,0.19999999999999929,0,1.1999999999999993,0,2.1999999999999993,0]
[{"$f":"'data Kbely'!A168","v":"2015-09-06"},{"$f":"'data Kbely'!B168","v":12.3},0.69999999999999929,0,1.6999999999999993,0,2.6999999999999993,0,3.6999999999999993,0,4.6999999999999993,0]
[{"$f":"'data Kbely'!A169","v":"2015-09-07"},{"$f":"'data Kbely'!B169","v":12.2},0.80000000000000071,0,1.8000000000000007,0,2.8000000000000007,0,3.8000000000000007,0,4.8000000000000007,0]
[{"$f":"'data Kbely'!A170","v":"2015-09-08"},{"$f":"'data Kbely'!B170","v":13.100000000000001},0,-0.10000000000000142,0.89999999999999858,0,1.8999999999999986,0,2.8999999999999986,0,3.8999999999999986,0]
[{"$f":"'data Kbely'!A171","v":"2015-09-09"},{"$f":"'data Kbely'!B171","v":12.7},0.30000000000000071,0,1.3000000000000007,0,2.3000000000000007,0,3.3000000000000007,0,4.3000000000000007,0]
[{"$f":"'data Kbely'!A172","v":"2015-09-10"},{"$f":"'data Kbely'!B172","v":11.5},1.5,0,2.5,0,3.5,0,4.5,0,5.5,0]
[{"$f":"'data Kbely'!A173","v":"2015-09-11"},{"$f":"'data Kbely'!B173","v":13.3},0,-0.30000000000000071,0.69999999999999929,0,1.6999999999999993,0,2.6999999999999993,0,3.6999999999999993,0]
[{"$f":"'data Kbely'!A174","v":"2015-09-12"},{"$f":"'data Kbely'!B174","v":15},0,-2,0,-1,0,0,1,0,2,0]
[{"$f":"'data Kbely'!A175","v":"2015-09-13"},{"$f":"'data Kbely'!B175","v":17.7},0,-4.6999999999999993,0,-3.6999999999999993,0,-2.6999999999999993,0,-1.6999999999999993,0,-0.69999999999999929]
[{"$f":"'data Kbely'!A176","v":"2015-09-14"},{"$f":"'data Kbely'!B176","v":15.8},0,-2.8000000000000007,0,-1.8000000000000007,0,-0.80000000000000071,0.19999999999999929,0,1.1999999999999993,0]
[{"$f":"'data Kbely'!A177","v":"2015-09-15"},{"$f":"'data Kbely'!B177","v":16.2},0,-3.1999999999999993,0,-2.1999999999999993,0,-1.1999999999999993,0,-0.19999999999999929,0.80000000000000071,0]
[{"$f":"'data Kbely'!A178","v":"2015-09-16"},{"$f":"'data Kbely'!B178","v":18.600000000000001},0,-5.6000000000000014,0,-4.6000000000000014,0,-3.6000000000000014,0,-2.6000000000000014,0,-1.6000000000000014]
[{"$f":"'data Kbely'!A179","v":"2015-09-17"},{"$f":"'data Kbely'!B179","v":20.7},0,-7.6999999999999993,0,-6.6999999999999993,0,-5.6999999999999993,0,-4.6999999999999993,0,-3.6999999999999993]
[{"$f":"'data Kbely'!A180","v":"2015-09-18"},{"$f":"'data Kbely'!B180","v":15.8},0,-2.8000000000000007,0,-1.8000000000000007,0,-0.80000000000000071,0.19999999999999929,0,1.1999999999999993,0]
[{"$f":"'data Kbely'!A181","v":"2015-09-19"},{"$f":"'data Kbely'!B181","v":15.7},0,-2.6999999999999993,0,-1.6999999999999993,0,-0.69999999999999929,0.30000000000000071,0,1.3000000000000007,0]
[{"$f":"'data Kbely'!A182","v":"2015-09-20"},{"$f":"'data Kbely'!B182","v":13.3},0,-0.30000000000000071,0.69999999999999929,0,1.6999999999999993,0,2.6999999999999993,0,3.6999999999999993,0]
[{"$f":"'data Kbely'!A183","v":"2015-09-21"},{"$f":"'data Kbely'!B183","v":13},0,0,1,0,2,0,3,0,4,0]
[{"$f":"'data Kbely'!A184","v":"2015-09-22"},{"$f":"'data Kbely'!B184","v":13.899999999999999},0,-0.89999999999999858,0.10000000000000142,0,1.1000000000000014,0,2.1000000000000014,0,3.1000000000000014,0]
[{"$f":"'data Kbely'!A185","v":"2015-09-23"},{"$f":"'data Kbely'!B185","v":13.100000000000001},0,-0.10000000000000142,0.89999999999999858,0,1.8999999999999986,0,2.8999999999999986,0,3.8999999999999986,0]
[{"$f":"'data Kbely'!A186","v":"2015-09-24"},{"$f":"'data Kbely'!B186","v":12.5},0.5,0,1.5,0,2.5,0,3.5,0,4.5,0]
[{"$f":"'data Kbely'!A187","v":"2015-09-25"},{"$f":"'data Kbely'!B187","v":13.600000000000001},0,-0.60000000000000142,0.39999999999999858,0,1.3999999999999986,0,2.3999999999999986,0,3.3999999999999986,0]
[{"$f":"'data Kbely'!A188","v":"2015-09-26"},{"$f":"'data Kbely'!B188","v":14},0,-1,0,0,1,0,2,0,3,0]
[{"$f":"'data Kbely'!A189","v":"2015-09-27"},{"$f":"'data Kbely'!B189","v":12},1,0,2,0,3,0,4,0,5,0]
[{"$f":"'data Kbely'!A190","v":"2015-09-28"},{"$f":"'data Kbely'!B190","v":12.100000000000001},0.89999999999999858,0,1.8999999999999986,0,2.8999999999999986,0,3.8999999999999986,0,4.8999999999999986,0]
[{"$f":"'data Kbely'!A191","v":"2015-09-29"},{"$f":"'data Kbely'!B191","v":11.3},1.6999999999999993,0,2.6999999999999993,0,3.6999999999999993,0,4.6999999999999993,0,5.6999999999999993,0]
[{"$f":"'data Kbely'!A192","v":"2015-09-30"},{"$f":"'data Kbely'!B192","v":9.8000000000000007},3.1999999999999993,0,4.1999999999999993,0,5.1999999999999993,0,6.1999999999999993,0,7.1999999999999993,0]
[{"$f":"'data Kbely'!A193","v":"2015-10-01"},{"$f":"'data Kbely'!B193","v":8.3000000000000007},4.6999999999999993,0,5.6999999999999993,0,6.6999999999999993,0,7.6999999999999993,0,8.6999999999999993,0]
[{"$f":"'data Kbely'!A194","v":"2015-10-02"},{"$f":"'data Kbely'!B194","v":10.8},2.1999999999999993,0,3.1999999999999993,0,4.1999999999999993,0,5.1999999999999993,0,6.1999999999999993,0]
[{"$f":"'data Kbely'!A195","v":"2015-10-03"},{"$f":"'data Kbely'!B195","v":13},0,0,1,0,2,0,3,0,4,0]
[{"$f":"'data Kbely'!A196","v":"2015-10-04"},{"$f":"'data Kbely'!B196","v":13.3},0,-0.30000000000000071,0.69999999999999929,0,1.6999999999999993,0,2.6999999999999993,0,3.6999999999999993,0]
[{"$f":"'data Kbely'!A197","v":"2015-10-05"},{"$f":"'data Kbely'!B197","v":14},0,-1,0,0,1,0,2,0,3,0]
[{"$f":"'data Kbely'!A198","v":"2015-10-06"},{"$f":"'data Kbely'!B198","v":13.399999999999999},0,-0.39999999999999858,0.60000000000000142,0,1.6000000000000014,0,2.6000000000000014,0,3.6000000000000014,0]
[{"$f":"'data Kbely'!A199","v":"2015-10-07"},{"$f":"'data Kbely'!B199","v":14.2},0,-1.1999999999999993,0,-0.19999999999999929,0.80000000000000071,0,1.8000000000000007,0,2.8000000000000007,0]
[{"$f":"'data Kbely'!A200","v":"2015-10-08"},{"$f":"'data Kbely'!B200","v":13},0,0,1,0,2,0,3,0,4,0]
[{"$f":"'data Kbely'!A201","v":"2015-10-09"},{"$f":"'data Kbely'!B201","v":10.7},2.3000000000000007,0,3.3000000000000007,0,4.3000000000000007,0,5.3000000000000007,0,6.3000000000000007,0]
[{"$f":"'data Kbely'!A202","v":"2015-10-10"},{"$f":"'data Kbely'!B202","v":8.3999999999999986},{"$f":"IF(C$2>$B202,C$2-$B202,0)","v":4.6000000000000014},{"$f":"IF(D$2<$B202,D$2-$B202,0)","v":0},{"$f":"IF(E$2>$B202,E$2-$B202,0)","v":5.6000000000000014},{"$f":"IF(F$2<$B202,F$2-$B202,0)","v":0},{"$f":"IF(G$2>$B202,G$2-$B202,0)","v":6.6000000000000014},{"$f":"IF(H$2<$B202,H$2-$B202,0)","v":0},{"$f":"IF(I$2>$B202,I$2-$B202,0)","v":7.6000000000000014},{"$f":"IF(J$2<$B202,J$2-$B202,0)","v":0},{"$f":"IF(K$2>$B202,K$2-$B202,0)","v":8.6000000000000014},{"$f":"IF(L$2<$B202,L$2-$B202,0)","v":0}]
[{"$f":"'data Kbely'!A203","v":"2015-10-11"},{"$f":"'data Kbely'!B203","v":5.5},7.5,0,8.5,0,9.5,0,10.5,0,11.5,0]
[{"$f":"'data Kbely'!A204","v":"2015-10-12"},{"$f":"'data Kbely'!B204","v":3},10,0,11,0,12,0,13,0,14,0]
[{"$f":"'data Kbely'!A205","v":"2015-10-13"},{"$f":"'data Kbely'!B205","v":2.1000000000000014},10.899999999999999,0,11.899999999999999,0,12.899999999999999,0,13.899999999999999,0,14.899999999999999,0]
[{"$f":"'data Kbely'!A206","v":"2015-10-14"},{"$f":"'data Kbely'!B206","v":4.6999999999999993},8.3000000000000007,0,9.3000000000000007,0,10.3,0,11.3,0,12.3,0]
[{"$f":"'data Kbely'!A207","v":"2015-10-15"},{"$f":"'data Kbely'!B207","v":8.3999999999999986},4.6000000000000014,0,5.6000000000000014,0,6.6000000000000014,0,7.6000000000000014,0,8.6000000000000014,0]
[{"$f":"'data Kbely'!A208","v":"2015-10-16"},{"$f":"'data Kbely'!B208","v":8.5},4.5,0,5.5,0,6.5,0,7.5,0,8.5,0]
[{"$f":"'data Kbely'!A209","v":"2015-10-17"},{"$f":"'data Kbely'!B209","v":6.6000000000000014},6.3999999999999986,0,7.3999999999999986,0,8.3999999999999986,0,9.3999999999999986,0,10.399999999999999,0]
[{"$f":"'data Kbely'!A210","v":"2015-10-18"},{"$f":"'data Kbely'!B210","v":4.8999999999999986},8.1000000000000014,0,9.1000000000000014,0,10.100000000000001,0,11.100000000000001,0,12.100000000000001,0]
[{"$f":"'data Kbely'!A211","v":"2015-10-19"},{"$f":"'data Kbely'!B211","v":7.6000000000000014},5.3999999999999986,0,6.3999999999999986,0,7.3999999999999986,0,8.3999999999999986,0,9.3999999999999986,0]
[{"$f":"'data Kbely'!A212","v":"2015-10-20"},{"$f":"'data Kbely'!B212","v":6.3999999999999986},6.6000000000000014,0,7.6000000000000014,0,8.6000000000000014,0,9.6000000000000014,0,10.600000000000001,0]
[{"$f":"'data Kbely'!A213","v":"2015-10-21"},{"$f":"'data Kbely'!B213","v":8.5},4.5,0,5.5,0,6.5,0,7.5,0,8.5,0]
[{"$f":"'data Kbely'!A214","v":"2015-10-22"},{"$f":"'data Kbely'!B214","v":9.3000000000000007},3.6999999999999993,0,4.6999999999999993,0,5.6999999999999993,0,6.6999999999999993,0,7.6999999999999993,0]
[{"$f":"'data Kbely'!A215","v":"2015-10-23"},{"$f":"'data Kbely'!B215","v":10.100000000000001},2.8999999999999986,0,3.8999999999999986,0,4.8999999999999986,0,5.8999999999999986,0,6.8999999999999986,0]
[{"$f":"'data Kbely'!A216","v":"2015-10-24"},{"$f":"'data Kbely'!B216","v":5.8999999999999986},7.1000000000000014,0,8.1000000000000014,0,9.1000000000000014,0,10.100000000000001,0,11.100000000000001,0]
[{"$f":"'data Kbely'!A217","v":"2015-10-25"},{"$f":"'data Kbely'!B217","v":6.8999999999999986},6.1000000000000014,0,7.1000000000000014,0,8.1000000000000014,0,9.1000000000000014,0,10.100000000000001,0]
[{"$f":"'data Kbely'!A218","v":"2015-10-26"},{"$f":"'data Kbely'!B218","v":8.6999999999999993},4.3000000000000007,0,5.3000000000000007,0,6.3000000000000007,0,7.3000000000000007,0,8.3000000000000007,0]
[{"$f":"'data Kbely'!A219","v":"2015-10-27"},{"$f":"'data Kbely'!B219","v":8.3999999999999986},4.6000000000000014,0,5.6000000000000014,0,6.6000000000000014,0,7.6000000000000014,0,8.6000000000000014,0]
[{"$f":"'data Kbely'!A220","v":"2015-10-28"},{"$f":"'data Kbely'!B220","v":8.1000000000000014},4.8999999999999986,0,5.8999999999999986,0,6.8999999999999986,0,7.8999999999999986,0,8.8999999999999986,0]
[{"$f":"'data Kbely'!A221","v":"2015-10-29"},{"$f":"'data Kbely'!B221","v":8.6000000000000014},4.3999999999999986,0,5.3999999999999986,0,6.3999999999999986,0,7.3999999999999986,0,8.3999999999999986,0]
[{"$f":"'data Kbely'!A222","v":"2015-10-30"},{"$f":"'data Kbely'!B222","v":9},4,0,5,0,6,0,7,0,8,0]
[{"$f":"'data Kbely'!A223","v":"2015-10-31"},{"$f":"'data Kbely'!B223","v":9},4,0,5,0,6,0,7,0,8,0]
[{"$f":"'data Kbely'!A224","v":"2015-11-01"},{"$f":"'data Kbely'!B224","v":7.3999999999999986},5.6000000000000014,0,6.6000000000000014,0,7.6000000000000014,0,8.6000000000000014,0,9.6000000000000014,0]
[{"$f":"'data Kbely'!A225","v":"2015-11-02"},{"$f":"'data Kbely'!B225","v":3.6999999999999993},9.3000000000000007,0,10.3,0,11.3,0,12.3,0,13.3,0]
[{"$f":"'data Kbely'!A226","v":"2015-11-03"},{"$f":"'data Kbely'!B226","v":1.6000000000000014},11.399999999999999,0,12.399999999999999,0,13.399999999999999,0,14.399999999999999,0,15.399999999999999,0]
[{"$f":"'data Kbely'!A227","v":"2015-11-04"},{"$f":"'data Kbely'!B227","v":1.6000000000000014},11.399999999999999,0,12.399999999999999,0,13.399999999999999,0,14.399999999999999,0,15.399999999999999,0]
[{"$f":"'data Kbely'!A228","v":"2015-11-05"},{"$f":"'data Kbely'!B228","v":7.1999999999999993},5.8000000000000007,0,6.8000000000000007,0,7.8000000000000007,0,8.8000000000000007,0,9.8000000000000007,0]
[{"$f":"'data Kbely'!A229","v":"2015-11-06"},{"$f":"'data Kbely'!B229","v":8.1000000000000014},4.8999999999999986,0,5.8999999999999986,0,6.8999999999999986,0,7.8999999999999986,0,8.8999999999999986,0]
[{"$f":"'data Kbely'!A230","v":"2015-11-07"},{"$f":"'data Kbely'!B230","v":13.5},0,-0.5,0.5,0,1.5,0,2.5,0,3.5,0]
[{"$f":"'data Kbely'!A231","v":"2015-11-08"},{"$f":"'data Kbely'!B231","v":13.5},0,-0.5,0.5,0,1.5,0,2.5,0,3.5,0]
[{"$f":"'data Kbely'!A232","v":"2015-11-09"},{"$f":"'data Kbely'!B232","v":12.100000000000001},0.89999999999999858,0,1.8999999999999986,0,2.8999999999999986,0,3.8999999999999986,0,4.8999999999999986,0]
[{"$f":"'data Kbely'!A233","v":"2015-11-10"},{"$f":"'data Kbely'!B233","v":14.8},0,-1.8000000000000007,0,-0.80000000000000071,0.19999999999999929,0,1.1999999999999993,0,2.1999999999999993,0]
[{"$f":"'data Kbely'!A234","v":"2015-11-11"},{"$f":"'data Kbely'!B234","v":13},0,0,1,0,2,0,3,0,4,0]
[{"$f":"'data Kbely'!A235","v":"2015-11-12"},{"$f":"'data Kbely'!B235","v":10},3,0,4,0,5,0,6,0,7,0]
[{"$f":"'data Kbely'!A236","v":"2015-11-13"},{"$f":"'data Kbely'!B236","v":10.199999999999999},2.8000000000000007,0,3.8000000000000007,0,4.8000000000000007,0,5.8000000000000007,0,6.8000000000000007,0]
[{"$f":"'data Kbely'!A237","v":"2015-11-14"},{"$f":"'data Kbely'!B237","v":7.1999999999999993},5.8000000000000007,0,6.8000000000000007,0,7.8000000000000007,0,8.8000000000000007,0,9.8000000000000007,0]
[{"$f":"'data Kbely'!A238","v":"2015-11-15"},{"$f":"'data Kbely'!B238","v":9.1000000000000014},3.8999999999999986,0,4.8999999999999986,0,5.8999999999999986,0,6.8999999999999986,0,7.8999999999999986,0]
[{"$f":"'data Kbely'!A239","v":"2015-11-16"},{"$f":"'data Kbely'!B239","v":11.8},1.1999999999999993,0,2.1999999999999993,0,3.1999999999999993,0,4.1999999999999993,0,5.1999999999999993,0]
[{"$f":"'data Kbely'!A240","v":"2015-11-17"},{"$f":"'data Kbely'!B240","v":10.7},2.3000000000000007,0,3.3000000000000007,0,4.3000000000000007,0,5.3000000000000007,0,6.3000000000000007,0]
[{"$f":"'data Kbely'!A241","v":"2015-11-18"},{"$f":"'data Kbely'!B241","v":13.100000000000001},0,-0.10000000000000142,0.89999999999999858,0,1.8999999999999986,0,2.8999999999999986,0,3.8999999999999986,0]
[{"$f":"'data Kbely'!A242","v":"2015-11-19"},{"$f":"'data Kbely'!B242","v":11.2},1.8000000000000007,0,2.8000000000000007,0,3.8000000000000007,0,4.8000000000000007,0,5.8000000000000007,0]
[{"$f":"'data Kbely'!A243","v":"2015-11-20"},{"$f":"'data Kbely'!B243","v":6.6999999999999993},6.3000000000000007,0,7.3000000000000007,0,8.3000000000000007,0,9.3000000000000007,0,10.3,0]
[{"$f":"'data Kbely'!A244","v":"2015-11-21"},{"$f":"'data Kbely'!B244","v":3.1999999999999993},9.8000000000000007,0,10.8,0,11.8,0,12.8,0,13.8,0]
[{"$f":"'data Kbely'!A245","v":"2015-11-22"},{"$f":"'data Kbely'!B245","v":0.69999999999999929},12.3,0,13.3,0,14.3,0,15.3,0,16.3,0]
[{"$f":"'data Kbely'!A246","v":"2015-11-23"},{"$f":"'data Kbely'!B246","v":0.19999999999999929},12.8,0,13.8,0,14.8,0,15.8,0,16.8,0]
[{"$f":"'data Kbely'!A247","v":"2015-11-24"},{"$f":"'data Kbely'!B247","v":-0.89999999999999858},13.899999999999999,0,14.899999999999999,0,15.899999999999999,0,16.899999999999999,0,17.899999999999999,0]
[{"$f":"'data Kbely'!A248","v":"2015-11-25"},{"$f":"'data Kbely'!B248","v":0.30000000000000071},12.7,0,13.7,0,14.7,0,15.7,0,16.7,0]
[{"$f":"'data Kbely'!A249","v":"2015-11-26"},{"$f":"'data Kbely'!B249","v":1.8999999999999986},11.100000000000001,0,12.100000000000001,0,13.100000000000001,0,14.100000000000001,0,15.100000000000001,0]
[{"$f":"'data Kbely'!A250","v":"2015-11-27"},{"$f":"'data Kbely'!B250","v":2.3999999999999986},10.600000000000001,0,11.600000000000001,0,12.600000000000001,0,13.600000000000001,0,14.600000000000001,0]
[{"$f":"'data Kbely'!A251","v":"2015-11-28"},{"$f":"'data Kbely'!B251","v":1},12,0,13,0,14,0,15,0,16,0]
[{"$f":"'data Kbely'!A252","v":"2015-11-29"},{"$f":"'data Kbely'!B252","v":4.1000000000000014},8.8999999999999986,0,9.8999999999999986,0,10.899999999999999,0,11.899999999999999,0,12.899999999999999,0]
[{"$f":"'data Kbely'!A253","v":"2015-11-30"},{"$f":"'data Kbely'!B253","v":7},6,0,7,0,8,0,9,0,10,0]
[{"$f":"'data Kbely'!A254","v":"2015-12-01"},{"$f":"'data Kbely'!B254","v":7.6000000000000014},5.3999999999999986,0,6.3999999999999986,0,7.3999999999999986,0,8.3999999999999986,0,9.3999999999999986,0]
[{"$f":"'data Kbely'!A255","v":"2015-12-02"},{"$f":"'data Kbely'!B255","v":8.1999999999999993},4.8000000000000007,0,5.8000000000000007,0,6.8000000000000007,0,7.8000000000000007,0,8.8000000000000007,0]
[{"$f":"'data Kbely'!A256","v":"2015-12-03"},{"$f":"'data Kbely'!B256","v":6.6000000000000014},6.3999999999999986,0,7.3999999999999986,0,8.3999999999999986,0,9.3999999999999986,0,10.399999999999999,0]
[{"$f":"'data Kbely'!A257","v":"2015-12-04"},{"$f":"'data Kbely'!B257","v":3.3999999999999986},9.6000000000000014,0,10.600000000000001,0,11.600000000000001,0,12.600000000000001,0,13.600000000000001,0]
[{"$f":"'data Kbely'!A258","v":"2015-12-05"},{"$f":"'data Kbely'!B258","v":4.8999999999999986},8.1000000000000014,0,9.1000000000000014,0,10.100000000000001,0,11.100000000000001,0,12.100000000000001,0]
[{"$f":"'data Kbely'!A259","v":"2015-12-06"},{"$f":"'data Kbely'!B259","v":6.1000000000000014},6.8999999999999986,0,7.8999999999999986,0,8.8999999999999986,0,9.8999999999999986,0,10.899999999999999,0]
[{"$f":"'data Kbely'!A260","v":"2015-12-07"},{"$f":"'data Kbely'!B260","v":6.6000000000000014},6.3999999999999986,0,7.3999999999999986,0,8.3999999999999986,0,9.3999999999999986,0,10.399999999999999,0]
[{"$f":"'data Kbely'!A261","v":"2015-12-08"},{"$f":"'data Kbely'!B261","v":2.3999999999999986},10.600000000000001,0,11.600000000000001,0,12.600000000000001,0,13.600000000000001,0,14.600000000000001,0]
[{"$f":"'data Kbely'!A262","v":"2015-12-09"},{"$f":"'data Kbely'!B262","v":3.3000000000000007},9.6999999999999993,0,10.7,0,11.7,0,12.7,0,13.7,0]
[{"$f":"'data Kbely'!A263","v":"2015-12-10"},{"$f":"'data Kbely'!B263","v":1.8999999999999986},11.100000000000001,0,12.100000000000001,0,13.100000000000001,0,14.100000000000001,0,15.100000000000001,0]
[{"$f":"'data Kbely'!A264","v":"2015-12-11"},{"$f":"'data Kbely'!B264","v":1.8999999999999986},11.100000000000001,0,12.100000000000001,0,13.100000000000001,0,14.100000000000001,0,15.100000000000001,0]
[{"$f":"'data Kbely'!A265","v":"2015-12-12"},{"$f":"'data Kbely'!B265","v":4.8000000000000007},8.1999999999999993,0,9.1999999999999993,0,10.199999999999999,0,11.2,0,12.2,0]
[{"$f":"'data Kbely'!A266","v":"2015-12-13"},{"$f":"'data Kbely'!B266","v":5.6000000000000014},{"$f":"IF(C$2>$B266,C$2-$B266,0)","v":7.3999999999999986},{"$f":"IF(D$2<$B266,D$2-$B266,0)","v":0},{"$f":"IF(E$2>$B266,E$2-$B266,0)","v":8.3999999999999986},{"$f":"IF(F$2<$B266,F$2-$B266,0)","v":0},{"$f":"IF(G$2>$B266,G$2-$B266,0)","v":9.3999999999999986},{"$f":"IF(H$2<$B266,H$2-$B266,0)","v":0},{"$f":"IF(I$2>$B266,I$2-$B266,0)","v":10.399999999999999},{"$f":"IF(J$2<$B266,J$2-$B266,0)","v":0},{"$f":"IF(K$2>$B266,K$2-$B266,0)","v":11.399999999999999},{"$f":"IF(L$2<$B266,L$2-$B266,0)","v":0}]
[{"$f":"'data Kbely'!A267","v":"2015-12-14"},{"$f":"'data Kbely'!B267","v":1.1000000000000014},11.899999999999999,0,12.899999999999999,0,13.899999999999999,0,14.899999999999999,0,15.899999999999999,0]
[{"$f":"'data Kbely'!A268","v":"2015-12-15"},{"$f":"'data Kbely'!B268","v":4.3000000000000007},8.6999999999999993,0,9.6999999999999993,0,10.7,0,11.7,0,12.7,0]
[{"$f":"'data Kbely'!A269","v":"2015-12-16"},{"$f":"'data Kbely'!B269","v":4.3999999999999986},8.6000000000000014,0,9.6000000000000014,0,10.600000000000001,0,11.600000000000001,0,12.600000000000001,0]
[{"$f":"'data Kbely'!A270","v":"2015-12-17"},{"$f":"'data Kbely'!B270","v":7.6999999999999993},5.3000000000000007,0,6.3000000000000007,0,7.3000000000000007,0,8.3000000000000007,0,9.3000000000000007,0]
[{"$f":"'data Kbely'!A271","v":"2015-12-18"},{"$f":"'data Kbely'!B271","v":7.3999999999999986},5.6000000000000014,0,6.6000000000000014,0,7.6000000000000014,0,8.6000000000000014,0,9.6000000000000014,0]
[{"$f":"'data Kbely'!A272","v":"2015-12-19"},{"$f":"'data Kbely'!B272","v":7.8000000000000007},5.1999999999999993,0,6.1999999999999993,0,7.1999999999999993,0,8.1999999999999993,0,9.1999999999999993,0]
[{"$f":"'data Kbely'!A273","v":"2015-12-20"},{"$f":"'data Kbely'!B273","v":3.5},9.5,0,10.5,0,11.5,0,12.5,0,13.5,0]
[{"$f":"'data Kbely'!A274","v":"2015-12-21"},{"$f":"'data Kbely'!B274","v":4.6999999999999993},8.3000000000000007,0,9.3000000000000007,0,10.3,0,11.3,0,12.3,0]
[{"$f":"'data Kbely'!A275","v":"2015-12-22"},{"$f":"'data Kbely'!B275","v":9.1999999999999993},3.8000000000000007,0,4.8000000000000007,0,5.8000000000000007,0,6.8000000000000007,0,7.8000000000000007,0]
[{"$f":"'data Kbely'!A276","v":"2015-12-23"},{"$f":"'data Kbely'!B276","v":8.3000000000000007},4.6999999999999993,0,5.6999999999999993,0,6.6999999999999993,0,7.6999999999999993,0,8.6999999999999993,0]
[{"$f":"'data Kbely'!A277","v":"2015-12-24"},{"$f":"'data Kbely'!B277","v":3.1999999999999993},9.8000000000000007,0,10.8,0,11.8,0,12.8,0,13.8,0]
[{"$f":"'data Kbely'!A278","v":"2015-12-25"},{"$f":"'data Kbely'!B278","v":8.3000000000000007},4.6999999999999993,0,5.6999999999999993,0,6.6999999999999993,0,7.6999999999999993,0,8.6999999999999993,0]
[{"$f":"'data Kbely'!A279","v":"2015-12-26"},{"$f":"'data Kbely'!B279","v":10.7},2.3000000000000007,0,3.3000000000000007,0,4.3000000000000007,0,5.3000000000000007,0,6.3000000000000007,0]
[{"$f":"'data Kbely'!A280","v":"2015-12-27"},{"$f":"'data Kbely'!B280","v":8.1999999999999993},4.8000000000000007,0,5.8000000000000007,0,6.8000000000000007,0,7.8000000000000007,0,8.8000000000000007,0]
[{"$f":"'data Kbely'!A281","v":"2015-12-28"},{"$f":"'data Kbely'!B281","v":7.6000000000000014},5.3999999999999986,0,6.3999999999999986,0,7.3999999999999986,0,8.3999999999999986,0,9.3999999999999986,0]
[{"$f":"'data Kbely'!A282","v":"2015-12-29"},{"$f":"'data Kbely'!B282","v":3.3000000000000007},9.6999999999999993,0,10.7,0,11.7,0,12.7,0,13.7,0]
[{"$f":"'data Kbely'!A283","v":"2015-12-30"},{"$f":"'data Kbely'!B283","v":0.39999999999999858},12.600000000000001,0,13.600000000000001,0,14.600000000000001,0,15.600000000000001,0,16.600000000000001,0]
[{"$f":"'data Kbely'!A284","v":"2015-12-31"},{"$f":"'data Kbely'!B284","v":-2.6000000000000014},15.600000000000001,0,16.600000000000001,0,17.600000000000001,0,18.600000000000001,0,19.600000000000001,0]
[{"$f":"'data Kbely'!A285","v":"2016-01-01"},{"$f":"'data Kbely'!B285","v":-1.1999999999999993},14.2,0,15.2,0,16.2,0,17.2,0,18.2,0]
[{"$f":"'data Kbely'!A286","v":"2016-01-02"},{"$f":"'data Kbely'!B286","v":-0.89999999999999858},13.899999999999999,0,14.899999999999999,0,15.899999999999999,0,16.899999999999999,0,17.899999999999999,0]
[{"$f":"'data Kbely'!A287","v":"2016-01-03"},{"$f":"'data Kbely'!B287","v":-4.7000000000000028},17.700000000000003,0,18.700000000000003,0,19.700000000000003,0,20.700000000000003,0,21.700000000000003,0]
[{"$f":"'data Kbely'!A288","v":"2016-01-04"},{"$f":"'data Kbely'!B288","v":-6.3999999999999986},19.399999999999999,0,20.399999999999999,0,21.4,0,22.4,0,23.4,0]
[{"$f":"'data Kbely'!A289","v":"2016-01-05"},{"$f":"'data Kbely'!B289","v":-5.6000000000000014},18.600000000000001,0,19.600000000000001,0,20.6,0,21.6,0,22.6,0]
[{"$f":"'data Kbely'!A290","v":"2016-01-06"},{"$f":"'data Kbely'!B290","v":-3.5},16.5,0,17.5,0,18.5,0,19.5,0,20.5,0]
[{"$f":"'data Kbely'!A291","v":"2016-01-07"},{"$f":"'data Kbely'!B291","v":-1.6000000000000014},14.600000000000001,0,15.600000000000001,0,16.600000000000001,0,17.600000000000001,0,18.600000000000001,0]
[{"$f":"'data Kbely'!A292","v":"2016-01-08"},{"$f":"'data Kbely'!B292","v":2},11,0,12,0,13,0,14,0,15,0]
[{"$f":"'data Kbely'!A293","v":"2016-01-09"},{"$f":"'data Kbely'!B293","v":-3.2000000000000028},16.200000000000003,0,17.200000000000003,0,18.200000000000003,0,19.200000000000003,0,20.200000000000003,0]
[{"$f":"'data Kbely'!A294","v":"2016-01-10"},{"$f":"'data Kbely'!B294","v":0.5},12.5,0,13.5,0,14.5,0,15.5,0,16.5,0]
[{"$f":"'data Kbely'!A295","v":"2016-01-11"},{"$f":"'data Kbely'!B295","v":2.1000000000000014},10.899999999999999,0,11.899999999999999,0,12.899999999999999,0,13.899999999999999,0,14.899999999999999,0]
[{"$f":"'data Kbely'!A296","v":"2016-01-12"},{"$f":"'data Kbely'!B296","v":4.3000000000000007},8.6999999999999993,0,9.6999999999999993,0,10.7,0,11.7,0,12.7,0]
[{"$f":"'data Kbely'!A297","v":"2016-01-13"},{"$f":"'data Kbely'!B297","v":3},10,0,11,0,12,0,13,0,14,0]
[{"$f":"'data Kbely'!A298","v":"2016-01-14"},{"$f":"'data Kbely'!B298","v":0.69999999999999929},12.3,0,13.3,0,14.3,0,15.3,0,16.3,0]
[{"$f":"'data Kbely'!A299","v":"2016-01-15"},{"$f":"'data Kbely'!B299","v":0.60000000000000142},12.399999999999999,0,13.399999999999999,0,14.399999999999999,0,15.399999999999999,0,16.399999999999999,0]
[{"$f":"'data Kbely'!A300","v":"2016-01-16"},{"$f":"'data Kbely'!B300","v":-1.6999999999999993},14.7,0,15.7,0,16.7,0,17.7,0,18.7,0]
[{"$f":"'data Kbely'!A301","v":"2016-01-17"},{"$f":"'data Kbely'!B301","v":-3.2999999999999972},16.299999999999997,0,17.299999999999997,0,18.299999999999997,0,19.299999999999997,0,20.299999999999997,0]
[{"$f":"'data Kbely'!A302","v":"2016-01-18"},{"$f":"'data Kbely'!B302","v":-7.1000000000000014},20.100000000000001,0,21.1,0,22.1,0,23.1,0,24.1,0]
[{"$f":"'data Kbely'!A303","v":"2016-01-19"},{"$f":"'data Kbely'!B303","v":-8.3999999999999986},21.4,0,22.4,0,23.4,0,24.4,0,25.4,0]
[{"$f":"'data Kbely'!A304","v":"2016-01-20"},{"$f":"'data Kbely'!B304","v":-5.6000000000000014},18.600000000000001,0,19.600000000000001,0,20.6,0,21.6,0,22.6,0]
[{"$f":"'data Kbely'!A305","v":"2016-01-21"},{"$f":"'data Kbely'!B305","v":-5.6000000000000014},18.600000000000001,0,19.600000000000001,0,20.6,0,21.6,0,22.6,0]
[{"$f":"'data Kbely'!A306","v":"2016-01-22"},{"$f":"'data Kbely'!B306","v":-10},23,0,24,0,25,0,26,0,27,0]
[{"$f":"'data Kbely'!A307","v":"2016-01-23"},{"$f":"'data Kbely'!B307","v":-7.7000000000000028},20.700000000000003,0,21.700000000000003,0,22.700000000000003,0,23.700000000000003,0,24.700000000000003,0]
[{"$f":"'data Kbely'!A308","v":"2016-01-24"},{"$f":"'data Kbely'!B308","v":2.3000000000000007},10.7,0,11.7,0,12.7,0,13.7,0,14.7,0]
[{"$f":"'data Kbely'!A309","v":"2016-01-25"},{"$f":"'data Kbely'!B309","v":4.6000000000000014},8.3999999999999986,0,9.3999999999999986,0,10.399999999999999,0,11.399999999999999,0,12.399999999999999,0]
[{"$f":"'data Kbely'!A310","v":"2016-01-26"},{"$f":"'data Kbely'!B310","v":6.1000000000000014},6.8999999999999986,0,7.8999999999999986,0,8.8999999999999986,0,9.8999999999999986,0,10.899999999999999,0]
[{"$f":"'data Kbely'!A311","v":"2016-01-27"},{"$f":"'data Kbely'!B311","v":9.6000000000000014},3.3999999999999986,0,4.3999999999999986,0,5.3999999999999986,0,6.3999999999999986,0,7.3999999999999986,0]
[{"$f":"'data Kbely'!A312","v":"2016-01-28"},{"$f":"'data Kbely'!B312","v":8},5,0,6,0,7,0,8,0,9,0]
[{"$f":"'data Kbely'!A313","v":"2016-01-29"},{"$f":"'data Kbely'!B313","v":4.8999999999999986},8.1000000000000014,0,9.1000000000000014,0,10.100000000000001,0,11.100000000000001,0,12.100000000000001,0]
[{"$f":"'data Kbely'!A314","v":"2016-01-30"},{"$f":"'data Kbely'!B314","v":6.8999999999999986},6.1000000000000014,0,7.1000000000000014,0,8.1000000000000014,0,9.1000000000000014,0,10.100000000000001,0]
[{"$f":"'data Kbely'!A315","v":"2016-01-31"},{"$f":"'data Kbely'!B315","v":3.6000000000000014},9.3999999999999986,0,10.399999999999999,0,11.399999999999999,0,12.399999999999999,0,13.399999999999999,0]
[{"$f":"'data Kbely'!A316","v":"2016-02-01"},{"$f":"'data Kbely'!B316","v":8.1999999999999993},4.8000000000000007,0,5.8000000000000007,0,6.8000000000000007,0,7.8000000000000007,0,8.8000000000000007,0]
[{"$f":"'data Kbely'!A317","v":"2016-02-02"},{"$f":"'data Kbely'!B317","v":10.199999999999999},2.8000000000000007,0,3.8000000000000007,0,4.8000000000000007,0,5.8000000000000007,0,6.8000000000000007,0]
[{"$f":"'data Kbely'!A318","v":"2016-02-03"},{"$f":"'data Kbely'!B318","v":4.6000000000000014},8.3999999999999986,0,9.3999999999999986,0,10.399999999999999,0,11.399999999999999,0,12.399999999999999,0]
[{"$f":"'data Kbely'!A319","v":"2016-02-04"},{"$f":"'data Kbely'!B319","v":2.3999999999999986},10.600000000000001,0,11.600000000000001,0,12.600000000000001,0,13.600000000000001,0,14.600000000000001,0]
[{"$f":"'data Kbely'!A320","v":"2016-02-05"},{"$f":"'data Kbely'!B320","v":3.1999999999999993},9.8000000000000007,0,10.8,0,11.8,0,12.8,0,13.8,0]
[{"$f":"'data Kbely'!A321","v":"2016-02-06"},{"$f":"'data Kbely'!B321","v":5.3999999999999986},7.6000000000000014,0,8.6000000000000014,0,9.6000000000000014,0,10.600000000000001,0,11.600000000000001,0]
[{"$f":"'data Kbely'!A322","v":"2016-02-07"},{"$f":"'data Kbely'!B322","v":2.8000000000000007},10.199999999999999,0,11.2,0,12.2,0,13.2,0,14.2,0]
[{"$f":"'data Kbely'!A323","v":"2016-02-08"},{"$f":"'data Kbely'!B323","v":7.6999999999999993},5.3000000000000007,0,6.3000000000000007,0,7.3000000000000007,0,8.3000000000000007,0,9.3000000000000007,0]
[{"$f":"'data Kbely'!A324","v":"2016-02-09"},{"$f":"'data Kbely'!B324","v":8},5,0,6,0,7,0,8,0,9,0]
[{"$f":"'data Kbely'!A325","v":"2016-02-10"},{"$f":"'data Kbely'!B325","v":4.6999999999999993},8.3000000000000007,0,9.3000000000000007,0,10.3,0,11.3,0,12.3,0]
[{"$f":"'data Kbely'!A326","v":"2016-02-11"},{"$f":"'data Kbely'!B326","v":3.5},9.5,0,10.5,0,11.5,0,12.5,0,13.5,0]
[{"$f":"'data Kbely'!A327","v":"2016-02-12"},{"$f":"'data Kbely'!B327","v":1.1999999999999993},11.8,0,12.8,0,13.8,0,14.8,0,15.8,0]
[{"$f":"'data Kbely'!A328","v":"2016-02-13"},{"$f":"'data Kbely'!B328","v":1.6000000000000014},11.399999999999999,0,12.399999999999999,0,13.399999999999999,0,14.399999999999999,0,15.399999999999999,0]
[{"$f":"'data Kbely'!A329","v":"2016-02-14"},{"$f":"'data Kbely'!B329","v":6.1000000000000014},6.8999999999999986,0,7.8999999999999986,0,8.8999999999999986,0,9.8999999999999986,0,10.899999999999999,0]
[{"$f":"'data Kbely'!A330","v":"2016-02-15"},{"$f":"'data Kbely'!B330","v":5.1000000000000014},{"$f":"IF(C$2>$B330,C$2-$B330,0)","v":7.8999999999999986},{"$f":"IF(D$2<$B330,D$2-$B330,0)","v":0},{"$f":"IF(E$2>$B330,E$2-$B330,0)","v":8.8999999999999986},{"$f":"IF(F$2<$B330,F$2-$B330,0)","v":0},{"$f":"IF(G$2>$B330,G$2-$B330,0)","v":9.8999999999999986},{"$f":"IF(H$2<$B330,H$2-$B330,0)","v":0},{"$f":"IF(I$2>$B330,I$2-$B330,0)","v":10.899999999999999},{"$f":"IF(J$2<$B330,J$2-$B330,0)","v":0},{"$f":"IF(K$2>$B330,K$2-$B330,0)","v":11.899999999999999},{"$f":"IF(L$2<$B330,L$2-$B330,0)","v":0}]
[{"$f":"'data Kbely'!A331","v":"2016-02-16"},{"$f":"'data Kbely'!B331","v":1},12,0,13,0,14,0,15,0,16,0]
[{"$f":"'data Kbely'!A332","v":"2016-02-17"},{"$f":"'data Kbely'!B332","v":-0.69999999999999929},13.7,0,14.7,0,15.7,0,16.7,0,17.7,0]
[{"$f":"'data Kbely'!A333","v":"2016-02-18"},{"$f":"'data Kbely'!B333","v":1.6000000000000014},11.399999999999999,0,12.399999999999999,0,13.399999999999999,0,14.399999999999999,0,15.399999999999999,0]
[{"$f":"'data Kbely'!A334","v":"2016-02-19"},{"$f":"'data Kbely'!B334","v":2},11,0,12,0,13,0,14,0,15,0]
[{"$f":"'data Kbely'!A335","v":"2016-02-20"},{"$f":"'data Kbely'!B335","v":2.8000000000000007},10.199999999999999,0,11.2,0,12.2,0,13.2,0,14.2,0]
[{"$f":"'data Kbely'!A336","v":"2016-02-21"},{"$f":"'data Kbely'!B336","v":9.5},3.5,0,4.5,0,5.5,0,6.5,0,7.5,0]
[{"$f":"'data Kbely'!A337","v":"2016-02-22"},{"$f":"'data Kbely'!B337","v":11},2,0,3,0,4,0,5,0,6,0]
[{"$f":"'data Kbely'!A338","v":"2016-02-23"},{"$f":"'data Kbely'!B338","v":2.3000000000000007},10.7,0,11.7,0,12.7,0,13.7,0,14.7,0]
[{"$f":"'data Kbely'!A339","v":"2016-02-24"},{"$f":"'data Kbely'!B339","v":1.8999999999999986},11.100000000000001,0,12.100000000000001,0,13.100000000000001,0,14.100000000000001,0,15.100000000000001,0]
[{"$f":"'data Kbely'!A340","v":"2016-02-25"},{"$f":"'data Kbely'!B340","v":-0.19999999999999929},13.2,0,14.2,0,15.2,0,16.2,0,17.2,0]
[{"$f":"'data Kbely'!A341","v":"2016-02-26"},{"$f":"'data Kbely'!B341","v":-0.69999999999999929},13.7,0,14.7,0,15.7,0,16.7,0,17.7,0]
[{"$f":"'data Kbely'!A342","v":"2016-02-27"},{"$f":"'data Kbely'!B342","v":-0.60000000000000142},13.600000000000001,0,14.600000000000001,0,15.600000000000001,0,16.600000000000001,0,17.600000000000001,0]
[{"$f":"'data Kbely'!A343","v":"2016-02-28"},{"$f":"'data Kbely'!B343","v":1.1999999999999993},11.8,0,12.8,0,13.8,0,14.8,0,15.8,0]
[{"$f":"'data Kbely'!A344","v":"2016-02-29"},{"$f":"'data Kbely'!B344","v":1.8000000000000007},11.2,0,12.2,0,13.2,0,14.2,0,15.2,0]
[{"$f":"'data Kbely'!A345","v":"2016-03-01"},{"$f":"'data Kbely'!B345","v":-0.69999999999999929},13.7,0,14.7,0,15.7,0,16.7,0,17.7,0]
[{"$f":"'data Kbely'!A346","v":"2016-03-02"},{"$f":"'data Kbely'!B346","v":1.6999999999999993},11.3,0,12.3,0,13.3,0,14.3,0,15.3,0]
[{"$f":"'data Kbely'!A347","v":"2016-03-03"},{"$f":"'data Kbely'!B347","v":2.8999999999999986},10.100000000000001,0,11.100000000000001,0,12.100000000000001,0,13.100000000000001,0,14.100000000000001,0]
[{"$f":"'data Kbely'!A348","v":"2016-03-04"},{"$f":"'data Kbely'!B348","v":3},10,0,11,0,12,0,13,0,14,0]
[{"$f":"'data Kbely'!A349","v":"2016-03-05"},{"$f":"'data Kbely'!B349","v":3.1000000000000014},9.8999999999999986,0,10.899999999999999,0,11.899999999999999,0,12.899999999999999,0,13.899999999999999,0]
[{"$f":"'data Kbely'!A350","v":"2016-03-06"},{"$f":"'data Kbely'!B350","v":3.1999999999999993},9.8000000000000007,0,10.8,0,11.8,0,12.8,0,13.8,0]
[{"$f":"'data Kbely'!A351","v":"2016-03-07"},{"$f":"'data Kbely'!B351","v":1.6999999999999993},11.3,0,12.3,0,13.3,0,14.3,0,15.3,0]
[{"$f":"'data Kbely'!A352","v":"2016-03-08"},{"$f":"'data Kbely'!B352","v":1},12,0,13,0,14,0,15,0,16,0]
[{"$f":"'data Kbely'!A353","v":"2016-03-09"},{"$f":"'data Kbely'!B353","v":0.19999999999999929},12.8,0,13.8,0,14.8,0,15.8,0,16.8,0]
[{"$f":"'data Kbely'!A354","v":"2016-03-10"},{"$f":"'data Kbely'!B354","v":4.1999999999999993},8.8000000000000007,0,9.8000000000000007,0,10.8,0,11.8,0,12.8,0]
[{"$f":"'data Kbely'!A355","v":"2016-03-11"},{"$f":"'data Kbely'!B355","v":4.1999999999999993},8.8000000000000007,0,9.8000000000000007,0,10.8,0,11.8,0,12.8,0]
[{"$f":"'data Kbely'!A356","v":"2016-03-12"},{"$f":"'data Kbely'!B356","v":3.1000000000000014},9.8999999999999986,0,10.899999999999999,0,11.899999999999999,0,12.899999999999999,0,13.899999999999999,0]
[{"$f":"'data Kbely'!A357","v":"2016-03-13"},{"$f":"'data Kbely'!B357","v":2.8000000000000007},10.199999999999999,0,11.2,0,12.2,0,13.2,0,14.2,0]
[{"$f":"'data Kbely'!A358","v":"2016-03-14"},{"$f":"'data Kbely'!B358","v":2.6000000000000014},10.399999999999999,0,11.399999999999999,0,12.399999999999999,0,13.399999999999999,0,14.399999999999999,0]
[{"$f":"'data Kbely'!A359","v":"2016-03-15"},{"$f":"'data Kbely'!B359","v":2.1000000000000014},10.899999999999999,0,11.899999999999999,0,12.899999999999999,0,13.899999999999999,0,14.899999999999999,0]
[{"$f":"'data Kbely'!A360","v":"2016-03-16"},{"$f":"'data Kbely'!B360","v":2.6000000000000014},10.399999999999999,0,11.399999999999999,0,12.399999999999999,0,13.399999999999999,0,14.399999999999999,0]
[{"$f":"'data Kbely'!A361","v":"2016-03-17"},{"$f":"'data Kbely'!B361","v":3.3999999999999986},9.6000000000000014,0,10.600000000000001,0,11.600000000000001,0,12.600000000000001,0,13.600000000000001,0]
[{"$f":"'data Kbely'!A362","v":"2016-03-18"},{"$f":"'data Kbely'!B362","v":4.3999999999999986},8.6000000000000014,0,9.6000000000000014,0,10.600000000000001,0,11.600000000000001,0,12.600000000000001,0]
[{"$f":"'data Kbely'!A363","v":"2016-03-19"},{"$f":"'data Kbely'!B363","v":4.3999999999999986},8.6000000000000014,0,9.6000000000000014,0,10.600000000000001,0,11.600000000000001,0,12.600000000000001,0]
[{"$f":"'data Kbely'!A364","v":"2016-03-20"},{"$f":"'data Kbely'!B364","v":3.8000000000000007},9.1999999999999993,0,10.199999999999999,0,11.2,0,12.2,0,13.2,0]
[{"$f":"'data Kbely'!A365","v":"2016-03-21"},{"$f":"'data Kbely'!B365","v":5.8000000000000007},7.1999999999999993,0,8.1999999999999993,0,9.1999999999999993,0,10.199999999999999,0,11.2,0]
[{"$f":"'data Kbely'!A366","v":"2016-03-22"},{"$f":"'data Kbely'!B366","v":5.5},7.5,0,8.5,0,9.5,0,10.5,0,11.5,0]
[{"$f":"'data Kbely'!A367","v":"2016-03-23"},{"$f":"'data Kbely'!B367","v":4.5},8.5,0,9.5,0,10.5,0,11.5,0,12.5,0]
[{"$f":"'data Kbely'!A368","v":"2016-03-24"},{"$f":"'data Kbely'!B368","v":4.1000000000000014},8.8999999999999986,0,9.8999999999999986,0,10.899999999999999,0,11.899999999999999,0,12.899999999999999,0]
[{"$f":"'data Kbely'!A369","v":"2016-03-25"},{"$f":"'data Kbely'!B369","v":4.8000000000000007},8.1999999999999993,0,9.1999999999999993,0,10.199999999999999,0,11.2,0,12.2,0]
[{"$f":"'data Kbely'!A370","v":"2016-03-26"},{"$f":"'data Kbely'!B370","v":5.8999999999999986},7.1000000000000014,0,8.1000000000000014,0,9.1000000000000014,0,10.100000000000001,0,11.100000000000001,0]
[{"$f":"'data Kbely'!A371","v":"2016-03-27"},{"$f":"'data Kbely'!B371","v":9},4,0,5,0,6,0,7,0,8,0]
[{"$f":"'data Kbely'!A372","v":"2016-03-28"},{"$f":"'data Kbely'!B372","v":10.100000000000001},2.8999999999999986,0,3.8999999999999986,0,4.8999999999999986,0,5.8999999999999986,0,6.8999999999999986,0]
[{"$f":"'data Kbely'!A373","v":"2016-03-29"},{"$f":"'data Kbely'!B373","v":9.1999999999999993},3.8000000000000007,0,4.8000000000000007,0,5.8000000000000007,0,6.8000000000000007,0,7.8000000000000007,0]
[{"$f":"'data Kbely'!A374","v":"2016-03-30"},{"$f":"'data Kbely'!B374","v":8.1000000000000014},4.8999999999999986,0,5.8999999999999986,0,6.8999999999999986,0,7.8999999999999986,0,8.8999999999999986,0]
[{"$f":"'data Kbely'!A375","v":"2016-03-31"},{"$f":"'data Kbely'!B375","v":10.3},2.6999999999999993,0,3.6999999999999993,0,4.6999999999999993,0,5.6999999999999993,0,6.6999999999999993,0]
[{"$f":"'data Kbely'!A376","v":"2016-04-01"},{"$f":"'data Kbely'!B376","v":4.8000000000000007},8.1999999999999993,0,9.1999999999999993,0,10.199999999999999,0,11.2,0,12.2,0]
[{"$f":"'data Kbely'!A377","v":"2016-04-02"},{"$f":"'data Kbely'!B377","v":6.6000000000000014},6.3999999999999986,0,7.3999999999999986,0,8.3999999999999986,0,9.3999999999999986,0,10.399999999999999,0]
[{"$f":"'data Kbely'!A378","v":"2016-04-03"},{"$f":"'data Kbely'!B378","v":10.199999999999999},2.8000000000000007,0,3.8000000000000007,0,4.8000000000000007,0,5.8000000000000007,0,6.8000000000000007,0]
[{"$f":"'data Kbely'!A379","v":"2016-04-04"},{"$f":"'data Kbely'!B379","v":12.899999999999999},0.10000000000000142,0,1.1000000000000014,0,2.1000000000000014,0,3.1000000000000014,0,4.1000000000000014,0]
[{"$f":"'data Kbely'!A380","v":"2016-04-05"},{"$f":"'data Kbely'!B380","v":15.9},0,-2.9000000000000004,0,-1.9000000000000004,0,-0.90000000000000036,9.9999999999999645E-2,0,1.0999999999999996,0]
[{"$f":"'data Kbely'!A381","v":"2016-04-06"},{"$f":"'data Kbely'!B381","v":13.399999999999999},0,-0.39999999999999858,0.60000000000000142,0,1.6000000000000014,0,2.6000000000000014,0,3.6000000000000014,0]
[{"$f":"'data Kbely'!A382","v":"2016-04-07"},{"$f":"'data Kbely'!B382","v":12.5},0.5,0,1.5,0,2.5,0,3.5,0,4.5,0]
[{"$f":"'data Kbely'!A383","v":"2016-04-08"},{"$f":"'data Kbely'!B383","v":9.6000000000000014},3.3999999999999986,0,4.3999999999999986,0,5.3999999999999986,0,6.3999999999999986,0,7.3999999999999986,0]
[{"$f":"'data Kbely'!A384","v":"2016-04-09"},{"$f":"'data Kbely'!B384","v":7.1999999999999993},5.8000000000000007,0,6.8000000000000007,0,7.8000000000000007,0,8.8000000000000007,0,9.8000000000000007,0]
[{"$f":"'data Kbely'!A385","v":"2016-04-10"},{"$f":"'data Kbely'!B385","v":6},7,0,8,0,9,0,10,0,11,0]
[{"$f":"'data Kbely'!A386","v":"2016-04-11"},{"$f":"'data Kbely'!B386","v":8.1999999999999993},4.8000000000000007,0,5.8000000000000007,0,6.8000000000000007,0,7.8000000000000007,0,8.8000000000000007,0]
[{"$f":"'data Kbely'!A387","v":"2016-04-12"},{"$f":"'data Kbely'!B387","v":11.899999999999999},1.1000000000000014,0,2.1000000000000014,0,3.1000000000000014,0,4.1000000000000014,0,5.1000000000000014,0]
[{"$f":"'data Kbely'!A388","v":"2016-04-13"},{"$f":"'data Kbely'!B388","v":12.2},0.80000000000000071,0,1.8000000000000007,0,2.8000000000000007,0,3.8000000000000007,0,4.8000000000000007,0]
[{"$f":"'data Kbely'!A389","v":"2016-04-14"},{"$f":"'data Kbely'!B389","v":10.399999999999999},2.6000000000000014,0,3.6000000000000014,0,4.6000000000000014,0,5.6000000000000014,0,6.6000000000000014,0]
[{"$f":"'data Kbely'!A390","v":"2016-04-15"},{"$f":"'data Kbely'!B390","v":8.3999999999999986},4.6000000000000014,0,5.6000000000000014,0,6.6000000000000014,0,7.6000000000000014,0,8.6000000000000014,0]
[{"$f":"'data Kbely'!A391","v":"2016-04-16"},{"$f":"'data Kbely'!B391","v":12},1,0,2,0,3,0,4,0,5,0]
[{"$f":"'data Kbely'!A392","v":"2016-04-17"},{"$f":"'data Kbely'!B392","v":10.3},2.6999999999999993,0,3.6999999999999993,0,4.6999999999999993,0,5.6999999999999993,0,6.6999999999999993,0]
[{"$f":"'data Kbely'!A393","v":"2016-04-18"},{"$f":"'data Kbely'!B393","v":8.8999999999999986},4.1000000000000014,0,5.1000000000000014,0,6.1000000000000014,0,7.1000000000000014,0,8.1000000000000014,0]
[{"$f":"'data Kbely'!A394","v":"2016-04-19"},{"$f":"'data Kbely'!B394","v":8.6000000000000014},{"$f":"IF(C$2>$B394,C$2-$B394,0)","v":4.3999999999999986},{"$f":"IF(D$2<$B394,D$2-$B394,0)","v":0},{"$f":"IF(E$2>$B394,E$2-$B394,0)","v":5.3999999999999986},{"$f":"IF(F$2<$B394,F$2-$B394,0)","v":0},{"$f":"IF(G$2>$B394,G$2-$B394,0)","v":6.3999999999999986},{"$f":"IF(H$2<$B394,H$2-$B394,0)","v":0},{"$f":"IF(I$2>$B394,I$2-$B394,0)","v":7.3999999999999986},{"$f":"IF(J$2<$B394,J$2-$B394,0)","v":0},{"$f":"IF(K$2>$B394,K$2-$B394,0)","v":8.3999999999999986},{"$f":"IF(L$2<$B394,L$2-$B394,0)","v":0}]
[{"$f":"'data Kbely'!A395","v":"2016-04-20"},{"$f":"'data Kbely'!B395","v":7.8000000000000007},5.1999999999999993,0,6.1999999999999993,0,7.1999999999999993,0,8.1999999999999993,0,9.1999999999999993,0]
[{"$f":"'data Kbely'!A396","v":"2016-04-21"},{"$f":"'data Kbely'!B396","v":8.6000000000000014},4.3999999999999986,0,5.3999999999999986,0,6.3999999999999986,0,7.3999999999999986,0,8.3999999999999986,0]
[{"$f":"'data Kbely'!A397","v":"2016-04-22"},{"$f":"'data Kbely'!B397","v":9.5},3.5,0,4.5,0,5.5,0,6.5,0,7.5,0]
[{"$f":"'data Kbely'!A398","v":"2016-04-23"},{"$f":"'data Kbely'!B398","v":7.6999999999999993},5.3000000000000007,0,6.3000000000000007,0,7.3000000000000007,0,8.3000000000000007,0,9.3000000000000007,0]
[{"$f":"'data Kbely'!A399","v":"2016-04-24"},{"$f":"'data Kbely'!B399","v":3.6000000000000014},9.3999999999999986,0,10.399999999999999,0,11.399999999999999,0,12.399999999999999,0,13.399999999999999,0]
[{"$f":"'data Kbely'!A400","v":"2016-04-25"},{"$f":"'data Kbely'!B400","v":3.5},9.5,0,10.5,0,11.5,0,12.5,0,13.5,0]
[{"$f":"'data Kbely'!A401","v":"2016-04-26"},{"$f":"'data Kbely'!B401","v":5.3000000000000007},7.6999999999999993,0,8.6999999999999993,0,9.6999999999999993,0,10.7,0,11.7,0]
[{"$f":"'data Kbely'!A402","v":"2016-04-27"},{"$f":"'data Kbely'!B402","v":5},8,0,9,0,10,0,11,0,12,0]
[{"$f":"'data Kbely'!A403","v":"2016-04-28"},{"$f":"'data Kbely'!B403","v":5.3999999999999986},7.6000000000000014,0,8.6000000000000014,0,9.6000000000000014,0,10.600000000000001,0,11.600000000000001,0]
[{"$f":"'data Kbely'!A404","v":"2016-04-29"},{"$f":"'data Kbely'!B404","v":6.8999999999999986},6.1000000000000014,0,7.1000000000000014,0,8.1000000000000014,0,9.1000000000000014,0,10.100000000000001,0]
[{"$f":"'data Kbely'!A405","v":"2016-04-30"},{"$f":"'data Kbely'!B405","v":10.5},2.5,0,3.5,0,4.5,0,5.5,0,6.5,0]
[{"$f":"'data Kbely'!A406","v":"2016-05-01"},{"$f":"'data Kbely'!B406","v":11.8},1.1999999999999993,0,2.1999999999999993,0,3.1999999999999993,0,4.1999999999999993,0,5.1999999999999993,0]
[{"$f":"'data Kbely'!A407","v":"2016-05-02"},{"$f":"'data Kbely'!B407","v":12.2},0.80000000000000071,0,1.8000000000000007,0,2.8000000000000007,0,3.8000000000000007,0,4.8000000000000007,0]
[{"$f":"'data Kbely'!A408","v":"2016-05-03"},{"$f":"'data Kbely'!B408","v":11.600000000000001},1.3999999999999986,0,2.3999999999999986,0,3.3999999999999986,0,4.3999999999999986,0,5.3999999999999986,0]
[{"$f":"'data Kbely'!A409","v":"2016-05-04"},{"$f":"'data Kbely'!B409","v":7.5},5.5,0,6.5,0,7.5,0,8.5,0,9.5,0]
[{"$f":"'data Kbely'!A410","v":"2016-05-05"},{"$f":"'data Kbely'!B410","v":11.7},1.3000000000000007,0,2.3000000000000007,0,3.3000000000000007,0,4.3000000000000007,0,5.3000000000000007,0]
[{"$f":"'data Kbely'!A411","v":"2016-05-06"},{"$f":"'data Kbely'!B411","v":14.6},0,-1.5999999999999996,0,-0.59999999999999964,0.40000000000000036,0,1.4000000000000004,0,2.4000000000000004,0]
[{"$f":"'data Kbely'!A412","v":"2016-05-07"},{"$f":"'data Kbely'!B412","v":15.1},0,-2.0999999999999996,0,-1.0999999999999996,0,-9.9999999999999645E-2,0.90000000000000036,0,1.9000000000000004,0]
[{"$f":"'data Kbely'!A413","v":"2016-05-08"},{"$f":"'data Kbely'!B413","v":14.1},0,-1.0999999999999996,0,-9.9999999999999645E-2,0.90000000000000036,0,1.9000000000000004,0,2.9000000000000004,0]
[{"$f":"'data Kbely'!A414","v":"2016-05-09"},{"$f":"'data Kbely'!B414","v":15.2},0,-2.1999999999999993,0,-1.1999999999999993,0,-0.19999999999999929,0.80000000000000071,0,1.8000000000000007,0]
[{"$f":"'data Kbely'!A415","v":"2016-05-10"},{"$f":"'data Kbely'!B415","v":15.3},0,-2.3000000000000007,0,-1.3000000000000007,0,-0.30000000000000071,0.69999999999999929,0,1.6999999999999993,0]
[{"$f":"'data Kbely'!A416","v":"2016-05-11"},{"$f":"'data Kbely'!B416","v":15.2},0,-2.1999999999999993,0,-1.1999999999999993,0,-0.19999999999999929,0.80000000000000071,0,1.8000000000000007,0]
[{"$f":"'data Kbely'!A417","v":"2016-05-12"},{"$f":"'data Kbely'!B417","v":14.5},0,-1.5,0,-0.5,0.5,0,1.5,0,2.5,0]
[{"$f":"'data Kbely'!A418","v":"2016-05-13"},{"$f":"'data Kbely'!B418","v":16.7},0,-3.6999999999999993,0,-2.6999999999999993,0,-1.6999999999999993,0,-0.69999999999999929,0.30000000000000071,0]
[{"$f":"'data Kbely'!A419","v":"2016-05-14"},{"$f":"'data Kbely'!B419","v":13.399999999999999},0,-0.39999999999999858,0.60000000000000142,0,1.6000000000000014,0,2.6000000000000014,0,3.6000000000000014,0]
[{"$f":"'data Kbely'!A420","v":"2016-05-15"},{"$f":"'data Kbely'!B420","v":7.8000000000000007},5.1999999999999993,0,6.1999999999999993,0,7.1999999999999993,0,8.1999999999999993,0,9.1999999999999993,0]
[{"$f":"'data Kbely'!A421","v":"2016-05-16"},{"$f":"'data Kbely'!B421","v":8.3999999999999986},4.6000000000000014,0,5.6000000000000014,0,6.6000000000000014,0,7.6000000000000014,0,8.6000000000000014,0]
[{"$f":"'data Kbely'!A422","v":"2016-05-17"},{"$f":"'data Kbely'!B422","v":9.8000000000000007},3.1999999999999993,0,4.1999999999999993,0,5.1999999999999993,0,6.1999999999999993,0,7.1999999999999993,0]
[{"$f":"'data Kbely'!A423","v":"2016-05-18"},{"$f":"'data Kbely'!B423","v":13},0,0,1,0,2,0,3,0,4,0]
[{"$f":"'data Kbely'!A424","v":"2016-05-19"},{"$f":"'data Kbely'!B424","v":14.3},0,-1.3000000000000007,0,-0.30000000000000071,0.69999999999999929,0,1.6999999999999993,0,2.6999999999999993,0]
[{"$f":"'data Kbely'!A425","v":"2016-05-20"},{"$f":"'data Kbely'!B425","v":16.399999999999999},0,-3.3999999999999986,0,-2.3999999999999986,0,-1.3999999999999986,0,-0.39999999999999858,0.60000000000000142,0]
[{"$f":"'data Kbely'!A426","v":"2016-05-21"},{"$f":"'data Kbely'!B426","v":16.3},0,-3.3000000000000007,0,-2.3000000000000007,0,-1.3000000000000007,0,-0.30000000000000071,0.69999999999999929,0]
[{"$f":"'data Kbely'!A427","v":"2016-05-22"},{"$f":"'data Kbely'!B427","v":19.600000000000001},0,-6.6000000000000014,0,-5.6000000000000014,0,-4.6000000000000014,0,-3.6000000000000014,0,-2.6000000000000014]
[{"$f":"'data Kbely'!A428","v":"2016-05-23"},{"$f":"'data Kbely'!B428","v":18},0,-5,0,-4,0,-3,0,-2,0,-1]
[{"$f":"'data Kbely'!A429","v":"2016-05-24"},{"$f":"'data Kbely'!B429","v":15.8},0,-2.8000000000000007,0,-1.8000000000000007,0,-0.80000000000000071,0.19999999999999929,0,1.1999999999999993,0]
[{"$f":"'data Kbely'!A430","v":"2016-05-25"},{"$f":"'data Kbely'!B430","v":14},0,-1,0,0,1,0,2,0,3,0]
[{"$f":"'data Kbely'!A431","v":"2016-05-26"},{"$f":"'data Kbely'!B431","v":16},0,-3,0,-2,0,-1,0,0,1,0]
[{"$f":"'data Kbely'!A432","v":"2016-05-27"},{"$f":"'data Kbely'!B432","v":16.7},0,-3.6999999999999993,0,-2.6999999999999993,0,-1.6999999999999993,0,-0.69999999999999929,0.30000000000000071,0]
[{"$f":"'data Kbely'!A433","v":"2016-05-28"},{"$f":"'data Kbely'!B433","v":17.399999999999999},0,-4.3999999999999986,0,-3.3999999999999986,0,-2.3999999999999986,0,-1.3999999999999986,0,-0.39999999999999858]
[{"$f":"'data Kbely'!A434","v":"2016-05-29"},{"$f":"'data Kbely'!B434","v":18.7},0,-5.6999999999999993,0,-4.6999999999999993,0,-3.6999999999999993,0,-2.6999999999999993,0,-1.6999999999999993]
[{"$f":"'data Kbely'!A435","v":"2016-05-30"},{"$f":"'data Kbely'!B435","v":19.399999999999999},0,-6.3999999999999986,0,-5.3999999999999986,0,-4.3999999999999986,0,-3.3999999999999986,0,-2.3999999999999986]
[{"$f":"'data Kbely'!A436","v":"2016-05-31"},{"$f":"'data Kbely'!B436","v":17.8},0,-4.8000000000000007,0,-3.8000000000000007,0,-2.8000000000000007,0,-1.8000000000000007,0,-0.80000000000000071]
[{"$f":"'data Kbely'!A437","v":"2016-06-01"},{"$f":"'data Kbely'!B437","v":16.899999999999999},0,-3.8999999999999986,0,-2.8999999999999986,0,-1.8999999999999986,0,-0.89999999999999858,0.10000000000000142,0]
[{"$f":"'data Kbely'!A438","v":"2016-06-02"},{"$f":"'data Kbely'!B438","v":16.5},0,-3.5,0,-2.5,0,-1.5,0,-0.5,0.5,0]
[{"$f":"'data Kbely'!A439","v":"2016-06-03"},{"$f":"'data Kbely'!B439","v":15.9},0,-2.9000000000000004,0,-1.9000000000000004,0,-0.90000000000000036,9.9999999999999645E-2,0,1.0999999999999996,0]
[{"$f":"'data Kbely'!A440","v":"2016-06-04"},{"$f":"'data Kbely'!B440","v":18.100000000000001},0,-5.1000000000000014,0,-4.1000000000000014,0,-3.1000000000000014,0,-2.1000000000000014,0,-1.1000000000000014]
[{"$f":"'data Kbely'!A441","v":"2016-06-05"},{"$f":"'data Kbely'!B441","v":19.5},0,-6.5,0,-5.5,0,-4.5,0,-3.5,0,-2.5]
[{"$f":"'data Kbely'!A442","v":"2016-06-06"},{"$f":"'data Kbely'!B442","v":18.399999999999999},0,-5.3999999999999986,0,-4.3999999999999986,0,-3.3999999999999986,0,-2.3999999999999986,0,-1.3999999999999986]
[{"$f":"'data Kbely'!A443","v":"2016-06-07"},{"$f":"'data Kbely'!B443","v":17.399999999999999},0,-4.3999999999999986,0,-3.3999999999999986,0,-2.3999999999999986,0,-1.3999999999999986,0,-0.39999999999999858]
[{"$f":"'data Kbely'!A444","v":"2016-06-08"},{"$f":"'data Kbely'!B444","v":19},0,-6,0,-5,0,-4,0,-3,0,-2]
[{"$f":"'data Kbely'!A445","v":"2016-06-09"},{"$f":"'data Kbely'!B445","v":17.600000000000001},0,-4.6000000000000014,0,-3.6000000000000014,0,-2.6000000000000014,0,-1.6000000000000014,0,-0.60000000000000142]
[{"$f":"'data Kbely'!A446","v":"2016-06-10"},{"$f":"'data Kbely'!B446","v":17.3},0,-4.3000000000000007,0,-3.3000000000000007,0,-2.3000000000000007,0,-1.3000000000000007,0,-0.30000000000000071]
[{"$f":"'data Kbely'!A447","v":"2016-06-11"},{"$f":"'data Kbely'!B447","v":15.9},0,-2.9000000000000004,0,-1.9000000000000004,0,-0.90000000000000036,9.9999999999999645E-2,0,1.0999999999999996,0]
[{"$f":"'data Kbely'!A448","v":"2016-06-12"},{"$f":"'data Kbely'!B448","v":15.9},0,-2.9000000000000004,0,-1.9000000000000004,0,-0.90000000000000036,9.9999999999999645E-2,0,1.0999999999999996,0]
[{"$f":"'data Kbely'!A449","v":"2016-06-13"},{"$f":"'data Kbely'!B449","v":17.2},0,-4.1999999999999993,0,-3.1999999999999993,0,-2.1999999999999993,0,-1.1999999999999993,0,-0.19999999999999929]
[{"$f":"'data Kbely'!A450","v":"2016-06-14"},{"$f":"'data Kbely'!B450","v":17.5},0,-4.5,0,-3.5,0,-2.5,0,-1.5,0,-0.5]
[{"$f":"'data Kbely'!A451","v":"2016-06-15"},{"$f":"'data Kbely'!B451","v":15.7},0,-2.6999999999999993,0,-1.6999999999999993,0,-0.69999999999999929,0.30000000000000071,0,1.3000000000000007,0]
[{"$f":"'data Kbely'!A452","v":"2016-06-16"},{"$f":"'data Kbely'!B452","v":17.600000000000001},0,-4.6000000000000014,0,-3.6000000000000014,0,-2.6000000000000014,0,-1.6000000000000014,0,-0.60000000000000142]
[{"$f":"'data Kbely'!A453","v":"2016-06-17"},{"$f":"'data Kbely'!B453","v":15.2},0,-2.1999999999999993,0,-1.1999999999999993,0,-0.19999999999999929,0.80000000000000071,0,1.8000000000000007,0]
[{"$f":"'data Kbely'!A454","v":"2016-06-18"},{"$f":"'data Kbely'!B454","v":17.5},0,-4.5,0,-3.5,0,-2.5,0,-1.5,0,-0.5]
[{"$f":"'data Kbely'!A455","v":"2016-06-19"},{"$f":"'data Kbely'!B455","v":16.899999999999999},0,-3.8999999999999986,0,-2.8999999999999986,0,-1.8999999999999986,0,-0.89999999999999858,0.10000000000000142,0]
[{"$f":"'data Kbely'!A456","v":"2016-06-20"},{"$f":"'data Kbely'!B456","v":16},0,-3,0,-2,0,-1,0,0,1,0]
[{"$f":"'data Kbely'!A457","v":"2016-06-21"},{"$f":"'data Kbely'!B457","v":18},0,-5,0,-4,0,-3,0,-2,0,-1]
[{"$f":"'data Kbely'!A458","v":"2016-06-22"},{"$f":"'data Kbely'!B458","v":20.100000000000001},{"$f":"IF(C$2>$B458,C$2-$B458,0)","v":0},{"$f":"IF(D$2<$B458,D$2-$B458,0)","v":-7.1000000000000014},{"$f":"IF(E$2>$B458,E$2-$B458,0)","v":0},{"$f":"IF(F$2<$B458,F$2-$B458,0)","v":-6.1000000000000014},{"$f":"IF(G$2>$B458,G$2-$B458,0)","v":0},{"$f":"IF(H$2<$B458,H$2-$B458,0)","v":-5.1000000000000014},{"$f":"IF(I$2>$B458,I$2-$B458,0)","v":0},{"$f":"IF(J$2<$B458,J$2-$B458,0)","v":-4.1000000000000014},{"$f":"IF(K$2>$B458,K$2-$B458,0)","v":0},{"$f":"IF(L$2<$B458,L$2-$B458,0)","v":-3.1000000000000014}]
[{"$f":"'data Kbely'!A459","v":"2016-06-23"},{"$f":"'data Kbely'!B459","v":23.4},0,-10.399999999999999,0,-9.3999999999999986,0,-8.3999999999999986,0,-7.3999999999999986,0,-6.3999999999999986]
[{"$f":"'data Kbely'!A460","v":"2016-06-24"},{"$f":"'data Kbely'!B460","v":24.8},0,-11.8,0,-10.8,0,-9.8000000000000007,0,-8.8000000000000007,0,-7.8000000000000007]
[{"$f":"'data Kbely'!A461","v":"2016-06-25"},{"$f":"'data Kbely'!B461","v":24.6},0,-11.600000000000001,0,-10.600000000000001,0,-9.6000000000000014,0,-8.6000000000000014,0,-7.6000000000000014]
[{"$f":"'data Kbely'!A462","v":"2016-06-26"},{"$f":"'data Kbely'!B462","v":18.899999999999999},0,-5.8999999999999986,0,-4.8999999999999986,0,-3.8999999999999986,0,-2.8999999999999986,0,-1.8999999999999986]
[{"$f":"'data Kbely'!A463","v":"2016-06-27"},{"$f":"'data Kbely'!B463","v":17.2},0,-4.1999999999999993,0,-3.1999999999999993,0,-2.1999999999999993,0,-1.1999999999999993,0,-0.19999999999999929]
[{"$f":"'data Kbely'!A464","v":"2016-06-28"},{"$f":"'data Kbely'!B464","v":18.100000000000001},0,-5.1000000000000014,0,-4.1000000000000014,0,-3.1000000000000014,0,-2.1000000000000014,0,-1.1000000000000014]
[{"$f":"'data Kbely'!A465","v":"2016-06-29"},{"$f":"'data Kbely'!B465","v":21.9},0,-8.8999999999999986,0,-7.8999999999999986,0,-6.8999999999999986,0,-5.8999999999999986,0,-4.8999999999999986]
[{"$f":"'data Kbely'!A466","v":"2016-06-30"},{"$f":"'data Kbely'!B466","v":20.3},0,-7.3000000000000007,0,-6.3000000000000007,0,-5.3000000000000007,0,-4.3000000000000007,0,-3.3000000000000007]
[{"$f":"'data Kbely'!A467","v":"2016-07-01"},{"$f":"'data Kbely'!B467","v":22.2},0,-9.1999999999999993,0,-8.1999999999999993,0,-7.1999999999999993,0,-6.1999999999999993,0,-5.1999999999999993]
[{"$f":"'data Kbely'!A468","v":"2016-07-02"},{"$f":"'data Kbely'!B468","v":20.2},0,-7.1999999999999993,0,-6.1999999999999993,0,-5.1999999999999993,0,-4.1999999999999993,0,-3.1999999999999993]
[{"$f":"'data Kbely'!A469","v":"2016-07-03"},{"$f":"'data Kbely'!B469","v":16.2},0,-3.1999999999999993,0,-2.1999999999999993,0,-1.1999999999999993,0,-0.19999999999999929,0.80000000000000071,0]
[{"$f":"'data Kbely'!A470","v":"2016-07-04"},{"$f":"'data Kbely'!B470","v":17.100000000000001},0,-4.1000000000000014,0,-3.1000000000000014,0,-2.1000000000000014,0,-1.1000000000000014,0,-0.10000000000000142]
[{"$f":"'data Kbely'!A471","v":"2016-07-05"},{"$f":"'data Kbely'!B471","v":19.399999999999999},0,-6.3999999999999986,0,-5.3999999999999986,0,-4.3999999999999986,0,-3.3999999999999986,0,-2.3999999999999986]
[{"$f":"'data Kbely'!A472","v":"2016-07-06"},{"$f":"'data Kbely'!B472","v":17.399999999999999},0,-4.3999999999999986,0,-3.3999999999999986,0,-2.3999999999999986,0,-1.3999999999999986,0,-0.39999999999999858]
[{"$f":"'data Kbely'!A473","v":"2016-07-07"},{"$f":"'data Kbely'!B473","v":17.100000000000001},0,-4.1000000000000014,0,-3.1000000000000014,0,-2.1000000000000014,0,-1.1000000000000014,0,-0.10000000000000142]
[{"$f":"'data Kbely'!A474","v":"2016-07-08"},{"$f":"'data Kbely'!B474","v":20.8},0,-7.8000000000000007,0,-6.8000000000000007,0,-5.8000000000000007,0,-4.8000000000000007,0,-3.8000000000000007]
[{"$f":"'data Kbely'!A475","v":"2016-07-09"},{"$f":"'data Kbely'!B475","v":20.6},0,-7.6000000000000014,0,-6.6000000000000014,0,-5.6000000000000014,0,-4.6000000000000014,0,-3.6000000000000014]
[{"$f":"'data Kbely'!A476","v":"2016-07-10"},{"$f":"'data Kbely'!B476","v":22.7},0,-9.6999999999999993,0,-8.6999999999999993,0,-7.6999999999999993,0,-6.6999999999999993,0,-5.6999999999999993]
[{"$f":"'data Kbely'!A477","v":"2016-07-11"},{"$f":"'data Kbely'!B477","v":26.1},0,-13.100000000000001,0,-12.100000000000001,0,-11.100000000000001,0,-10.100000000000001,0,-9.1000000000000014]
[{"$f":"'data Kbely'!A478","v":"2016-07-12"},{"$f":"'data Kbely'!B478","v":21.5},0,-8.5,0,-7.5,0,-6.5,0,-5.5,0,-4.5]
[{"$f":"'data Kbely'!A479","v":"2016-07-13"},{"$f":"'data Kbely'!B479","v":18.899999999999999},0,-5.8999999999999986,0,-4.8999999999999986,0,-3.8999999999999986,0,-2.8999999999999986,0,-1.8999999999999986]
[{"$f":"'data Kbely'!A480","v":"2016-07-14"},{"$f":"'data Kbely'!B480","v":13.899999999999999},0,-0.89999999999999858,0.10000000000000142,0,1.1000000000000014,0,2.1000000000000014,0,3.1000000000000014,0]
[{"$f":"'data Kbely'!A481","v":"2016-07-15"},{"$f":"'data Kbely'!B481","v":14.7},0,-1.6999999999999993,0,-0.69999999999999929,0.30000000000000071,0,1.3000000000000007,0,2.3000000000000007,0]
[{"$f":"'data Kbely'!A482","v":"2016-07-16"},{"$f":"'data Kbely'!B482","v":17},0,-4,0,-3,0,-2,0,-1,0,0]
[{"$f":"'data Kbely'!A483","v":"2016-07-17"},{"$f":"'data Kbely'!B483","v":17.7},0,-4.6999999999999993,0,-3.6999999999999993,0,-2.6999999999999993,0,-1.6999999999999993,0,-0.69999999999999929]
[{"$f":"'data Kbely'!A484","v":"2016-07-18"},{"$f":"'data Kbely'!B484","v":20},0,-7,0,-6,0,-5,0,-4,0,-3]
[{"$f":"'data Kbely'!A485","v":"2016-07-19"},{"$f":"'data Kbely'!B485","v":21.1},0,-8.1000000000000014,0,-7.1000000000000014,0,-6.1000000000000014,0,-5.1000000000000014,0,-4.1000000000000014]
[{"$f":"'data Kbely'!A486","v":"2016-07-20"},{"$f":"'data Kbely'!B486","v":21.4},0,-8.3999999999999986,0,-7.3999999999999986,0,-6.3999999999999986,0,-5.3999999999999986,0,-4.3999999999999986]
[{"$f":"'data Kbely'!A487","v":"2016-07-21"},{"$f":"'data Kbely'!B487","v":21.3},0,-8.3000000000000007,0,-7.3000000000000007,0,-6.3000000000000007,0,-5.3000000000000007,0,-4.3000000000000007]
[{"$f":"'data Kbely'!A488","v":"2016-07-22"},{"$f":"'data Kbely'!B488","v":22.3},0,-9.3000000000000007,0,-8.3000000000000007,0,-7.3000000000000007,0,-6.3000000000000007,0,-5.3000000000000007]
[{"$f":"'data Kbely'!A489","v":"2016-07-23"},{"$f":"'data Kbely'!B489","v":22.4},0,-9.3999999999999986,0,-8.3999999999999986,0,-7.3999999999999986,0,-6.3999999999999986,0,-5.3999999999999986]
[{"$f":"'data Kbely'!A490","v":"2016-07-24"},{"$f":"'data Kbely'!B490","v":20.6},0,-7.6000000000000014,0,-6.6000000000000014,0,-5.6000000000000014,0,-4.6000000000000014,0,-3.6000000000000014]
[{"$f":"'data Kbely'!A491","v":"2016-07-25"},{"$f":"'data Kbely'!B491","v":22.7},0,-9.6999999999999993,0,-8.6999999999999993,0,-7.6999999999999993,0,-6.6999999999999993,0,-5.6999999999999993]
[{"$f":"'data Kbely'!A492","v":"2016-07-26"},{"$f":"'data Kbely'!B492","v":22.1},0,-9.1000000000000014,0,-8.1000000000000014,0,-7.1000000000000014,0,-6.1000000000000014,0,-5.1000000000000014]
[{"$f":"'data Kbely'!A493","v":"2016-07-27"},{"$f":"'data Kbely'!B493","v":20.6},0,-7.6000000000000014,0,-6.6000000000000014,0,-5.6000000000000014,0,-4.6000000000000014,0,-3.6000000000000014]
[{"$f":"'data Kbely'!A494","v":"2016-07-28"},{"$f":"'data Kbely'!B494","v":20.8},0,-7.8000000000000007,0,-6.8000000000000007,0,-5.8000000000000007,0,-4.8000000000000007,0,-3.8000000000000007]
[{"$f":"'data Kbely'!A495","v":"2016-07-29"},{"$f":"'data Kbely'!B495","v":20.7},0,-7.6999999999999993,0,-6.6999999999999993,0,-5.6999999999999993,0,-4.6999999999999993,0,-3.6999999999999993]
[{"$f":"'data Kbely'!A496","v":"2016-07-30"},{"$f":"'data Kbely'!B496","v":22.5},0,-9.5,0,-8.5,0,-7.5,0,-6.5,0,-5.5]
[{"$f":"'data Kbely'!A497","v":"2016-07-31"},{"$f":"'data Kbely'!B497","v":19.399999999999999},0,-6.3999999999999986,0,-5.3999999999999986,0,-4.3999999999999986,0,-3.3999999999999986,0,-2.3999999999999986]
[{"$f":"'data Kbely'!A498","v":"2016-08-01"},{"$f":"'data Kbely'!B498","v":18.399999999999999},0,-5.3999999999999986,0,-4.3999999999999986,0,-3.3999999999999986,0,-2.3999999999999986,0,-1.3999999999999986]
[{"$f":"'data Kbely'!A499","v":"2016-08-02"},{"$f":"'data Kbely'!B499","v":16.5},0,-3.5,0,-2.5,0,-1.5,0,-0.5,0.5,0]
[{"$f":"'data Kbely'!A500","v":"2016-08-03"},{"$f":"'data Kbely'!B500","v":19.100000000000001},0,-6.1000000000000014,0,-5.1000000000000014,0,-4.1000000000000014,0,-3.1000000000000014,0,-2.1000000000000014]
[{"$f":"'data Kbely'!A501","v":"2016-08-04"},{"$f":"'data Kbely'!B501","v":23.6},0,-10.600000000000001,0,-9.6000000000000014,0,-8.6000000000000014,0,-7.6000000000000014,0,-6.6000000000000014]
[{"$f":"'data Kbely'!A502","v":"2016-08-05"},{"$f":"'data Kbely'!B502","v":16.8},0,-3.8000000000000007,0,-2.8000000000000007,0,-1.8000000000000007,0,-0.80000000000000071,0.19999999999999929,0]
[{"$f":"'data Kbely'!A503","v":"2016-08-06"},{"$f":"'data Kbely'!B503","v":18.100000000000001},0,-5.1000000000000014,0,-4.1000000000000014,0,-3.1000000000000014,0,-2.1000000000000014,0,-1.1000000000000014]
[{"$f":"'data Kbely'!A504","v":"2016-08-07"},{"$f":"'data Kbely'!B504","v":18.8},0,-5.8000000000000007,0,-4.8000000000000007,0,-3.8000000000000007,0,-2.8000000000000007,0,-1.8000000000000007]
[{"$f":"'data Kbely'!A505","v":"2016-08-08"},{"$f":"'data Kbely'!B505","v":22.1},0,-9.1000000000000014,0,-8.1000000000000014,0,-7.1000000000000014,0,-6.1000000000000014,0,-5.1000000000000014]
[{"$f":"'data Kbely'!A506","v":"2016-08-09"},{"$f":"'data Kbely'!B506","v":16.3},0,-3.3000000000000007,0,-2.3000000000000007,0,-1.3000000000000007,0,-0.30000000000000071,0.69999999999999929,0]
[{"$f":"'data Kbely'!A507","v":"2016-08-10"},{"$f":"'data Kbely'!B507","v":13.2},0,-0.19999999999999929,0.80000000000000071,0,1.8000000000000007,0,2.8000000000000007,0,3.8000000000000007,0]
[{"$f":"'data Kbely'!A508","v":"2016-08-11"},{"$f":"'data Kbely'!B508","v":13},0,0,1,0,2,0,3,0,4,0]
[{"$f":"'data Kbely'!A509","v":"2016-08-12"},{"$f":"'data Kbely'!B509","v":14.4},0,-1.4000000000000004,0,-0.40000000000000036,0.59999999999999964,0,1.5999999999999996,0,2.5999999999999996,0]
[{"$f":"'data Kbely'!A510","v":"2016-08-13"},{"$f":"'data Kbely'!B510","v":19.7},0,-6.6999999999999993,0,-5.6999999999999993,0,-4.6999999999999993,0,-3.6999999999999993,0,-2.6999999999999993]
[{"$f":"'data Kbely'!A511","v":"2016-08-14"},{"$f":"'data Kbely'!B511","v":19.8},0,-6.8000000000000007,0,-5.8000000000000007,0,-4.8000000000000007,0,-3.8000000000000007,0,-2.8000000000000007]
[{"$f":"'data Kbely'!A512","v":"2016-08-15"},{"$f":"'data Kbely'!B512","v":19.100000000000001},0,-6.1000000000000014,0,-5.1000000000000014,0,-4.1000000000000014,0,-3.1000000000000014,0,-2.1000000000000014]
[{"$f":"'data Kbely'!A513","v":"2016-08-16"},{"$f":"'data Kbely'!B513","v":17},0,-4,0,-3,0,-2,0,-1,0,0]
[{"$f":"'data Kbely'!A514","v":"2016-08-17"},{"$f":"'data Kbely'!B514","v":15.5},0,-2.5,0,-1.5,0,-0.5,0.5,0,1.5,0]
[{"$f":"'data Kbely'!A515","v":"2016-08-18"},{"$f":"'data Kbely'!B515","v":17},0,-4,0,-3,0,-2,0,-1,0,0]
[{"$f":"'data Kbely'!A516","v":"2016-08-19"},{"$f":"'data Kbely'!B516","v":19.100000000000001},0,-6.1000000000000014,0,-5.1000000000000014,0,-4.1000000000000014,0,-3.1000000000000014,0,-2.1000000000000014]
[{"$f":"'data Kbely'!A517","v":"2016-08-20"},{"$f":"'data Kbely'!B517","v":21.5},0,-8.5,0,-7.5,0,-6.5,0,-5.5,0,-4.5]
[{"$f":"'data Kbely'!A518","v":"2016-08-21"},{"$f":"'data Kbely'!B518","v":18},0,-5,0,-4,0,-3,0,-2,0,-1]
[{"$f":"'data Kbely'!A519","v":"2016-08-22"},{"$f":"'data Kbely'!B519","v":17},0,-4,0,-3,0,-2,0,-1,0,0]
[{"$f":"'data Kbely'!A520","v":"2016-08-23"},{"$f":"'data Kbely'!B520","v":19.2},0,-6.1999999999999993,0,-5.1999999999999993,0,-4.1999999999999993,0,-3.1999999999999993,0,-2.1999999999999993]
[{"$f":"'data Kbely'!A521","v":"2016-08-24"},{"$f":"'data Kbely'!B521","v":20.399999999999999},0,-7.3999999999999986,0,-6.3999999999999986,0,-5.3999999999999986,0,-4.3999999999999986,0,-3.3999999999999986]
[{"$f":"'data Kbely'!A522","v":"2016-08-25"},{"$f":"'data Kbely'!B522","v":20.5},{"$f":"IF(C$2>$B522,C$2-$B522,0)","v":0},{"$f":"IF(D$2<$B522,D$2-$B522,0)","v":-7.5},{"$f":"IF(E$2>$B522,E$2-$B522,0)","v":0},{"$f":"IF(F$2<$B522,F$2-$B522,0)","v":-6.5},{"$f":"IF(G$2>$B522,G$2-$B522,0)","v":0},{"$f":"IF(H$2<$B522,H$2-$B522,0)","v":-5.5},{"$f":"IF(I$2>$B522,I$2-$B522,0)","v":0},{"$f":"IF(J$2<$B522,J$2-$B522,0)","v":-4.5},{"$f":"IF(K$2>$B522,K$2-$B522,0)","v":0},{"$f":"IF(L$2<$B522,L$2-$B522,0)","v":-3.5}]
[{"$f":"'data Kbely'!A523","v":"2016-08-26"},{"$f":"'data Kbely'!B523","v":21.2},0,-8.1999999999999993,0,-7.1999999999999993,0,-6.1999999999999993,0,-5.1999999999999993,0,-4.1999999999999993]
[{"$f":"'data Kbely'!A524","v":"2016-08-27"},{"$f":"'data Kbely'!B524","v":21.8},0,-8.8000000000000007,0,-7.8000000000000007,0,-6.8000000000000007,0,-5.8000000000000007,0,-4.8000000000000007]
[{"$f":"'data Kbely'!A525","v":"2016-08-28"},{"$f":"'data Kbely'!B525","v":22.9},0,-9.8999999999999986,0,-8.8999999999999986,0,-7.8999999999999986,0,-6.8999999999999986,0,-5.8999999999999986]
[{"$f":"'data Kbely'!A526","v":"2016-08-29"},{"$f":"'data Kbely'!B526","v":20.5},0,-7.5,0,-6.5,0,-5.5,0,-4.5,0,-3.5]
[{"$f":"'data Kbely'!A527","v":"2016-08-30"},{"$f":"'data Kbely'!B527","v":17.399999999999999},0,-4.3999999999999986,0,-3.3999999999999986,0,-2.3999999999999986,0,-1.3999999999999986,0,-0.39999999999999858]
[{"$f":"'data Kbely'!A528","v":"2016-08-31"},{"$f":"'data Kbely'!B528","v":16.7},0,-3.6999999999999993,0,-2.6999999999999993,0,-1.6999999999999993,0,-0.69999999999999929,0.30000000000000071,0]
[{"$f":"'data Kbely'!A529","v":"2016-09-01"},{"$f":"'data Kbely'!B529","v":19},0,-6,0,-5,0,-4,0,-3,0,-2]
[{"$f":"'data Kbely'!A530","v":"2016-09-02"},{"$f":"'data Kbely'!B530","v":21.2},0,-8.1999999999999993,0,-7.1999999999999993,0,-6.1999999999999993,0,-5.1999999999999993,0,-4.1999999999999993]
[{"$f":"'data Kbely'!A531","v":"2016-09-03"},{"$f":"'data Kbely'!B531","v":20},0,-7,0,-6,0,-5,0,-4,0,-3]
[{"$f":"'data Kbely'!A532","v":"2016-09-04"},{"$f":"'data Kbely'!B532","v":20},0,-7,0,-6,0,-5,0,-4,0,-3]
[{"$f":"'data Kbely'!A533","v":"2016-09-05"},{"$f":"'data Kbely'!B533","v":16.2},0,-3.1999999999999993,0,-2.1999999999999993,0,-1.1999999999999993,0,-0.19999999999999929,0.80000000000000071,0]
[{"$f":"'data Kbely'!A534","v":"2016-09-06"},{"$f":"'data Kbely'!B534","v":16.600000000000001},0,-3.6000000000000014,0,-2.6000000000000014,0,-1.6000000000000014,0,-0.60000000000000142,0.39999999999999858,0]
[{"$f":"'data Kbely'!A535","v":"2016-09-07"},{"$f":"'data Kbely'!B535","v":19.600000000000001},0,-6.6000000000000014,0,-5.6000000000000014,0,-4.6000000000000014,0,-3.6000000000000014,0,-2.6000000000000014]
[{"$f":"'data Kbely'!A536","v":"2016-09-08"},{"$f":"'data Kbely'!B536","v":21.2},0,-8.1999999999999993,0,-7.1999999999999993,0,-6.1999999999999993,0,-5.1999999999999993,0,-4.1999999999999993]
[{"$f":"'data Kbely'!A537","v":"2016-09-09"},{"$f":"'data Kbely'!B537","v":22.3},0,-9.3000000000000007,0,-8.3000000000000007,0,-7.3000000000000007,0,-6.3000000000000007,0,-5.3000000000000007]
[{"$f":"'data Kbely'!A538","v":"2016-09-10"},{"$f":"'data Kbely'!B538","v":22.9},0,-9.8999999999999986,0,-8.8999999999999986,0,-7.8999999999999986,0,-6.8999999999999986,0,-5.8999999999999986]
[{"$f":"'data Kbely'!A539","v":"2016-09-11"},{"$f":"'data Kbely'!B539","v":22.9},0,-9.8999999999999986,0,-8.8999999999999986,0,-7.8999999999999986,0,-6.8999999999999986,0,-5.8999999999999986]
[{"$f":"'data Kbely'!A540","v":"2016-09-12"},{"$f":"'data Kbely'!B540","v":22.4},0,-9.3999999999999986,0,-8.3999999999999986,0,-7.3999999999999986,0,-6.3999999999999986,0,-5.3999999999999986]
[{"$f":"'data Kbely'!A541","v":"2016-09-13"},{"$f":"'data Kbely'!B541","v":22.3},0,-9.3000000000000007,0,-8.3000000000000007,0,-7.3000000000000007,0,-6.3000000000000007,0,-5.3000000000000007]
[{"$f":"'data Kbely'!A542","v":"2016-09-14"},{"$f":"'data Kbely'!B542","v":21.6},0,-8.6000000000000014,0,-7.6000000000000014,0,-6.6000000000000014,0,-5.6000000000000014,0,-4.6000000000000014]
[{"$f":"'data Kbely'!A543","v":"2016-09-15"},{"$f":"'data Kbely'!B543","v":20.399999999999999},0,-7.3999999999999986,0,-6.3999999999999986,0,-5.3999999999999986,0,-4.3999999999999986,0,-3.3999999999999986]
[{"$f":"'data Kbely'!A544","v":"2016-09-16"},{"$f":"'data Kbely'!B544","v":20},0,-7,0,-6,0,-5,0,-4,0,-3]
[{"$f":"'data Kbely'!A545","v":"2016-09-17"},{"$f":"'data Kbely'!B545","v":17.3},0,-4.3000000000000007,0,-3.3000000000000007,0,-2.3000000000000007,0,-1.3000000000000007,0,-0.30000000000000071]
[{"$f":"'data Kbely'!A546","v":"2016-09-18"},{"$f":"'data Kbely'!B546","v":15},0,-2,0,-1,0,0,1,0,2,0]
[{"$f":"'data Kbely'!A547","v":"2016-09-19"},{"$f":"'data Kbely'!B547","v":12.399999999999999},0.60000000000000142,0,1.6000000000000014,0,2.6000000000000014,0,3.6000000000000014,0,4.6000000000000014,0]
[{"$f":"'data Kbely'!A548","v":"2016-09-20"},{"$f":"'data Kbely'!B548","v":12.2},0.80000000000000071,0,1.8000000000000007,0,2.8000000000000007,0,3.8000000000000007,0,4.8000000000000007,0]
[{"$f":"'data Kbely'!A549","v":"2016-09-21"},{"$f":"'data Kbely'!B549","v":12.5},0.5,0,1.5,0,2.5,0,3.5,0,4.5,0]
[{"$f":"'data Kbely'!A550","v":"2016-09-22"},{"$f":"'data Kbely'!B550","v":11.8},1.1999999999999993,0,2.1999999999999993,0,3.1999999999999993,0,4.1999999999999993,0,5.1999999999999993,0]
[{"$f":"'data Kbely'!A551","v":"2016-09-23"},{"$f":"'data Kbely'!B551","v":13},0,0,1,0,2,0,3,0,4,0]
[{"$f":"'data Kbely'!A552","v":"2016-09-24"},{"$f":"'data Kbely'!B552","v":13.7},0,-0.69999999999999929,0.30000000000000071,0,1.3000000000000007,0,2.3000000000000007,0,3.3000000000000007,0]
[{"$f":"'data Kbely'!A553","v":"2016-09-25"},{"$f":"'data Kbely'!B553","v":13.5},0,-0.5,0.5,0,1.5,0,2.5,0,3.5,0]
[{"$f":"'data Kbely'!A554","v":"2016-09-26"},{"$f":"'data Kbely'!B554","v":12.899999999999999},0.10000000000000142,0,1.1000000000000014,0,2.1000000000000014,0,3.1000000000000014,0,4.1000000000000014,0]
[{"$f":"'data Kbely'!A555","v":"2016-09-27"},{"$f":"'data Kbely'!B555","v":13.600000000000001},0,-0.60000000000000142,0.39999999999999858,0,1.3999999999999986,0,2.3999999999999986,0,3.3999999999999986,0]
[{"$f":"'data Kbely'!A556","v":"2016-09-28"},{"$f":"'data Kbely'!B556","v":15.2},0,-2.1999999999999993,0,-1.1999999999999993,0,-0.19999999999999929,0.80000000000000071,0,1.8000000000000007,0]
[{"$f":"'data Kbely'!A557","v":"2016-09-29"},{"$f":"'data Kbely'!B557","v":18},0,-5,0,-4,0,-3,0,-2,0,-1]
[{"$f":"'data Kbely'!A558","v":"2016-09-30"},{"$f":"'data Kbely'!B558","v":18.899999999999999},0,-5.8999999999999986,0,-4.8999999999999986,0,-3.8999999999999986,0,-2.8999999999999986,0,-1.8999999999999986]
[{"$f":"'data Kbely'!A559","v":"2016-10-01"},{"$f":"'data Kbely'!B559","v":17.2},0,-4.1999999999999993,0,-3.1999999999999993,0,-2.1999999999999993,0,-1.1999999999999993,0,-0.19999999999999929]
[{"$f":"'data Kbely'!A560","v":"2016-10-02"},{"$f":"'data Kbely'!B560","v":13.899999999999999},0,-0.89999999999999858,0.10000000000000142,0,1.1000000000000014,0,2.1000000000000014,0,3.1000000000000014,0]
[{"$f":"'data Kbely'!A561","v":"2016-10-03"},{"$f":"'data Kbely'!B561","v":11},2,0,3,0,4,0,5,0,6,0]
[{"$f":"'data Kbely'!A562","v":"2016-10-04"},{"$f":"'data Kbely'!B562","v":10.399999999999999},2.6000000000000014,0,3.6000000000000014,0,4.6000000000000014,0,5.6000000000000014,0,6.6000000000000014,0]
[{"$f":"'data Kbely'!A563","v":"2016-10-05"},{"$f":"'data Kbely'!B563","v":6.8000000000000007},6.1999999999999993,0,7.1999999999999993,0,8.1999999999999993,0,9.1999999999999993,0,10.199999999999999,0]
[{"$f":"'data Kbely'!A564","v":"2016-10-06"},{"$f":"'data Kbely'!B564","v":7.5},5.5,0,6.5,0,7.5,0,8.5,0,9.5,0]
[{"$f":"'data Kbely'!A565","v":"2016-10-07"},{"$f":"'data Kbely'!B565","v":7.6000000000000014},5.3999999999999986,0,6.3999999999999986,0,7.3999999999999986,0,8.3999999999999986,0,9.3999999999999986,0]
[{"$f":"'data Kbely'!A566","v":"2016-10-08"},{"$f":"'data Kbely'!B566","v":7.1999999999999993},5.8000000000000007,0,6.8000000000000007,0,7.8000000000000007,0,8.8000000000000007,0,9.8000000000000007,0]
[{"$f":"'data Kbely'!A567","v":"2016-10-09"},{"$f":"'data Kbely'!B567","v":7.6999999999999993},5.3000000000000007,0,6.3000000000000007,0,7.3000000000000007,0,8.3000000000000007,0,9.3000000000000007,0]
[{"$f":"'data Kbely'!A568","v":"2016-10-10"},{"$f":"'data Kbely'!B568","v":6.6000000000000014},6.3999999999999986,0,7.3999999999999986,0,8.3999999999999986,0,9.3999999999999986,0,10.399999999999999,0]
[{"$f":"'data Kbely'!A569","v":"2016-10-11"},{"$f":"'data Kbely'!B569","v":6.6999999999999993},6.3000000000000007,0,7.3000000000000007,0,8.3000000000000007,0,9.3000000000000007,0,10.3,0]
[{"$f":"'data Kbely'!A570","v":"2016-10-12"},{"$f":"'data Kbely'!B570","v":6.1999999999999993},6.8000000000000007,0,7.8000000000000007,0,8.8000000000000007,0,9.8000000000000007,0,10.8,0]
[{"$f":"'data Kbely'!A571","v":"2016-10-13"},{"$f":"'data Kbely'!B571","v":6.6000000000000014},6.3999999999999986,0,7.3999999999999986,0,8.3999999999999986,0,9.3999999999999986,0,10.399999999999999,0]
[{"$f":"'data Kbely'!A572","v":"2016-10-14"},{"$f":"'data Kbely'!B572","v":7.8999999999999986},5.1000000000000014,0,6.1000000000000014,0,7.1000000000000014,0,8.1000000000000014,0,9.1000000000000014,0]
[{"$f":"'data Kbely'!A573","v":"2016-10-15"},{"$f":"'data Kbely'!B573","v":9.6999999999999993},3.3000000000000007,0,4.3000000000000007,0,5.3000000000000007,0,6.3000000000000007,0,7.3000000000000007,0]
[{"$f":"'data Kbely'!A574","v":"2016-10-16"},{"$f":"'data Kbely'!B574","v":11.3},1.6999999999999993,0,2.6999999999999993,0,3.6999999999999993,0,4.6999999999999993,0,5.6999999999999993,0]
[{"$f":"'data Kbely'!A575","v":"2016-10-17"},{"$f":"'data Kbely'!B575","v":8},5,0,6,0,7,0,8,0,9,0]
[{"$f":"'data Kbely'!A576","v":"2016-10-18"},{"$f":"'data Kbely'!B576","v":9.8999999999999986},3.1000000000000014,0,4.1000000000000014,0,5.1000000000000014,0,6.1000000000000014,0,7.1000000000000014,0]
[{"$f":"'data Kbely'!A577","v":"2016-10-19"},{"$f":"'data Kbely'!B577","v":10.399999999999999},2.6000000000000014,0,3.6000000000000014,0,4.6000000000000014,0,5.6000000000000014,0,6.6000000000000014,0]
[{"$f":"'data Kbely'!A578","v":"2016-10-20"},{"$f":"'data Kbely'!B578","v":8.5},4.5,0,5.5,0,6.5,0,7.5,0,8.5,0]
[{"$f":"'data Kbely'!A579","v":"2016-10-21"},{"$f":"'data Kbely'!B579","v":7.3999999999999986},5.6000000000000014,0,6.6000000000000014,0,7.6000000000000014,0,8.6000000000000014,0,9.6000000000000014,0]
[{"$f":"'data Kbely'!A580","v":"2016-10-22"},{"$f":"'data Kbely'!B580","v":5.6000000000000014},7.3999999999999986,0,8.3999999999999986,0,9.3999999999999986,0,10.399999999999999,0,11.399999999999999,0]
[{"$f":"'data Kbely'!A581","v":"2016-10-23"},{"$f":"'data Kbely'!B581","v":6.1999999999999993},6.8000000000000007,0,7.8000000000000007,0,8.8000000000000007,0,9.8000000000000007,0,10.8,0]
[{"$f":"'data Kbely'!A582","v":"2016-10-24"},{"$f":"'data Kbely'!B582","v":9.3000000000000007},3.6999999999999993,0,4.6999999999999993,0,5.6999999999999993,0,6.6999999999999993,0,7.6999999999999993,0]
[{"$f":"'data Kbely'!A583","v":"2016-10-25"},{"$f":"'data Kbely'!B583","v":10.3},2.6999999999999993,0,3.6999999999999993,0,4.6999999999999993,0,5.6999999999999993,0,6.6999999999999993,0]
[{"$f":"'data Kbely'!A584","v":"2016-10-26"},{"$f":"'data Kbely'!B584","v":8.8000000000000007},4.1999999999999993,0,5.1999999999999993,0,6.1999999999999993,0,7.1999999999999993,0,8.1999999999999993,0]
[{"$f":"'data Kbely'!A585","v":"2016-10-27"},{"$f":"'data Kbely'!B585","v":9},4,0,5,0,6,0,7,0,8,0]
[{"$f":"'data Kbely'!A586","v":"2016-10-28"},{"$f":"'data Kbely'!B586","v":9.5},{"$f":"IF(C$2>$B586,C$2-$B586,0)","v":3.5},{"$f":"IF(D$2<$B586,D$2-$B586,0)","v":0},{"$f":"IF(E$2>$B586,E$2-$B586,0)","v":4.5},{"$f":"IF(F$2<$B586,F$2-$B586,0)","v":0},{"$f":"IF(G$2>$B586,G$2-$B586,0)","v":5.5},{"$f":"IF(H$2<$B586,H$2-$B586,0)","v":0},{"$f":"IF(I$2>$B586,I$2-$B586,0)","v":6.5},{"$f":"IF(J$2<$B586,J$2-$B586,0)","v":0},{"$f":"IF(K$2>$B586,K$2-$B586,0)","v":7.5},{"$f":"IF(L$2<$B586,L$2-$B586,0)","v":0}]
[{"$f":"'data Kbely'!A587","v":"2016-10-29"},{"$f":"'data Kbely'!B587","v":9.8999999999999986},3.1000000000000014,0,4.1000000000000014,0,5.1000000000000014,0,6.1000000000000014,0,7.1000000000000014,0]
[{"$f":"'data Kbely'!A588","v":"2016-10-30"},{"$f":"'data Kbely'!B588","v":6.3999999999999986},6.6000000000000014,0,7.6000000000000014,0,8.6000000000000014,0,9.6000000000000014,0,10.600000000000001,0]
[{"$f":"'data Kbely'!A589","v":"2016-10-31"},{"$f":"'data Kbely'!B589","v":5.6999999999999993},7.3000000000000007,0,8.3000000000000007,0,9.3000000000000007,0,10.3,0,11.3,0]
[{"$f":"'data Kbely'!A590","v":"2016-11-01"},{"$f":"'data Kbely'!B590","v":9.1999999999999993},3.8000000000000007,0,4.8000000000000007,0,5.8000000000000007,0,6.8000000000000007,0,7.8000000000000007,0]
[{"$f":"'data Kbely'!A591","v":"2016-11-02"},{"$f":"'data Kbely'!B591","v":7.1000000000000014},5.8999999999999986,0,6.8999999999999986,0,7.8999999999999986,0,8.8999999999999986,0,9.8999999999999986,0]
[{"$f":"'data Kbely'!A592","v":"2016-11-03"},{"$f":"'data Kbely'!B592","v":3.6000000000000014},9.3999999999999986,0,10.399999999999999,0,11.399999999999999,0,12.399999999999999,0,13.399999999999999,0]
[{"$f":"'data Kbely'!A593","v":"2016-11-04"},{"$f":"'data Kbely'!B593","v":4},9,0,10,0,11,0,12,0,13,0]
[{"$f":"'data Kbely'!A594","v":"2016-11-05"},{"$f":"'data Kbely'!B594","v":3.8999999999999986},9.1000000000000014,0,10.100000000000001,0,11.100000000000001,0,12.100000000000001,0,13.100000000000001,0]
[{"$f":"'data Kbely'!A595","v":"2016-11-06"},{"$f":"'data Kbely'!B595","v":5.3000000000000007},7.6999999999999993,0,8.6999999999999993,0,9.6999999999999993,0,10.7,0,11.7,0]
[{"$f":"'data Kbely'!A596","v":"2016-11-07"},{"$f":"'data Kbely'!B596","v":3.5},9.5,0,10.5,0,11.5,0,12.5,0,13.5,0]
[{"$f":"'data Kbely'!A597","v":"2016-11-08"},{"$f":"'data Kbely'!B597","v":1.3999999999999986},11.600000000000001,0,12.600000000000001,0,13.600000000000001,0,14.600000000000001,0,15.600000000000001,0]
[{"$f":"'data Kbely'!A598","v":"2016-11-09"},{"$f":"'data Kbely'!B598","v":0.89999999999999858},12.100000000000001,0,13.100000000000001,0,14.100000000000001,0,15.100000000000001,0,16.100000000000001,0]
[{"$f":"'data Kbely'!A599","v":"2016-11-10"},{"$f":"'data Kbely'!B599","v":1.5},11.5,0,12.5,0,13.5,0,14.5,0,15.5,0]
[{"$f":"'data Kbely'!A600","v":"2016-11-11"},{"$f":"'data Kbely'!B600","v":2},11,0,12,0,13,0,14,0,15,0]
[{"$f":"'data Kbely'!A601","v":"2016-11-12"},{"$f":"'data Kbely'!B601","v":-0.39999999999999858},13.399999999999999,0,14.399999999999999,0,15.399999999999999,0,16.399999999999999,0,17.399999999999999,0]
[{"$f":"'data Kbely'!A602","v":"2016-11-13"},{"$f":"'data Kbely'!B602","v":-1.6000000000000014},14.600000000000001,0,15.600000000000001,0,16.600000000000001,0,17.600000000000001,0,18.600000000000001,0]
[{"$f":"'data Kbely'!A603","v":"2016-11-14"},{"$f":"'data Kbely'!B603","v":-2.7999999999999972},15.799999999999997,0,16.799999999999997,0,17.799999999999997,0,18.799999999999997,0,19.799999999999997,0]
[{"$f":"'data Kbely'!A604","v":"2016-11-15"},{"$f":"'data Kbely'!B604","v":-1.5},14.5,0,15.5,0,16.5,0,17.5,0,18.5,0]
[{"$f":"'data Kbely'!A605","v":"2016-11-16"},{"$f":"'data Kbely'!B605","v":5.6999999999999993},7.3000000000000007,0,8.3000000000000007,0,9.3000000000000007,0,10.3,0,11.3,0]
[{"$f":"'data Kbely'!A606","v":"2016-11-17"},{"$f":"'data Kbely'!B606","v":9},4,0,5,0,6,0,7,0,8,0]
[{"$f":"'data Kbely'!A607","v":"2016-11-18"},{"$f":"'data Kbely'!B607","v":9.1000000000000014},3.8999999999999986,0,4.8999999999999986,0,5.8999999999999986,0,6.8999999999999986,0,7.8999999999999986,0]
[{"$f":"'data Kbely'!A608","v":"2016-11-19"},{"$f":"'data Kbely'!B608","v":6.5},6.5,0,7.5,0,8.5,0,9.5,0,10.5,0]
[{"$f":"'data Kbely'!A609","v":"2016-11-20"},{"$f":"'data Kbely'!B609","v":4.1999999999999993},8.8000000000000007,0,9.8000000000000007,0,10.8,0,11.8,0,12.8,0]
[{"$f":"'data Kbely'!A610","v":"2016-11-21"},{"$f":"'data Kbely'!B610","v":3.6000000000000014},9.3999999999999986,0,10.399999999999999,0,11.399999999999999,0,12.399999999999999,0,13.399999999999999,0]
[{"$f":"'data Kbely'!A611","v":"2016-11-22"},{"$f":"'data Kbely'!B611","v":7.6000000000000014},5.3999999999999986,0,6.3999999999999986,0,7.3999999999999986,0,8.3999999999999986,0,9.3999999999999986,0]
[{"$f":"'data Kbely'!A612","v":"2016-11-23"},{"$f":"'data Kbely'!B612","v":7.3999999999999986},5.6000000000000014,0,6.6000000000000014,0,7.6000000000000014,0,8.6000000000000014,0,9.6000000000000014,0]
[{"$f":"'data Kbely'!A613","v":"2016-11-24"},{"$f":"'data Kbely'!B613","v":6.8000000000000007},6.1999999999999993,0,7.1999999999999993,0,8.1999999999999993,0,9.1999999999999993,0,10.199999999999999,0]
[{"$f":"'data Kbely'!A614","v":"2016-11-25"},{"$f":"'data Kbely'!B614","v":5.3000000000000007},7.6999999999999993,0,8.6999999999999993,0,9.6999999999999993,0,10.7,0,11.7,0]
[{"$f":"'data Kbely'!A615","v":"2016-11-26"},{"$f":"'data Kbely'!B615","v":3},10,0,11,0,12,0,13,0,14,0]
[{"$f":"'data Kbely'!A616","v":"2016-11-27"},{"$f":"'data Kbely'!B616","v":3.6000000000000014},9.3999999999999986,0,10.399999999999999,0,11.399999999999999,0,12.399999999999999,0,13.399999999999999,0]
[{"$f":"'data Kbely'!A617","v":"2016-11-28"},{"$f":"'data Kbely'!B617","v":-0.39999999999999858},13.399999999999999,0,14.399999999999999,0,15.399999999999999,0,16.399999999999999,0,17.399999999999999,0]
[{"$f":"'data Kbely'!A618","v":"2016-11-29"},{"$f":"'data Kbely'!B618","v":-1.6999999999999993},14.7,0,15.7,0,16.7,0,17.7,0,18.7,0]
[{"$f":"'data Kbely'!A619","v":"2016-11-30"},{"$f":"'data Kbely'!B619","v":-1.1000000000000014},14.100000000000001,0,15.100000000000001,0,16.100000000000001,0,17.100000000000001,0,18.100000000000001,0]
[{"$f":"'data Kbely'!A620","v":"2016-12-01"},{"$f":"'data Kbely'!B620","v":3.1999999999999993},9.8000000000000007,0,10.8,0,11.8,0,12.8,0,13.8,0]
[{"$f":"'data Kbely'!A621","v":"2016-12-02"},{"$f":"'data Kbely'!B621","v":3.3999999999999986},9.6000000000000014,0,10.600000000000001,0,11.600000000000001,0,12.600000000000001,0,13.600000000000001,0]
[{"$f":"'data Kbely'!A622","v":"2016-12-03"},{"$f":"'data Kbely'!B622","v":-2.3999999999999986},15.399999999999999,0,16.399999999999999,0,17.399999999999999,0,18.399999999999999,0,19.399999999999999,0]
[{"$f":"'data Kbely'!A623","v":"2016-12-04"},{"$f":"'data Kbely'!B623","v":-4.7999999999999972},17.799999999999997,0,18.799999999999997,0,19.799999999999997,0,20.799999999999997,0,21.799999999999997,0]
[{"$f":"'data Kbely'!A624","v":"2016-12-05"},{"$f":"'data Kbely'!B624","v":-4.2000000000000028},17.200000000000003,0,18.200000000000003,0,19.200000000000003,0,20.200000000000003,0,21.200000000000003,0]
[{"$f":"'data Kbely'!A625","v":"2016-12-06"},{"$f":"'data Kbely'!B625","v":-1.8999999999999986},14.899999999999999,0,15.899999999999999,0,16.899999999999999,0,17.899999999999999,0,18.899999999999999,0]
[{"$f":"'data Kbely'!A626","v":"2016-12-07"},{"$f":"'data Kbely'!B626","v":-1},14,0,15,0,16,0,17,0,18,0]
[{"$f":"'data Kbely'!A627","v":"2016-12-08"},{"$f":"'data Kbely'!B627","v":2.8000000000000007},10.199999999999999,0,11.2,0,12.2,0,13.2,0,14.2,0]
[{"$f":"'data Kbely'!A628","v":"2016-12-09"},{"$f":"'data Kbely'!B628","v":5.6000000000000014},7.3999999999999986,0,8.3999999999999986,0,9.3999999999999986,0,10.399999999999999,0,11.399999999999999,0]
[{"$f":"'data Kbely'!A629","v":"2016-12-10"},{"$f":"'data Kbely'!B629","v":7.3999999999999986},5.6000000000000014,0,6.6000000000000014,0,7.6000000000000014,0,8.6000000000000014,0,9.6000000000000014,0]
[{"$f":"'data Kbely'!A630","v":"2016-12-11"},{"$f":"'data Kbely'!B630","v":5.8999999999999986},7.1000000000000014,0,8.1000000000000014,0,9.1000000000000014,0,10.100000000000001,0,11.100000000000001,0]
[{"$f":"'data Kbely'!A631","v":"2016-12-12"},{"$f":"'data Kbely'!B631","v":3.6999999999999993},9.3000000000000007,0,10.3,0,11.3,0,12.3,0,13.3,0]
[{"$f":"'data Kbely'!A632","v":"2016-12-13"},{"$f":"'data Kbely'!B632","v":-1.5},14.5,0,15.5,0,16.5,0,17.5,0,18.5,0]
[{"$f":"'data Kbely'!A633","v":"2016-12-14"},{"$f":"'data Kbely'!B633","v":2.6000000000000014},10.399999999999999,0,11.399999999999999,0,12.399999999999999,0,13.399999999999999,0,14.399999999999999,0]
[{"$f":"'data Kbely'!A634","v":"2016-12-15"},{"$f":"'data Kbely'!B634","v":0.80000000000000071},12.2,0,13.2,0,14.2,0,15.2,0,16.2,0]
[{"$f":"'data Kbely'!A635","v":"2016-12-16"},{"$f":"'data Kbely'!B635","v":0},13,0,14,0,15,0,16,0,17,0]
[{"$f":"'data Kbely'!A636","v":"2016-12-17"},{"$f":"'data Kbely'!B636","v":-2.6000000000000014},15.600000000000001,0,16.600000000000001,0,17.600000000000001,0,18.600000000000001,0,19.600000000000001,0]
[{"$f":"'data Kbely'!A637","v":"2016-12-18"},{"$f":"'data Kbely'!B637","v":0.39999999999999858},12.600000000000001,0,13.600000000000001,0,14.600000000000001,0,15.600000000000001,0,16.600000000000001,0]
[{"$f":"'data Kbely'!A638","v":"2016-12-19"},{"$f":"'data Kbely'!B638","v":0.89999999999999858},12.100000000000001,0,13.100000000000001,0,14.100000000000001,0,15.100000000000001,0,16.100000000000001,0]
[{"$f":"'data Kbely'!A639","v":"2016-12-20"},{"$f":"'data Kbely'!B639","v":-1.3000000000000007},14.3,0,15.3,0,16.3,0,17.3,0,18.3,0]
[{"$f":"'data Kbely'!A640","v":"2016-12-21"},{"$f":"'data Kbely'!B640","v":-2.5},15.5,0,16.5,0,17.5,0,18.5,0,19.5,0]
[{"$f":"'data Kbely'!A641","v":"2016-12-22"},{"$f":"'data Kbely'!B641","v":-3.3999999999999986},16.399999999999999,0,17.399999999999999,0,18.399999999999999,0,19.399999999999999,0,20.399999999999999,0]
[{"$f":"'data Kbely'!A642","v":"2016-12-23"},{"$f":"'data Kbely'!B642","v":-0.5},13.5,0,14.5,0,15.5,0,16.5,0,17.5,0]
[{"$f":"'data Kbely'!A643","v":"2016-12-24"},{"$f":"'data Kbely'!B643","v":3.1000000000000014},9.8999999999999986,0,10.899999999999999,0,11.899999999999999,0,12.899999999999999,0,13.899999999999999,0]
[{"$f":"'data Kbely'!A644","v":"2016-12-25"},{"$f":"'data Kbely'!B644","v":6.1000000000000014},6.8999999999999986,0,7.8999999999999986,0,8.8999999999999986,0,9.8999999999999986,0,10.899999999999999,0]
[{"$f":"'data Kbely'!A645","v":"2016-12-26"},{"$f":"'data Kbely'!B645","v":7.3000000000000007},5.6999999999999993,0,6.6999999999999993,0,7.6999999999999993,0,8.6999999999999993,0,9.6999999999999993,0]
[{"$f":"'data Kbely'!A646","v":"2016-12-27"},{"$f":"'data Kbely'!B646","v":4.3000000000000007},8.6999999999999993,0,9.6999999999999993,0,10.7,0,11.7,0,12.7,0]
[{"$f":"'data Kbely'!A647","v":"2016-12-28"},{"$f":"'data Kbely'!B647","v":3.6000000000000014},9.3999999999999986,0,10.399999999999999,0,11.399999999999999,0,12.399999999999999,0,13.399999999999999,0]
[{"$f":"'data Kbely'!A648","v":"2016-12-29"},{"$f":"'data Kbely'!B648","v":-0.89999999999999858},13.899999999999999,0,14.899999999999999,0,15.899999999999999,0,16.899999999999999,0,17.899999999999999,0]
[{"$f":"'data Kbely'!A649","v":"2016-12-30"},{"$f":"'data Kbely'!B649","v":-3.2000000000000028},16.200000000000003,0,17.200000000000003,0,18.200000000000003,0,19.200000000000003,0,20.200000000000003,0]
[{"$f":"'data Kbely'!A650","v":"2016-12-31"},{"$f":"'data Kbely'!B650","v":-4.7999999999999972},{"$f":"IF(C$2>$B650,C$2-$B650,0)","v":17.799999999999997},{"$f":"IF(D$2<$B650,D$2-$B650,0)","v":0},{"$f":"IF(E$2>$B650,E$2-$B650,0)","v":18.799999999999997},{"$f":"IF(F$2<$B650,F$2-$B650,0)","v":0},{"$f":"IF(G$2>$B650,G$2-$B650,0)","v":19.799999999999997},{"$f":"IF(H$2<$B650,H$2-$B650,0)","v":0},{"$f":"IF(I$2>$B650,I$2-$B650,0)","v":20.799999999999997},{"$f":"IF(J$2<$B650,J$2-$B650,0)","v":0},{"$f":"IF(K$2>$B650,K$2-$B650,0)","v":21.799999999999997},{"$f":"IF(L$2<$B650,L$2-$B650,0)","v":0}]
[{"$f":"'data Kbely'!A651","v":"2017-01-01"},{"$f":"'data Kbely'!B651","v":-6.2999999999999972},19.299999999999997,0,20.299999999999997,0,21.299999999999997,0,22.299999999999997,0,23.299999999999997,0]
[{"$f":"'data Kbely'!A652","v":"2017-01-02"},{"$f":"'data Kbely'!B652","v":-3.3999999999999986},16.399999999999999,0,17.399999999999999,0,18.399999999999999,0,19.399999999999999,0,20.399999999999999,0]
[{"$f":"'data Kbely'!A653","v":"2017-01-03"},{"$f":"'data Kbely'!B653","v":-0.39999999999999858},13.399999999999999,0,14.399999999999999,0,15.399999999999999,0,16.399999999999999,0,17.399999999999999,0]
[{"$f":"'data Kbely'!A654","v":"2017-01-04"},{"$f":"'data Kbely'!B654","v":0.89999999999999858},12.100000000000001,0,13.100000000000001,0,14.100000000000001,0,15.100000000000001,0,16.100000000000001,0]
[{"$f":"'data Kbely'!A655","v":"2017-01-05"},{"$f":"'data Kbely'!B655","v":-4},17,0,18,0,19,0,20,0,21,0]
[{"$f":"'data Kbely'!A656","v":"2017-01-06"},{"$f":"'data Kbely'!B656","v":-8.2999999999999972},21.299999999999997,0,22.299999999999997,0,23.299999999999997,0,24.299999999999997,0,25.299999999999997,0]
[{"$f":"'data Kbely'!A657","v":"2017-01-07"},{"$f":"'data Kbely'!B657","v":-9.6000000000000014},22.6,0,23.6,0,24.6,0,25.6,0,26.6,0]
[{"$f":"'data Kbely'!A658","v":"2017-01-08"},{"$f":"'data Kbely'!B658","v":-6.2000000000000028},19.200000000000003,0,20.200000000000003,0,21.200000000000003,0,22.200000000000003,0,23.200000000000003,0]
[{"$f":"'data Kbely'!A659","v":"2017-01-09"},{"$f":"'data Kbely'!B659","v":-2.5},15.5,0,16.5,0,17.5,0,18.5,0,19.5,0]
[{"$f":"'data Kbely'!A660","v":"2017-01-10"},{"$f":"'data Kbely'!B660","v":-5.3999999999999986},18.399999999999999,0,19.399999999999999,0,20.399999999999999,0,21.4,0,22.4,0]
[{"$f":"'data Kbely'!A661","v":"2017-01-11"},{"$f":"'data Kbely'!B661","v":-9.2000000000000028},22.200000000000003,0,23.200000000000003,0,24.200000000000003,0,25.200000000000003,0,26.200000000000003,0]
[{"$f":"'data Kbely'!A662","v":"2017-01-12"},{"$f":"'data Kbely'!B662","v":2.5},10.5,0,11.5,0,12.5,0,13.5,0,14.5,0]
[{"$f":"'data Kbely'!A663","v":"2017-01-13"},{"$f":"'data Kbely'!B663","v":2.1999999999999993},10.8,0,11.8,0,12.8,0,13.8,0,14.8,0]
[{"$f":"'data Kbely'!A664","v":"2017-01-14"},{"$f":"'data Kbely'!B664","v":0.10000000000000142},12.899999999999999,0,13.899999999999999,0,14.899999999999999,0,15.899999999999999,0,16.899999999999999,0]
[{"$f":"'data Kbely'!A665","v":"2017-01-15"},{"$f":"'data Kbely'!B665","v":-0.39999999999999858},13.399999999999999,0,14.399999999999999,0,15.399999999999999,0,16.399999999999999,0,17.399999999999999,0]
[{"$f":"'data Kbely'!A666","v":"2017-01-16"},{"$f":"'data Kbely'!B666","v":-2.7999999999999972},15.799999999999997,0,16.799999999999997,0,17.799999999999997,0,18.799999999999997,0,19.799999999999997,0]
[{"$f":"'data Kbely'!A667","v":"2017-01-17"},{"$f":"'data Kbely'!B667","v":-4},17,0,18,0,19,0,20,0,21,0]
[{"$f":"'data Kbely'!A668","v":"2017-01-18"},{"$f":"'data Kbely'!B668","v":-6.2000000000000028},19.200000000000003,0,20.200000000000003,0,21.200000000000003,0,22.200000000000003,0,23.200000000000003,0]
[{"$f":"'data Kbely'!A669","v":"2017-01-19"},{"$f":"'data Kbely'!B669","v":-10.799999999999997},23.799999999999997,0,24.799999999999997,0,25.799999999999997,0,26.799999999999997,0,27.799999999999997,0]
[{"$f":"'data Kbely'!A670","v":"2017-01-20"},{"$f":"'data Kbely'!B670","v":-9.7000000000000028},22.700000000000003,0,23.700000000000003,0,24.700000000000003,0,25.700000000000003,0,26.700000000000003,0]
[{"$f":"'data Kbely'!A671","v":"2017-01-21"},{"$f":"'data Kbely'!B671","v":-6.6000000000000014},19.600000000000001,0,20.6,0,21.6,0,22.6,0,23.6,0]
[{"$f":"'data Kbely'!A672","v":"2017-01-22"},{"$f":"'data Kbely'!B672","v":-6},19,0,20,0,21,0,22,0,23,0]
[{"$f":"'data Kbely'!A673","v":"2017-01-23"},{"$f":"'data Kbely'!B673","v":-6.2999999999999972},19.299999999999997,0,20.299999999999997,0,21.299999999999997,0,22.299999999999997,0,23.299999999999997,0]
[{"$f":"'data Kbely'!A674","v":"2017-01-24"},{"$f":"'data Kbely'!B674","v":-5.7000000000000028},18.700000000000003,0,19.700000000000003,0,20.700000000000003,0,21.700000000000003,0,22.700000000000003,0]
[{"$f":"'data Kbely'!A675","v":"2017-01-25"},{"$f":"'data Kbely'!B675","v":-2.7999999999999972},15.799999999999997,0,16.799999999999997,0,17.799999999999997,0,18.799999999999997,0,19.799999999999997,0]
[{"$f":"'data Kbely'!A676","v":"2017-01-26"},{"$f":"'data Kbely'!B676","v":-2.3999999999999986},15.399999999999999,0,16.399999999999999,0,17.399999999999999,0,18.399999999999999,0,19.399999999999999,0]
[{"$f":"'data Kbely'!A677","v":"2017-01-27"},{"$f":"'data Kbely'!B677","v":-5.6000000000000014},18.600000000000001,0,19.600000000000001,0,20.6,0,21.6,0,22.6,0]
[{"$f":"'data Kbely'!A678","v":"2017-01-28"},{"$f":"'data Kbely'!B678","v":-5.7999999999999972},18.799999999999997,0,19.799999999999997,0,20.799999999999997,0,21.799999999999997,0,22.799999999999997,0]
[{"$f":"'data Kbely'!A679","v":"2017-01-29"},{"$f":"'data Kbely'!B679","v":-7.2999999999999972},20.299999999999997,0,21.299999999999997,0,22.299999999999997,0,23.299999999999997,0,24.299999999999997,0]
[{"$f":"'data Kbely'!A680","v":"2017-01-30"},{"$f":"'data Kbely'!B680","v":-7.6000000000000014},20.6,0,21.6,0,22.6,0,23.6,0,24.6,0]
[{"$f":"'data Kbely'!A681","v":"2017-01-31"},{"$f":"'data Kbely'!B681","v":-5},18,0,19,0,20,0,21,0,22,0]
[{"$f":"'data Kbely'!A682","v":"2017-02-01"},{"$f":"'data Kbely'!B682","v":-4.1000000000000014},17.100000000000001,0,18.100000000000001,0,19.100000000000001,0,20.100000000000001,0,21.1,0]
[{"$f":"'data Kbely'!A683","v":"2017-02-02"},{"$f":"'data Kbely'!B683","v":-3.2000000000000028},16.200000000000003,0,17.200000000000003,0,18.200000000000003,0,19.200000000000003,0,20.200000000000003,0]
[{"$f":"'data Kbely'!A684","v":"2017-02-03"},{"$f":"'data Kbely'!B684","v":-1.3000000000000007},14.3,0,15.3,0,16.3,0,17.3,0,18.3,0]
[{"$f":"'data Kbely'!A685","v":"2017-02-04"},{"$f":"'data Kbely'!B685","v":0.39999999999999858},12.600000000000001,0,13.600000000000001,0,14.600000000000001,0,15.600000000000001,0,16.600000000000001,0]
[{"$f":"'data Kbely'!A686","v":"2017-02-05"},{"$f":"'data Kbely'!B686","v":2.6999999999999993},10.3,0,11.3,0,12.3,0,13.3,0,14.3,0]
[{"$f":"'data Kbely'!A687","v":"2017-02-06"},{"$f":"'data Kbely'!B687","v":0.80000000000000071},12.2,0,13.2,0,14.2,0,15.2,0,16.2,0]
[{"$f":"'data Kbely'!A688","v":"2017-02-07"},{"$f":"'data Kbely'!B688","v":-1.3999999999999986},14.399999999999999,0,15.399999999999999,0,16.399999999999999,0,17.399999999999999,0,18.399999999999999,0]
[{"$f":"'data Kbely'!A689","v":"2017-02-08"},{"$f":"'data Kbely'!B689","v":-3.2999999999999972},16.299999999999997,0,17.299999999999997,0,18.299999999999997,0,19.299999999999997,0,20.299999999999997,0]
[{"$f":"'data Kbely'!A690","v":"2017-02-09"},{"$f":"'data Kbely'!B690","v":-3.8999999999999986},16.899999999999999,0,17.899999999999999,0,18.899999999999999,0,19.899999999999999,0,20.9,0]
[{"$f":"'data Kbely'!A691","v":"2017-02-10"},{"$f":"'data Kbely'!B691","v":-1.3999999999999986},14.399999999999999,0,15.399999999999999,0,16.399999999999999,0,17.399999999999999,0,18.399999999999999,0]
[{"$f":"'data Kbely'!A692","v":"2017-02-11"},{"$f":"'data Kbely'!B692","v":0.5},12.5,0,13.5,0,14.5,0,15.5,0,16.5,0]
[{"$f":"'data Kbely'!A693","v":"2017-02-12"},{"$f":"'data Kbely'!B693","v":0.80000000000000071},12.2,0,13.2,0,14.2,0,15.2,0,16.2,0]
[{"$f":"'data Kbely'!A694","v":"2017-02-13"},{"$f":"'data Kbely'!B694","v":-1},14,0,15,0,16,0,17,0,18,0]
[{"$f":"'data Kbely'!A695","v":"2017-02-14"},{"$f":"'data Kbely'!B695","v":-1},14,0,15,0,16,0,17,0,18,0]
[{"$f":"'data Kbely'!A696","v":"2017-02-15"},{"$f":"'data Kbely'!B696","v":0.19999999999999929},12.8,0,13.8,0,14.8,0,15.8,0,16.8,0]
[{"$f":"'data Kbely'!A697","v":"2017-02-16"},{"$f":"'data Kbely'!B697","v":1.6000000000000014},11.399999999999999,0,12.399999999999999,0,13.399999999999999,0,14.399999999999999,0,15.399999999999999,0]
[{"$f":"'data Kbely'!A698","v":"2017-02-17"},{"$f":"'data Kbely'!B698","v":4},9,0,10,0,11,0,12,0,13,0]
[{"$f":"'data Kbely'!A699","v":"2017-02-18"},{"$f":"'data Kbely'!B699","v":4.1999999999999993},8.8000000000000007,0,9.8000000000000007,0,10.8,0,11.8,0,12.8,0]
[{"$f":"'data Kbely'!A700","v":"2017-02-19"},{"$f":"'data Kbely'!B700","v":3.3000000000000007},9.6999999999999993,0,10.7,0,11.7,0,12.7,0,13.7,0]
[{"$f":"'data Kbely'!A701","v":"2017-02-20"},{"$f":"'data Kbely'!B701","v":5.1999999999999993},7.8000000000000007,0,8.8000000000000007,0,9.8000000000000007,0,10.8,0,11.8,0]
[{"$f":"'data Kbely'!A702","v":"2017-02-21"},{"$f":"'data Kbely'!B702","v":7.8999999999999986},5.1000000000000014,0,6.1000000000000014,0,7.1000000000000014,0,8.1000000000000014,0,9.1000000000000014,0]
[{"$f":"'data Kbely'!A703","v":"2017-02-22"},{"$f":"'data Kbely'!B703","v":8.5},4.5,0,5.5,0,6.5,0,7.5,0,8.5,0]
[{"$f":"'data Kbely'!A704","v":"2017-02-23"},{"$f":"'data Kbely'!B704","v":10},3,0,4,0,5,0,6,0,7,0]
[{"$f":"'data Kbely'!A705","v":"2017-02-24"},{"$f":"'data Kbely'!B705","v":4.6999999999999993},8.3000000000000007,0,9.3000000000000007,0,10.3,0,11.3,0,12.3,0]
[{"$f":"'data Kbely'!A706","v":"2017-02-25"},{"$f":"'data Kbely'!B706","v":2.6999999999999993},10.3,0,11.3,0,12.3,0,13.3,0,14.3,0]
[{"$f":"'data Kbely'!A707","v":"2017-02-26"},{"$f":"'data Kbely'!B707","v":5.3999999999999986},7.6000000000000014,0,8.6000000000000014,0,9.6000000000000014,0,10.600000000000001,0,11.600000000000001,0]
[{"$f":"'data Kbely'!A708","v":"2017-02-27"},{"$f":"'data Kbely'!B708","v":6.8000000000000007},6.1999999999999993,0,7.1999999999999993,0,8.1999999999999993,0,9.1999999999999993,0,10.199999999999999,0]
[{"$f":"'data Kbely'!A709","v":"2017-02-28"},{"$f":"'data Kbely'!B709","v":5.8999999999999986},7.1000000000000014,0,8.1000000000000014,0,9.1000000000000014,0,10.100000000000001,0,11.100000000000001,0]
[{"$f":"'data Kbely'!A710","v":"2017-03-01"},{"$f":"'data Kbely'!B710","v":5.1999999999999993},7.8000000000000007,0,8.8000000000000007,0,9.8000000000000007,0,10.8,0,11.8,0]
[{"$f":"'data Kbely'!A711","v":"2017-03-02"},{"$f":"'data Kbely'!B711","v":7.5},5.5,0,6.5,0,7.5,0,8.5,0,9.5,0]
[{"$f":"'data Kbely'!A712","v":"2017-03-03"},{"$f":"'data Kbely'!B712","v":5.6000000000000014},7.3999999999999986,0,8.3999999999999986,0,9.3999999999999986,0,10.399999999999999,0,11.399999999999999,0]
[{"$f":"'data Kbely'!A713","v":"2017-03-04"},{"$f":"'data Kbely'!B713","v":7.6000000000000014},5.3999999999999986,0,6.3999999999999986,0,7.3999999999999986,0,8.3999999999999986,0,9.3999999999999986,0]
[{"$f":"'data Kbely'!A714","v":"2017-03-05"},{"$f":"'data Kbely'!B714","v":8.6999999999999993},{"$f":"IF(C$2>$B714,C$2-$B714,0)","v":4.3000000000000007},{"$f":"IF(D$2<$B714,D$2-$B714,0)","v":0},{"$f":"IF(E$2>$B714,E$2-$B714,0)","v":5.3000000000000007},{"$f":"IF(F$2<$B714,F$2-$B714,0)","v":0},{"$f":"IF(G$2>$B714,G$2-$B714,0)","v":6.3000000000000007},{"$f":"IF(H$2<$B714,H$2-$B714,0)","v":0},{"$f":"IF(I$2>$B714,I$2-$B714,0)","v":7.3000000000000007},{"$f":"IF(J$2<$B714,J$2-$B714,0)","v":0},{"$f":"IF(K$2>$B714,K$2-$B714,0)","v":8.3000000000000007},{"$f":"IF(L$2<$B714,L$2-$B714,0)","v":0}]
[{"$f":"'data Kbely'!A715","v":"2017-03-06"},{"$f":"'data Kbely'!B715","v":5.1999999999999993},7.8000000000000007,0,8.8000000000000007,0,9.8000000000000007,0,10.8,0,11.8,0]
[{"$f":"'data Kbely'!A716","v":"2017-03-07"},{"$f":"'data Kbely'!B716","v":3.8000000000000007},9.1999999999999993,0,10.199999999999999,0,11.2,0,12.2,0,13.2,0]
[{"$f":"'data Kbely'!A717","v":"2017-03-08"},{"$f":"'data Kbely'!B717","v":3.8000000000000007},9.1999999999999993,0,10.199999999999999,0,11.2,0,12.2,0,13.2,0]
[{"$f":"'data Kbely'!A718","v":"2017-03-09"},{"$f":"'data Kbely'!B718","v":7.1000000000000014},5.8999999999999986,0,6.8999999999999986,0,7.8999999999999986,0,8.8999999999999986,0,9.8999999999999986,0]
[{"$f":"'data Kbely'!A719","v":"2017-03-10"},{"$f":"'data Kbely'!B719","v":5.1999999999999993},7.8000000000000007,0,8.8000000000000007,0,9.8000000000000007,0,10.8,0,11.8,0]
[{"$f":"'data Kbely'!A720","v":"2017-03-11"},{"$f":"'data Kbely'!B720","v":5.5},7.5,0,8.5,0,9.5,0,10.5,0,11.5,0]
[{"$f":"'data Kbely'!A721","v":"2017-03-12"},{"$f":"'data Kbely'!B721","v":2},11,0,12,0,13,0,14,0,15,0]
[{"$f":"'data Kbely'!A722","v":"2017-03-13"},{"$f":"'data Kbely'!B722","v":3.1000000000000014},9.8999999999999986,0,10.899999999999999,0,11.899999999999999,0,12.899999999999999,0,13.899999999999999,0]
[{"$f":"'data Kbely'!A723","v":"2017-03-14"},{"$f":"'data Kbely'!B723","v":6},7,0,8,0,9,0,10,0,11,0]
[{"$f":"'data Kbely'!A724","v":"2017-03-15"},{"$f":"'data Kbely'!B724","v":8},5,0,6,0,7,0,8,0,9,0]
[{"$f":"'data Kbely'!A725","v":"2017-03-16"},{"$f":"'data Kbely'!B725","v":7.8000000000000007},5.1999999999999993,0,6.1999999999999993,0,7.1999999999999993,0,8.1999999999999993,0,9.1999999999999993,0]
[{"$f":"'data Kbely'!A726","v":"2017-03-17"},{"$f":"'data Kbely'!B726","v":8.5},4.5,0,5.5,0,6.5,0,7.5,0,8.5,0]
[{"$f":"'data Kbely'!A727","v":"2017-03-18"},{"$f":"'data Kbely'!B727","v":7},6,0,7,0,8,0,9,0,10,0]
[{"$f":"'data Kbely'!A728","v":"2017-03-19"},{"$f":"'data Kbely'!B728","v":7.1000000000000014},5.8999999999999986,0,6.8999999999999986,0,7.8999999999999986,0,8.8999999999999986,0,9.8999999999999986,0]
[{"$f":"'data Kbely'!A729","v":"2017-03-20"},{"$f":"'data Kbely'!B729","v":11.2},1.8000000000000007,0,2.8000000000000007,0,3.8000000000000007,0,4.8000000000000007,0,5.8000000000000007,0]
[{"$f":"'data Kbely'!A730","v":"2017-03-21"},{"$f":"'data Kbely'!B730","v":10.600000000000001},2.3999999999999986,0,3.3999999999999986,0,4.3999999999999986,0,5.3999999999999986,0,6.3999999999999986,0]
[{"$f":"'data Kbely'!A731","v":"2017-03-22"},{"$f":"'data Kbely'!B731","v":4.8999999999999986},8.1000000000000014,0,9.1000000000000014,0,10.100000000000001,0,11.100000000000001,0,12.100000000000001,0]
[{"$f":"'data Kbely'!A732","v":"2017-03-23"},{"$f":"'data Kbely'!B732","v":4.6999999999999993},8.3000000000000007,0,9.3000000000000007,0,10.3,0,11.3,0,12.3,0]
[{"$f":"'data Kbely'!A733","v":"2017-03-24"},{"$f":"'data Kbely'!B733","v":7.5},5.5,0,6.5,0,7.5,0,8.5,0,9.5,0]
[{"$f":"'data Kbely'!A734","v":"2017-03-25"},{"$f":"'data Kbely'!B734","v":6.8000000000000007},6.1999999999999993,0,7.1999999999999993,0,8.1999999999999993,0,9.1999999999999993,0,10.199999999999999,0]
[{"$f":"'data Kbely'!A735","v":"2017-03-26"},{"$f":"'data Kbely'!B735","v":7.1999999999999993},5.8000000000000007,0,6.8000000000000007,0,7.8000000000000007,0,8.8000000000000007,0,9.8000000000000007,0]
[{"$f":"'data Kbely'!A736","v":"2017-03-27"},{"$f":"'data Kbely'!B736","v":6.5},6.5,0,7.5,0,8.5,0,9.5,0,10.5,0]
[{"$f":"'data Kbely'!A737","v":"2017-03-28"},{"$f":"'data Kbely'!B737","v":11},2,0,3,0,4,0,5,0,6,0]
[{"$f":"'data Kbely'!A738","v":"2017-03-29"},{"$f":"'data Kbely'!B738","v":13},0,0,1,0,2,0,3,0,4,0]
[{"$f":"'data Kbely'!A739","v":"2017-03-30"},{"$f":"'data Kbely'!B739","v":13},0,0,1,0,2,0,3,0,4,0]
[{"$f":"'data Kbely'!A740","v":"2017-03-31"},{"$f":"'data Kbely'!B740","v":13.7},0,-0.69999999999999929,0.30000000000000071,0,1.3000000000000007,0,2.3000000000000007,0,3.3000000000000007,0]
[{"$f":"'data Kbely'!A741","v":"2017-04-01"},{"$f":"'data Kbely'!B741","v":14.4},0,-1.4000000000000004,0,-0.40000000000000036,0.59999999999999964,0,1.5999999999999996,0,2.5999999999999996,0]
[{"$f":"'data Kbely'!A742","v":"2017-04-02"},{"$f":"'data Kbely'!B742","v":14.1},0,-1.0999999999999996,0,-9.9999999999999645E-2,0.90000000000000036,0,1.9000000000000004,0,2.9000000000000004,0]
[{"$f":"'data Kbely'!A743","v":"2017-04-03"},{"$f":"'data Kbely'!B743","v":11.3},1.6999999999999993,0,2.6999999999999993,0,3.6999999999999993,0,4.6999999999999993,0,5.6999999999999993,0]
[{"$f":"'data Kbely'!A744","v":"2017-04-04"},{"$f":"'data Kbely'!B744","v":8.5},4.5,0,5.5,0,6.5,0,7.5,0,8.5,0]
[{"$f":"'data Kbely'!A745","v":"2017-04-05"},{"$f":"'data Kbely'!B745","v":8.6000000000000014},4.3999999999999986,0,5.3999999999999986,0,6.3999999999999986,0,7.3999999999999986,0,8.3999999999999986,0]
[{"$f":"'data Kbely'!A746","v":"2017-04-06"},{"$f":"'data Kbely'!B746","v":7.3000000000000007},5.6999999999999993,0,6.6999999999999993,0,7.6999999999999993,0,8.6999999999999993,0,9.6999999999999993,0]
[{"$f":"'data Kbely'!A747","v":"2017-04-07"},{"$f":"'data Kbely'!B747","v":7.6999999999999993},5.3000000000000007,0,6.3000000000000007,0,7.3000000000000007,0,8.3000000000000007,0,9.3000000000000007,0]
[{"$f":"'data Kbely'!A748","v":"2017-04-08"},{"$f":"'data Kbely'!B748","v":11.100000000000001},1.8999999999999986,0,2.8999999999999986,0,3.8999999999999986,0,4.8999999999999986,0,5.8999999999999986,0]
[{"$f":"'data Kbely'!A749","v":"2017-04-09"},{"$f":"'data Kbely'!B749","v":12.600000000000001},0.39999999999999858,0,1.3999999999999986,0,2.3999999999999986,0,3.3999999999999986,0,4.3999999999999986,0]
[{"$f":"'data Kbely'!A750","v":"2017-04-10"},{"$f":"'data Kbely'!B750","v":14.4},0,-1.4000000000000004,0,-0.40000000000000036,0.59999999999999964,0,1.5999999999999996,0,2.5999999999999996,0]
[{"$f":"'data Kbely'!A751","v":"2017-04-11"},{"$f":"'data Kbely'!B751","v":7.8999999999999986},5.1000000000000014,0,6.1000000000000014,0,7.1000000000000014,0,8.1000000000000014,0,9.1000000000000014,0]
[{"$f":"'data Kbely'!A752","v":"2017-04-12"},{"$f":"'data Kbely'!B752","v":9.5},3.5,0,4.5,0,5.5,0,6.5,0,7.5,0]
[{"$f":"'data Kbely'!A753","v":"2017-04-13"},{"$f":"'data Kbely'!B753","v":9.1999999999999993},3.8000000000000007,0,4.8000000000000007,0,5.8000000000000007,0,6.8000000000000007,0,7.8000000000000007,0]
[{"$f":"'data Kbely'!A754","v":"2017-04-14"},{"$f":"'data Kbely'!B754","v":9.6999999999999993},3.3000000000000007,0,4.3000000000000007,0,5.3000000000000007,0,6.3000000000000007,0,7.3000000000000007,0]
[{"$f":"'data Kbely'!A755","v":"2017-04-15"},{"$f":"'data Kbely'!B755","v":10.3},2.6999999999999993,0,3.6999999999999993,0,4.6999999999999993,0,5.6999999999999993,0,6.6999999999999993,0]
[{"$f":"'data Kbely'!A756","v":"2017-04-16"},{"$f":"'data Kbely'!B756","v":6.8999999999999986},6.1000000000000014,0,7.1000000000000014,0,8.1000000000000014,0,9.1000000000000014,0,10.100000000000001,0]
[{"$f":"'data Kbely'!A757","v":"2017-04-17"},{"$f":"'data Kbely'!B757","v":4.6999999999999993},8.3000000000000007,0,9.3000000000000007,0,10.3,0,11.3,0,12.3,0]
[{"$f":"'data Kbely'!A758","v":"2017-04-18"},{"$f":"'data Kbely'!B758","v":3.3000000000000007},9.6999999999999993,0,10.7,0,11.7,0,12.7,0,13.7,0]
[{"$f":"'data Kbely'!A759","v":"2017-04-19"},{"$f":"'data Kbely'!B759","v":2},11,0,12,0,13,0,14,0,15,0]
[{"$f":"'data Kbely'!A760","v":"2017-04-20"},{"$f":"'data Kbely'!B760","v":3.1999999999999993},9.8000000000000007,0,10.8,0,11.8,0,12.8,0,13.8,0]
[{"$f":"'data Kbely'!A761","v":"2017-04-21"},{"$f":"'data Kbely'!B761","v":6.1999999999999993},6.8000000000000007,0,7.8000000000000007,0,8.8000000000000007,0,9.8000000000000007,0,10.8,0]
[{"$f":"'data Kbely'!A762","v":"2017-04-22"},{"$f":"'data Kbely'!B762","v":7.6999999999999993},5.3000000000000007,0,6.3000000000000007,0,7.3000000000000007,0,8.3000000000000007,0,9.3000000000000007,0]
[{"$f":"'data Kbely'!A763","v":"2017-04-23"},{"$f":"'data Kbely'!B763","v":6},7,0,8,0,9,0,10,0,11,0]
[{"$f":"'data Kbely'!A764","v":"2017-04-24"},{"$f":"'data Kbely'!B764","v":8.1999999999999993},4.8000000000000007,0,5.8000000000000007,0,6.8000000000000007,0,7.8000000000000007,0,8.8000000000000007,0]
[{"$f":"'data Kbely'!A765","v":"2017-04-25"},{"$f":"'data Kbely'!B765","v":10.100000000000001},2.8999999999999986,0,3.8999999999999986,0,4.8999999999999986,0,5.8999999999999986,0,6.8999999999999986,0]
[{"$f":"'data Kbely'!A766","v":"2017-04-26"},{"$f":"'data Kbely'!B766","v":4.3999999999999986},8.6000000000000014,0,9.6000000000000014,0,10.600000000000001,0,11.600000000000001,0,12.600000000000001,0]
[{"$f":"'data Kbely'!A767","v":"2017-04-27"},{"$f":"'data Kbely'!B767","v":6.1000000000000014},6.8999999999999986,0,7.8999999999999986,0,8.8999999999999986,0,9.8999999999999986,0,10.899999999999999,0]
[{"$f":"'data Kbely'!A768","v":"2017-04-28"},{"$f":"'data Kbely'!B768","v":5},8,0,9,0,10,0,11,0,12,0]
[{"$f":"'data Kbely'!A769","v":"2017-04-29"},{"$f":"'data Kbely'!B769","v":6.8000000000000007},6.1999999999999993,0,7.1999999999999993,0,8.1999999999999993,0,9.1999999999999993,0,10.199999999999999,0]
[{"$f":"'data Kbely'!A770","v":"2017-04-30"},{"$f":"'data Kbely'!B770","v":9.1999999999999993},3.8000000000000007,0,4.8000000000000007,0,5.8000000000000007,0,6.8000000000000007,0,7.8000000000000007,0]
[{"$f":"'data Kbely'!A771","v":"2017-05-01"},{"$f":"'data Kbely'!B771","v":10.3},2.6999999999999993,0,3.6999999999999993,0,4.6999999999999993,0,5.6999999999999993,0,6.6999999999999993,0]
[{"$f":"'data Kbely'!A772","v":"2017-05-02"},{"$f":"'data Kbely'!B772","v":10.899999999999999},2.1000000000000014,0,3.1000000000000014,0,4.1000000000000014,0,5.1000000000000014,0,6.1000000000000014,0]
[{"$f":"'data Kbely'!A773","v":"2017-05-03"},{"$f":"'data Kbely'!B773","v":11.399999999999999},1.6000000000000014,0,2.6000000000000014,0,3.6000000000000014,0,4.6000000000000014,0,5.6000000000000014,0]
[{"$f":"'data Kbely'!A774","v":"2017-05-04"},{"$f":"'data Kbely'!B774","v":11.5},1.5,0,2.5,0,3.5,0,4.5,0,5.5,0]
[{"$f":"'data Kbely'!A775","v":"2017-05-05"},{"$f":"'data Kbely'!B775","v":9.5},3.5,0,4.5,0,5.5,0,6.5,0,7.5,0]
[{"$f":"'data Kbely'!A776","v":"2017-05-06"},{"$f":"'data Kbely'!B776","v":13},0,0,1,0,2,0,3,0,4,0]
[{"$f":"'data Kbely'!A777","v":"2017-05-07"},{"$f":"'data Kbely'!B777","v":13.2},0,-0.19999999999999929,0.80000000000000071,0,1.8000000000000007,0,2.8000000000000007,0,3.8000000000000007,0]
[{"$f":"'data Kbely'!A778","v":"2017-05-08"},{"$f":"'data Kbely'!B778","v":10.5},{"$f":"IF(C$2>$B778,C$2-$B778,0)","v":2.5},{"$f":"IF(D$2<$B778,D$2-$B778,0)","v":0},{"$f":"IF(E$2>$B778,E$2-$B778,0)","v":3.5},{"$f":"IF(F$2<$B778,F$2-$B778,0)","v":0},{"$f":"IF(G$2>$B778,G$2-$B778,0)","v":4.5},{"$f":"IF(H$2<$B778,H$2-$B778,0)","v":0},{"$f":"IF(I$2>$B778,I$2-$B778,0)","v":5.5},{"$f":"IF(J$2<$B778,J$2-$B778,0)","v":0},{"$f":"IF(K$2>$B778,K$2-$B778,0)","v":6.5},{"$f":"IF(L$2<$B778,L$2-$B778,0)","v":0}]
[{"$f":"'data Kbely'!A779","v":"2017-05-09"},{"$f":"'data Kbely'!B779","v":5.6000000000000014},7.3999999999999986,0,8.3999999999999986,0,9.3999999999999986,0,10.399999999999999,0,11.399999999999999,0]
[{"$f":"'data Kbely'!A780","v":"2017-05-10"},{"$f":"'data Kbely'!B780","v":7.3000000000000007},5.6999999999999993,0,6.6999999999999993,0,7.6999999999999993,0,8.6999999999999993,0,9.6999999999999993,0]
[{"$f":"'data Kbely'!A781","v":"2017-05-11"},{"$f":"'data Kbely'!B781","v":12.399999999999999},0.60000000000000142,0,1.6000000000000014,0,2.6000000000000014,0,3.6000000000000014,0,4.6000000000000014,0]
[{"$f":"'data Kbely'!A782","v":"2017-05-12"},{"$f":"'data Kbely'!B782","v":15},0,-2,0,-1,0,0,1,0,2,0]
[{"$f":"'data Kbely'!A783","v":"2017-05-13"},{"$f":"'data Kbely'!B783","v":15.5},0,-2.5,0,-1.5,0,-0.5,0.5,0,1.5,0]
[{"$f":"'data Kbely'!A784","v":"2017-05-14"},{"$f":"'data Kbely'!B784","v":14.7},0,-1.6999999999999993,0,-0.69999999999999929,0.30000000000000071,0,1.3000000000000007,0,2.3000000000000007,0]
[{"$f":"'data Kbely'!A785","v":"2017-05-15"},{"$f":"'data Kbely'!B785","v":15.5},0,-2.5,0,-1.5,0,-0.5,0.5,0,1.5,0]
[{"$f":"'data Kbely'!A786","v":"2017-05-16"},{"$f":"'data Kbely'!B786","v":16.5},0,-3.5,0,-2.5,0,-1.5,0,-0.5,0.5,0]
[{"$f":"'data Kbely'!A787","v":"2017-05-17"},{"$f":"'data Kbely'!B787","v":17.600000000000001},0,-4.6000000000000014,0,-3.6000000000000014,0,-2.6000000000000014,0,-1.6000000000000014,0,-0.60000000000000142]
[{"$f":"'data Kbely'!A788","v":"2017-05-18"},{"$f":"'data Kbely'!B788","v":18.600000000000001},0,-5.6000000000000014,0,-4.6000000000000014,0,-3.6000000000000014,0,-2.6000000000000014,0,-1.6000000000000014]
[{"$f":"'data Kbely'!A789","v":"2017-05-19"},{"$f":"'data Kbely'!B789","v":19.899999999999999},0,-6.8999999999999986,0,-5.8999999999999986,0,-4.8999999999999986,0,-3.8999999999999986,0,-2.8999999999999986]
[{"$f":"'data Kbely'!A790","v":"2017-05-20"},{"$f":"'data Kbely'!B790","v":14.7},0,-1.6999999999999993,0,-0.69999999999999929,0.30000000000000071,0,1.3000000000000007,0,2.3000000000000007,0]
[{"$f":"'data Kbely'!A791","v":"2017-05-21"},{"$f":"'data Kbely'!B791","v":15.8},0,-2.8000000000000007,0,-1.8000000000000007,0,-0.80000000000000071,0.19999999999999929,0,1.1999999999999993,0]
[{"$f":"'data Kbely'!A792","v":"2017-05-22"},{"$f":"'data Kbely'!B792","v":15.3},0,-2.3000000000000007,0,-1.3000000000000007,0,-0.30000000000000071,0.69999999999999929,0,1.6999999999999993,0]
[{"$f":"'data Kbely'!A793","v":"2017-05-23"},{"$f":"'data Kbely'!B793","v":17.5},0,-4.5,0,-3.5,0,-2.5,0,-1.5,0,-0.5]
[{"$f":"'data Kbely'!A794","v":"2017-05-24"},{"$f":"'data Kbely'!B794","v":14.4},0,-1.4000000000000004,0,-0.40000000000000036,0.59999999999999964,0,1.5999999999999996,0,2.5999999999999996,0]
[{"$f":"'data Kbely'!A795","v":"2017-05-25"},{"$f":"'data Kbely'!B795","v":14.2},0,-1.1999999999999993,0,-0.19999999999999929,0.80000000000000071,0,1.8000000000000007,0,2.8000000000000007,0]
[{"$f":"'data Kbely'!A796","v":"2017-05-26"},{"$f":"'data Kbely'!B796","v":16.600000000000001},0,-3.6000000000000014,0,-2.6000000000000014,0,-1.6000000000000014,0,-0.60000000000000142,0.39999999999999858,0]
[{"$f":"'data Kbely'!A797","v":"2017-05-27"},{"$f":"'data Kbely'!B797","v":18.399999999999999},0,-5.3999999999999986,0,-4.3999999999999986,0,-3.3999999999999986,0,-2.3999999999999986,0,-1.3999999999999986]
[{"$f":"'data Kbely'!A798","v":"2017-05-28"},{"$f":"'data Kbely'!B798","v":19.2},0,-6.1999999999999993,0,-5.1999999999999993,0,-4.1999999999999993,0,-3.1999999999999993,0,-2.1999999999999993]
[{"$f":"'data Kbely'!A799","v":"2017-05-29"},{"$f":"'data Kbely'!B799","v":22.6},0,-9.6000000000000014,0,-8.6000000000000014,0,-7.6000000000000014,0,-6.6000000000000014,0,-5.6000000000000014]
[{"$f":"'data Kbely'!A800","v":"2017-05-30"},{"$f":"'data Kbely'!B800","v":22.6},0,-9.6000000000000014,0,-8.6000000000000014,0,-7.6000000000000014,0,-6.6000000000000014,0,-5.6000000000000014]
[{"$f":"'data Kbely'!A801","v":"2017-05-31"},{"$f":"'data Kbely'!B801","v":19.600000000000001},0,-6.6000000000000014,0,-5.6000000000000014,0,-4.6000000000000014,0,-3.6000000000000014,0,-2.6000000000000014]
[{"$f":"'data Kbely'!A802","v":"2017-06-01"},{"$f":"'data Kbely'!B802","v":18.3},0,-5.3000000000000007,0,-4.3000000000000007,0,-3.3000000000000007,0,-2.3000000000000007,0,-1.3000000000000007]
[{"$f":"'data Kbely'!A803","v":"2017-06-02"},{"$f":"'data Kbely'!B803","v":19.100000000000001},0,-6.1000000000000014,0,-5.1000000000000014,0,-4.1000000000000014,0,-3.1000000000000014,0,-2.1000000000000014]
[{"$f":"'data Kbely'!A804","v":"2017-06-03"},{"$f":"'data Kbely'!B804","v":20.8},0,-7.8000000000000007,0,-6.8000000000000007,0,-5.8000000000000007,0,-4.8000000000000007,0,-3.8000000000000007]
[{"$f":"'data Kbely'!A805","v":"2017-06-04"},{"$f":"'data Kbely'!B805","v":17.2},0,-4.1999999999999993,0,-3.1999999999999993,0,-2.1999999999999993,0,-1.1999999999999993,0,-0.19999999999999929]
[{"$f":"'data Kbely'!A806","v":"2017-06-05"},{"$f":"'data Kbely'!B806","v":16.399999999999999},0,-3.3999999999999986,0,-2.3999999999999986,0,-1.3999999999999986,0,-0.39999999999999858,0.60000000000000142,0]
[{"$f":"'data Kbely'!A807","v":"2017-06-06"},{"$f":"'data Kbely'!B807","v":17.5},0,-4.5,0,-3.5,0,-2.5,0,-1.5,0,-0.5]
[{"$f":"'data Kbely'!A808","v":"2017-06-07"},{"$f":"'data Kbely'!B808","v":13.899999999999999},0,-0.89999999999999858,0.10000000000000142,0,1.1000000000000014,0,2.1000000000000014,0,3.1000000000000014,0]
[{"$f":"'data Kbely'!A809","v":"2017-06-08"},{"$f":"'data Kbely'!B809","v":15.9},0,-2.9000000000000004,0,-1.9000000000000004,0,-0.90000000000000036,9.9999999999999645E-2,0,1.0999999999999996,0]
[{"$f":"'data Kbely'!A810","v":"2017-06-09"},{"$f":"'data Kbely'!B810","v":20},0,-7,0,-6,0,-5,0,-4,0,-3]
[{"$f":"'data Kbely'!A811","v":"2017-06-10"},{"$f":"'data Kbely'!B811","v":18.2},0,-5.1999999999999993,0,-4.1999999999999993,0,-3.1999999999999993,0,-2.1999999999999993,0,-1.1999999999999993]
[{"$f":"'data Kbely'!A812","v":"2017-06-11"},{"$f":"'data Kbely'!B812","v":19.8},0,-6.8000000000000007,0,-5.8000000000000007,0,-4.8000000000000007,0,-3.8000000000000007,0,-2.8000000000000007]
[{"$f":"'data Kbely'!A813","v":"2017-06-12"},{"$f":"'data Kbely'!B813","v":22.4},0,-9.3999999999999986,0,-8.3999999999999986,0,-7.3999999999999986,0,-6.3999999999999986,0,-5.3999999999999986]
[{"$f":"'data Kbely'!A814","v":"2017-06-13"},{"$f":"'data Kbely'!B814","v":17.3},0,-4.3000000000000007,0,-3.3000000000000007,0,-2.3000000000000007,0,-1.3000000000000007,0,-0.30000000000000071]
[{"$f":"'data Kbely'!A815","v":"2017-06-14"},{"$f":"'data Kbely'!B815","v":17.600000000000001},0,-4.6000000000000014,0,-3.6000000000000014,0,-2.6000000000000014,0,-1.6000000000000014,0,-0.60000000000000142]
[{"$f":"'data Kbely'!A816","v":"2017-06-15"},{"$f":"'data Kbely'!B816","v":20.2},0,-7.1999999999999993,0,-6.1999999999999993,0,-5.1999999999999993,0,-4.1999999999999993,0,-3.1999999999999993]
[{"$f":"'data Kbely'!A817","v":"2017-06-16"},{"$f":"'data Kbely'!B817","v":18.600000000000001},0,-5.6000000000000014,0,-4.6000000000000014,0,-3.6000000000000014,0,-2.6000000000000014,0,-1.6000000000000014]
[{"$f":"'data Kbely'!A818","v":"2017-06-17"},{"$f":"'data Kbely'!B818","v":16},0,-3,0,-2,0,-1,0,0,1,0]
[{"$f":"'data Kbely'!A819","v":"2017-06-18"},{"$f":"'data Kbely'!B819","v":18.8},0,-5.8000000000000007,0,-4.8000000000000007,0,-3.8000000000000007,0,-2.8000000000000007,0,-1.8000000000000007]
[{"$f":"'data Kbely'!A820","v":"2017-06-19"},{"$f":"'data Kbely'!B820","v":21.3},0,-8.3000000000000007,0,-7.3000000000000007,0,-6.3000000000000007,0,-5.3000000000000007,0,-4.3000000000000007]
[{"$f":"'data Kbely'!A821","v":"2017-06-20"},{"$f":"'data Kbely'!B821","v":24.4},0,-11.399999999999999,0,-10.399999999999999,0,-9.3999999999999986,0,-8.3999999999999986,0,-7.3999999999999986]
[{"$f":"'data Kbely'!A822","v":"2017-06-21"},{"$f":"'data Kbely'!B822","v":22.6},0,-9.6000000000000014,0,-8.6000000000000014,0,-7.6000000000000014,0,-6.6000000000000014,0,-5.6000000000000014]
[{"$f":"'data Kbely'!A823","v":"2017-06-22"},{"$f":"'data Kbely'!B823","v":22.4},0,-9.3999999999999986,0,-8.3999999999999986,0,-7.3999999999999986,0,-6.3999999999999986,0,-5.3999999999999986]
[{"$f":"'data Kbely'!A824","v":"2017-06-23"},{"$f":"'data Kbely'!B824","v":20.6},0,-7.6000000000000014,0,-6.6000000000000014,0,-5.6000000000000014,0,-4.6000000000000014,0,-3.6000000000000014]
[{"$f":"'data Kbely'!A825","v":"2017-06-24"},{"$f":"'data Kbely'!B825","v":22.4},0,-9.3999999999999986,0,-8.3999999999999986,0,-7.3999999999999986,0,-6.3999999999999986,0,-5.3999999999999986]
[{"$f":"'data Kbely'!A826","v":"2017-06-25"},{"$f":"'data Kbely'!B826","v":21.6},0,-8.6000000000000014,0,-7.6000000000000014,0,-6.6000000000000014,0,-5.6000000000000014,0,-4.6000000000000014]
[{"$f":"'data Kbely'!A827","v":"2017-06-26"},{"$f":"'data Kbely'!B827","v":21.1},0,-8.1000000000000014,0,-7.1000000000000014,0,-6.1000000000000014,0,-5.1000000000000014,0,-4.1000000000000014]
[{"$f":"'data Kbely'!A828","v":"2017-06-27"},{"$f":"'data Kbely'!B828","v":18.100000000000001},0,-5.1000000000000014,0,-4.1000000000000014,0,-3.1000000000000014,0,-2.1000000000000014,0,-1.1000000000000014]
[{"$f":"'data Kbely'!A829","v":"2017-06-28"},{"$f":"'data Kbely'!B829","v":20.100000000000001},0,-7.1000000000000014,0,-6.1000000000000014,0,-5.1000000000000014,0,-4.1000000000000014,0,-3.1000000000000014]
[{"$f":"'data Kbely'!A830","v":"2017-06-29"},{"$f":"'data Kbely'!B830","v":17.399999999999999},0,-4.3999999999999986,0,-3.3999999999999986,0,-2.3999999999999986,0,-1.3999999999999986,0,-0.39999999999999858]
[{"$f":"'data Kbely'!A831","v":"2017-06-30"},{"$f":"'data Kbely'!B831","v":18.3},0,-5.3000000000000007,0,-4.3000000000000007,0,-3.3000000000000007,0,-2.3000000000000007,0,-1.3000000000000007]
[{"$f":"'data Kbely'!A832","v":"2017-07-01"},{"$f":"'data Kbely'!B832","v":18.2},0,-5.1999999999999993,0,-4.1999999999999993,0,-3.1999999999999993,0,-2.1999999999999993,0,-1.1999999999999993]
[{"$f":"'data Kbely'!A833","v":"2017-07-02"},{"$f":"'data Kbely'!B833","v":18.2},0,-5.1999999999999993,0,-4.1999999999999993,0,-3.1999999999999993,0,-2.1999999999999993,0,-1.1999999999999993]
[{"$f":"'data Kbely'!A834","v":"2017-07-03"},{"$f":"'data Kbely'!B834","v":18},0,-5,0,-4,0,-3,0,-2,0,-1]
[{"$f":"'data Kbely'!A835","v":"2017-07-04"},{"$f":"'data Kbely'!B835","v":18.8},0,-5.8000000000000007,0,-4.8000000000000007,0,-3.8000000000000007,0,-2.8000000000000007,0,-1.8000000000000007]
[{"$f":"'data Kbely'!A836","v":"2017-07-05"},{"$f":"'data Kbely'!B836","v":19.8},0,-6.8000000000000007,0,-5.8000000000000007,0,-4.8000000000000007,0,-3.8000000000000007,0,-2.8000000000000007]
[{"$f":"'data Kbely'!A837","v":"2017-07-06"},{"$f":"'data Kbely'!B837","v":20.3},0,-7.3000000000000007,0,-6.3000000000000007,0,-5.3000000000000007,0,-4.3000000000000007,0,-3.3000000000000007]
[{"$f":"'data Kbely'!A838","v":"2017-07-07"},{"$f":"'data Kbely'!B838","v":22},0,-9,0,-8,0,-7,0,-6,0,-5]
[{"$f":"'data Kbely'!A839","v":"2017-07-08"},{"$f":"'data Kbely'!B839","v":22.8},0,-9.8000000000000007,0,-8.8000000000000007,0,-7.8000000000000007,0,-6.8000000000000007,0,-5.8000000000000007]
[{"$f":"'data Kbely'!A840","v":"2017-07-09"},{"$f":"'data Kbely'!B840","v":22.8},0,-9.8000000000000007,0,-8.8000000000000007,0,-7.8000000000000007,0,-6.8000000000000007,0,-5.8000000000000007]
[{"$f":"'data Kbely'!A841","v":"2017-07-10"},{"$f":"'data Kbely'!B841","v":24.2},0,-11.2,0,-10.199999999999999,0,-9.1999999999999993,0,-8.1999999999999993,0,-7.1999999999999993]
[{"$f":"'data Kbely'!A842","v":"2017-07-11"},{"$f":"'data Kbely'!B842","v":20.2},{"$f":"IF(C$2>$B842,C$2-$B842,0)","v":0},{"$f":"IF(D$2<$B842,D$2-$B842,0)","v":-7.1999999999999993},{"$f":"IF(E$2>$B842,E$2-$B842,0)","v":0},{"$f":"IF(F$2<$B842,F$2-$B842,0)","v":-6.1999999999999993},{"$f":"IF(G$2>$B842,G$2-$B842,0)","v":0},{"$f":"IF(H$2<$B842,H$2-$B842,0)","v":-5.1999999999999993},{"$f":"IF(I$2>$B842,I$2-$B842,0)","v":0},{"$f":"IF(J$2<$B842,J$2-$B842,0)","v":-4.1999999999999993},{"$f":"IF(K$2>$B842,K$2-$B842,0)","v":0},{"$f":"IF(L$2<$B842,L$2-$B842,0)","v":-3.1999999999999993}]
[{"$f":"'data Kbely'!A843","v":"2017-07-12"},{"$f":"'data Kbely'!B843","v":19.100000000000001},0,-6.1000000000000014,0,-5.1000000000000014,0,-4.1000000000000014,0,-3.1000000000000014,0,-2.1000000000000014]
[{"$f":"'data Kbely'!A844","v":"2017-07-13"},{"$f":"'data Kbely'!B844","v":15.5},0,-2.5,0,-1.5,0,-0.5,0.5,0,1.5,0]
[{"$f":"'data Kbely'!A845","v":"2017-07-14"},{"$f":"'data Kbely'!B845","v":14.8},0,-1.8000000000000007,0,-0.80000000000000071,0.19999999999999929,0,1.1999999999999993,0,2.1999999999999993,0]
[{"$f":"'data Kbely'!A846","v":"2017-07-15"},{"$f":"'data Kbely'!B846","v":14.2},0,-1.1999999999999993,0,-0.19999999999999929,0.80000000000000071,0,1.8000000000000007,0,2.8000000000000007,0]
[{"$f":"'data Kbely'!A847","v":"2017-07-16"},{"$f":"'data Kbely'!B847","v":17.399999999999999},0,-4.3999999999999986,0,-3.3999999999999986,0,-2.3999999999999986,0,-1.3999999999999986,0,-0.39999999999999858]
[{"$f":"'data Kbely'!A848","v":"2017-07-17"},{"$f":"'data Kbely'!B848","v":20.5},0,-7.5,0,-6.5,0,-5.5,0,-4.5,0,-3.5]
[{"$f":"'data Kbely'!A849","v":"2017-07-18"},{"$f":"'data Kbely'!B849","v":20.6},0,-7.6000000000000014,0,-6.6000000000000014,0,-5.6000000000000014,0,-4.6000000000000014,0,-3.6000000000000014]
[{"$f":"'data Kbely'!A850","v":"2017-07-19"},{"$f":"'data Kbely'!B850","v":23.5},0,-10.5,0,-9.5,0,-8.5,0,-7.5,0,-6.5]
[{"$f":"'data Kbely'!A851","v":"2017-07-20"},{"$f":"'data Kbely'!B851","v":22.8},0,-9.8000000000000007,0,-8.8000000000000007,0,-7.8000000000000007,0,-6.8000000000000007,0,-5.8000000000000007]
[{"$f":"'data Kbely'!A852","v":"2017-07-21"},{"$f":"'data Kbely'!B852","v":22.4},0,-9.3999999999999986,0,-8.3999999999999986,0,-7.3999999999999986,0,-6.3999999999999986,0,-5.3999999999999986]
[{"$f":"'data Kbely'!A853","v":"2017-07-22"},{"$f":"'data Kbely'!B853","v":22.7},0,-9.6999999999999993,0,-8.6999999999999993,0,-7.6999999999999993,0,-6.6999999999999993,0,-5.6999999999999993]
[{"$f":"'data Kbely'!A854","v":"2017-07-23"},{"$f":"'data Kbely'!B854","v":20.7},0,-7.6999999999999993,0,-6.6999999999999993,0,-5.6999999999999993,0,-4.6999999999999993,0,-3.6999999999999993]
[{"$f":"'data Kbely'!A855","v":"2017-07-24"},{"$f":"'data Kbely'!B855","v":17.2},0,-4.1999999999999993,0,-3.1999999999999993,0,-2.1999999999999993,0,-1.1999999999999993,0,-0.19999999999999929]
[{"$f":"'data Kbely'!A856","v":"2017-07-25"},{"$f":"'data Kbely'!B856","v":16.100000000000001},0,-3.1000000000000014,0,-2.1000000000000014,0,-1.1000000000000014,0,-0.10000000000000142,0.89999999999999858,0]
[{"$f":"'data Kbely'!A857","v":"2017-07-26"},{"$f":"'data Kbely'!B857","v":16.399999999999999},0,-3.3999999999999986,0,-2.3999999999999986,0,-1.3999999999999986,0,-0.39999999999999858,0.60000000000000142,0]
[{"$f":"'data Kbely'!A858","v":"2017-07-27"},{"$f":"'data Kbely'!B858","v":17.3},0,-4.3000000000000007,0,-3.3000000000000007,0,-2.3000000000000007,0,-1.3000000000000007,0,-0.30000000000000071]
[{"$f":"'data Kbely'!A859","v":"2017-07-28"},{"$f":"'data Kbely'!B859","v":19.3},0,-6.3000000000000007,0,-5.3000000000000007,0,-4.3000000000000007,0,-3.3000000000000007,0,-2.3000000000000007]
[{"$f":"'data Kbely'!A860","v":"2017-07-29"},{"$f":"'data Kbely'!B860","v":20.9},0,-7.8999999999999986,0,-6.8999999999999986,0,-5.8999999999999986,0,-4.8999999999999986,0,-3.8999999999999986]
[{"$f":"'data Kbely'!A861","v":"2017-07-30"},{"$f":"'data Kbely'!B861","v":23.7},0,-10.7,0,-9.6999999999999993,0,-8.6999999999999993,0,-7.6999999999999993,0,-6.6999999999999993]
[{"$f":"'data Kbely'!A862","v":"2017-07-31"},{"$f":"'data Kbely'!B862","v":24.6},0,-11.600000000000001,0,-10.600000000000001,0,-9.6000000000000014,0,-8.6000000000000014,0,-7.6000000000000014]
[{"$f":"'data Kbely'!A863","v":"2017-08-01"},{"$f":"'data Kbely'!B863","v":25.8},0,-12.8,0,-11.8,0,-10.8,0,-9.8000000000000007,0,-8.8000000000000007]
[{"$f":"'data Kbely'!A864","v":"2017-08-02"},{"$f":"'data Kbely'!B864","v":24.7},0,-11.7,0,-10.7,0,-9.6999999999999993,0,-8.6999999999999993,0,-7.6999999999999993]
[{"$f":"'data Kbely'!A865","v":"2017-08-03"},{"$f":"'data Kbely'!B865","v":23},0,-10,0,-9,0,-8,0,-7,0,-6]
[{"$f":"'data Kbely'!A866","v":"2017-08-04"},{"$f":"'data Kbely'!B866","v":23.8},0,-10.8,0,-9.8000000000000007,0,-8.8000000000000007,0,-7.8000000000000007,0,-6.8000000000000007]
[{"$f":"'data Kbely'!A867","v":"2017-08-05"},{"$f":"'data Kbely'!B867","v":23.4},0,-10.399999999999999,0,-9.3999999999999986,0,-8.3999999999999986,0,-7.3999999999999986,0,-6.3999999999999986]
[{"$f":"'data Kbely'!A868","v":"2017-08-06"},{"$f":"'data Kbely'!B868","v":19},0,-6,0,-5,0,-4,0,-3,0,-2]
[{"$f":"'data Kbely'!A869","v":"2017-08-07"},{"$f":"'data Kbely'!B869","v":18.399999999999999},0,-5.3999999999999986,0,-4.3999999999999986,0,-3.3999999999999986,0,-2.3999999999999986,0,-1.3999999999999986]
[{"$f":"'data Kbely'!A870","v":"2017-08-08"},{"$f":"'data Kbely'!B870","v":19.8},0,-6.8000000000000007,0,-5.8000000000000007,0,-4.8000000000000007,0,-3.8000000000000007,0,-2.8000000000000007]
[{"$f":"'data Kbely'!A871","v":"2017-08-09"},{"$f":"'data Kbely'!B871","v":20.8},0,-7.8000000000000007,0,-6.8000000000000007,0,-5.8000000000000007,0,-4.8000000000000007,0,-3.8000000000000007]
[{"$f":"'data Kbely'!A872","v":"2017-08-10"},{"$f":"'data Kbely'!B872","v":21.9},0,-8.8999999999999986,0,-7.8999999999999986,0,-6.8999999999999986,0,-5.8999999999999986,0,-4.8999999999999986]
[{"$f":"'data Kbely'!A873","v":"2017-08-11"},{"$f":"'data Kbely'!B873","v":16.600000000000001},0,-3.6000000000000014,0,-2.6000000000000014,0,-1.6000000000000014,0,-0.60000000000000142,0.39999999999999858,0]
[{"$f":"'data Kbely'!A874","v":"2017-08-12"},{"$f":"'data Kbely'!B874","v":16.399999999999999},0,-3.3999999999999986,0,-2.3999999999999986,0,-1.3999999999999986,0,-0.39999999999999858,0.60000000000000142,0]
[{"$f":"'data Kbely'!A875","v":"2017-08-13"},{"$f":"'data Kbely'!B875","v":18.600000000000001},0,-5.6000000000000014,0,-4.6000000000000014,0,-3.6000000000000014,0,-2.6000000000000014,0,-1.6000000000000014]
[{"$f":"'data Kbely'!A876","v":"2017-08-14"},{"$f":"'data Kbely'!B876","v":17.899999999999999},0,-4.8999999999999986,0,-3.8999999999999986,0,-2.8999999999999986,0,-1.8999999999999986,0,-0.89999999999999858]
[{"$f":"'data Kbely'!A877","v":"2017-08-15"},{"$f":"'data Kbely'!B877","v":21},0,-8,0,-7,0,-6,0,-5,0,-4]
[{"$f":"'data Kbely'!A878","v":"2017-08-16"},{"$f":"'data Kbely'!B878","v":19.5},0,-6.5,0,-5.5,0,-4.5,0,-3.5,0,-2.5]
[{"$f":"'data Kbely'!A879","v":"2017-08-17"},{"$f":"'data Kbely'!B879","v":18.5},0,-5.5,0,-4.5,0,-3.5,0,-2.5,0,-1.5]
[{"$f":"'data Kbely'!A880","v":"2017-08-18"},{"$f":"'data Kbely'!B880","v":23.7},0,-10.7,0,-9.6999999999999993,0,-8.6999999999999993,0,-7.6999999999999993,0,-6.6999999999999993]
[{"$f":"'data Kbely'!A881","v":"2017-08-19"},{"$f":"'data Kbely'!B881","v":18.2},0,-5.1999999999999993,0,-4.1999999999999993,0,-3.1999999999999993,0,-2.1999999999999993,0,-1.1999999999999993]
[{"$f":"'data Kbely'!A882","v":"2017-08-20"},{"$f":"'data Kbely'!B882","v":16.7},0,-3.6999999999999993,0,-2.6999999999999993,0,-1.6999999999999993,0,-0.69999999999999929,0.30000000000000071,0]
[{"$f":"'data Kbely'!A883","v":"2017-08-21"},{"$f":"'data Kbely'!B883","v":15.7},0,-2.6999999999999993,0,-1.6999999999999993,0,-0.69999999999999929,0.30000000000000071,0,1.3000000000000007,0]
[{"$f":"'data Kbely'!A884","v":"2017-08-22"},{"$f":"'data Kbely'!B884","v":14.6},0,-1.5999999999999996,0,-0.59999999999999964,0.40000000000000036,0,1.4000000000000004,0,2.4000000000000004,0]
[{"$f":"'data Kbely'!A885","v":"2017-08-23"},{"$f":"'data Kbely'!B885","v":14.5},0,-1.5,0,-0.5,0.5,0,1.5,0,2.5,0]
[{"$f":"'data Kbely'!A886","v":"2017-08-24"},{"$f":"'data Kbely'!B886","v":18.899999999999999},0,-5.8999999999999986,0,-4.8999999999999986,0,-3.8999999999999986,0,-2.8999999999999986,0,-1.8999999999999986]
[{"$f":"'data Kbely'!A887","v":"2017-08-25"},{"$f":"'data Kbely'!B887","v":20.6},0,-7.6000000000000014,0,-6.6000000000000014,0,-5.6000000000000014,0,-4.6000000000000014,0,-3.6000000000000014]
[{"$f":"'data Kbely'!A888","v":"2017-08-26"},{"$f":"'data Kbely'!B888","v":21.4},0,-8.3999999999999986,0,-7.3999999999999986,0,-6.3999999999999986,0,-5.3999999999999986,0,-4.3999999999999986]
[{"$f":"'data Kbely'!A889","v":"2017-08-27"},{"$f":"'data Kbely'!B889","v":21},0,-8,0,-7,0,-6,0,-5,0,-4]
[{"$f":"'data Kbely'!A890","v":"2017-08-28"},{"$f":"'data Kbely'!B890","v":18.2},0,-5.1999999999999993,0,-4.1999999999999993,0,-3.1999999999999993,0,-2.1999999999999993,0,-1.1999999999999993]
[{"$f":"'data Kbely'!A891","v":"2017-08-29"},{"$f":"'data Kbely'!B891","v":18.399999999999999},0,-5.3999999999999986,0,-4.3999999999999986,0,-3.3999999999999986,0,-2.3999999999999986,0,-1.3999999999999986]
[{"$f":"'data Kbely'!A892","v":"2017-08-30"},{"$f":"'data Kbely'!B892","v":20.9},0,-7.8999999999999986,0,-6.8999999999999986,0,-5.8999999999999986,0,-4.8999999999999986,0,-3.8999999999999986]
[{"$f":"'data Kbely'!A893","v":"2017-08-31"},{"$f":"'data Kbely'!B893","v":20.100000000000001},0,-7.1000000000000014,0,-6.1000000000000014,0,-5.1000000000000014,0,-4.1000000000000014,0,-3.1000000000000014]
[{"$f":"'data Kbely'!A894","v":"2017-09-01"},{"$f":"'data Kbely'!B894","v":13.3},0,-0.30000000000000071,0.69999999999999929,0,1.6999999999999993,0,2.6999999999999993,0,3.6999999999999993,0]
[{"$f":"'data Kbely'!A895","v":"2017-09-02"},{"$f":"'data Kbely'!B895","v":13.399999999999999},0,-0.39999999999999858,0.60000000000000142,0,1.6000000000000014,0,2.6000000000000014,0,3.6000000000000014,0]
[{"$f":"'data Kbely'!A896","v":"2017-09-03"},{"$f":"'data Kbely'!B896","v":13.2},0,-0.19999999999999929,0.80000000000000071,0,1.8000000000000007,0,2.8000000000000007,0,3.8000000000000007,0]
[{"$f":"'data Kbely'!A897","v":"2017-09-04"},{"$f":"'data Kbely'!B897","v":13.7},0,-0.69999999999999929,0.30000000000000071,0,1.3000000000000007,0,2.3000000000000007,0,3.3000000000000007,0]
[{"$f":"'data Kbely'!A898","v":"2017-09-05"},{"$f":"'data Kbely'!B898","v":15.6},0,-2.5999999999999996,0,-1.5999999999999996,0,-0.59999999999999964,0.40000000000000036,0,1.4000000000000004,0]
[{"$f":"'data Kbely'!A899","v":"2017-09-06"},{"$f":"'data Kbely'!B899","v":17.100000000000001},0,-4.1000000000000014,0,-3.1000000000000014,0,-2.1000000000000014,0,-1.1000000000000014,0,-0.10000000000000142]
[{"$f":"'data Kbely'!A900","v":"2017-09-07"},{"$f":"'data Kbely'!B900","v":14.7},0,-1.6999999999999993,0,-0.69999999999999929,0.30000000000000071,0,1.3000000000000007,0,2.3000000000000007,0]
[{"$f":"'data Kbely'!A901","v":"2017-09-08"},{"$f":"'data Kbely'!B901","v":14.4},0,-1.4000000000000004,0,-0.40000000000000036,0.59999999999999964,0,1.5999999999999996,0,2.5999999999999996,0]
[{"$f":"'data Kbely'!A902","v":"2017-09-09"},{"$f":"'data Kbely'!B902","v":16.2},0,-3.1999999999999993,0,-2.1999999999999993,0,-1.1999999999999993,0,-0.19999999999999929,0.80000000000000071,0]
[{"$f":"'data Kbely'!A903","v":"2017-09-10"},{"$f":"'data Kbely'!B903","v":14.1},0,-1.0999999999999996,0,-9.9999999999999645E-2,0.90000000000000036,0,1.9000000000000004,0,2.9000000000000004,0]
[{"$f":"'data Kbely'!A904","v":"2017-09-11"},{"$f":"'data Kbely'!B904","v":14.7},0,-1.6999999999999993,0,-0.69999999999999929,0.30000000000000071,0,1.3000000000000007,0,2.3000000000000007,0]
[{"$f":"'data Kbely'!A905","v":"2017-09-12"},{"$f":"'data Kbely'!B905","v":13.7},0,-0.69999999999999929,0.30000000000000071,0,1.3000000000000007,0,2.3000000000000007,0,3.3000000000000007,0]
[{"$f":"'data Kbely'!A906","v":"2017-09-13"},{"$f":"'data Kbely'!B906","v":14.1},{"$f":"IF(C$2>$B906,C$2-$B906,0)","v":0},{"$f":"IF(D$2<$B906,D$2-$B906,0)","v":-1.0999999999999996},{"$f":"IF(E$2>$B906,E$2-$B906,0)","v":0},{"$f":"IF(F$2<$B906,F$2-$B906,0)","v":-9.9999999999999645E-2},{"$f":"IF(G$2>$B906,G$2-$B906,0)","v":0.90000000000000036},{"$f":"IF(H$2<$B906,H$2-$B906,0)","v":0},{"$f":"IF(I$2>$B906,I$2-$B906,0)","v":1.9000000000000004},{"$f":"IF(J$2<$B906,J$2-$B906,0)","v":0},{"$f":"IF(K$2>$B906,K$2-$B906,0)","v":2.9000000000000004},{"$f":"IF(L$2<$B906,L$2-$B906,0)","v":0}]
[{"$f":"'data Kbely'!A907","v":"2017-09-14"},{"$f":"'data Kbely'!B907","v":12.899999999999999},0.10000000000000142,0,1.1000000000000014,0,2.1000000000000014,0,3.1000000000000014,0,4.1000000000000014,0]
[{"$f":"'data Kbely'!A908","v":"2017-09-15"},{"$f":"'data Kbely'!B908","v":12.7},0.30000000000000071,0,1.3000000000000007,0,2.3000000000000007,0,3.3000000000000007,0,4.3000000000000007,0]
[{"$f":"'data Kbely'!A909","v":"2017-09-16"},{"$f":"'data Kbely'!B909","v":10.199999999999999},2.8000000000000007,0,3.8000000000000007,0,4.8000000000000007,0,5.8000000000000007,0,6.8000000000000007,0]
[{"$f":"'data Kbely'!A910","v":"2017-09-17"},{"$f":"'data Kbely'!B910","v":10.7},2.3000000000000007,0,3.3000000000000007,0,4.3000000000000007,0,5.3000000000000007,0,6.3000000000000007,0]
[{"$f":"'data Kbely'!A911","v":"2017-09-18"},{"$f":"'data Kbely'!B911","v":9.8999999999999986},3.1000000000000014,0,4.1000000000000014,0,5.1000000000000014,0,6.1000000000000014,0,7.1000000000000014,0]
[{"$f":"'data Kbely'!A912","v":"2017-09-19"},{"$f":"'data Kbely'!B912","v":9.6999999999999993},3.3000000000000007,0,4.3000000000000007,0,5.3000000000000007,0,6.3000000000000007,0,7.3000000000000007,0]
[{"$f":"'data Kbely'!A913","v":"2017-09-20"},{"$f":"'data Kbely'!B913","v":11.5},1.5,0,2.5,0,3.5,0,4.5,0,5.5,0]
[{"$f":"'data Kbely'!A914","v":"2017-09-21"},{"$f":"'data Kbely'!B914","v":11.5},1.5,0,2.5,0,3.5,0,4.5,0,5.5,0]
[{"$f":"'data Kbely'!A915","v":"2017-09-22"},{"$f":"'data Kbely'!B915","v":12.8},0.19999999999999929,0,1.1999999999999993,0,2.1999999999999993,0,3.1999999999999993,0,4.1999999999999993,0]
[{"$f":"'data Kbely'!A916","v":"2017-09-23"},{"$f":"'data Kbely'!B916","v":10.600000000000001},2.3999999999999986,0,3.3999999999999986,0,4.3999999999999986,0,5.3999999999999986,0,6.3999999999999986,0]
[{"$f":"'data Kbely'!A917","v":"2017-09-24"},{"$f":"'data Kbely'!B917","v":11.2},1.8000000000000007,0,2.8000000000000007,0,3.8000000000000007,0,4.8000000000000007,0,5.8000000000000007,0]
[{"$f":"'data Kbely'!A918","v":"2017-09-25"},{"$f":"'data Kbely'!B918","v":12.600000000000001},0.39999999999999858,0,1.3999999999999986,0,2.3999999999999986,0,3.3999999999999986,0,4.3999999999999986,0]
[{"$f":"'data Kbely'!A919","v":"2017-09-26"},{"$f":"'data Kbely'!B919","v":13},0,0,1,0,2,0,3,0,4,0]
[{"$f":"'data Kbely'!A920","v":"2017-09-27"},{"$f":"'data Kbely'!B920","v":14.8},0,-1.8000000000000007,0,-0.80000000000000071,0.19999999999999929,0,1.1999999999999993,0,2.1999999999999993,0]
[{"$f":"'data Kbely'!A921","v":"2017-09-28"},{"$f":"'data Kbely'!B921","v":14.9},0,-1.9000000000000004,0,-0.90000000000000036,9.9999999999999645E-2,0,1.0999999999999996,0,2.0999999999999996,0]
[{"$f":"'data Kbely'!A922","v":"2017-09-29"},{"$f":"'data Kbely'!B922","v":13.600000000000001},0,-0.60000000000000142,0.39999999999999858,0,1.3999999999999986,0,2.3999999999999986,0,3.3999999999999986,0]
[{"$f":"'data Kbely'!A923","v":"2017-09-30"},{"$f":"'data Kbely'!B923","v":11.8},1.1999999999999993,0,2.1999999999999993,0,3.1999999999999993,0,4.1999999999999993,0,5.1999999999999993,0]
[{"$f":"'data Kbely'!A924","v":"2017-10-01"},{"$f":"'data Kbely'!B924","v":10.899999999999999},2.1000000000000014,0,3.1000000000000014,0,4.1000000000000014,0,5.1000000000000014,0,6.1000000000000014,0]
[{"$f":"'data Kbely'!A925","v":"2017-10-02"},{"$f":"'data Kbely'!B925","v":12.5},0.5,0,1.5,0,2.5,0,3.5,0,4.5,0]
[{"$f":"'data Kbely'!A926","v":"2017-10-03"},{"$f":"'data Kbely'!B926","v":12.100000000000001},0.89999999999999858,0,1.8999999999999986,0,2.8999999999999986,0,3.8999999999999986,0,4.8999999999999986,0]
[{"$f":"'data Kbely'!A927","v":"2017-10-04"},{"$f":"'data Kbely'!B927","v":11.7},1.3000000000000007,0,2.3000000000000007,0,3.3000000000000007,0,4.3000000000000007,0,5.3000000000000007,0]
[{"$f":"'data Kbely'!A928","v":"2017-10-05"},{"$f":"'data Kbely'!B928","v":12.2},0.80000000000000071,0,1.8000000000000007,0,2.8000000000000007,0,3.8000000000000007,0,4.8000000000000007,0]
[{"$f":"'data Kbely'!A929","v":"2017-10-06"},{"$f":"'data Kbely'!B929","v":10.199999999999999},2.8000000000000007,0,3.8000000000000007,0,4.8000000000000007,0,5.8000000000000007,0,6.8000000000000007,0]
[{"$f":"'data Kbely'!A930","v":"2017-10-07"},{"$f":"'data Kbely'!B930","v":10},3,0,4,0,5,0,6,0,7,0]
[{"$f":"'data Kbely'!A931","v":"2017-10-08"},{"$f":"'data Kbely'!B931","v":10.100000000000001},2.8999999999999986,0,3.8999999999999986,0,4.8999999999999986,0,5.8999999999999986,0,6.8999999999999986,0]
[{"$f":"'data Kbely'!A932","v":"2017-10-09"},{"$f":"'data Kbely'!B932","v":8.1999999999999993},4.8000000000000007,0,5.8000000000000007,0,6.8000000000000007,0,7.8000000000000007,0,8.8000000000000007,0]
[{"$f":"'data Kbely'!A933","v":"2017-10-10"},{"$f":"'data Kbely'!B933","v":10.8},2.1999999999999993,0,3.1999999999999993,0,4.1999999999999993,0,5.1999999999999993,0,6.1999999999999993,0]
[{"$f":"'data Kbely'!A934","v":"2017-10-11"},{"$f":"'data Kbely'!B934","v":13.5},0,-0.5,0.5,0,1.5,0,2.5,0,3.5,0]
[{"$f":"'data Kbely'!A935","v":"2017-10-12"},{"$f":"'data Kbely'!B935","v":13.100000000000001},0,-0.10000000000000142,0.89999999999999858,0,1.8999999999999986,0,2.8999999999999986,0,3.8999999999999986,0]
[{"$f":"'data Kbely'!A936","v":"2017-10-13"},{"$f":"'data Kbely'!B936","v":13.3},0,-0.30000000000000071,0.69999999999999929,0,1.6999999999999993,0,2.6999999999999993,0,3.6999999999999993,0]
[{"$f":"'data Kbely'!A937","v":"2017-10-14"},{"$f":"'data Kbely'!B937","v":13.3},0,-0.30000000000000071,0.69999999999999929,0,1.6999999999999993,0,2.6999999999999993,0,3.6999999999999993,0]
[{"$f":"'data Kbely'!A938","v":"2017-10-15"},{"$f":"'data Kbely'!B938","v":14.1},0,-1.0999999999999996,0,-9.9999999999999645E-2,0.90000000000000036,0,1.9000000000000004,0,2.9000000000000004,0]
[{"$f":"'data Kbely'!A939","v":"2017-10-16"},{"$f":"'data Kbely'!B939","v":14.5},0,-1.5,0,-0.5,0.5,0,1.5,0,2.5,0]
[{"$f":"'data Kbely'!A940","v":"2017-10-17"},{"$f":"'data Kbely'!B940","v":14},0,-1,0,0,1,0,2,0,3,0]
[{"$f":"'data Kbely'!A941","v":"2017-10-18"},{"$f":"'data Kbely'!B941","v":10.100000000000001},2.8999999999999986,0,3.8999999999999986,0,4.8999999999999986,0,5.8999999999999986,0,6.8999999999999986,0]
[{"$f":"'data Kbely'!A942","v":"2017-10-19"},{"$f":"'data Kbely'!B942","v":10.899999999999999},2.1000000000000014,0,3.1000000000000014,0,4.1000000000000014,0,5.1000000000000014,0,6.1000000000000014,0]
[{"$f":"'data Kbely'!A943","v":"2017-10-20"},{"$f":"'data Kbely'!B943","v":9.8999999999999986},3.1000000000000014,0,4.1000000000000014,0,5.1000000000000014,0,6.1000000000000014,0,7.1000000000000014,0]
[{"$f":"'data Kbely'!A944","v":"2017-10-21"},{"$f":"'data Kbely'!B944","v":11.100000000000001},1.8999999999999986,0,2.8999999999999986,0,3.8999999999999986,0,4.8999999999999986,0,5.8999999999999986,0]
[{"$f":"'data Kbely'!A945","v":"2017-10-22"},{"$f":"'data Kbely'!B945","v":10.5},2.5,0,3.5,0,4.5,0,5.5,0,6.5,0]
[{"$f":"'data Kbely'!A946","v":"2017-10-23"},{"$f":"'data Kbely'!B946","v":9},4,0,5,0,6,0,7,0,8,0]
[{"$f":"'data Kbely'!A947","v":"2017-10-24"},{"$f":"'data Kbely'!B947","v":10.3},2.6999999999999993,0,3.6999999999999993,0,4.6999999999999993,0,5.6999999999999993,0,6.6999999999999993,0]
[{"$f":"'data Kbely'!A948","v":"2017-10-25"},{"$f":"'data Kbely'!B948","v":13.2},0,-0.19999999999999929,0.80000000000000071,0,1.8000000000000007,0,2.8000000000000007,0,3.8000000000000007,0]
[{"$f":"'data Kbely'!A949","v":"2017-10-26"},{"$f":"'data Kbely'!B949","v":13},0,0,1,0,2,0,3,0,4,0]
[{"$f":"'data Kbely'!A950","v":"2017-10-27"},{"$f":"'data Kbely'!B950","v":10},3,0,4,0,5,0,6,0,7,0]
[{"$f":"'data Kbely'!A951","v":"2017-10-28"},{"$f":"'data Kbely'!B951","v":8.5},4.5,0,5.5,0,6.5,0,7.5,0,8.5,0]
[{"$f":"'data Kbely'!A952","v":"2017-10-29"},{"$f":"'data Kbely'!B952","v":6.6999999999999993},6.3000000000000007,0,7.3000000000000007,0,8.3000000000000007,0,9.3000000000000007,0,10.3,0]
[{"$f":"'data Kbely'!A953","v":"2017-10-30"},{"$f":"'data Kbely'!B953","v":5},8,0,9,0,10,0,11,0,12,0]
[{"$f":"'data Kbely'!A954","v":"2017-10-31"},{"$f":"'data Kbely'!B954","v":6.3000000000000007},6.6999999999999993,0,7.6999999999999993,0,8.6999999999999993,0,9.6999999999999993,0,10.7,0]
[{"$f":"'data Kbely'!A955","v":"2017-11-01"},{"$f":"'data Kbely'!B955","v":7},6,0,7,0,8,0,9,0,10,0]
[{"$f":"'data Kbely'!A956","v":"2017-11-02"},{"$f":"'data Kbely'!B956","v":9.5},3.5,0,4.5,0,5.5,0,6.5,0,7.5,0]
[{"$f":"'data Kbely'!A957","v":"2017-11-03"},{"$f":"'data Kbely'!B957","v":7},6,0,7,0,8,0,9,0,10,0]
[{"$f":"'data Kbely'!A958","v":"2017-11-04"},{"$f":"'data Kbely'!B958","v":4.8000000000000007},8.1999999999999993,0,9.1999999999999993,0,10.199999999999999,0,11.2,0,12.2,0]
[{"$f":"'data Kbely'!A959","v":"2017-11-05"},{"$f":"'data Kbely'!B959","v":5.6999999999999993},7.3000000000000007,0,8.3000000000000007,0,9.3000000000000007,0,10.3,0,11.3,0]
[{"$f":"'data Kbely'!A960","v":"2017-11-06"},{"$f":"'data Kbely'!B960","v":6.1000000000000014},6.8999999999999986,0,7.8999999999999986,0,8.8999999999999986,0,9.8999999999999986,0,10.899999999999999,0]
[{"$f":"'data Kbely'!A961","v":"2017-11-07"},{"$f":"'data Kbely'!B961","v":6.6000000000000014},6.3999999999999986,0,7.3999999999999986,0,8.3999999999999986,0,9.3999999999999986,0,10.399999999999999,0]
[{"$f":"'data Kbely'!A962","v":"2017-11-08"},{"$f":"'data Kbely'!B962","v":5.1000000000000014},7.8999999999999986,0,8.8999999999999986,0,9.8999999999999986,0,10.899999999999999,0,11.899999999999999,0]
[{"$f":"'data Kbely'!A963","v":"2017-11-09"},{"$f":"'data Kbely'!B963","v":7},6,0,7,0,8,0,9,0,10,0]
[{"$f":"'data Kbely'!A964","v":"2017-11-10"},{"$f":"'data Kbely'!B964","v":6.8999999999999986},6.1000000000000014,0,7.1000000000000014,0,8.1000000000000014,0,9.1000000000000014,0,10.100000000000001,0]
[{"$f":"'data Kbely'!A965","v":"2017-11-11"},{"$f":"'data Kbely'!B965","v":5.1999999999999993},7.8000000000000007,0,8.8000000000000007,0,9.8000000000000007,0,10.8,0,11.8,0]
[{"$f":"'data Kbely'!A966","v":"2017-11-12"},{"$f":"'data Kbely'!B966","v":3.5},9.5,0,10.5,0,11.5,0,12.5,0,13.5,0]
[{"$f":"'data Kbely'!A967","v":"2017-11-13"},{"$f":"'data Kbely'!B967","v":2.8999999999999986},10.100000000000001,0,11.100000000000001,0,12.100000000000001,0,13.100000000000001,0,14.100000000000001,0]
[{"$f":"'data Kbely'!A968","v":"2017-11-14"},{"$f":"'data Kbely'!B968","v":2.8999999999999986},10.100000000000001,0,11.100000000000001,0,12.100000000000001,0,13.100000000000001,0,14.100000000000001,0]
[{"$f":"'data Kbely'!A969","v":"2017-11-15"},{"$f":"'data Kbely'!B969","v":4.3999999999999986},8.6000000000000014,0,9.6000000000000014,0,10.600000000000001,0,11.600000000000001,0,12.600000000000001,0]
[{"$f":"'data Kbely'!A970","v":"2017-11-16"},{"$f":"'data Kbely'!B970","v":3.6999999999999993},{"$f":"IF(C$2>$B970,C$2-$B970,0)","v":9.3000000000000007},{"$f":"IF(D$2<$B970,D$2-$B970,0)","v":0},{"$f":"IF(E$2>$B970,E$2-$B970,0)","v":10.3},{"$f":"IF(F$2<$B970,F$2-$B970,0)","v":0},{"$f":"IF(G$2>$B970,G$2-$B970,0)","v":11.3},{"$f":"IF(H$2<$B970,H$2-$B970,0)","v":0},{"$f":"IF(I$2>$B970,I$2-$B970,0)","v":12.3},{"$f":"IF(J$2<$B970,J$2-$B970,0)","v":0},{"$f":"IF(K$2>$B970,K$2-$B970,0)","v":13.3},{"$f":"IF(L$2<$B970,L$2-$B970,0)","v":0}]
[{"$f":"'data Kbely'!A971","v":"2017-11-17"},{"$f":"'data Kbely'!B971","v":3.6000000000000014},9.3999999999999986,0,10.399999999999999,0,11.399999999999999,0,12.399999999999999,0,13.399999999999999,0]
[{"$f":"'data Kbely'!A972","v":"2017-11-18"},{"$f":"'data Kbely'!B972","v":3.3000000000000007},9.6999999999999993,0,10.7,0,11.7,0,12.7,0,13.7,0]
[{"$f":"'data Kbely'!A973","v":"2017-11-19"},{"$f":"'data Kbely'!B973","v":4.1000000000000014},8.8999999999999986,0,9.8999999999999986,0,10.899999999999999,0,11.899999999999999,0,12.899999999999999,0]
[{"$f":"'data Kbely'!A974","v":"2017-11-20"},{"$f":"'data Kbely'!B974","v":3.5},9.5,0,10.5,0,11.5,0,12.5,0,13.5,0]
[{"$f":"'data Kbely'!A975","v":"2017-11-21"},{"$f":"'data Kbely'!B975","v":5.3999999999999986},7.6000000000000014,0,8.6000000000000014,0,9.6000000000000014,0,10.600000000000001,0,11.600000000000001,0]
[{"$f":"'data Kbely'!A976","v":"2017-11-22"},{"$f":"'data Kbely'!B976","v":7.5},5.5,0,6.5,0,7.5,0,8.5,0,9.5,0]
[{"$f":"'data Kbely'!A977","v":"2017-11-23"},{"$f":"'data Kbely'!B977","v":4.1000000000000014},8.8999999999999986,0,9.8999999999999986,0,10.899999999999999,0,11.899999999999999,0,12.899999999999999,0]
[{"$f":"'data Kbely'!A978","v":"2017-11-24"},{"$f":"'data Kbely'!B978","v":6.3999999999999986},6.6000000000000014,0,7.6000000000000014,0,8.6000000000000014,0,9.6000000000000014,0,10.600000000000001,0]
[{"$f":"'data Kbely'!A979","v":"2017-11-25"},{"$f":"'data Kbely'!B979","v":5.5},7.5,0,8.5,0,9.5,0,10.5,0,11.5,0]
[{"$f":"'data Kbely'!A980","v":"2017-11-26"},{"$f":"'data Kbely'!B980","v":2.3000000000000007},10.7,0,11.7,0,12.7,0,13.7,0,14.7,0]
[{"$f":"'data Kbely'!A981","v":"2017-11-27"},{"$f":"'data Kbely'!B981","v":3.1000000000000014},9.8999999999999986,0,10.899999999999999,0,11.899999999999999,0,12.899999999999999,0,13.899999999999999,0]
[{"$f":"'data Kbely'!A982","v":"2017-11-28"},{"$f":"'data Kbely'!B982","v":4.6999999999999993},8.3000000000000007,0,9.3000000000000007,0,10.3,0,11.3,0,12.3,0]
[{"$f":"'data Kbely'!A983","v":"2017-11-29"},{"$f":"'data Kbely'!B983","v":2.6000000000000014},10.399999999999999,0,11.399999999999999,0,12.399999999999999,0,13.399999999999999,0,14.399999999999999,0]
[{"$f":"'data Kbely'!A984","v":"2017-11-30"},{"$f":"'data Kbely'!B984","v":1.1999999999999993},11.8,0,12.8,0,13.8,0,14.8,0,15.8,0]
[{"$f":"'data Kbely'!A985","v":"2017-12-01"},{"$f":"'data Kbely'!B985","v":-0.39999999999999858},13.399999999999999,0,14.399999999999999,0,15.399999999999999,0,16.399999999999999,0,17.399999999999999,0]
[{"$f":"'data Kbely'!A986","v":"2017-12-02"},{"$f":"'data Kbely'!B986","v":-0.89999999999999858},13.899999999999999,0,14.899999999999999,0,15.899999999999999,0,16.899999999999999,0,17.899999999999999,0]
[{"$f":"'data Kbely'!A987","v":"2017-12-03"},{"$f":"'data Kbely'!B987","v":-0.69999999999999929},13.7,0,14.7,0,15.7,0,16.7,0,17.7,0]
[{"$f":"'data Kbely'!A988","v":"2017-12-04"},{"$f":"'data Kbely'!B988","v":0.89999999999999858},12.100000000000001,0,13.100000000000001,0,14.100000000000001,0,15.100000000000001,0,16.100000000000001,0]
[{"$f":"'data Kbely'!A989","v":"2017-12-05"},{"$f":"'data Kbely'!B989","v":3.6999999999999993},9.3000000000000007,0,10.3,0,11.3,0,12.3,0,13.3,0]
[{"$f":"'data Kbely'!A990","v":"2017-12-06"},{"$f":"'data Kbely'!B990","v":4.1999999999999993},8.8000000000000007,0,9.8000000000000007,0,10.8,0,11.8,0,12.8,0]
[{"$f":"'data Kbely'!A991","v":"2017-12-07"},{"$f":"'data Kbely'!B991","v":3.6000000000000014},9.3999999999999986,0,10.399999999999999,0,11.399999999999999,0,12.399999999999999,0,13.399999999999999,0]
[{"$f":"'data Kbely'!A992","v":"2017-12-08"},{"$f":"'data Kbely'!B992","v":4.1999999999999993},8.8000000000000007,0,9.8000000000000007,0,10.8,0,11.8,0,12.8,0]
[{"$f":"'data Kbely'!A993","v":"2017-12-09"},{"$f":"'data Kbely'!B993","v":0.30000000000000071},12.7,0,13.7,0,14.7,0,15.7,0,16.7,0]
[{"$f":"'data Kbely'!A994","v":"2017-12-10"},{"$f":"'data Kbely'!B994","v":-0.5},13.5,0,14.5,0,15.5,0,16.5,0,17.5,0]
[{"$f":"'data Kbely'!A995","v":"2017-12-11"},{"$f":"'data Kbely'!B995","v":4.5},8.5,0,9.5,0,10.5,0,11.5,0,12.5,0]
[{"$f":"'data Kbely'!A996","v":"2017-12-12"},{"$f":"'data Kbely'!B996","v":4.1000000000000014},8.8999999999999986,0,9.8999999999999986,0,10.899999999999999,0,11.899999999999999,0,12.899999999999999,0]
[{"$f":"'data Kbely'!A997","v":"2017-12-13"},{"$f":"'data Kbely'!B997","v":1.3000000000000007},11.7,0,12.7,0,13.7,0,14.7,0,15.7,0]
[{"$f":"'data Kbely'!A998","v":"2017-12-14"},{"$f":"'data Kbely'!B998","v":3.6999999999999993},9.3000000000000007,0,10.3,0,11.3,0,12.3,0,13.3,0]
[{"$f":"'data Kbely'!A999","v":"2017-12-15"},{"$f":"'data Kbely'!B999","v":3.1000000000000014},9.8999999999999986,0,10.899999999999999,0,11.899999999999999,0,12.899999999999999,0,13.899999999999999,0]
[{"$f":"'data Kbely'!A1000","v":"2017-12-16"},{"$f":"'data Kbely'!B1000","v":2.1000000000000014},10.899999999999999,0,11.899999999999999,0,12.899999999999999,0,13.899999999999999,0,14.899999999999999,0]
[{"$f":"'data Kbely'!A1001","v":"2017-12-17"},{"$f":"'data Kbely'!B1001","v":0.69999999999999929},12.3,0,13.3,0,14.3,0,15.3,0,16.3,0]
[{"$f":"'data Kbely'!A1002","v":"2017-12-18"},{"$f":"'data Kbely'!B1002","v":-2.7000000000000028},15.700000000000003,0,16.700000000000003,0,17.700000000000003,0,18.700000000000003,0,19.700000000000003,0]
[{"$f":"'data Kbely'!A1003","v":"2017-12-19"},{"$f":"'data Kbely'!B1003","v":-1.8999999999999986},14.899999999999999,0,15.899999999999999,0,16.899999999999999,0,17.899999999999999,0,18.899999999999999,0]
[{"$f":"'data Kbely'!A1004","v":"2017-12-20"},{"$f":"'data Kbely'!B1004","v":0.89999999999999858},12.100000000000001,0,13.100000000000001,0,14.100000000000001,0,15.100000000000001,0,16.100000000000001,0]
[{"$f":"'data Kbely'!A1005","v":"2017-12-21"},{"$f":"'data Kbely'!B1005","v":3.1999999999999993},9.8000000000000007,0,10.8,0,11.8,0,12.8,0,13.8,0]
[{"$f":"'data Kbely'!A1006","v":"2017-12-22"},{"$f":"'data Kbely'!B1006","v":4.8000000000000007},8.1999999999999993,0,9.1999999999999993,0,10.199999999999999,0,11.2,0,12.2,0]
[{"$f":"'data Kbely'!A1007","v":"2017-12-23"},{"$f":"'data Kbely'!B1007","v":5.5},7.5,0,8.5,0,9.5,0,10.5,0,11.5,0]
[{"$f":"'data Kbely'!A1008","v":"2017-12-24"},{"$f":"'data Kbely'!B1008","v":6.8999999999999986},6.1000000000000014,0,7.1000000000000014,0,8.1000000000000014,0,9.1000000000000014,0,10.100000000000001,0]
[{"$f":"'data Kbely'!A1009","v":"2017-12-25"},{"$f":"'data Kbely'!B1009","v":3.1000000000000014},9.8999999999999986,0,10.899999999999999,0,11.899999999999999,0,12.899999999999999,0,13.899999999999999,0]
[{"$f":"'data Kbely'!A1010","v":"2017-12-26"},{"$f":"'data Kbely'!B1010","v":-0.30000000000000071},13.3,0,14.3,0,15.3,0,16.3,0,17.3,0]
[{"$f":"'data Kbely'!A1011","v":"2017-12-27"},{"$f":"'data Kbely'!B1011","v":0.10000000000000142},12.899999999999999,0,13.899999999999999,0,14.899999999999999,0,15.899999999999999,0,16.899999999999999,0]
[{"$f":"'data Kbely'!A1012","v":"2017-12-28"},{"$f":"'data Kbely'!B1012","v":1.1999999999999993},11.8,0,12.8,0,13.8,0,14.8,0,15.8,0]
[{"$f":"'data Kbely'!A1013","v":"2017-12-29"},{"$f":"'data Kbely'!B1013","v":-0.60000000000000142},13.600000000000001,0,14.600000000000001,0,15.600000000000001,0,16.600000000000001,0,17.600000000000001,0]
[{"$f":"'data Kbely'!A1014","v":"2017-12-30"},{"$f":"'data Kbely'!B1014","v":1},12,0,13,0,14,0,15,0,16,0]
[{"$f":"'data Kbely'!A1015","v":"2017-12-31"},{"$f":"'data Kbely'!B1015","v":9.1000000000000014},3.8999999999999986,0,4.8999999999999986,0,5.8999999999999986,0,6.8999999999999986,0,7.8999999999999986,0]
[{"$f":"'data Kbely'!A1016","v":"2018-01-01"},{"$f":"'data Kbely'!B1016","v":6.1000000000000014},6.8999999999999986,0,7.8999999999999986,0,8.8999999999999986,0,9.8999999999999986,0,10.899999999999999,0]
[{"$f":"'data Kbely'!A1017","v":"2018-01-02"},{"$f":"'data Kbely'!B1017","v":4.1999999999999993},8.8000000000000007,0,9.8000000000000007,0,10.8,0,11.8,0,12.8,0]
[{"$f":"'data Kbely'!A1018","v":"2018-01-03"},{"$f":"'data Kbely'!B1018","v":3.8000000000000007},9.1999999999999993,0,10.199999999999999,0,11.2,0,12.2,0,13.2,0]
[{"$f":"'data Kbely'!A1019","v":"2018-01-04"},{"$f":"'data Kbely'!B1019","v":5.6000000000000014},7.3999999999999986,0,8.3999999999999986,0,9.3999999999999986,0,10.399999999999999,0,11.399999999999999,0]
[{"$f":"'data Kbely'!A1020","v":"2018-01-05"},{"$f":"'data Kbely'!B1020","v":7.3000000000000007},5.6999999999999993,0,6.6999999999999993,0,7.6999999999999993,0,8.6999999999999993,0,9.6999999999999993,0]
[{"$f":"'data Kbely'!A1021","v":"2018-01-06"},{"$f":"'data Kbely'!B1021","v":7.1999999999999993},5.8000000000000007,0,6.8000000000000007,0,7.8000000000000007,0,8.8000000000000007,0,9.8000000000000007,0]
[{"$f":"'data Kbely'!A1022","v":"2018-01-07"},{"$f":"'data Kbely'!B1022","v":4.3999999999999986},8.6000000000000014,0,9.6000000000000014,0,10.600000000000001,0,11.600000000000001,0,12.600000000000001,0]
[{"$f":"'data Kbely'!A1023","v":"2018-01-08"},{"$f":"'data Kbely'!B1023","v":2.8999999999999986},10.100000000000001,0,11.100000000000001,0,12.100000000000001,0,13.100000000000001,0,14.100000000000001,0]
[{"$f":"'data Kbely'!A1024","v":"2018-01-09"},{"$f":"'data Kbely'!B1024","v":6.5},6.5,0,7.5,0,8.5,0,9.5,0,10.5,0]
[{"$f":"'data Kbely'!A1025","v":"2018-01-10"},{"$f":"'data Kbely'!B1025","v":4.8999999999999986},8.1000000000000014,0,9.1000000000000014,0,10.100000000000001,0,11.100000000000001,0,12.100000000000001,0]
[{"$f":"'data Kbely'!A1026","v":"2018-01-11"},{"$f":"'data Kbely'!B1026","v":4.1000000000000014},8.8999999999999986,0,9.8999999999999986,0,10.899999999999999,0,11.899999999999999,0,12.899999999999999,0]
[{"$f":"'data Kbely'!A1027","v":"2018-01-12"},{"$f":"'data Kbely'!B1027","v":2.8999999999999986},10.100000000000001,0,11.100000000000001,0,12.100000000000001,0,13.100000000000001,0,14.100000000000001,0]
[{"$f":"'data Kbely'!A1028","v":"2018-01-13"},{"$f":"'data Kbely'!B1028","v":-0.30000000000000071},13.3,0,14.3,0,15.3,0,16.3,0,17.3,0]
[{"$f":"'data Kbely'!A1029","v":"2018-01-14"},{"$f":"'data Kbely'!B1029","v":-1},14,0,15,0,16,0,17,0,18,0]
[{"$f":"'data Kbely'!A1030","v":"2018-01-15"},{"$f":"'data Kbely'!B1030","v":-1.1000000000000014},14.100000000000001,0,15.100000000000001,0,16.100000000000001,0,17.100000000000001,0,18.100000000000001,0]
[{"$f":"'data Kbely'!A1031","v":"2018-01-16"},{"$f":"'data Kbely'!B1031","v":1.1999999999999993},11.8,0,12.8,0,13.8,0,14.8,0,15.8,0]
[{"$f":"'data Kbely'!A1032","v":"2018-01-17"},{"$f":"'data Kbely'!B1032","v":0.89999999999999858},12.100000000000001,0,13.100000000000001,0,14.100000000000001,0,15.100000000000001,0,16.100000000000001,0]
[{"$f":"'data Kbely'!A1033","v":"2018-01-18"},{"$f":"'data Kbely'!B1033","v":2.8999999999999986},10.100000000000001,0,11.100000000000001,0,12.100000000000001,0,13.100000000000001,0,14.100000000000001,0]
[{"$f":"'data Kbely'!A1034","v":"2018-01-19"},{"$f":"'data Kbely'!B1034","v":2},{"$f":"IF(C$2>$B1034,C$2-$B1034,0)","v":11},{"$f":"IF(D$2<$B1034,D$2-$B1034,0)","v":0},{"$f":"IF(E$2>$B1034,E$2-$B1034,0)","v":12},{"$f":"IF(F$2<$B1034,F$2-$B1034,0)","v":0},{"$f":"IF(G$2>$B1034,G$2-$B1034,0)","v":13},{"$f":"IF(H$2<$B1034,H$2-$B1034,0)","v":0},{"$f":"IF(I$2>$B1034,I$2-$B1034,0)","v":14},{"$f":"IF(J$2<$B1034,J$2-$B1034,0)","v":0},{"$f":"IF(K$2>$B1034,K$2-$B1034,0)","v":15},{"$f":"IF(L$2<$B1034,L$2-$B1034,0)","v":0}]
[{"$f":"'data Kbely'!A1035","v":"2018-01-20"},{"$f":"'data Kbely'!B1035","v":0.5},12.5,0,13.5,0,14.5,0,15.5,0,16.5,0]
[{"$f":"'data Kbely'!A1036","v":"2018-01-21"},{"$f":"'data Kbely'!B1036","v":-0.5},13.5,0,14.5,0,15.5,0,16.5,0,17.5,0]
[{"$f":"'data Kbely'!A1037","v":"2018-01-22"},{"$f":"'data Kbely'!B1037","v":-1.3999999999999986},14.399999999999999,0,15.399999999999999,0,16.399999999999999,0,17.399999999999999,0,18.399999999999999,0]
[{"$f":"'data Kbely'!A1038","v":"2018-01-23"},{"$f":"'data Kbely'!B1038","v":3},10,0,11,0,12,0,13,0,14,0]
[{"$f":"'data Kbely'!A1039","v":"2018-01-24"},{"$f":"'data Kbely'!B1039","v":5.8000000000000007},7.1999999999999993,0,8.1999999999999993,0,9.1999999999999993,0,10.199999999999999,0,11.2,0]
[{"$f":"'data Kbely'!A1040","v":"2018-01-25"},{"$f":"'data Kbely'!B1040","v":4.3000000000000007},8.6999999999999993,0,9.6999999999999993,0,10.7,0,11.7,0,12.7,0]
[{"$f":"'data Kbely'!A1041","v":"2018-01-26"},{"$f":"'data Kbely'!B1041","v":1.5},11.5,0,12.5,0,13.5,0,14.5,0,15.5,0]
[{"$f":"'data Kbely'!A1042","v":"2018-01-27"},{"$f":"'data Kbely'!B1042","v":1.6000000000000014},11.399999999999999,0,12.399999999999999,0,13.399999999999999,0,14.399999999999999,0,15.399999999999999,0]
[{"$f":"'data Kbely'!A1043","v":"2018-01-28"},{"$f":"'data Kbely'!B1043","v":5.8999999999999986},7.1000000000000014,0,8.1000000000000014,0,9.1000000000000014,0,10.100000000000001,0,11.100000000000001,0]
[{"$f":"'data Kbely'!A1044","v":"2018-01-29"},{"$f":"'data Kbely'!B1044","v":8.1000000000000014},4.8999999999999986,0,5.8999999999999986,0,6.8999999999999986,0,7.8999999999999986,0,8.8999999999999986,0]
[{"$f":"'data Kbely'!A1045","v":"2018-01-30"},{"$f":"'data Kbely'!B1045","v":4.3999999999999986},8.6000000000000014,0,9.6000000000000014,0,10.600000000000001,0,11.600000000000001,0,12.600000000000001,0]
[{"$f":"'data Kbely'!A1046","v":"2018-01-31"},{"$f":"'data Kbely'!B1046","v":4.5},8.5,0,9.5,0,10.5,0,11.5,0,12.5,0]
[{"$f":"'data Kbely'!A1047","v":"2018-02-01"},{"$f":"'data Kbely'!B1047","v":4.6000000000000014},8.3999999999999986,0,9.3999999999999986,0,10.399999999999999,0,11.399999999999999,0,12.399999999999999,0]
[{"$f":"'data Kbely'!A1048","v":"2018-02-02"},{"$f":"'data Kbely'!B1048","v":2.1000000000000014},10.899999999999999,0,11.899999999999999,0,12.899999999999999,0,13.899999999999999,0,14.899999999999999,0]
[{"$f":"'data Kbely'!A1049","v":"2018-02-03"},{"$f":"'data Kbely'!B1049","v":1.8999999999999986},11.100000000000001,0,12.100000000000001,0,13.100000000000001,0,14.100000000000001,0,15.100000000000001,0]
[{"$f":"'data Kbely'!A1050","v":"2018-02-04"},{"$f":"'data Kbely'!B1050","v":0.10000000000000142},12.899999999999999,0,13.899999999999999,0,14.899999999999999,0,15.899999999999999,0,16.899999999999999,0]
[{"$f":"'data Kbely'!A1051","v":"2018-02-05"},{"$f":"'data Kbely'!B1051","v":-2},15,0,16,0,17,0,18,0,19,0]
[{"$f":"'data Kbely'!A1052","v":"2018-02-06"},{"$f":"'data Kbely'!B1052","v":-3.6000000000000014},16.600000000000001,0,17.600000000000001,0,18.600000000000001,0,19.600000000000001,0,20.6,0]
[{"$f":"'data Kbely'!A1053","v":"2018-02-07"},{"$f":"'data Kbely'!B1053","v":-0.69999999999999929},13.7,0,14.7,0,15.7,0,16.7,0,17.7,0]
[{"$f":"'data Kbely'!A1054","v":"2018-02-08"},{"$f":"'data Kbely'!B1054","v":-0.89999999999999858},13.899999999999999,0,14.899999999999999,0,15.899999999999999,0,16.899999999999999,0,17.899999999999999,0]
[{"$f":"'data Kbely'!A1055","v":"2018-02-09"},{"$f":"'data Kbely'!B1055","v":-1.6999999999999993},14.7,0,15.7,0,16.7,0,17.7,0,18.7,0]
[{"$f":"'data Kbely'!A1056","v":"2018-02-10"},{"$f":"'data Kbely'!B1056","v":-0.80000000000000071},13.8,0,14.8,0,15.8,0,16.8,0,17.8,0]
[{"$f":"'data Kbely'!A1057","v":"2018-02-11"},{"$f":"'data Kbely'!B1057","v":2.1000000000000014},10.899999999999999,0,11.899999999999999,0,12.899999999999999,0,13.899999999999999,0,14.899999999999999,0]
[{"$f":"'data Kbely'!A1058","v":"2018-02-12"},{"$f":"'data Kbely'!B1058","v":1.8000000000000007},11.2,0,12.2,0,13.2,0,14.2,0,15.2,0]
[{"$f":"'data Kbely'!A1059","v":"2018-02-13"},{"$f":"'data Kbely'!B1059","v":-0.80000000000000071},13.8,0,14.8,0,15.8,0,16.8,0,17.8,0]
[{"$f":"'data Kbely'!A1060","v":"2018-02-14"},{"$f":"'data Kbely'!B1060","v":-2.2000000000000028},15.200000000000003,0,16.200000000000003,0,17.200000000000003,0,18.200000000000003,0,19.200000000000003,0]
[{"$f":"'data Kbely'!A1061","v":"2018-02-15"},{"$f":"'data Kbely'!B1061","v":-1.1999999999999993},14.2,0,15.2,0,16.2,0,17.2,0,18.2,0]
[{"$f":"'data Kbely'!A1062","v":"2018-02-16"},{"$f":"'data Kbely'!B1062","v":2.1999999999999993},10.8,0,11.8,0,12.8,0,13.8,0,14.8,0]
[{"$f":"'data Kbely'!A1063","v":"2018-02-17"},{"$f":"'data Kbely'!B1063","v":-1.1000000000000014},14.100000000000001,0,15.100000000000001,0,16.100000000000001,0,17.100000000000001,0,18.100000000000001,0]
[{"$f":"'data Kbely'!A1064","v":"2018-02-18"},{"$f":"'data Kbely'!B1064","v":0},13,0,14,0,15,0,16,0,17,0]
[{"$f":"'data Kbely'!A1065","v":"2018-02-19"},{"$f":"'data Kbely'!B1065","v":-1.3999999999999986},14.399999999999999,0,15.399999999999999,0,16.399999999999999,0,17.399999999999999,0,18.399999999999999,0]
[{"$f":"'data Kbely'!A1066","v":"2018-02-20"},{"$f":"'data Kbely'!B1066","v":-1.6000000000000014},14.600000000000001,0,15.600000000000001,0,16.600000000000001,0,17.600000000000001,0,18.600000000000001,0]
[{"$f":"'data Kbely'!A1067","v":"2018-02-21"},{"$f":"'data Kbely'!B1067","v":-1.5},14.5,0,15.5,0,16.5,0,17.5,0,18.5,0]
[{"$f":"'data Kbely'!A1068","v":"2018-02-22"},{"$f":"'data Kbely'!B1068","v":-3},16,0,17,0,18,0,19,0,20,0]
[{"$f":"'data Kbely'!A1069","v":"2018-02-23"},{"$f":"'data Kbely'!B1069","v":-4.2000000000000028},17.200000000000003,0,18.200000000000003,0,19.200000000000003,0,20.200000000000003,0,21.200000000000003,0]
[{"$f":"'data Kbely'!A1070","v":"2018-02-24"},{"$f":"'data Kbely'!B1070","v":-5.8999999999999986},18.899999999999999,0,19.899999999999999,0,20.9,0,21.9,0,22.9,0]
[{"$f":"'data Kbely'!A1071","v":"2018-02-25"},{"$f":"'data Kbely'!B1071","v":-8.7000000000000028},21.700000000000003,0,22.700000000000003,0,23.700000000000003,0,24.700000000000003,0,25.700000000000003,0]
[{"$f":"'data Kbely'!A1072","v":"2018-02-26"},{"$f":"'data Kbely'!B1072","v":-9.7999999999999972},22.799999999999997,0,23.799999999999997,0,24.799999999999997,0,25.799999999999997,0,26.799999999999997,0]
[{"$f":"'data Kbely'!A1073","v":"2018-02-27"},{"$f":"'data Kbely'!B1073","v":-11},24,0,25,0,26,0,27,0,28,0]
[{"$f":"'data Kbely'!A1074","v":"2018-02-28"},{"$f":"'data Kbely'!B1074","v":-10.399999999999999},23.4,0,24.4,0,25.4,0,26.4,0,27.4,0]
[{"$f":"'data Kbely'!A1075","v":"2018-03-01"},{"$f":"'data Kbely'!B1075","v":-9.1000000000000014},22.1,0,23.1,0,24.1,0,25.1,0,26.1,0]
[{"$f":"'data Kbely'!A1076","v":"2018-03-02"},{"$f":"'data Kbely'!B1076","v":-6.2000000000000028},19.200000000000003,0,20.200000000000003,0,21.200000000000003,0,22.200000000000003,0,23.200000000000003,0]
[{"$f":"'data Kbely'!A1077","v":"2018-03-03"},{"$f":"'data Kbely'!B1077","v":-5.1000000000000014},18.100000000000001,0,19.100000000000001,0,20.100000000000001,0,21.1,0,22.1,0]
[{"$f":"'data Kbely'!A1078","v":"2018-03-04"},{"$f":"'data Kbely'!B1078","v":-4.3999999999999986},17.399999999999999,0,18.399999999999999,0,19.399999999999999,0,20.399999999999999,0,21.4,0]
[{"$f":"'data Kbely'!A1079","v":"2018-03-05"},{"$f":"'data Kbely'!B1079","v":-1.1999999999999993},14.2,0,15.2,0,16.2,0,17.2,0,18.2,0]
[{"$f":"'data Kbely'!A1080","v":"2018-03-06"},{"$f":"'data Kbely'!B1080","v":-0.39999999999999858},13.399999999999999,0,14.399999999999999,0,15.399999999999999,0,16.399999999999999,0,17.399999999999999,0]
[{"$f":"'data Kbely'!A1081","v":"2018-03-07"},{"$f":"'data Kbely'!B1081","v":3.1999999999999993},9.8000000000000007,0,10.8,0,11.8,0,12.8,0,13.8,0]
[{"$f":"'data Kbely'!A1082","v":"2018-03-08"},{"$f":"'data Kbely'!B1082","v":5.1999999999999993},7.8000000000000007,0,8.8000000000000007,0,9.8000000000000007,0,10.8,0,11.8,0]
[{"$f":"'data Kbely'!A1083","v":"2018-03-09"},{"$f":"'data Kbely'!B1083","v":5.1999999999999993},7.8000000000000007,0,8.8000000000000007,0,9.8000000000000007,0,10.8,0,11.8,0]
[{"$f":"'data Kbely'!A1084","v":"2018-03-10"},{"$f":"'data Kbely'!B1084","v":7.5},5.5,0,6.5,0,7.5,0,8.5,0,9.5,0]
[{"$f":"'data Kbely'!A1085","v":"2018-03-11"},{"$f":"'data Kbely'!B1085","v":10.199999999999999},2.8000000000000007,0,3.8000000000000007,0,4.8000000000000007,0,5.8000000000000007,0,6.8000000000000007,0]
[{"$f":"'data Kbely'!A1086","v":"2018-03-12"},{"$f":"'data Kbely'!B1086","v":7.3999999999999986},5.6000000000000014,0,6.6000000000000014,0,7.6000000000000014,0,8.6000000000000014,0,9.6000000000000014,0]
[{"$f":"'data Kbely'!A1087","v":"2018-03-13"},{"$f":"'data Kbely'!B1087","v":8.6999999999999993},4.3000000000000007,0,5.3000000000000007,0,6.3000000000000007,0,7.3000000000000007,0,8.3000000000000007,0]
[{"$f":"'data Kbely'!A1088","v":"2018-03-14"},{"$f":"'data Kbely'!B1088","v":4.6000000000000014},8.3999999999999986,0,9.3999999999999986,0,10.399999999999999,0,11.399999999999999,0,12.399999999999999,0]
[{"$f":"'data Kbely'!A1089","v":"2018-03-15"},{"$f":"'data Kbely'!B1089","v":5.3000000000000007},7.6999999999999993,0,8.6999999999999993,0,9.6999999999999993,0,10.7,0,11.7,0]
[{"$f":"'data Kbely'!A1090","v":"2018-03-16"},{"$f":"'data Kbely'!B1090","v":3.1999999999999993},9.8000000000000007,0,10.8,0,11.8,0,12.8,0,13.8,0]
[{"$f":"'data Kbely'!A1091","v":"2018-03-17"},{"$f":"'data Kbely'!B1091","v":-3.8999999999999986},16.899999999999999,0,17.899999999999999,0,18.899999999999999,0,19.899999999999999,0,20.9,0]
[{"$f":"'data Kbely'!A1092","v":"2018-03-18"},{"$f":"'data Kbely'!B1092","v":-5.2999999999999972},18.299999999999997,0,19.299999999999997,0,20.299999999999997,0,21.299999999999997,0,22.299999999999997,0]
[{"$f":"'data Kbely'!A1093","v":"2018-03-19"},{"$f":"'data Kbely'!B1093","v":-5.2999999999999972},18.299999999999997,0,19.299999999999997,0,20.299999999999997,0,21.299999999999997,0,22.299999999999997,0]
[{"$f":"'data Kbely'!A1094","v":"2018-03-20"},{"$f":"'data Kbely'!B1094","v":-1.1000000000000014},14.100000000000001,0,15.100000000000001,0,16.100000000000001,0,17.100000000000001,0,18.100000000000001,0]
[{"$f":"'data Kbely'!A1095","v":"2018-03-21"},{"$f":"'data Kbely'!B1095","v":-0.19999999999999929},13.2,0,14.2,0,15.2,0,16.2,0,17.2,0]
[{"$f":"'data Kbely'!A1096","v":"2018-03-22"},{"$f":"'data Kbely'!B1096","v":0.5},12.5,0,13.5,0,14.5,0,15.5,0,16.5,0]
[{"$f":"'data Kbely'!A1097","v":"2018-03-23"},{"$f":"'data Kbely'!B1097","v":2.3999999999999986},10.600000000000001,0,11.600000000000001,0,12.600000000000001,0,13.600000000000001,0,14.600000000000001,0]
[{"$f":"'data Kbely'!A1098","v":"2018-03-24"},{"$f":"'data Kbely'!B1098","v":3},{"$f":"IF(C$2>$B1098,C$2-$B1098,0)","v":10},{"$f":"IF(D$2<$B1098,D$2-$B1098,0)","v":0},{"$f":"IF(E$2>$B1098,E$2-$B1098,0)","v":11},{"$f":"IF(F$2<$B1098,F$2-$B1098,0)","v":0},{"$f":"IF(G$2>$B1098,G$2-$B1098,0)","v":12},{"$f":"IF(H$2<$B1098,H$2-$B1098,0)","v":0},{"$f":"IF(I$2>$B1098,I$2-$B1098,0)","v":13},{"$f":"IF(J$2<$B1098,J$2-$B1098,0)","v":0},{"$f":"IF(K$2>$B1098,K$2-$B1098,0)","v":14},{"$f":"IF(L$2<$B1098,L$2-$B1098,0)","v":0}]
[{"$f":"'data Kbely'!A1099","v":"2018-03-25"},{"$f":"'data Kbely'!B1099","v":3.1999999999999993},9.8000000000000007,0,10.8,0,11.8,0,12.8,0,13.8,0]
[{"$f":"'data Kbely'!A1100","v":"2018-03-26"},{"$f":"'data Kbely'!B1100","v":2.8000000000000007},10.199999999999999,0,11.2,0,12.2,0,13.2,0,14.2,0]
[{"$f":"'data Kbely'!A1101","v":"2018-03-27"},{"$f":"'data Kbely'!B1101","v":4.3999999999999986},8.6000000000000014,0,9.6000000000000014,0,10.600000000000001,0,11.600000000000001,0,12.600000000000001,0]
[{"$f":"'data Kbely'!A1102","v":"2018-03-28"},{"$f":"'data Kbely'!B1102","v":4.6999999999999993},8.3000000000000007,0,9.3000000000000007,0,10.3,0,11.3,0,12.3,0]
[{"$f":"'data Kbely'!A1103","v":"2018-03-29"},{"$f":"'data Kbely'!B1103","v":6.5},6.5,0,7.5,0,8.5,0,9.5,0,10.5,0]
[{"$f":"'data Kbely'!A1104","v":"2018-03-30"},{"$f":"'data Kbely'!B1104","v":6.1999999999999993},6.8000000000000007,0,7.8000000000000007,0,8.8000000000000007,0,9.8000000000000007,0,10.8,0]
[{"$f":"'data Kbely'!A1105","v":"2018-03-31"},{"$f":"'data Kbely'!B1105","v":7},6,0,7,0,8,0,9,0,10,0]
[{"$f":"'data Kbely'!A1106","v":"2018-04-01"},{"$f":"'data Kbely'!B1106","v":5.8000000000000007},7.1999999999999993,0,8.1999999999999993,0,9.1999999999999993,0,10.199999999999999,0,11.2,0]
[{"$f":"'data Kbely'!A1107","v":"2018-04-02"},{"$f":"'data Kbely'!B1107","v":6.1999999999999993},6.8000000000000007,0,7.8000000000000007,0,8.8000000000000007,0,9.8000000000000007,0,10.8,0]
[{"$f":"'data Kbely'!A1108","v":"2018-04-03"},{"$f":"'data Kbely'!B1108","v":12.3},0.69999999999999929,0,1.6999999999999993,0,2.6999999999999993,0,3.6999999999999993,0,4.6999999999999993,0]
[{"$f":"'data Kbely'!A1109","v":"2018-04-04"},{"$f":"'data Kbely'!B1109","v":12.8},0.19999999999999929,0,1.1999999999999993,0,2.1999999999999993,0,3.1999999999999993,0,4.1999999999999993,0]
[{"$f":"'data Kbely'!A1110","v":"2018-04-05"},{"$f":"'data Kbely'!B1110","v":11.7},1.3000000000000007,0,2.3000000000000007,0,3.3000000000000007,0,4.3000000000000007,0,5.3000000000000007,0]
[{"$f":"'data Kbely'!A1111","v":"2018-04-06"},{"$f":"'data Kbely'!B1111","v":6.3999999999999986},6.6000000000000014,0,7.6000000000000014,0,8.6000000000000014,0,9.6000000000000014,0,10.600000000000001,0]
[{"$f":"'data Kbely'!A1112","v":"2018-04-07"},{"$f":"'data Kbely'!B1112","v":9.5},3.5,0,4.5,0,5.5,0,6.5,0,7.5,0]
[{"$f":"'data Kbely'!A1113","v":"2018-04-08"},{"$f":"'data Kbely'!B1113","v":8.8000000000000007},4.1999999999999993,0,5.1999999999999993,0,6.1999999999999993,0,7.1999999999999993,0,8.1999999999999993,0]
[{"$f":"'data Kbely'!A1114","v":"2018-04-09"},{"$f":"'data Kbely'!B1114","v":11.100000000000001},1.8999999999999986,0,2.8999999999999986,0,3.8999999999999986,0,4.8999999999999986,0,5.8999999999999986,0]
[{"$f":"'data Kbely'!A1115","v":"2018-04-10"},{"$f":"'data Kbely'!B1115","v":15},0,-2,0,-1,0,0,1,0,2,0]
[{"$f":"'data Kbely'!A1116","v":"2018-04-11"},{"$f":"'data Kbely'!B1116","v":14.2},0,-1.1999999999999993,0,-0.19999999999999929,0.80000000000000071,0,1.8000000000000007,0,2.8000000000000007,0]
[{"$f":"'data Kbely'!A1117","v":"2018-04-12"},{"$f":"'data Kbely'!B1117","v":17.100000000000001},0,-4.1000000000000014,0,-3.1000000000000014,0,-2.1000000000000014,0,-1.1000000000000014,0,-0.10000000000000142]
[{"$f":"'data Kbely'!A1118","v":"2018-04-13"},{"$f":"'data Kbely'!B1118","v":14.6},0,-1.5999999999999996,0,-0.59999999999999964,0.40000000000000036,0,1.4000000000000004,0,2.4000000000000004,0]
[{"$f":"'data Kbely'!A1119","v":"2018-04-14"},{"$f":"'data Kbely'!B1119","v":13.7},0,-0.69999999999999929,0.30000000000000071,0,1.3000000000000007,0,2.3000000000000007,0,3.3000000000000007,0]
[{"$f":"'data Kbely'!A1120","v":"2018-04-15"},{"$f":"'data Kbely'!B1120","v":14.4},0,-1.4000000000000004,0,-0.40000000000000036,0.59999999999999964,0,1.5999999999999996,0,2.5999999999999996,0]
[{"$f":"'data Kbely'!A1121","v":"2018-04-16"},{"$f":"'data Kbely'!B1121","v":13.7},0,-0.69999999999999929,0.30000000000000071,0,1.3000000000000007,0,2.3000000000000007,0,3.3000000000000007,0]
[{"$f":"'data Kbely'!A1122","v":"2018-04-17"},{"$f":"'data Kbely'!B1122","v":13.8},0,-0.80000000000000071,0.19999999999999929,0,1.1999999999999993,0,2.1999999999999993,0,3.1999999999999993,0]
[{"$f":"'data Kbely'!A1123","v":"2018-04-18"},{"$f":"'data Kbely'!B1123","v":13.8},0,-0.80000000000000071,0.19999999999999929,0,1.1999999999999993,0,2.1999999999999993,0,3.1999999999999993,0]
[{"$f":"'data Kbely'!A1124","v":"2018-04-19"},{"$f":"'data Kbely'!B1124","v":15.8},0,-2.8000000000000007,0,-1.8000000000000007,0,-0.80000000000000071,0.19999999999999929,0,1.1999999999999993,0]
[{"$f":"'data Kbely'!A1125","v":"2018-04-20"},{"$f":"'data Kbely'!B1125","v":18.100000000000001},0,-5.1000000000000014,0,-4.1000000000000014,0,-3.1000000000000014,0,-2.1000000000000014,0,-1.1000000000000014]
[{"$f":"'data Kbely'!A1126","v":"2018-04-21"},{"$f":"'data Kbely'!B1126","v":18.399999999999999},0,-5.3999999999999986,0,-4.3999999999999986,0,-3.3999999999999986,0,-2.3999999999999986,0,-1.3999999999999986]
[{"$f":"'data Kbely'!A1127","v":"2018-04-22"},{"$f":"'data Kbely'!B1127","v":18.2},0,-5.1999999999999993,0,-4.1999999999999993,0,-3.1999999999999993,0,-2.1999999999999993,0,-1.1999999999999993]
[{"$f":"'data Kbely'!A1128","v":"2018-04-23"},{"$f":"'data Kbely'!B1128","v":17},0,-4,0,-3,0,-2,0,-1,0,0]
[{"$f":"'data Kbely'!A1129","v":"2018-04-24"},{"$f":"'data Kbely'!B1129","v":16.100000000000001},0,-3.1000000000000014,0,-2.1000000000000014,0,-1.1000000000000014,0,-0.10000000000000142,0.89999999999999858,0]
[{"$f":"'data Kbely'!A1130","v":"2018-04-25"},{"$f":"'data Kbely'!B1130","v":15.9},0,-2.9000000000000004,0,-1.9000000000000004,0,-0.90000000000000036,9.9999999999999645E-2,0,1.0999999999999996,0]
[{"$f":"'data Kbely'!A1131","v":"2018-04-26"},{"$f":"'data Kbely'!B1131","v":12.7},0.30000000000000071,0,1.3000000000000007,0,2.3000000000000007,0,3.3000000000000007,0,4.3000000000000007,0]
[{"$f":"'data Kbely'!A1132","v":"2018-04-27"},{"$f":"'data Kbely'!B1132","v":11.5},1.5,0,2.5,0,3.5,0,4.5,0,5.5,0]
[{"$f":"'data Kbely'!A1133","v":"2018-04-28"},{"$f":"'data Kbely'!B1133","v":15.6},0,-2.5999999999999996,0,-1.5999999999999996,0,-0.59999999999999964,0.40000000000000036,0,1.4000000000000004,0]
[{"$f":"'data Kbely'!A1134","v":"2018-04-29"},{"$f":"'data Kbely'!B1134","v":18.5},0,-5.5,0,-4.5,0,-3.5,0,-2.5,0,-1.5]
[{"$f":"'data Kbely'!A1135","v":"2018-04-30"},{"$f":"'data Kbely'!B1135","v":18.3},0,-5.3000000000000007,0,-4.3000000000000007,0,-3.3000000000000007,0,-2.3000000000000007,0,-1.3000000000000007]
[{"$f":"'data Kbely'!A1136","v":"2018-05-01"},{"$f":"'data Kbely'!B1136","v":14.6},0,-1.5999999999999996,0,-0.59999999999999964,0.40000000000000036,0,1.4000000000000004,0,2.4000000000000004,0]
[{"$f":"'data Kbely'!A1137","v":"2018-05-02"},{"$f":"'data Kbely'!B1137","v":15.6},0,-2.5999999999999996,0,-1.5999999999999996,0,-0.59999999999999964,0.40000000000000036,0,1.4000000000000004,0]
[{"$f":"'data Kbely'!A1138","v":"2018-05-03"},{"$f":"'data Kbely'!B1138","v":15.3},0,-2.3000000000000007,0,-1.3000000000000007,0,-0.30000000000000071,0.69999999999999929,0,1.6999999999999993,0]
[{"$f":"'data Kbely'!A1139","v":"2018-05-04"},{"$f":"'data Kbely'!B1139","v":14.6},0,-1.5999999999999996,0,-0.59999999999999964,0.40000000000000036,0,1.4000000000000004,0,2.4000000000000004,0]
[{"$f":"'data Kbely'!A1140","v":"2018-05-05"},{"$f":"'data Kbely'!B1140","v":14.4},0,-1.4000000000000004,0,-0.40000000000000036,0.59999999999999964,0,1.5999999999999996,0,2.5999999999999996,0]
[{"$f":"'data Kbely'!A1141","v":"2018-05-06"},{"$f":"'data Kbely'!B1141","v":14.3},0,-1.3000000000000007,0,-0.30000000000000071,0.69999999999999929,0,1.6999999999999993,0,2.6999999999999993,0]
[{"$f":"'data Kbely'!A1142","v":"2018-05-07"},{"$f":"'data Kbely'!B1142","v":16.100000000000001},0,-3.1000000000000014,0,-2.1000000000000014,0,-1.1000000000000014,0,-0.10000000000000142,0.89999999999999858,0]
[{"$f":"'data Kbely'!A1143","v":"2018-05-08"},{"$f":"'data Kbely'!B1143","v":17.3},0,-4.3000000000000007,0,-3.3000000000000007,0,-2.3000000000000007,0,-1.3000000000000007,0,-0.30000000000000071]
[{"$f":"'data Kbely'!A1144","v":"2018-05-09"},{"$f":"'data Kbely'!B1144","v":17.5},0,-4.5,0,-3.5,0,-2.5,0,-1.5,0,-0.5]
[{"$f":"'data Kbely'!A1145","v":"2018-05-10"},{"$f":"'data Kbely'!B1145","v":18.2},0,-5.1999999999999993,0,-4.1999999999999993,0,-3.1999999999999993,0,-2.1999999999999993,0,-1.1999999999999993]
[{"$f":"'data Kbely'!A1146","v":"2018-05-11"},{"$f":"'data Kbely'!B1146","v":16.600000000000001},0,-3.6000000000000014,0,-2.6000000000000014,0,-1.6000000000000014,0,-0.60000000000000142,0.39999999999999858,0]
[{"$f":"'data Kbely'!A1147","v":"2018-05-12"},{"$f":"'data Kbely'!B1147","v":17.5},0,-4.5,0,-3.5,0,-2.5,0,-1.5,0,-0.5]
[{"$f":"'data Kbely'!A1148","v":"2018-05-13"},{"$f":"'data Kbely'!B1148","v":18.8},0,-5.8000000000000007,0,-4.8000000000000007,0,-3.8000000000000007,0,-2.8000000000000007,0,-1.8000000000000007]
[{"$f":"'data Kbely'!A1149","v":"2018-05-14"},{"$f":"'data Kbely'!B1149","v":17.3},0,-4.3000000000000007,0,-3.3000000000000007,0,-2.3000000000000007,0,-1.3000000000000007,0,-0.30000000000000071]
[{"$f":"'data Kbely'!A1150","v":"2018-05-15"},{"$f":"'data Kbely'!B1150","v":14},0,-1,0,0,1,0,2,0,3,0]
[{"$f":"'data Kbely'!A1151","v":"2018-05-16"},{"$f":"'data Kbely'!B1151","v":12.3},0.69999999999999929,0,1.6999999999999993,0,2.6999999999999993,0,3.6999999999999993,0,4.6999999999999993,0]
[{"$f":"'data Kbely'!A1152","v":"2018-05-17"},{"$f":"'data Kbely'!B1152","v":13.600000000000001},0,-0.60000000000000142,0.39999999999999858,0,1.3999999999999986,0,2.3999999999999986,0,3.3999999999999986,0]
[{"$f":"'data Kbely'!A1153","v":"2018-05-18"},{"$f":"'data Kbely'!B1153","v":14.3},0,-1.3000000000000007,0,-0.30000000000000071,0.69999999999999929,0,1.6999999999999993,0,2.6999999999999993,0]
[{"$f":"'data Kbely'!A1154","v":"2018-05-19"},{"$f":"'data Kbely'!B1154","v":14},0,-1,0,0,1,0,2,0,3,0]
[{"$f":"'data Kbely'!A1155","v":"2018-05-20"},{"$f":"'data Kbely'!B1155","v":15.7},0,-2.6999999999999993,0,-1.6999999999999993,0,-0.69999999999999929,0.30000000000000071,0,1.3000000000000007,0]
[{"$f":"'data Kbely'!A1156","v":"2018-05-21"},{"$f":"'data Kbely'!B1156","v":16.399999999999999},0,-3.3999999999999986,0,-2.3999999999999986,0,-1.3999999999999986,0,-0.39999999999999858,0.60000000000000142,0]
[{"$f":"'data Kbely'!A1157","v":"2018-05-22"},{"$f":"'data Kbely'!B1157","v":17.399999999999999},0,-4.3999999999999986,0,-3.3999999999999986,0,-2.3999999999999986,0,-1.3999999999999986,0,-0.39999999999999858]
[{"$f":"'data Kbely'!A1158","v":"2018-05-23"},{"$f":"'data Kbely'!B1158","v":18.5},0,-5.5,0,-4.5,0,-3.5,0,-2.5,0,-1.5]
[{"$f":"'data Kbely'!A1159","v":"2018-05-24"},{"$f":"'data Kbely'!B1159","v":19.399999999999999},0,-6.3999999999999986,0,-5.3999999999999986,0,-4.3999999999999986,0,-3.3999999999999986,0,-2.3999999999999986]
[{"$f":"'data Kbely'!A1160","v":"2018-05-25"},{"$f":"'data Kbely'!B1160","v":19.600000000000001},0,-6.6000000000000014,0,-5.6000000000000014,0,-4.6000000000000014,0,-3.6000000000000014,0,-2.6000000000000014]
[{"$f":"'data Kbely'!A1161","v":"2018-05-26"},{"$f":"'data Kbely'!B1161","v":20.100000000000001},0,-7.1000000000000014,0,-6.1000000000000014,0,-5.1000000000000014,0,-4.1000000000000014,0,-3.1000000000000014]
[{"$f":"'data Kbely'!A1162","v":"2018-05-27"},{"$f":"'data Kbely'!B1162","v":21.4},{"$f":"IF(C$2>$B1162,C$2-$B1162,0)","v":0},{"$f":"IF(D$2<$B1162,D$2-$B1162,0)","v":-8.3999999999999986},{"$f":"IF(E$2>$B1162,E$2-$B1162,0)","v":0},{"$f":"IF(F$2<$B1162,F$2-$B1162,0)","v":-7.3999999999999986},{"$f":"IF(G$2>$B1162,G$2-$B1162,0)","v":0},{"$f":"IF(H$2<$B1162,H$2-$B1162,0)","v":-6.3999999999999986},{"$f":"IF(I$2>$B1162,I$2-$B1162,0)","v":0},{"$f":"IF(J$2<$B1162,J$2-$B1162,0)","v":-5.3999999999999986},{"$f":"IF(K$2>$B1162,K$2-$B1162,0)","v":0},{"$f":"IF(L$2<$B1162,L$2-$B1162,0)","v":-4.3999999999999986}]
[{"$f":"'data Kbely'!A1163","v":"2018-05-28"},{"$f":"'data Kbely'!B1163","v":23.1},0,-10.100000000000001,0,-9.1000000000000014,0,-8.1000000000000014,0,-7.1000000000000014,0,-6.1000000000000014]
[{"$f":"'data Kbely'!A1164","v":"2018-05-29"},{"$f":"'data Kbely'!B1164","v":23.5},0,-10.5,0,-9.5,0,-8.5,0,-7.5,0,-6.5]
[{"$f":"'data Kbely'!A1165","v":"2018-05-30"},{"$f":"'data Kbely'!B1165","v":20.7},0,-7.6999999999999993,0,-6.6999999999999993,0,-5.6999999999999993,0,-4.6999999999999993,0,-3.6999999999999993]
[{"$f":"'data Kbely'!A1166","v":"2018-05-31"},{"$f":"'data Kbely'!B1166","v":22.9},0,-9.8999999999999986,0,-8.8999999999999986,0,-7.8999999999999986,0,-6.8999999999999986,0,-5.8999999999999986]
[{"$f":"'data Kbely'!A1167","v":"2018-06-01"},{"$f":"'data Kbely'!B1167","v":20.7},0,-7.6999999999999993,0,-6.6999999999999993,0,-5.6999999999999993,0,-4.6999999999999993,0,-3.6999999999999993]
[{"$f":"'data Kbely'!A1168","v":"2018-06-02"},{"$f":"'data Kbely'!B1168","v":21.1},0,-8.1000000000000014,0,-7.1000000000000014,0,-6.1000000000000014,0,-5.1000000000000014,0,-4.1000000000000014]
[{"$f":"'data Kbely'!A1169","v":"2018-06-03"},{"$f":"'data Kbely'!B1169","v":21.2},0,-8.1999999999999993,0,-7.1999999999999993,0,-6.1999999999999993,0,-5.1999999999999993,0,-4.1999999999999993]
[{"$f":"'data Kbely'!A1170","v":"2018-06-04"},{"$f":"'data Kbely'!B1170","v":21.2},0,-8.1999999999999993,0,-7.1999999999999993,0,-6.1999999999999993,0,-5.1999999999999993,0,-4.1999999999999993]
[{"$f":"'data Kbely'!A1171","v":"2018-06-05"},{"$f":"'data Kbely'!B1171","v":20.7},0,-7.6999999999999993,0,-6.6999999999999993,0,-5.6999999999999993,0,-4.6999999999999993,0,-3.6999999999999993]
[{"$f":"'data Kbely'!A1172","v":"2018-06-06"},{"$f":"'data Kbely'!B1172","v":20},0,-7,0,-6,0,-5,0,-4,0,-3]
[{"$f":"'data Kbely'!A1173","v":"2018-06-07"},{"$f":"'data Kbely'!B1173","v":20.8},0,-7.8000000000000007,0,-6.8000000000000007,0,-5.8000000000000007,0,-4.8000000000000007,0,-3.8000000000000007]
[{"$f":"'data Kbely'!A1174","v":"2018-06-08"},{"$f":"'data Kbely'!B1174","v":22.8},0,-9.8000000000000007,0,-8.8000000000000007,0,-7.8000000000000007,0,-6.8000000000000007,0,-5.8000000000000007]
[{"$f":"'data Kbely'!A1175","v":"2018-06-09"},{"$f":"'data Kbely'!B1175","v":22.1},0,-9.1000000000000014,0,-8.1000000000000014,0,-7.1000000000000014,0,-6.1000000000000014,0,-5.1000000000000014]
[{"$f":"'data Kbely'!A1176","v":"2018-06-10"},{"$f":"'data Kbely'!B1176","v":20.7},0,-7.6999999999999993,0,-6.6999999999999993,0,-5.6999999999999993,0,-4.6999999999999993,0,-3.6999999999999993]
[{"$f":"'data Kbely'!A1177","v":"2018-06-11"},{"$f":"'data Kbely'!B1177","v":21.3},0,-8.3000000000000007,0,-7.3000000000000007,0,-6.3000000000000007,0,-5.3000000000000007,0,-4.3000000000000007]
[{"$f":"'data Kbely'!A1178","v":"2018-06-12"},{"$f":"'data Kbely'!B1178","v":18.899999999999999},0,-5.8999999999999986,0,-4.8999999999999986,0,-3.8999999999999986,0,-2.8999999999999986,0,-1.8999999999999986]
[{"$f":"'data Kbely'!A1179","v":"2018-06-13"},{"$f":"'data Kbely'!B1179","v":14.9},0,-1.9000000000000004,0,-0.90000000000000036,9.9999999999999645E-2,0,1.0999999999999996,0,2.0999999999999996,0]
[{"$f":"'data Kbely'!A1180","v":"2018-06-14"},{"$f":"'data Kbely'!B1180","v":15},0,-2,0,-1,0,0,1,0,2,0]
[{"$f":"'data Kbely'!A1181","v":"2018-06-15"},{"$f":"'data Kbely'!B1181","v":17.5},0,-4.5,0,-3.5,0,-2.5,0,-1.5,0,-0.5]
[{"$f":"'data Kbely'!A1182","v":"2018-06-16"},{"$f":"'data Kbely'!B1182","v":19.7},0,-6.6999999999999993,0,-5.6999999999999993,0,-4.6999999999999993,0,-3.6999999999999993,0,-2.6999999999999993]
[{"$f":"'data Kbely'!A1183","v":"2018-06-17"},{"$f":"'data Kbely'!B1183","v":21.2},0,-8.1999999999999993,0,-7.1999999999999993,0,-6.1999999999999993,0,-5.1999999999999993,0,-4.1999999999999993]
[{"$f":"'data Kbely'!A1184","v":"2018-06-18"},{"$f":"'data Kbely'!B1184","v":20},0,-7,0,-6,0,-5,0,-4,0,-3]
[{"$f":"'data Kbely'!A1185","v":"2018-06-19"},{"$f":"'data Kbely'!B1185","v":20},0,-7,0,-6,0,-5,0,-4,0,-3]
[{"$f":"'data Kbely'!A1186","v":"2018-06-20"},{"$f":"'data Kbely'!B1186","v":22.9},0,-9.8999999999999986,0,-8.8999999999999986,0,-7.8999999999999986,0,-6.8999999999999986,0,-5.8999999999999986]
[{"$f":"'data Kbely'!A1187","v":"2018-06-21"},{"$f":"'data Kbely'!B1187","v":21.6},0,-8.6000000000000014,0,-7.6000000000000014,0,-6.6000000000000014,0,-5.6000000000000014,0,-4.6000000000000014]
[{"$f":"'data Kbely'!A1188","v":"2018-06-22"},{"$f":"'data Kbely'!B1188","v":12.3},0.69999999999999929,0,1.6999999999999993,0,2.6999999999999993,0,3.6999999999999993,0,4.6999999999999993,0]
[{"$f":"'data Kbely'!A1189","v":"2018-06-23"},{"$f":"'data Kbely'!B1189","v":12.7},0.30000000000000071,0,1.3000000000000007,0,2.3000000000000007,0,3.3000000000000007,0,4.3000000000000007,0]
[{"$f":"'data Kbely'!A1190","v":"2018-06-24"},{"$f":"'data Kbely'!B1190","v":14.1},0,-1.0999999999999996,0,-9.9999999999999645E-2,0.90000000000000036,0,1.9000000000000004,0,2.9000000000000004,0]
[{"$f":"'data Kbely'!A1191","v":"2018-06-25"},{"$f":"'data Kbely'!B1191","v":15.4},0,-2.4000000000000004,0,-1.4000000000000004,0,-0.40000000000000036,0.59999999999999964,0,1.5999999999999996,0]
[{"$f":"'data Kbely'!A1192","v":"2018-06-26"},{"$f":"'data Kbely'!B1192","v":16.899999999999999},0,-3.8999999999999986,0,-2.8999999999999986,0,-1.8999999999999986,0,-0.89999999999999858,0.10000000000000142,0]
[{"$f":"'data Kbely'!A1193","v":"2018-06-27"},{"$f":"'data Kbely'!B1193","v":16.5},0,-3.5,0,-2.5,0,-1.5,0,-0.5,0.5,0]
[{"$f":"'data Kbely'!A1194","v":"2018-06-28"},{"$f":"'data Kbely'!B1194","v":16.899999999999999},0,-3.8999999999999986,0,-2.8999999999999986,0,-1.8999999999999986,0,-0.89999999999999858,0.10000000000000142,0]
[{"$f":"'data Kbely'!A1195","v":"2018-06-29"},{"$f":"'data Kbely'!B1195","v":22.3},0,-9.3000000000000007,0,-8.3000000000000007,0,-7.3000000000000007,0,-6.3000000000000007,0,-5.3000000000000007]
[{"$f":"'data Kbely'!A1196","v":"2018-06-30"},{"$f":"'data Kbely'!B1196","v":17.3},0,-4.3000000000000007,0,-3.3000000000000007,0,-2.3000000000000007,0,-1.3000000000000007,0,-0.30000000000000071]
[{"$f":"'data Kbely'!A1197","v":"2018-07-01"},{"$f":"'data Kbely'!B1197","v":14.8},0,-1.8000000000000007,0,-0.80000000000000071,0.19999999999999929,0,1.1999999999999993,0,2.1999999999999993,0]
[{"$f":"'data Kbely'!A1198","v":"2018-07-02"},{"$f":"'data Kbely'!B1198","v":16},0,-3,0,-2,0,-1,0,0,1,0]
[{"$f":"'data Kbely'!A1199","v":"2018-07-03"},{"$f":"'data Kbely'!B1199","v":18.8},0,-5.8000000000000007,0,-4.8000000000000007,0,-3.8000000000000007,0,-2.8000000000000007,0,-1.8000000000000007]
[{"$f":"'data Kbely'!A1200","v":"2018-07-04"},{"$f":"'data Kbely'!B1200","v":21.8},0,-8.8000000000000007,0,-7.8000000000000007,0,-6.8000000000000007,0,-5.8000000000000007,0,-4.8000000000000007]
[{"$f":"'data Kbely'!A1201","v":"2018-07-05"},{"$f":"'data Kbely'!B1201","v":23},0,-10,0,-9,0,-8,0,-7,0,-6]
[{"$f":"'data Kbely'!A1202","v":"2018-07-06"},{"$f":"'data Kbely'!B1202","v":19.399999999999999},0,-6.3999999999999986,0,-5.3999999999999986,0,-4.3999999999999986,0,-3.3999999999999986,0,-2.3999999999999986]
[{"$f":"'data Kbely'!A1203","v":"2018-07-07"},{"$f":"'data Kbely'!B1203","v":19.600000000000001},0,-6.6000000000000014,0,-5.6000000000000014,0,-4.6000000000000014,0,-3.6000000000000014,0,-2.6000000000000014]
[{"$f":"'data Kbely'!A1204","v":"2018-07-08"},{"$f":"'data Kbely'!B1204","v":20.3},0,-7.3000000000000007,0,-6.3000000000000007,0,-5.3000000000000007,0,-4.3000000000000007,0,-3.3000000000000007]
[{"$f":"'data Kbely'!A1205","v":"2018-07-09"},{"$f":"'data Kbely'!B1205","v":21.2},0,-8.1999999999999993,0,-7.1999999999999993,0,-6.1999999999999993,0,-5.1999999999999993,0,-4.1999999999999993]
[{"$f":"'data Kbely'!A1206","v":"2018-07-10"},{"$f":"'data Kbely'!B1206","v":17.8},0,-4.8000000000000007,0,-3.8000000000000007,0,-2.8000000000000007,0,-1.8000000000000007,0,-0.80000000000000071]
[{"$f":"'data Kbely'!A1207","v":"2018-07-11"},{"$f":"'data Kbely'!B1207","v":16.100000000000001},0,-3.1000000000000014,0,-2.1000000000000014,0,-1.1000000000000014,0,-0.10000000000000142,0.89999999999999858,0]
[{"$f":"'data Kbely'!A1208","v":"2018-07-12"},{"$f":"'data Kbely'!B1208","v":15.9},0,-2.9000000000000004,0,-1.9000000000000004,0,-0.90000000000000036,9.9999999999999645E-2,0,1.0999999999999996,0]
[{"$f":"'data Kbely'!A1209","v":"2018-07-13"},{"$f":"'data Kbely'!B1209","v":21.4},0,-8.3999999999999986,0,-7.3999999999999986,0,-6.3999999999999986,0,-5.3999999999999986,0,-4.3999999999999986]
[{"$f":"'data Kbely'!A1210","v":"2018-07-14"},{"$f":"'data Kbely'!B1210","v":21.5},0,-8.5,0,-7.5,0,-6.5,0,-5.5,0,-4.5]
[{"$f":"'data Kbely'!A1211","v":"2018-07-15"},{"$f":"'data Kbely'!B1211","v":21.4},0,-8.3999999999999986,0,-7.3999999999999986,0,-6.3999999999999986,0,-5.3999999999999986,0,-4.3999999999999986]
[{"$f":"'data Kbely'!A1212","v":"2018-07-16"},{"$f":"'data Kbely'!B1212","v":21},0,-8,0,-7,0,-6,0,-5,0,-4]
[{"$f":"'data Kbely'!A1213","v":"2018-07-17"},{"$f":"'data Kbely'!B1213","v":21.6},0,-8.6000000000000014,0,-7.6000000000000014,0,-6.6000000000000014,0,-5.6000000000000014,0,-4.6000000000000014]
[{"$f":"'data Kbely'!A1214","v":"2018-07-18"},{"$f":"'data Kbely'!B1214","v":23},0,-10,0,-9,0,-8,0,-7,0,-6]
[{"$f":"'data Kbely'!A1215","v":"2018-07-19"},{"$f":"'data Kbely'!B1215","v":21.7},0,-8.6999999999999993,0,-7.6999999999999993,0,-6.6999999999999993,0,-5.6999999999999993,0,-4.6999999999999993]
[{"$f":"'data Kbely'!A1216","v":"2018-07-20"},{"$f":"'data Kbely'!B1216","v":21.8},0,-8.8000000000000007,0,-7.8000000000000007,0,-6.8000000000000007,0,-5.8000000000000007,0,-4.8000000000000007]
[{"$f":"'data Kbely'!A1217","v":"2018-07-21"},{"$f":"'data Kbely'!B1217","v":22.9},0,-9.8999999999999986,0,-8.8999999999999986,0,-7.8999999999999986,0,-6.8999999999999986,0,-5.8999999999999986]
[{"$f":"'data Kbely'!A1218","v":"2018-07-22"},{"$f":"'data Kbely'!B1218","v":22.4},0,-9.3999999999999986,0,-8.3999999999999986,0,-7.3999999999999986,0,-6.3999999999999986,0,-5.3999999999999986]
[{"$f":"'data Kbely'!A1219","v":"2018-07-23"},{"$f":"'data Kbely'!B1219","v":23.5},0,-10.5,0,-9.5,0,-8.5,0,-7.5,0,-6.5]
[{"$f":"'data Kbely'!A1220","v":"2018-07-24"},{"$f":"'data Kbely'!B1220","v":24.1},0,-11.100000000000001,0,-10.100000000000001,0,-9.1000000000000014,0,-8.1000000000000014,0,-7.1000000000000014]
[{"$f":"'data Kbely'!A1221","v":"2018-07-25"},{"$f":"'data Kbely'!B1221","v":24.6},0,-11.600000000000001,0,-10.600000000000001,0,-9.6000000000000014,0,-8.6000000000000014,0,-7.6000000000000014]
[{"$f":"'data Kbely'!A1222","v":"2018-07-26"},{"$f":"'data Kbely'!B1222","v":24.4},0,-11.399999999999999,0,-10.399999999999999,0,-9.3999999999999986,0,-8.3999999999999986,0,-7.3999999999999986]
[{"$f":"'data Kbely'!A1223","v":"2018-07-27"},{"$f":"'data Kbely'!B1223","v":24.4},0,-11.399999999999999,0,-10.399999999999999,0,-9.3999999999999986,0,-8.3999999999999986,0,-7.3999999999999986]
[{"$f":"'data Kbely'!A1224","v":"2018-07-28"},{"$f":"'data Kbely'!B1224","v":24.7},0,-11.7,0,-10.7,0,-9.6999999999999993,0,-8.6999999999999993,0,-7.6999999999999993]
[{"$f":"'data Kbely'!A1225","v":"2018-07-29"},{"$f":"'data Kbely'!B1225","v":25.5},0,-12.5,0,-11.5,0,-10.5,0,-9.5,0,-8.5]
[{"$f":"'data Kbely'!A1226","v":"2018-07-30"},{"$f":"'data Kbely'!B1226","v":26.8},{"$f":"IF(C$2>$B1226,C$2-$B1226,0)","v":0},{"$f":"IF(D$2<$B1226,D$2-$B1226,0)","v":-13.8},{"$f":"IF(E$2>$B1226,E$2-$B1226,0)","v":0},{"$f":"IF(F$2<$B1226,F$2-$B1226,0)","v":-12.8},{"$f":"IF(G$2>$B1226,G$2-$B1226,0)","v":0},{"$f":"IF(H$2<$B1226,H$2-$B1226,0)","v":-11.8},{"$f":"IF(I$2>$B1226,I$2-$B1226,0)","v":0},{"$f":"IF(J$2<$B1226,J$2-$B1226,0)","v":-10.8},{"$f":"IF(K$2>$B1226,K$2-$B1226,0)","v":0},{"$f":"IF(L$2<$B1226,L$2-$B1226,0)","v":-9.8000000000000007}]
[{"$f":"'data Kbely'!A1227","v":"2018-07-31"},{"$f":"'data Kbely'!B1227","v":26.9},0,-13.899999999999999,0,-12.899999999999999,0,-11.899999999999999,0,-10.899999999999999,0,-9.8999999999999986]
[{"$f":"'data Kbely'!A1228","v":"2018-08-01"},{"$f":"'data Kbely'!B1228","v":27.3},0,-14.3,0,-13.3,0,-12.3,0,-11.3,0,-10.3]
[{"$f":"'data Kbely'!A1229","v":"2018-08-02"},{"$f":"'data Kbely'!B1229","v":26.7},0,-13.7,0,-12.7,0,-11.7,0,-10.7,0,-9.6999999999999993]
[{"$f":"'data Kbely'!A1230","v":"2018-08-03"},{"$f":"'data Kbely'!B1230","v":26.7},0,-13.7,0,-12.7,0,-11.7,0,-10.7,0,-9.6999999999999993]
[{"$f":"'data Kbely'!A1231","v":"2018-08-04"},{"$f":"'data Kbely'!B1231","v":25.9},0,-12.899999999999999,0,-11.899999999999999,0,-10.899999999999999,0,-9.8999999999999986,0,-8.8999999999999986]
[{"$f":"'data Kbely'!A1232","v":"2018-08-05"},{"$f":"'data Kbely'!B1232","v":22.8},0,-9.8000000000000007,0,-8.8000000000000007,0,-7.8000000000000007,0,-6.8000000000000007,0,-5.8000000000000007]
[{"$f":"'data Kbely'!A1233","v":"2018-08-06"},{"$f":"'data Kbely'!B1233","v":22.4},0,-9.3999999999999986,0,-8.3999999999999986,0,-7.3999999999999986,0,-6.3999999999999986,0,-5.3999999999999986]
[{"$f":"'data Kbely'!A1234","v":"2018-08-07"},{"$f":"'data Kbely'!B1234","v":24.5},0,-11.5,0,-10.5,0,-9.5,0,-8.5,0,-7.5]
[{"$f":"'data Kbely'!A1235","v":"2018-08-08"},{"$f":"'data Kbely'!B1235","v":25.4},0,-12.399999999999999,0,-11.399999999999999,0,-10.399999999999999,0,-9.3999999999999986,0,-8.3999999999999986]
[{"$f":"'data Kbely'!A1236","v":"2018-08-09"},{"$f":"'data Kbely'!B1236","v":25.4},0,-12.399999999999999,0,-11.399999999999999,0,-10.399999999999999,0,-9.3999999999999986,0,-8.3999999999999986]
[{"$f":"'data Kbely'!A1237","v":"2018-08-10"},{"$f":"'data Kbely'!B1237","v":20.9},0,-7.8999999999999986,0,-6.8999999999999986,0,-5.8999999999999986,0,-4.8999999999999986,0,-3.8999999999999986]
[{"$f":"'data Kbely'!A1238","v":"2018-08-11"},{"$f":"'data Kbely'!B1238","v":19.899999999999999},0,-6.8999999999999986,0,-5.8999999999999986,0,-4.8999999999999986,0,-3.8999999999999986,0,-2.8999999999999986]
[{"$f":"'data Kbely'!A1239","v":"2018-08-12"},{"$f":"'data Kbely'!B1239","v":20.399999999999999},0,-7.3999999999999986,0,-6.3999999999999986,0,-5.3999999999999986,0,-4.3999999999999986,0,-3.3999999999999986]
[{"$f":"'data Kbely'!A1240","v":"2018-08-13"},{"$f":"'data Kbely'!B1240","v":22.7},0,-9.6999999999999993,0,-8.6999999999999993,0,-7.6999999999999993,0,-6.6999999999999993,0,-5.6999999999999993]
[{"$f":"'data Kbely'!A1241","v":"2018-08-14"},{"$f":"'data Kbely'!B1241","v":21.5},0,-8.5,0,-7.5,0,-6.5,0,-5.5,0,-4.5]
[{"$f":"'data Kbely'!A1242","v":"2018-08-15"},{"$f":"'data Kbely'!B1242","v":21},0,-8,0,-7,0,-6,0,-5,0,-4]
[{"$f":"'data Kbely'!A1243","v":"2018-08-16"},{"$f":"'data Kbely'!B1243","v":22.5},0,-9.5,0,-8.5,0,-7.5,0,-6.5,0,-5.5]
[{"$f":"'data Kbely'!A1244","v":"2018-08-17"},{"$f":"'data Kbely'!B1244","v":23.2},0,-10.199999999999999,0,-9.1999999999999993,0,-8.1999999999999993,0,-7.1999999999999993,0,-6.1999999999999993]
[{"$f":"'data Kbely'!A1245","v":"2018-08-18"},{"$f":"'data Kbely'!B1245","v":23.4},0,-10.399999999999999,0,-9.3999999999999986,0,-8.3999999999999986,0,-7.3999999999999986,0,-6.3999999999999986]
[{"$f":"'data Kbely'!A1246","v":"2018-08-19"},{"$f":"'data Kbely'!B1246","v":25.3},0,-12.3,0,-11.3,0,-10.3,0,-9.3000000000000007,0,-8.3000000000000007]
[{"$f":"'data Kbely'!A1247","v":"2018-08-20"},{"$f":"'data Kbely'!B1247","v":25},0,-12,0,-11,0,-10,0,-9,0,-8]
[{"$f":"'data Kbely'!A1248","v":"2018-08-21"},{"$f":"'data Kbely'!B1248","v":22.2},0,-9.1999999999999993,0,-8.1999999999999993,0,-7.1999999999999993,0,-6.1999999999999993,0,-5.1999999999999993]
[{"$f":"'data Kbely'!A1249","v":"2018-08-22"},{"$f":"'data Kbely'!B1249","v":23.7},0,-10.7,0,-9.6999999999999993,0,-8.6999999999999993,0,-7.6999999999999993,0,-6.6999999999999993]
[{"$f":"'data Kbely'!A1250","v":"2018-08-23"},{"$f":"'data Kbely'!B1250","v":24.5},0,-11.5,0,-10.5,0,-9.5,0,-8.5,0,-7.5]
[{"$f":"'data Kbely'!A1251","v":"2018-08-24"},{"$f":"'data Kbely'!B1251","v":20.7},0,-7.6999999999999993,0,-6.6999999999999993,0,-5.6999999999999993,0,-4.6999999999999993,0,-3.6999999999999993]
[{"$f":"'data Kbely'!A1252","v":"2018-08-25"},{"$f":"'data Kbely'!B1252","v":16.8},0,-3.8000000000000007,0,-2.8000000000000007,0,-1.8000000000000007,0,-0.80000000000000071,0.19999999999999929,0]
[{"$f":"'data Kbely'!A1253","v":"2018-08-26"},{"$f":"'data Kbely'!B1253","v":15.2},0,-2.1999999999999993,0,-1.1999999999999993,0,-0.19999999999999929,0.80000000000000071,0,1.8000000000000007,0]
[{"$f":"'data Kbely'!A1254","v":"2018-08-27"},{"$f":"'data Kbely'!B1254","v":17.2},0,-4.1999999999999993,0,-3.1999999999999993,0,-2.1999999999999993,0,-1.1999999999999993,0,-0.19999999999999929]
[{"$f":"'data Kbely'!A1255","v":"2018-08-28"},{"$f":"'data Kbely'!B1255","v":19.2},0,-6.1999999999999993,0,-5.1999999999999993,0,-4.1999999999999993,0,-3.1999999999999993,0,-2.1999999999999993]
[{"$f":"'data Kbely'!A1256","v":"2018-08-29"},{"$f":"'data Kbely'!B1256","v":20.100000000000001},0,-7.1000000000000014,0,-6.1000000000000014,0,-5.1000000000000014,0,-4.1000000000000014,0,-3.1000000000000014]
[{"$f":"'data Kbely'!A1257","v":"2018-08-30"},{"$f":"'data Kbely'!B1257","v":19.100000000000001},0,-6.1000000000000014,0,-5.1000000000000014,0,-4.1000000000000014,0,-3.1000000000000014,0,-2.1000000000000014]
[{"$f":"'data Kbely'!A1258","v":"2018-08-31"},{"$f":"'data Kbely'!B1258","v":15.8},0,-2.8000000000000007,0,-1.8000000000000007,0,-0.80000000000000071,0.19999999999999929,0,1.1999999999999993,0]
[{"$f":"'data Kbely'!A1259","v":"2018-09-01"},{"$f":"'data Kbely'!B1259","v":14.2},0,-1.1999999999999993,0,-0.19999999999999929,0.80000000000000071,0,1.8000000000000007,0,2.8000000000000007,0]
[{"$f":"'data Kbely'!A1260","v":"2018-09-02"},{"$f":"'data Kbely'!B1260","v":16.5},0,-3.5,0,-2.5,0,-1.5,0,-0.5,0.5,0]
[{"$f":"'data Kbely'!A1261","v":"2018-09-03"},{"$f":"'data Kbely'!B1261","v":18.7},0,-5.6999999999999993,0,-4.6999999999999993,0,-3.6999999999999993,0,-2.6999999999999993,0,-1.6999999999999993]
[{"$f":"'data Kbely'!A1262","v":"2018-09-04"},{"$f":"'data Kbely'!B1262","v":20.2},0,-7.1999999999999993,0,-6.1999999999999993,0,-5.1999999999999993,0,-4.1999999999999993,0,-3.1999999999999993]
[{"$f":"'data Kbely'!A1263","v":"2018-09-05"},{"$f":"'data Kbely'!B1263","v":19.600000000000001},0,-6.6000000000000014,0,-5.6000000000000014,0,-4.6000000000000014,0,-3.6000000000000014,0,-2.6000000000000014]
[{"$f":"'data Kbely'!A1264","v":"2018-09-06"},{"$f":"'data Kbely'!B1264","v":19.2},0,-6.1999999999999993,0,-5.1999999999999993,0,-4.1999999999999993,0,-3.1999999999999993,0,-2.1999999999999993]
[{"$f":"'data Kbely'!A1265","v":"2018-09-07"},{"$f":"'data Kbely'!B1265","v":17.3},0,-4.3000000000000007,0,-3.3000000000000007,0,-2.3000000000000007,0,-1.3000000000000007,0,-0.30000000000000071]
[{"$f":"'data Kbely'!A1266","v":"2018-09-08"},{"$f":"'data Kbely'!B1266","v":17.100000000000001},0,-4.1000000000000014,0,-3.1000000000000014,0,-2.1000000000000014,0,-1.1000000000000014,0,-0.10000000000000142]
[{"$f":"'data Kbely'!A1267","v":"2018-09-09"},{"$f":"'data Kbely'!B1267","v":17},0,-4,0,-3,0,-2,0,-1,0,0]
[{"$f":"'data Kbely'!A1268","v":"2018-09-10"},{"$f":"'data Kbely'!B1268","v":19},0,-6,0,-5,0,-4,0,-3,0,-2]
[{"$f":"'data Kbely'!A1269","v":"2018-09-11"},{"$f":"'data Kbely'!B1269","v":21.4},0,-8.3999999999999986,0,-7.3999999999999986,0,-6.3999999999999986,0,-5.3999999999999986,0,-4.3999999999999986]
[{"$f":"'data Kbely'!A1270","v":"2018-09-12"},{"$f":"'data Kbely'!B1270","v":22.1},0,-9.1000000000000014,0,-8.1000000000000014,0,-7.1000000000000014,0,-6.1000000000000014,0,-5.1000000000000014]
[{"$f":"'data Kbely'!A1271","v":"2018-09-13"},{"$f":"'data Kbely'!B1271","v":17.8},0,-4.8000000000000007,0,-3.8000000000000007,0,-2.8000000000000007,0,-1.8000000000000007,0,-0.80000000000000071]
[{"$f":"'data Kbely'!A1272","v":"2018-09-14"},{"$f":"'data Kbely'!B1272","v":16.100000000000001},0,-3.1000000000000014,0,-2.1000000000000014,0,-1.1000000000000014,0,-0.10000000000000142,0.89999999999999858,0]
[{"$f":"'data Kbely'!A1273","v":"2018-09-15"},{"$f":"'data Kbely'!B1273","v":15.8},0,-2.8000000000000007,0,-1.8000000000000007,0,-0.80000000000000071,0.19999999999999929,0,1.1999999999999993,0]
[{"$f":"'data Kbely'!A1274","v":"2018-09-16"},{"$f":"'data Kbely'!B1274","v":15.8},0,-2.8000000000000007,0,-1.8000000000000007,0,-0.80000000000000071,0.19999999999999929,0,1.1999999999999993,0]
[{"$f":"'data Kbely'!A1275","v":"2018-09-17"},{"$f":"'data Kbely'!B1275","v":17.399999999999999},0,-4.3999999999999986,0,-3.3999999999999986,0,-2.3999999999999986,0,-1.3999999999999986,0,-0.39999999999999858]
[{"$f":"'data Kbely'!A1276","v":"2018-09-18"},{"$f":"'data Kbely'!B1276","v":20.6},0,-7.6000000000000014,0,-6.6000000000000014,0,-5.6000000000000014,0,-4.6000000000000014,0,-3.6000000000000014]
[{"$f":"'data Kbely'!A1277","v":"2018-09-19"},{"$f":"'data Kbely'!B1277","v":21.3},0,-8.3000000000000007,0,-7.3000000000000007,0,-6.3000000000000007,0,-5.3000000000000007,0,-4.3000000000000007]
[{"$f":"'data Kbely'!A1278","v":"2018-09-20"},{"$f":"'data Kbely'!B1278","v":21.6},0,-8.6000000000000014,0,-7.6000000000000014,0,-6.6000000000000014,0,-5.6000000000000014,0,-4.6000000000000014]
[{"$f":"'data Kbely'!A1279","v":"2018-09-21"},{"$f":"'data Kbely'!B1279","v":21},0,-8,0,-7,0,-6,0,-5,0,-4]
[{"$f":"'data Kbely'!A1280","v":"2018-09-22"},{"$f":"'data Kbely'!B1280","v":14.3},0,-1.3000000000000007,0,-0.30000000000000071,0.69999999999999929,0,1.6999999999999993,0,2.6999999999999993,0]
[{"$f":"'data Kbely'!A1281","v":"2018-09-23"},{"$f":"'data Kbely'!B1281","v":13.600000000000001},0,-0.60000000000000142,0.39999999999999858,0,1.3999999999999986,0,2.3999999999999986,0,3.3999999999999986,0]
[{"$f":"'data Kbely'!A1282","v":"2018-09-24"},{"$f":"'data Kbely'!B1282","v":9.6000000000000014},3.3999999999999986,0,4.3999999999999986,0,5.3999999999999986,0,6.3999999999999986,0,7.3999999999999986,0]
[{"$f":"'data Kbely'!A1283","v":"2018-09-25"},{"$f":"'data Kbely'!B1283","v":7.8999999999999986},5.1000000000000014,0,6.1000000000000014,0,7.1000000000000014,0,8.1000000000000014,0,9.1000000000000014,0]
[{"$f":"'data Kbely'!A1284","v":"2018-09-26"},{"$f":"'data Kbely'!B1284","v":8.6999999999999993},4.3000000000000007,0,5.3000000000000007,0,6.3000000000000007,0,7.3000000000000007,0,8.3000000000000007,0]
[{"$f":"'data Kbely'!A1285","v":"2018-09-27"},{"$f":"'data Kbely'!B1285","v":13.7},0,-0.69999999999999929,0.30000000000000071,0,1.3000000000000007,0,2.3000000000000007,0,3.3000000000000007,0]
[{"$f":"'data Kbely'!A1286","v":"2018-09-28"},{"$f":"'data Kbely'!B1286","v":13},0,0,1,0,2,0,3,0,4,0]
[{"$f":"'data Kbely'!A1287","v":"2018-09-29"},{"$f":"'data Kbely'!B1287","v":9},4,0,5,0,6,0,7,0,8,0]
[{"$f":"'data Kbely'!A1288","v":"2018-09-30"},{"$f":"'data Kbely'!B1288","v":9.1999999999999993},3.8000000000000007,0,4.8000000000000007,0,5.8000000000000007,0,6.8000000000000007,0,7.8000000000000007,0]
[{"$f":"'data Kbely'!A1289","v":"2018-10-01"},{"$f":"'data Kbely'!B1289","v":6.8000000000000007},6.1999999999999993,0,7.1999999999999993,0,8.1999999999999993,0,9.1999999999999993,0,10.199999999999999,0]
[{"$f":"'data Kbely'!A1290","v":"2018-10-02"},{"$f":"'data Kbely'!B1290","v":8.6999999999999993},{"$f":"IF(C$2>$B1290,C$2-$B1290,0)","v":4.3000000000000007},{"$f":"IF(D$2<$B1290,D$2-$B1290,0)","v":0},{"$f":"IF(E$2>$B1290,E$2-$B1290,0)","v":5.3000000000000007},{"$f":"IF(F$2<$B1290,F$2-$B1290,0)","v":0},{"$f":"IF(G$2>$B1290,G$2-$B1290,0)","v":6.3000000000000007},{"$f":"IF(H$2<$B1290,H$2-$B1290,0)","v":0},{"$f":"IF(I$2>$B1290,I$2-$B1290,0)","v":7.3000000000000007},{"$f":"IF(J$2<$B1290,J$2-$B1290,0)","v":0},{"$f":"IF(K$2>$B1290,K$2-$B1290,0)","v":8.3000000000000007},{"$f":"IF(L$2<$B1290,L$2-$B1290,0)","v":0}]
[{"$f":"'data Kbely'!A1291","v":"2018-10-03"},{"$f":"'data Kbely'!B1291","v":11.899999999999999},1.1000000000000014,0,2.1000000000000014,0,3.1000000000000014,0,4.1000000000000014,0,5.1000000000000014,0]
[{"$f":"'data Kbely'!A1292","v":"2018-10-04"},{"$f":"'data Kbely'!B1292","v":10.600000000000001},2.3999999999999986,0,3.3999999999999986,0,4.3999999999999986,0,5.3999999999999986,0,6.3999999999999986,0]
[{"$f":"'data Kbely'!A1293","v":"2018-10-05"},{"$f":"'data Kbely'!B1293","v":10.600000000000001},2.3999999999999986,0,3.3999999999999986,0,4.3999999999999986,0,5.3999999999999986,0,6.3999999999999986,0]
[{"$f":"'data Kbely'!A1294","v":"2018-10-06"},{"$f":"'data Kbely'!B1294","v":12},1,0,2,0,3,0,4,0,5,0]
[{"$f":"'data Kbely'!A1295","v":"2018-10-07"},{"$f":"'data Kbely'!B1295","v":12.8},0.19999999999999929,0,1.1999999999999993,0,2.1999999999999993,0,3.1999999999999993,0,4.1999999999999993,0]
[{"$f":"'data Kbely'!A1296","v":"2018-10-08"},{"$f":"'data Kbely'!B1296","v":11.100000000000001},1.8999999999999986,0,2.8999999999999986,0,3.8999999999999986,0,4.8999999999999986,0,5.8999999999999986,0]
[{"$f":"'data Kbely'!A1297","v":"2018-10-09"},{"$f":"'data Kbely'!B1297","v":10},3,0,4,0,5,0,6,0,7,0]
[{"$f":"'data Kbely'!A1298","v":"2018-10-10"},{"$f":"'data Kbely'!B1298","v":14.2},0,-1.1999999999999993,0,-0.19999999999999929,0.80000000000000071,0,1.8000000000000007,0,2.8000000000000007,0]
[{"$f":"'data Kbely'!A1299","v":"2018-10-11"},{"$f":"'data Kbely'!B1299","v":16.600000000000001},0,-3.6000000000000014,0,-2.6000000000000014,0,-1.6000000000000014,0,-0.60000000000000142,0.39999999999999858,0]
[{"$f":"'data Kbely'!A1300","v":"2018-10-12"},{"$f":"'data Kbely'!B1300","v":15.1},0,-2.0999999999999996,0,-1.0999999999999996,0,-9.9999999999999645E-2,0.90000000000000036,0,1.9000000000000004,0]
[{"$f":"'data Kbely'!A1301","v":"2018-10-13"},{"$f":"'data Kbely'!B1301","v":14.5},0,-1.5,0,-0.5,0.5,0,1.5,0,2.5,0]
[{"$f":"'data Kbely'!A1302","v":"2018-10-14"},{"$f":"'data Kbely'!B1302","v":15.6},0,-2.5999999999999996,0,-1.5999999999999996,0,-0.59999999999999964,0.40000000000000036,0,1.4000000000000004,0]
[{"$f":"'data Kbely'!A1303","v":"2018-10-15"},{"$f":"'data Kbely'!B1303","v":15.6},0,-2.5999999999999996,0,-1.5999999999999996,0,-0.59999999999999964,0.40000000000000036,0,1.4000000000000004,0]
[{"$f":"'data Kbely'!A1304","v":"2018-10-16"},{"$f":"'data Kbely'!B1304","v":13},0,0,1,0,2,0,3,0,4,0]
[{"$f":"'data Kbely'!A1305","v":"2018-10-17"},{"$f":"'data Kbely'!B1305","v":11.3},1.6999999999999993,0,2.6999999999999993,0,3.6999999999999993,0,4.6999999999999993,0,5.6999999999999993,0]
[{"$f":"'data Kbely'!A1306","v":"2018-10-18"},{"$f":"'data Kbely'!B1306","v":11.100000000000001},1.8999999999999986,0,2.8999999999999986,0,3.8999999999999986,0,4.8999999999999986,0,5.8999999999999986,0]
[{"$f":"'data Kbely'!A1307","v":"2018-10-19"},{"$f":"'data Kbely'!B1307","v":11.8},1.1999999999999993,0,2.1999999999999993,0,3.1999999999999993,0,4.1999999999999993,0,5.1999999999999993,0]
[{"$f":"'data Kbely'!A1308","v":"2018-10-20"},{"$f":"'data Kbely'!B1308","v":10.3},2.6999999999999993,0,3.6999999999999993,0,4.6999999999999993,0,5.6999999999999993,0,6.6999999999999993,0]
[{"$f":"'data Kbely'!A1309","v":"2018-10-21"},{"$f":"'data Kbely'!B1309","v":8.6000000000000014},4.3999999999999986,0,5.3999999999999986,0,6.3999999999999986,0,7.3999999999999986,0,8.3999999999999986,0]
[{"$f":"'data Kbely'!A1310","v":"2018-10-22"},{"$f":"'data Kbely'!B1310","v":7},6,0,7,0,8,0,9,0,10,0]
[{"$f":"'data Kbely'!A1311","v":"2018-10-23"},{"$f":"'data Kbely'!B1311","v":7.8999999999999986},5.1000000000000014,0,6.1000000000000014,0,7.1000000000000014,0,8.1000000000000014,0,9.1000000000000014,0]
[{"$f":"'data Kbely'!A1312","v":"2018-10-24"},{"$f":"'data Kbely'!B1312","v":9.8000000000000007},3.1999999999999993,0,4.1999999999999993,0,5.1999999999999993,0,6.1999999999999993,0,7.1999999999999993,0]
[{"$f":"'data Kbely'!A1313","v":"2018-10-25"},{"$f":"'data Kbely'!B1313","v":11.399999999999999},1.6000000000000014,0,2.6000000000000014,0,3.6000000000000014,0,4.6000000000000014,0,5.6000000000000014,0]
[{"$f":"'data Kbely'!A1314","v":"2018-10-26"},{"$f":"'data Kbely'!B1314","v":10.3},2.6999999999999993,0,3.6999999999999993,0,4.6999999999999993,0,5.6999999999999993,0,6.6999999999999993,0]
[{"$f":"'data Kbely'!A1315","v":"2018-10-27"},{"$f":"'data Kbely'!B1315","v":7.8999999999999986},5.1000000000000014,0,6.1000000000000014,0,7.1000000000000014,0,8.1000000000000014,0,9.1000000000000014,0]
[{"$f":"'data Kbely'!A1316","v":"2018-10-28"},{"$f":"'data Kbely'!B1316","v":2.6999999999999993},10.3,0,11.3,0,12.3,0,13.3,0,14.3,0]
[{"$f":"'data Kbely'!A1317","v":"2018-10-29"},{"$f":"'data Kbely'!B1317","v":6},7,0,8,0,9,0,10,0,11,0]
[{"$f":"'data Kbely'!A1318","v":"2018-10-30"},{"$f":"'data Kbely'!B1318","v":15.4},0,-2.4000000000000004,0,-1.4000000000000004,0,-0.40000000000000036,0.59999999999999964,0,1.5999999999999996,0]
[{"$f":"'data Kbely'!A1319","v":"2018-10-31"},{"$f":"'data Kbely'!B1319","v":8.6000000000000014},4.3999999999999986,0,5.3999999999999986,0,6.3999999999999986,0,7.3999999999999986,0,8.3999999999999986,0]
[{"$f":"'data Kbely'!A1320","v":"2018-11-01"},{"$f":"'data Kbely'!B1320","v":9.1999999999999993},3.8000000000000007,0,4.8000000000000007,0,5.8000000000000007,0,6.8000000000000007,0,7.8000000000000007,0]
[{"$f":"'data Kbely'!A1321","v":"2018-11-02"},{"$f":"'data Kbely'!B1321","v":8},5,0,6,0,7,0,8,0,9,0]
[{"$f":"'data Kbely'!A1322","v":"2018-11-03"},{"$f":"'data Kbely'!B1322","v":9},4,0,5,0,6,0,7,0,8,0]
[{"$f":"'data Kbely'!A1323","v":"2018-11-04"},{"$f":"'data Kbely'!B1323","v":10.899999999999999},2.1000000000000014,0,3.1000000000000014,0,4.1000000000000014,0,5.1000000000000014,0,6.1000000000000014,0]
[{"$f":"'data Kbely'!A1324","v":"2018-11-05"},{"$f":"'data Kbely'!B1324","v":10.8},2.1999999999999993,0,3.1999999999999993,0,4.1999999999999993,0,5.1999999999999993,0,6.1999999999999993,0]
[{"$f":"'data Kbely'!A1325","v":"2018-11-06"},{"$f":"'data Kbely'!B1325","v":10.899999999999999},2.1000000000000014,0,3.1000000000000014,0,4.1000000000000014,0,5.1000000000000014,0,6.1000000000000014,0]
[{"$f":"'data Kbely'!A1326","v":"2018-11-07"},{"$f":"'data Kbely'!B1326","v":9.3999999999999986},3.6000000000000014,0,4.6000000000000014,0,5.6000000000000014,0,6.6000000000000014,0,7.6000000000000014,0]
[{"$f":"'data Kbely'!A1327","v":"2018-11-08"},{"$f":"'data Kbely'!B1327","v":10.100000000000001},2.8999999999999986,0,3.8999999999999986,0,4.8999999999999986,0,5.8999999999999986,0,6.8999999999999986,0]
[{"$f":"'data Kbely'!A1328","v":"2018-11-09"},{"$f":"'data Kbely'!B1328","v":8.3000000000000007},4.6999999999999993,0,5.6999999999999993,0,6.6999999999999993,0,7.6999999999999993,0,8.6999999999999993,0]
[{"$f":"'data Kbely'!A1329","v":"2018-11-10"},{"$f":"'data Kbely'!B1329","v":9},4,0,5,0,6,0,7,0,8,0]
[{"$f":"'data Kbely'!A1330","v":"2018-11-11"},{"$f":"'data Kbely'!B1330","v":8.8999999999999986},4.1000000000000014,0,5.1000000000000014,0,6.1000000000000014,0,7.1000000000000014,0,8.1000000000000014,0]
[{"$f":"'data Kbely'!A1331","v":"2018-11-12"},{"$f":"'data Kbely'!B1331","v":7.6999999999999993},5.3000000000000007,0,6.3000000000000007,0,7.3000000000000007,0,8.3000000000000007,0,9.3000000000000007,0]
[{"$f":"'data Kbely'!A1332","v":"2018-11-13"},{"$f":"'data Kbely'!B1332","v":8.6000000000000014},4.3999999999999986,0,5.3999999999999986,0,6.3999999999999986,0,7.3999999999999986,0,8.3999999999999986,0]
[{"$f":"'data Kbely'!A1333","v":"2018-11-14"},{"$f":"'data Kbely'!B1333","v":6.1999999999999993},6.8000000000000007,0,7.8000000000000007,0,8.8000000000000007,0,9.8000000000000007,0,10.8,0]
[{"$f":"'data Kbely'!A1334","v":"2018-11-15"},{"$f":"'data Kbely'!B1334","v":3.6000000000000014},9.3999999999999986,0,10.399999999999999,0,11.399999999999999,0,12.399999999999999,0,13.399999999999999,0]
[{"$f":"'data Kbely'!A1335","v":"2018-11-16"},{"$f":"'data Kbely'!B1335","v":0.60000000000000142},12.399999999999999,0,13.399999999999999,0,14.399999999999999,0,15.399999999999999,0,16.399999999999999,0]
[{"$f":"'data Kbely'!A1336","v":"2018-11-17"},{"$f":"'data Kbely'!B1336","v":1.3999999999999986},11.600000000000001,0,12.600000000000001,0,13.600000000000001,0,14.600000000000001,0,15.600000000000001,0]
[{"$f":"'data Kbely'!A1337","v":"2018-11-18"},{"$f":"'data Kbely'!B1337","v":-0.30000000000000071},13.3,0,14.3,0,15.3,0,16.3,0,17.3,0]
[{"$f":"'data Kbely'!A1338","v":"2018-11-19"},{"$f":"'data Kbely'!B1338","v":0.10000000000000142},12.899999999999999,0,13.899999999999999,0,14.899999999999999,0,15.899999999999999,0,16.899999999999999,0]
[{"$f":"'data Kbely'!A1339","v":"2018-11-20"},{"$f":"'data Kbely'!B1339","v":0.19999999999999929},12.8,0,13.8,0,14.8,0,15.8,0,16.8,0]
[{"$f":"'data Kbely'!A1340","v":"2018-11-21"},{"$f":"'data Kbely'!B1340","v":1.1000000000000014},11.899999999999999,0,12.899999999999999,0,13.899999999999999,0,14.899999999999999,0,15.899999999999999,0]
[{"$f":"'data Kbely'!A1341","v":"2018-11-22"},{"$f":"'data Kbely'!B1341","v":1.8999999999999986},11.100000000000001,0,12.100000000000001,0,13.100000000000001,0,14.100000000000001,0,15.100000000000001,0]
[{"$f":"'data Kbely'!A1342","v":"2018-11-23"},{"$f":"'data Kbely'!B1342","v":3.8999999999999986},9.1000000000000014,0,10.100000000000001,0,11.100000000000001,0,12.100000000000001,0,13.100000000000001,0]
[{"$f":"'data Kbely'!A1343","v":"2018-11-24"},{"$f":"'data Kbely'!B1343","v":5.1999999999999993},7.8000000000000007,0,8.8000000000000007,0,9.8000000000000007,0,10.8,0,11.8,0]
[{"$f":"'data Kbely'!A1344","v":"2018-11-25"},{"$f":"'data Kbely'!B1344","v":3.3000000000000007},9.6999999999999993,0,10.7,0,11.7,0,12.7,0,13.7,0]
[{"$f":"'data Kbely'!A1345","v":"2018-11-26"},{"$f":"'data Kbely'!B1345","v":2.8000000000000007},10.199999999999999,0,11.2,0,12.2,0,13.2,0,14.2,0]
[{"$f":"'data Kbely'!A1346","v":"2018-11-27"},{"$f":"'data Kbely'!B1346","v":-1.6000000000000014},14.600000000000001,0,15.600000000000001,0,16.600000000000001,0,17.600000000000001,0,18.600000000000001,0]
[{"$f":"'data Kbely'!A1347","v":"2018-11-28"},{"$f":"'data Kbely'!B1347","v":-3.7999999999999972},16.799999999999997,0,17.799999999999997,0,18.799999999999997,0,19.799999999999997,0,20.799999999999997,0]
[{"$f":"'data Kbely'!A1348","v":"2018-11-29"},{"$f":"'data Kbely'!B1348","v":-3.6000000000000014},16.600000000000001,0,17.600000000000001,0,18.600000000000001,0,19.600000000000001,0,20.6,0]
[{"$f":"'data Kbely'!A1349","v":"2018-11-30"},{"$f":"'data Kbely'!B1349","v":-2.2999999999999972},15.299999999999997,0,16.299999999999997,0,17.299999999999997,0,18.299999999999997,0,19.299999999999997,0]
[{"$f":"'data Kbely'!A1350","v":"2018-12-01"},{"$f":"'data Kbely'!B1350","v":-1.6999999999999993},14.7,0,15.7,0,16.7,0,17.7,0,18.7,0]
[{"$f":"'data Kbely'!A1351","v":"2018-12-02"},{"$f":"'data Kbely'!B1351","v":0.80000000000000071},12.2,0,13.2,0,14.2,0,15.2,0,16.2,0]
[{"$f":"'data Kbely'!A1352","v":"2018-12-03"},{"$f":"'data Kbely'!B1352","v":8.3999999999999986},4.6000000000000014,0,5.6000000000000014,0,6.6000000000000014,0,7.6000000000000014,0,8.6000000000000014,0]
[{"$f":"'data Kbely'!A1353","v":"2018-12-04"},{"$f":"'data Kbely'!B1353","v":6.3999999999999986},6.6000000000000014,0,7.6000000000000014,0,8.6000000000000014,0,9.6000000000000014,0,10.600000000000001,0]
[{"$f":"'data Kbely'!A1354","v":"2018-12-05"},{"$f":"'data Kbely'!B1354","v":0.60000000000000142},{"$f":"IF(C$2>$B1354,C$2-$B1354,0)","v":12.399999999999999},{"$f":"IF(D$2<$B1354,D$2-$B1354,0)","v":0},{"$f":"IF(E$2>$B1354,E$2-$B1354,0)","v":13.399999999999999},{"$f":"IF(F$2<$B1354,F$2-$B1354,0)","v":0},{"$f":"IF(G$2>$B1354,G$2-$B1354,0)","v":14.399999999999999},{"$f":"IF(H$2<$B1354,H$2-$B1354,0)","v":0},{"$f":"IF(I$2>$B1354,I$2-$B1354,0)","v":15.399999999999999},{"$f":"IF(J$2<$B1354,J$2-$B1354,0)","v":0},{"$f":"IF(K$2>$B1354,K$2-$B1354,0)","v":16.399999999999999},{"$f":"IF(L$2<$B1354,L$2-$B1354,0)","v":0}]
[{"$f":"'data Kbely'!A1355","v":"2018-12-06"},{"$f":"'data Kbely'!B1355","v":1},12,0,13,0,14,0,15,0,16,0]
[{"$f":"'data Kbely'!A1356","v":"2018-12-07"},{"$f":"'data Kbely'!B1356","v":8.8000000000000007},4.1999999999999993,0,5.1999999999999993,0,6.1999999999999993,0,7.1999999999999993,0,8.1999999999999993,0]
[{"$f":"'data Kbely'!A1357","v":"2018-12-08"},{"$f":"'data Kbely'!B1357","v":6.8000000000000007},6.1999999999999993,0,7.1999999999999993,0,8.1999999999999993,0,9.1999999999999993,0,10.199999999999999,0]
[{"$f":"'data Kbely'!A1358","v":"2018-12-09"},{"$f":"'data Kbely'!B1358","v":7.3999999999999986},5.6000000000000014,0,6.6000000000000014,0,7.6000000000000014,0,8.6000000000000014,0,9.6000000000000014,0]
[{"$f":"'data Kbely'!A1359","v":"2018-12-10"},{"$f":"'data Kbely'!B1359","v":3.6999999999999993},9.3000000000000007,0,10.3,0,11.3,0,12.3,0,13.3,0]
[{"$f":"'data Kbely'!A1360","v":"2018-12-11"},{"$f":"'data Kbely'!B1360","v":2.3000000000000007},10.7,0,11.7,0,12.7,0,13.7,0,14.7,0]
[{"$f":"'data Kbely'!A1361","v":"2018-12-12"},{"$f":"'data Kbely'!B1361","v":1.1000000000000014},11.899999999999999,0,12.899999999999999,0,13.899999999999999,0,14.899999999999999,0,15.899999999999999,0]
[{"$f":"'data Kbely'!A1362","v":"2018-12-13"},{"$f":"'data Kbely'!B1362","v":-2.5},15.5,0,16.5,0,17.5,0,18.5,0,19.5,0]
[{"$f":"'data Kbely'!A1363","v":"2018-12-14"},{"$f":"'data Kbely'!B1363","v":-2.5},15.5,0,16.5,0,17.5,0,18.5,0,19.5,0]
[{"$f":"'data Kbely'!A1364","v":"2018-12-15"},{"$f":"'data Kbely'!B1364","v":-1.6000000000000014},14.600000000000001,0,15.600000000000001,0,16.600000000000001,0,17.600000000000001,0,18.600000000000001,0]
[{"$f":"'data Kbely'!A1365","v":"2018-12-16"},{"$f":"'data Kbely'!B1365","v":-2.5},15.5,0,16.5,0,17.5,0,18.5,0,19.5,0]
[{"$f":"'data Kbely'!A1366","v":"2018-12-17"},{"$f":"'data Kbely'!B1366","v":0.80000000000000071},12.2,0,13.2,0,14.2,0,15.2,0,16.2,0]
[{"$f":"'data Kbely'!A1367","v":"2018-12-18"},{"$f":"'data Kbely'!B1367","v":1.6000000000000014},11.399999999999999,0,12.399999999999999,0,13.399999999999999,0,14.399999999999999,0,15.399999999999999,0]
[{"$f":"'data Kbely'!A1368","v":"2018-12-19"},{"$f":"'data Kbely'!B1368","v":0.10000000000000142},12.899999999999999,0,13.899999999999999,0,14.899999999999999,0,15.899999999999999,0,16.899999999999999,0]
[{"$f":"'data Kbely'!A1369","v":"2018-12-20"},{"$f":"'data Kbely'!B1369","v":0.80000000000000071},12.2,0,13.2,0,14.2,0,15.2,0,16.2,0]
[{"$f":"'data Kbely'!A1370","v":"2018-12-21"},{"$f":"'data Kbely'!B1370","v":5.8999999999999986},7.1000000000000014,0,8.1000000000000014,0,9.1000000000000014,0,10.100000000000001,0,11.100000000000001,0]
[{"$f":"'data Kbely'!A1371","v":"2018-12-22"},{"$f":"'data Kbely'!B1371","v":9.3000000000000007},3.6999999999999993,0,4.6999999999999993,0,5.6999999999999993,0,6.6999999999999993,0,7.6999999999999993,0]
[{"$f":"'data Kbely'!A1372","v":"2018-12-23"},{"$f":"'data Kbely'!B1372","v":6.6000000000000014},6.3999999999999986,0,7.3999999999999986,0,8.3999999999999986,0,9.3999999999999986,0,10.399999999999999,0]
[{"$f":"'data Kbely'!A1373","v":"2018-12-24"},{"$f":"'data Kbely'!B1373","v":2.3000000000000007},10.7,0,11.7,0,12.7,0,13.7,0,14.7,0]
[{"$f":"'data Kbely'!A1374","v":"2018-12-25"},{"$f":"'data Kbely'!B1374","v":2.8999999999999986},10.100000000000001,0,11.100000000000001,0,12.100000000000001,0,13.100000000000001,0,14.100000000000001,0]
[{"$f":"'data Kbely'!A1375","v":"2018-12-26"},{"$f":"'data Kbely'!B1375","v":3.1999999999999993},9.8000000000000007,0,10.8,0,11.8,0,12.8,0,13.8,0]
[{"$f":"'data Kbely'!A1376","v":"2018-12-27"},{"$f":"'data Kbely'!B1376","v":4.8000000000000007},8.1999999999999993,0,9.1999999999999993,0,10.199999999999999,0,11.2,0,12.2,0]
[{"$f":"'data Kbely'!A1377","v":"2018-12-28"},{"$f":"'data Kbely'!B1377","v":4.3999999999999986},8.6000000000000014,0,9.6000000000000014,0,10.600000000000001,0,11.600000000000001,0,12.600000000000001,0]
[{"$f":"'data Kbely'!A1378","v":"2018-12-29"},{"$f":"'data Kbely'!B1378","v":3.8000000000000007},9.1999999999999993,0,10.199999999999999,0,11.2,0,12.2,0,13.2,0]
[{"$f":"'data Kbely'!A1379","v":"2018-12-30"},{"$f":"'data Kbely'!B1379","v":4.8000000000000007},8.1999999999999993,0,9.1999999999999993,0,10.199999999999999,0,11.2,0,12.2,0]
[{"$f":"'data Kbely'!A1380","v":"2018-12-31"},{"$f":"'data Kbely'!B1380","v":4.6000000000000014},8.3999999999999986,0,9.3999999999999986,0,10.399999999999999,0,11.399999999999999,0,12.399999999999999,0]
[{"$f":"'data Kbely'!A1381","v":"2019-01-01"},{"$f":"'data Kbely'!B1381","v":6},7,0,8,0,9,0,10,0,11,0]
[{"$f":"'data Kbely'!A1382","v":"2019-01-02"},{"$f":"'data Kbely'!B1382","v":0.60000000000000142},12.399999999999999,0,13.399999999999999,0,14.399999999999999,0,15.399999999999999,0,16.399999999999999,0]
[{"$f":"'data Kbely'!A1383","v":"2019-01-03"},{"$f":"'data Kbely'!B1383","v":-2.2000000000000028},15.200000000000003,0,16.200000000000003,0,17.200000000000003,0,18.200000000000003,0,19.200000000000003,0]
[{"$f":"'data Kbely'!A1384","v":"2019-01-04"},{"$f":"'data Kbely'!B1384","v":-1.3999999999999986},14.399999999999999,0,15.399999999999999,0,16.399999999999999,0,17.399999999999999,0,18.399999999999999,0]
[{"$f":"'data Kbely'!A1385","v":"2019-01-05"},{"$f":"'data Kbely'!B1385","v":4.3000000000000007},8.6999999999999993,0,9.6999999999999993,0,10.7,0,11.7,0,12.7,0]
[{"$f":"'data Kbely'!A1386","v":"2019-01-06"},{"$f":"'data Kbely'!B1386","v":0.89999999999999858},12.100000000000001,0,13.100000000000001,0,14.100000000000001,0,15.100000000000001,0,16.100000000000001,0]
[{"$f":"'data Kbely'!A1387","v":"2019-01-07"},{"$f":"'data Kbely'!B1387","v":1},12,0,13,0,14,0,15,0,16,0]
[{"$f":"'data Kbely'!A1388","v":"2019-01-08"},{"$f":"'data Kbely'!B1388","v":3.6000000000000014},9.3999999999999986,0,10.399999999999999,0,11.399999999999999,0,12.399999999999999,0,13.399999999999999,0]
[{"$f":"'data Kbely'!A1389","v":"2019-01-09"},{"$f":"'data Kbely'!B1389","v":1.1000000000000014},11.899999999999999,0,12.899999999999999,0,13.899999999999999,0,14.899999999999999,0,15.899999999999999,0]
[{"$f":"'data Kbely'!A1390","v":"2019-01-10"},{"$f":"'data Kbely'!B1390","v":0.19999999999999929},12.8,0,13.8,0,14.8,0,15.8,0,16.8,0]
[{"$f":"'data Kbely'!A1391","v":"2019-01-11"},{"$f":"'data Kbely'!B1391","v":-2.5},15.5,0,16.5,0,17.5,0,18.5,0,19.5,0]
[{"$f":"'data Kbely'!A1392","v":"2019-01-12"},{"$f":"'data Kbely'!B1392","v":2.5},10.5,0,11.5,0,12.5,0,13.5,0,14.5,0]
[{"$f":"'data Kbely'!A1393","v":"2019-01-13"},{"$f":"'data Kbely'!B1393","v":4.3000000000000007},8.6999999999999993,0,9.6999999999999993,0,10.7,0,11.7,0,12.7,0]
[{"$f":"'data Kbely'!A1394","v":"2019-01-14"},{"$f":"'data Kbely'!B1394","v":2.1999999999999993},10.8,0,11.8,0,12.8,0,13.8,0,14.8,0]
[{"$f":"'data Kbely'!A1395","v":"2019-01-15"},{"$f":"'data Kbely'!B1395","v":2.1999999999999993},10.8,0,11.8,0,12.8,0,13.8,0,14.8,0]
[{"$f":"'data Kbely'!A1396","v":"2019-01-16"},{"$f":"'data Kbely'!B1396","v":4.1000000000000014},8.8999999999999986,0,9.8999999999999986,0,10.899999999999999,0,11.899999999999999,0,12.899999999999999,0]
[{"$f":"'data Kbely'!A1397","v":"2019-01-17"},{"$f":"'data Kbely'!B1397","v":5.3999999999999986},7.6000000000000014,0,8.6000000000000014,0,9.6000000000000014,0,10.600000000000001,0,11.600000000000001,0]
[{"$f":"'data Kbely'!A1398","v":"2019-01-18"},{"$f":"'data Kbely'!B1398","v":-0.89999999999999858},13.899999999999999,0,14.899999999999999,0,15.899999999999999,0,16.899999999999999,0,17.899999999999999,0]
[{"$f":"'data Kbely'!A1399","v":"2019-01-19"},{"$f":"'data Kbely'!B1399","v":-4.7000000000000028},17.700000000000003,0,18.700000000000003,0,19.700000000000003,0,20.700000000000003,0,21.700000000000003,0]
[{"$f":"'data Kbely'!A1400","v":"2019-01-20"},{"$f":"'data Kbely'!B1400","v":-3.2000000000000028},16.200000000000003,0,17.200000000000003,0,18.200000000000003,0,19.200000000000003,0,20.200000000000003,0]
[{"$f":"'data Kbely'!A1401","v":"2019-01-21"},{"$f":"'data Kbely'!B1401","v":-5.2000000000000028},18.200000000000003,0,19.200000000000003,0,20.200000000000003,0,21.200000000000003,0,22.200000000000003,0]
[{"$f":"'data Kbely'!A1402","v":"2019-01-22"},{"$f":"'data Kbely'!B1402","v":-5.6000000000000014},18.600000000000001,0,19.600000000000001,0,20.6,0,21.6,0,22.6,0]
[{"$f":"'data Kbely'!A1403","v":"2019-01-23"},{"$f":"'data Kbely'!B1403","v":-6.3999999999999986},19.399999999999999,0,20.399999999999999,0,21.4,0,22.4,0,23.4,0]
[{"$f":"'data Kbely'!A1404","v":"2019-01-24"},{"$f":"'data Kbely'!B1404","v":-4.3999999999999986},17.399999999999999,0,18.399999999999999,0,19.399999999999999,0,20.399999999999999,0,21.4,0]
[{"$f":"'data Kbely'!A1405","v":"2019-01-25"},{"$f":"'data Kbely'!B1405","v":-3.7000000000000028},16.700000000000003,0,17.700000000000003,0,18.700000000000003,0,19.700000000000003,0,20.700000000000003,0]
[{"$f":"'data Kbely'!A1406","v":"2019-01-26"},{"$f":"'data Kbely'!B1406","v":0.5},12.5,0,13.5,0,14.5,0,15.5,0,16.5,0]
[{"$f":"'data Kbely'!A1407","v":"2019-01-27"},{"$f":"'data Kbely'!B1407","v":3.8000000000000007},9.1999999999999993,0,10.199999999999999,0,11.2,0,12.2,0,13.2,0]
[{"$f":"'data Kbely'!A1408","v":"2019-01-28"},{"$f":"'data Kbely'!B1408","v":3},10,0,11,0,12,0,13,0,14,0]
[{"$f":"'data Kbely'!A1409","v":"2019-01-29"},{"$f":"'data Kbely'!B1409","v":1.3000000000000007},11.7,0,12.7,0,13.7,0,14.7,0,15.7,0]
[{"$f":"'data Kbely'!A1410","v":"2019-01-30"},{"$f":"'data Kbely'!B1410","v":-1.6000000000000014},14.600000000000001,0,15.600000000000001,0,16.600000000000001,0,17.600000000000001,0,18.600000000000001,0]
[{"$f":"'data Kbely'!A1411","v":"2019-01-31"},{"$f":"'data Kbely'!B1411","v":-0.19999999999999929},13.2,0,14.2,0,15.2,0,16.2,0,17.2,0]
[{"$f":"'data Kbely'!A1412","v":"2019-02-01"},{"$f":"'data Kbely'!B1412","v":0.60000000000000142},12.399999999999999,0,13.399999999999999,0,14.399999999999999,0,15.399999999999999,0,16.399999999999999,0]
[{"$f":"'data Kbely'!A1413","v":"2019-02-02"},{"$f":"'data Kbely'!B1413","v":2.6000000000000014},10.399999999999999,0,11.399999999999999,0,12.399999999999999,0,13.399999999999999,0,14.399999999999999,0]
[{"$f":"'data Kbely'!A1414","v":"2019-02-03"},{"$f":"'data Kbely'!B1414","v":0.30000000000000071},12.7,0,13.7,0,14.7,0,15.7,0,16.7,0]
[{"$f":"'data Kbely'!A1415","v":"2019-02-04"},{"$f":"'data Kbely'!B1415","v":-1.1000000000000014},14.100000000000001,0,15.100000000000001,0,16.100000000000001,0,17.100000000000001,0,18.100000000000001,0]
[{"$f":"'data Kbely'!A1416","v":"2019-02-05"},{"$f":"'data Kbely'!B1416","v":-3.3999999999999986},16.399999999999999,0,17.399999999999999,0,18.399999999999999,0,19.399999999999999,0,20.399999999999999,0]
[{"$f":"'data Kbely'!A1417","v":"2019-02-06"},{"$f":"'data Kbely'!B1417","v":-1.1000000000000014},14.100000000000001,0,15.100000000000001,0,16.100000000000001,0,17.100000000000001,0,18.100000000000001,0]
[{"$f":"'data Kbely'!A1418","v":"2019-02-07"},{"$f":"'data Kbely'!B1418","v":-2.3999999999999986},{"$f":"IF(C$2>$B1418,C$2-$B1418,0)","v":15.399999999999999},{"$f":"IF(D$2<$B1418,D$2-$B1418,0)","v":0},{"$f":"IF(E$2>$B1418,E$2-$B1418,0)","v":16.399999999999999},{"$f":"IF(F$2<$B1418,F$2-$B1418,0)","v":0},{"$f":"IF(G$2>$B1418,G$2-$B1418,0)","v":17.399999999999999},{"$f":"IF(H$2<$B1418,H$2-$B1418,0)","v":0},{"$f":"IF(I$2>$B1418,I$2-$B1418,0)","v":18.399999999999999},{"$f":"IF(J$2<$B1418,J$2-$B1418,0)","v":0},{"$f":"IF(K$2>$B1418,K$2-$B1418,0)","v":19.399999999999999},{"$f":"IF(L$2<$B1418,L$2-$B1418,0)","v":0}]
[{"$f":"'data Kbely'!A1419","v":"2019-02-08"},{"$f":"'data Kbely'!B1419","v":2.5},10.5,0,11.5,0,12.5,0,13.5,0,14.5,0]
[{"$f":"'data Kbely'!A1420","v":"2019-02-09"},{"$f":"'data Kbely'!B1420","v":4.5},8.5,0,9.5,0,10.5,0,11.5,0,12.5,0]
[{"$f":"'data Kbely'!A1421","v":"2019-02-10"},{"$f":"'data Kbely'!B1421","v":5.5},7.5,0,8.5,0,9.5,0,10.5,0,11.5,0]
[{"$f":"'data Kbely'!A1422","v":"2019-02-11"},{"$f":"'data Kbely'!B1422","v":4.1999999999999993},8.8000000000000007,0,9.8000000000000007,0,10.8,0,11.8,0,12.8,0]
[{"$f":"'data Kbely'!A1423","v":"2019-02-12"},{"$f":"'data Kbely'!B1423","v":1.6999999999999993},11.3,0,12.3,0,13.3,0,14.3,0,15.3,0]
[{"$f":"'data Kbely'!A1424","v":"2019-02-13"},{"$f":"'data Kbely'!B1424","v":4.5},8.5,0,9.5,0,10.5,0,11.5,0,12.5,0]
[{"$f":"'data Kbely'!A1425","v":"2019-02-14"},{"$f":"'data Kbely'!B1425","v":4.8999999999999986},8.1000000000000014,0,9.1000000000000014,0,10.100000000000001,0,11.100000000000001,0,12.100000000000001,0]
[{"$f":"'data Kbely'!A1426","v":"2019-02-15"},{"$f":"'data Kbely'!B1426","v":3.3999999999999986},9.6000000000000014,0,10.600000000000001,0,11.600000000000001,0,12.600000000000001,0,13.600000000000001,0]
[{"$f":"'data Kbely'!A1427","v":"2019-02-16"},{"$f":"'data Kbely'!B1427","v":0.89999999999999858},12.100000000000001,0,13.100000000000001,0,14.100000000000001,0,15.100000000000001,0,16.100000000000001,0]
[{"$f":"'data Kbely'!A1428","v":"2019-02-17"},{"$f":"'data Kbely'!B1428","v":2.1999999999999993},10.8,0,11.8,0,12.8,0,13.8,0,14.8,0]
[{"$f":"'data Kbely'!A1429","v":"2019-02-18"},{"$f":"'data Kbely'!B1429","v":1.8000000000000007},11.2,0,12.2,0,13.2,0,14.2,0,15.2,0]
[{"$f":"'data Kbely'!A1430","v":"2019-02-19"},{"$f":"'data Kbely'!B1430","v":4.5},8.5,0,9.5,0,10.5,0,11.5,0,12.5,0]
[{"$f":"'data Kbely'!A1431","v":"2019-02-20"},{"$f":"'data Kbely'!B1431","v":4.5},8.5,0,9.5,0,10.5,0,11.5,0,12.5,0]
[{"$f":"'data Kbely'!A1432","v":"2019-02-21"},{"$f":"'data Kbely'!B1432","v":6.1000000000000014},6.8999999999999986,0,7.8999999999999986,0,8.8999999999999986,0,9.8999999999999986,0,10.899999999999999,0]
[{"$f":"'data Kbely'!A1433","v":"2019-02-22"},{"$f":"'data Kbely'!B1433","v":4.1999999999999993},8.8000000000000007,0,9.8000000000000007,0,10.8,0,11.8,0,12.8,0]
[{"$f":"'data Kbely'!A1434","v":"2019-02-23"},{"$f":"'data Kbely'!B1434","v":-2.7999999999999972},15.799999999999997,0,16.799999999999997,0,17.799999999999997,0,18.799999999999997,0,19.799999999999997,0]
[{"$f":"'data Kbely'!A1435","v":"2019-02-24"},{"$f":"'data Kbely'!B1435","v":-0.60000000000000142},13.600000000000001,0,14.600000000000001,0,15.600000000000001,0,16.600000000000001,0,17.600000000000001,0]
[{"$f":"'data Kbely'!A1436","v":"2019-02-25"},{"$f":"'data Kbely'!B1436","v":6.3000000000000007},6.6999999999999993,0,7.6999999999999993,0,8.6999999999999993,0,9.6999999999999993,0,10.7,0]
[{"$f":"'data Kbely'!A1437","v":"2019-02-26"},{"$f":"'data Kbely'!B1437","v":7.6000000000000014},5.3999999999999986,0,6.3999999999999986,0,7.3999999999999986,0,8.3999999999999986,0,9.3999999999999986,0]
[{"$f":"'data Kbely'!A1438","v":"2019-02-27"},{"$f":"'data Kbely'!B1438","v":6.3999999999999986},6.6000000000000014,0,7.6000000000000014,0,8.6000000000000014,0,9.6000000000000014,0,10.600000000000001,0]
[{"$f":"'data Kbely'!A1439","v":"2019-02-28"},{"$f":"'data Kbely'!B1439","v":10.199999999999999},2.8000000000000007,0,3.8000000000000007,0,4.8000000000000007,0,5.8000000000000007,0,6.8000000000000007,0]
[{"$f":"'data Kbely'!A1440","v":"2019-03-01"},{"$f":"'data Kbely'!B1440","v":8.5},4.5,0,5.5,0,6.5,0,7.5,0,8.5,0]
[{"$f":"'data Kbely'!A1441","v":"2019-03-02"},{"$f":"'data Kbely'!B1441","v":4.1999999999999993},8.8000000000000007,0,9.8000000000000007,0,10.8,0,11.8,0,12.8,0]
[{"$f":"'data Kbely'!A1442","v":"2019-03-03"},{"$f":"'data Kbely'!B1442","v":9.1000000000000014},3.8999999999999986,0,4.8999999999999986,0,5.8999999999999986,0,6.8999999999999986,0,7.8999999999999986,0]
[{"$f":"'data Kbely'!A1443","v":"2019-03-04"},{"$f":"'data Kbely'!B1443","v":10.7},2.3000000000000007,0,3.3000000000000007,0,4.3000000000000007,0,5.3000000000000007,0,6.3000000000000007,0]
[{"$f":"'data Kbely'!A1444","v":"2019-03-05"},{"$f":"'data Kbely'!B1444","v":5.5},7.5,0,8.5,0,9.5,0,10.5,0,11.5,0]
[{"$f":"'data Kbely'!A1445","v":"2019-03-06"},{"$f":"'data Kbely'!B1445","v":6.3000000000000007},6.6999999999999993,0,7.6999999999999993,0,8.6999999999999993,0,9.6999999999999993,0,10.7,0]
[{"$f":"'data Kbely'!A1446","v":"2019-03-07"},{"$f":"'data Kbely'!B1446","v":8.8999999999999986},4.1000000000000014,0,5.1000000000000014,0,6.1000000000000014,0,7.1000000000000014,0,8.1000000000000014,0]
[{"$f":"'data Kbely'!A1447","v":"2019-03-08"},{"$f":"'data Kbely'!B1447","v":7.6000000000000014},5.3999999999999986,0,6.3999999999999986,0,7.3999999999999986,0,8.3999999999999986,0,9.3999999999999986,0]
[{"$f":"'data Kbely'!A1448","v":"2019-03-09"},{"$f":"'data Kbely'!B1448","v":7.6000000000000014},5.3999999999999986,0,6.3999999999999986,0,7.3999999999999986,0,8.3999999999999986,0,9.3999999999999986,0]
[{"$f":"'data Kbely'!A1449","v":"2019-03-10"},{"$f":"'data Kbely'!B1449","v":7.3000000000000007},5.6999999999999993,0,6.6999999999999993,0,7.6999999999999993,0,8.6999999999999993,0,9.6999999999999993,0]
[{"$f":"'data Kbely'!A1450","v":"2019-03-11"},{"$f":"'data Kbely'!B1450","v":3.3000000000000007},9.6999999999999993,0,10.7,0,11.7,0,12.7,0,13.7,0]
[{"$f":"'data Kbely'!A1451","v":"2019-03-12"},{"$f":"'data Kbely'!B1451","v":4.1000000000000014},8.8999999999999986,0,9.8999999999999986,0,10.899999999999999,0,11.899999999999999,0,12.899999999999999,0]
[{"$f":"'data Kbely'!A1452","v":"2019-03-13"},{"$f":"'data Kbely'!B1452","v":6.8000000000000007},6.1999999999999993,0,7.1999999999999993,0,8.1999999999999993,0,9.1999999999999993,0,10.199999999999999,0]
[{"$f":"'data Kbely'!A1453","v":"2019-03-14"},{"$f":"'data Kbely'!B1453","v":5.8000000000000007},7.1999999999999993,0,8.1999999999999993,0,9.1999999999999993,0,10.199999999999999,0,11.2,0]
[{"$f":"'data Kbely'!A1454","v":"2019-03-15"},{"$f":"'data Kbely'!B1454","v":7.6000000000000014},5.3999999999999986,0,6.3999999999999986,0,7.3999999999999986,0,8.3999999999999986,0,9.3999999999999986,0]
[{"$f":"'data Kbely'!A1455","v":"2019-03-16"},{"$f":"'data Kbely'!B1455","v":7.3999999999999986},5.6000000000000014,0,6.6000000000000014,0,7.6000000000000014,0,8.6000000000000014,0,9.6000000000000014,0]
[{"$f":"'data Kbely'!A1456","v":"2019-03-17"},{"$f":"'data Kbely'!B1456","v":10.5},2.5,0,3.5,0,4.5,0,5.5,0,6.5,0]
[{"$f":"'data Kbely'!A1457","v":"2019-03-18"},{"$f":"'data Kbely'!B1457","v":5.5},7.5,0,8.5,0,9.5,0,10.5,0,11.5,0]
[{"$f":"'data Kbely'!A1458","v":"2019-03-19"},{"$f":"'data Kbely'!B1458","v":4.1999999999999993},8.8000000000000007,0,9.8000000000000007,0,10.8,0,11.8,0,12.8,0]
[{"$f":"'data Kbely'!A1459","v":"2019-03-20"},{"$f":"'data Kbely'!B1459","v":6.1000000000000014},6.8999999999999986,0,7.8999999999999986,0,8.8999999999999986,0,9.8999999999999986,0,10.899999999999999,0]
[{"$f":"'data Kbely'!A1460","v":"2019-03-21"},{"$f":"'data Kbely'!B1460","v":7},6,0,7,0,8,0,9,0,10,0]
[{"$f":"'data Kbely'!A1461","v":"2019-03-22"},{"$f":"'data Kbely'!B1461","v":10},3,0,4,0,5,0,6,0,7,0]
[{"$f":"'data Kbely'!A1462","v":"2019-03-23"},{"$f":"'data Kbely'!B1462","v":12},1,0,2,0,3,0,4,0,5,0]
[{"$f":"'data Kbely'!A1463","v":"2019-03-24"},{"$f":"'data Kbely'!B1463","v":8.8999999999999986},4.1000000000000014,0,5.1000000000000014,0,6.1000000000000014,0,7.1000000000000014,0,8.1000000000000014,0]
[{"$f":"'data Kbely'!A1464","v":"2019-03-25"},{"$f":"'data Kbely'!B1464","v":6.3000000000000007},6.6999999999999993,0,7.6999999999999993,0,8.6999999999999993,0,9.6999999999999993,0,10.7,0]
[{"$f":"'data Kbely'!A1465","v":"2019-03-26"},{"$f":"'data Kbely'!B1465","v":5.3999999999999986},7.6000000000000014,0,8.6000000000000014,0,9.6000000000000014,0,10.600000000000001,0,11.600000000000001,0]
[{"$f":"'data Kbely'!A1466","v":"2019-03-27"},{"$f":"'data Kbely'!B1466","v":6.1000000000000014},6.8999999999999986,0,7.8999999999999986,0,8.8999999999999986,0,9.8999999999999986,0,10.899999999999999,0]
[{"$f":"'data Kbely'!A1467","v":"2019-03-28"},{"$f":"'data Kbely'!B1467","v":8.1000000000000014},4.8999999999999986,0,5.8999999999999986,0,6.8999999999999986,0,7.8999999999999986,0,8.8999999999999986,0]
[{"$f":"'data Kbely'!A1468","v":"2019-03-29"},{"$f":"'data Kbely'!B1468","v":8.8000000000000007},4.1999999999999993,0,5.1999999999999993,0,6.1999999999999993,0,7.1999999999999993,0,8.1999999999999993,0]
[{"$f":"'data Kbely'!A1469","v":"2019-03-30"},{"$f":"'data Kbely'!B1469","v":9.3000000000000007},3.6999999999999993,0,4.6999999999999993,0,5.6999999999999993,0,6.6999999999999993,0,7.6999999999999993,0]
[{"$f":"'data Kbely'!A1470","v":"2019-03-31"},{"$f":"'data Kbely'!B1470","v":10.5},2.5,0,3.5,0,4.5,0,5.5,0,6.5,0]
[{"$f":"'data Kbely'!A1471","v":"2019-04-01"},{"$f":"'data Kbely'!B1471","v":7.3000000000000007},5.6999999999999993,0,6.6999999999999993,0,7.6999999999999993,0,8.6999999999999993,0,9.6999999999999993,0]
[{"$f":"'data Kbely'!A1472","v":"2019-04-02"},{"$f":"'data Kbely'!B1472","v":8.6999999999999993},4.3000000000000007,0,5.3000000000000007,0,6.3000000000000007,0,7.3000000000000007,0,8.3000000000000007,0]
[{"$f":"'data Kbely'!A1473","v":"2019-04-03"},{"$f":"'data Kbely'!B1473","v":12.600000000000001},0.39999999999999858,0,1.3999999999999986,0,2.3999999999999986,0,3.3999999999999986,0,4.3999999999999986,0]
[{"$f":"'data Kbely'!A1474","v":"2019-04-04"},{"$f":"'data Kbely'!B1474","v":13.399999999999999},0,-0.39999999999999858,0.60000000000000142,0,1.6000000000000014,0,2.6000000000000014,0,3.6000000000000014,0]
[{"$f":"'data Kbely'!A1475","v":"2019-04-05"},{"$f":"'data Kbely'!B1475","v":12.899999999999999},0.10000000000000142,0,1.1000000000000014,0,2.1000000000000014,0,3.1000000000000014,0,4.1000000000000014,0]
[{"$f":"'data Kbely'!A1476","v":"2019-04-06"},{"$f":"'data Kbely'!B1476","v":11.8},1.1999999999999993,0,2.1999999999999993,0,3.1999999999999993,0,4.1999999999999993,0,5.1999999999999993,0]
[{"$f":"'data Kbely'!A1477","v":"2019-04-07"},{"$f":"'data Kbely'!B1477","v":10.199999999999999},2.8000000000000007,0,3.8000000000000007,0,4.8000000000000007,0,5.8000000000000007,0,6.8000000000000007,0]
[{"$f":"'data Kbely'!A1478","v":"2019-04-08"},{"$f":"'data Kbely'!B1478","v":12.8},0.19999999999999929,0,1.1999999999999993,0,2.1999999999999993,0,3.1999999999999993,0,4.1999999999999993,0]
[{"$f":"'data Kbely'!A1479","v":"2019-04-09"},{"$f":"'data Kbely'!B1479","v":10.600000000000001},2.3999999999999986,0,3.3999999999999986,0,4.3999999999999986,0,5.3999999999999986,0,6.3999999999999986,0]
[{"$f":"'data Kbely'!A1480","v":"2019-04-10"},{"$f":"'data Kbely'!B1480","v":6.5},6.5,0,7.5,0,8.5,0,9.5,0,10.5,0]
[{"$f":"'data Kbely'!A1481","v":"2019-04-11"},{"$f":"'data Kbely'!B1481","v":4.6000000000000014},8.3999999999999986,0,9.3999999999999986,0,10.399999999999999,0,11.399999999999999,0,12.399999999999999,0]
[{"$f":"'data Kbely'!A1482","v":"2019-04-12"},{"$f":"'data Kbely'!B1482","v":3.1000000000000014},{"$f":"IF(C$2>$B1482,C$2-$B1482,0)","v":9.8999999999999986},{"$f":"IF(D$2<$B1482,D$2-$B1482,0)","v":0},{"$f":"IF(E$2>$B1482,E$2-$B1482,0)","v":10.899999999999999},{"$f":"IF(F$2<$B1482,F$2-$B1482,0)","v":0},{"$f":"IF(G$2>$B1482,G$2-$B1482,0)","v":11.899999999999999},{"$f":"IF(H$2<$B1482,H$2-$B1482,0)","v":0},{"$f":"IF(I$2>$B1482,I$2-$B1482,0)","v":12.899999999999999},{"$f":"IF(J$2<$B1482,J$2-$B1482,0)","v":0},{"$f":"IF(K$2>$B1482,K$2-$B1482,0)","v":13.899999999999999},{"$f":"IF(L$2<$B1482,L$2-$B1482,0)","v":0}]
[{"$f":"'data Kbely'!A1483","v":"2019-04-13"},{"$f":"'data Kbely'!B1483","v":4.3999999999999986},8.6000000000000014,0,9.6000000000000014,0,10.600000000000001,0,11.600000000000001,0,12.600000000000001,0]
[{"$f":"'data Kbely'!A1484","v":"2019-04-14"},{"$f":"'data Kbely'!B1484","v":4.6000000000000014},8.3999999999999986,0,9.3999999999999986,0,10.399999999999999,0,11.399999999999999,0,12.399999999999999,0]
[{"$f":"'data Kbely'!A1485","v":"2019-04-15"},{"$f":"'data Kbely'!B1485","v":8.8000000000000007},4.1999999999999993,0,5.1999999999999993,0,6.1999999999999993,0,7.1999999999999993,0,8.1999999999999993,0]
[{"$f":"'data Kbely'!A1486","v":"2019-04-16"},{"$f":"'data Kbely'!B1486","v":8.6999999999999993},4.3000000000000007,0,5.3000000000000007,0,6.3000000000000007,0,7.3000000000000007,0,8.3000000000000007,0]
[{"$f":"'data Kbely'!A1487","v":"2019-04-17"},{"$f":"'data Kbely'!B1487","v":10.199999999999999},2.8000000000000007,0,3.8000000000000007,0,4.8000000000000007,0,5.8000000000000007,0,6.8000000000000007,0]
[{"$f":"'data Kbely'!A1488","v":"2019-04-18"},{"$f":"'data Kbely'!B1488","v":12.399999999999999},0.60000000000000142,0,1.6000000000000014,0,2.6000000000000014,0,3.6000000000000014,0,4.6000000000000014,0]
[{"$f":"'data Kbely'!A1489","v":"2019-04-19"},{"$f":"'data Kbely'!B1489","v":14.8},0,-1.8000000000000007,0,-0.80000000000000071,0.19999999999999929,0,1.1999999999999993,0,2.1999999999999993,0]
[{"$f":"'data Kbely'!A1490","v":"2019-04-20"},{"$f":"'data Kbely'!B1490","v":14.2},0,-1.1999999999999993,0,-0.19999999999999929,0.80000000000000071,0,1.8000000000000007,0,2.8000000000000007,0]
[{"$f":"'data Kbely'!A1491","v":"2019-04-21"},{"$f":"'data Kbely'!B1491","v":13.899999999999999},0,-0.89999999999999858,0.10000000000000142,0,1.1000000000000014,0,2.1000000000000014,0,3.1000000000000014,0]
[{"$f":"'data Kbely'!A1492","v":"2019-04-22"},{"$f":"'data Kbely'!B1492","v":12.600000000000001},0.39999999999999858,0,1.3999999999999986,0,2.3999999999999986,0,3.3999999999999986,0,4.3999999999999986,0]
[{"$f":"'data Kbely'!A1493","v":"2019-04-23"},{"$f":"'data Kbely'!B1493","v":11.899999999999999},1.1000000000000014,0,2.1000000000000014,0,3.1000000000000014,0,4.1000000000000014,0,5.1000000000000014,0]
[{"$f":"'data Kbely'!A1494","v":"2019-04-24"},{"$f":"'data Kbely'!B1494","v":15.2},0,-2.1999999999999993,0,-1.1999999999999993,0,-0.19999999999999929,0.80000000000000071,0,1.8000000000000007,0]
[{"$f":"'data Kbely'!A1495","v":"2019-04-25"},{"$f":"'data Kbely'!B1495","v":17.899999999999999},0,-4.8999999999999986,0,-3.8999999999999986,0,-2.8999999999999986,0,-1.8999999999999986,0,-0.89999999999999858]
[{"$f":"'data Kbely'!A1496","v":"2019-04-26"},{"$f":"'data Kbely'!B1496","v":17.7},0,-4.6999999999999993,0,-3.6999999999999993,0,-2.6999999999999993,0,-1.6999999999999993,0,-0.69999999999999929]
[{"$f":"'data Kbely'!A1497","v":"2019-04-27"},{"$f":"'data Kbely'!B1497","v":11.100000000000001},1.8999999999999986,0,2.8999999999999986,0,3.8999999999999986,0,4.8999999999999986,0,5.8999999999999986,0]
[{"$f":"'data Kbely'!A1498","v":"2019-04-28"},{"$f":"'data Kbely'!B1498","v":9.6999999999999993},3.3000000000000007,0,4.3000000000000007,0,5.3000000000000007,0,6.3000000000000007,0,7.3000000000000007,0]
[{"$f":"'data Kbely'!A1499","v":"2019-04-29"},{"$f":"'data Kbely'!B1499","v":8},5,0,6,0,7,0,8,0,9,0]
[{"$f":"'data Kbely'!A1500","v":"2019-04-30"},{"$f":"'data Kbely'!B1500","v":11.2},1.8000000000000007,0,2.8000000000000007,0,3.8000000000000007,0,4.8000000000000007,0,5.8000000000000007,0]
[{"$f":"'data Kbely'!A1501","v":"2019-05-01"},{"$f":"'data Kbely'!B1501","v":11.3},1.6999999999999993,0,2.6999999999999993,0,3.6999999999999993,0,4.6999999999999993,0,5.6999999999999993,0]
[{"$f":"'data Kbely'!A1502","v":"2019-05-02"},{"$f":"'data Kbely'!B1502","v":13.899999999999999},0,-0.89999999999999858,0.10000000000000142,0,1.1000000000000014,0,2.1000000000000014,0,3.1000000000000014,0]
[{"$f":"'data Kbely'!A1503","v":"2019-05-03"},{"$f":"'data Kbely'!B1503","v":9},4,0,5,0,6,0,7,0,8,0]
[{"$f":"'data Kbely'!A1504","v":"2019-05-04"},{"$f":"'data Kbely'!B1504","v":6.1999999999999993},6.8000000000000007,0,7.8000000000000007,0,8.8000000000000007,0,9.8000000000000007,0,10.8,0]
[{"$f":"'data Kbely'!A1505","v":"2019-05-05"},{"$f":"'data Kbely'!B1505","v":5.6000000000000014},7.3999999999999986,0,8.3999999999999986,0,9.3999999999999986,0,10.399999999999999,0,11.399999999999999,0]
[{"$f":"'data Kbely'!A1506","v":"2019-05-06"},{"$f":"'data Kbely'!B1506","v":6.6000000000000014},6.3999999999999986,0,7.3999999999999986,0,8.3999999999999986,0,9.3999999999999986,0,10.399999999999999,0]
[{"$f":"'data Kbely'!A1507","v":"2019-05-07"},{"$f":"'data Kbely'!B1507","v":7},6,0,7,0,8,0,9,0,10,0]
[{"$f":"'data Kbely'!A1508","v":"2019-05-08"},{"$f":"'data Kbely'!B1508","v":11.5},1.5,0,2.5,0,3.5,0,4.5,0,5.5,0]
[{"$f":"'data Kbely'!A1509","v":"2019-05-09"},{"$f":"'data Kbely'!B1509","v":13.3},0,-0.30000000000000071,0.69999999999999929,0,1.6999999999999993,0,2.6999999999999993,0,3.6999999999999993,0]
[{"$f":"'data Kbely'!A1510","v":"2019-05-10"},{"$f":"'data Kbely'!B1510","v":13.399999999999999},0,-0.39999999999999858,0.60000000000000142,0,1.6000000000000014,0,2.6000000000000014,0,3.6000000000000014,0]
[{"$f":"'data Kbely'!A1511","v":"2019-05-11"},{"$f":"'data Kbely'!B1511","v":10.8},2.1999999999999993,0,3.1999999999999993,0,4.1999999999999993,0,5.1999999999999993,0,6.1999999999999993,0]
[{"$f":"'data Kbely'!A1512","v":"2019-05-12"},{"$f":"'data Kbely'!B1512","v":9.8999999999999986},3.1000000000000014,0,4.1000000000000014,0,5.1000000000000014,0,6.1000000000000014,0,7.1000000000000014,0]
[{"$f":"'data Kbely'!A1513","v":"2019-05-13"},{"$f":"'data Kbely'!B1513","v":10.3},2.6999999999999993,0,3.6999999999999993,0,4.6999999999999993,0,5.6999999999999993,0,6.6999999999999993,0]
[{"$f":"'data Kbely'!A1514","v":"2019-05-14"},{"$f":"'data Kbely'!B1514","v":7.6000000000000014},5.3999999999999986,0,6.3999999999999986,0,7.3999999999999986,0,8.3999999999999986,0,9.3999999999999986,0]
[{"$f":"'data Kbely'!A1515","v":"2019-05-15"},{"$f":"'data Kbely'!B1515","v":6},7,0,8,0,9,0,10,0,11,0]
[{"$f":"'data Kbely'!A1516","v":"2019-05-16"},{"$f":"'data Kbely'!B1516","v":7.8000000000000007},5.1999999999999993,0,6.1999999999999993,0,7.1999999999999993,0,8.1999999999999993,0,9.1999999999999993,0]
[{"$f":"'data Kbely'!A1517","v":"2019-05-17"},{"$f":"'data Kbely'!B1517","v":12},1,0,2,0,3,0,4,0,5,0]
[{"$f":"'data Kbely'!A1518","v":"2019-05-18"},{"$f":"'data Kbely'!B1518","v":14.1},0,-1.0999999999999996,0,-9.9999999999999645E-2,0.90000000000000036,0,1.9000000000000004,0,2.9000000000000004,0]
[{"$f":"'data Kbely'!A1519","v":"2019-05-19"},{"$f":"'data Kbely'!B1519","v":17.100000000000001},0,-4.1000000000000014,0,-3.1000000000000014,0,-2.1000000000000014,0,-1.1000000000000014,0,-0.10000000000000142]
[{"$f":"'data Kbely'!A1520","v":"2019-05-20"},{"$f":"'data Kbely'!B1520","v":14.4},0,-1.4000000000000004,0,-0.40000000000000036,0.59999999999999964,0,1.5999999999999996,0,2.5999999999999996,0]
[{"$f":"'data Kbely'!A1521","v":"2019-05-21"},{"$f":"'data Kbely'!B1521","v":15.2},0,-2.1999999999999993,0,-1.1999999999999993,0,-0.19999999999999929,0.80000000000000071,0,1.8000000000000007,0]
[{"$f":"'data Kbely'!A1522","v":"2019-05-22"},{"$f":"'data Kbely'!B1522","v":13.100000000000001},0,-0.10000000000000142,0.89999999999999858,0,1.8999999999999986,0,2.8999999999999986,0,3.8999999999999986,0]
[{"$f":"'data Kbely'!A1523","v":"2019-05-23"},{"$f":"'data Kbely'!B1523","v":13},0,0,1,0,2,0,3,0,4,0]
[{"$f":"'data Kbely'!A1524","v":"2019-05-24"},{"$f":"'data Kbely'!B1524","v":14.5},0,-1.5,0,-0.5,0.5,0,1.5,0,2.5,0]
[{"$f":"'data Kbely'!A1525","v":"2019-05-25"},{"$f":"'data Kbely'!B1525","v":16.399999999999999},0,-3.3999999999999986,0,-2.3999999999999986,0,-1.3999999999999986,0,-0.39999999999999858,0.60000000000000142,0]
[{"$f":"'data Kbely'!A1526","v":"2019-05-26"},{"$f":"'data Kbely'!B1526","v":16.8},0,-3.8000000000000007,0,-2.8000000000000007,0,-1.8000000000000007,0,-0.80000000000000071,0.19999999999999929,0]
[{"$f":"'data Kbely'!A1527","v":"2019-05-27"},{"$f":"'data Kbely'!B1527","v":18.3},0,-5.3000000000000007,0,-4.3000000000000007,0,-3.3000000000000007,0,-2.3000000000000007,0,-1.3000000000000007]
[{"$f":"'data Kbely'!A1528","v":"2019-05-28"},{"$f":"'data Kbely'!B1528","v":14.3},0,-1.3000000000000007,0,-0.30000000000000071,0.69999999999999929,0,1.6999999999999993,0,2.6999999999999993,0]
[{"$f":"'data Kbely'!A1529","v":"2019-05-29"},{"$f":"'data Kbely'!B1529","v":12.399999999999999},0.60000000000000142,0,1.6000000000000014,0,2.6000000000000014,0,3.6000000000000014,0,4.6000000000000014,0]
[{"$f":"'data Kbely'!A1530","v":"2019-05-30"},{"$f":"'data Kbely'!B1530","v":13.5},0,-0.5,0.5,0,1.5,0,2.5,0,3.5,0]
[{"$f":"'data Kbely'!A1531","v":"2019-05-31"},{"$f":"'data Kbely'!B1531","v":16.8},0,-3.8000000000000007,0,-2.8000000000000007,0,-1.8000000000000007,0,-0.80000000000000071,0.19999999999999929,0]
[{"$f":"'data Kbely'!A1532","v":"2019-06-01"},{"$f":"'data Kbely'!B1532","v":20.3},0,-7.3000000000000007,0,-6.3000000000000007,0,-5.3000000000000007,0,-4.3000000000000007,0,-3.3000000000000007]
[{"$f":"'data Kbely'!A1533","v":"2019-06-02"},{"$f":"'data Kbely'!B1533","v":21.6},0,-8.6000000000000014,0,-7.6000000000000014,0,-6.6000000000000014,0,-5.6000000000000014,0,-4.6000000000000014]
[{"$f":"'data Kbely'!A1534","v":"2019-06-03"},{"$f":"'data Kbely'!B1534","v":22.8},0,-9.8000000000000007,0,-8.8000000000000007,0,-7.8000000000000007,0,-6.8000000000000007,0,-5.8000000000000007]
[{"$f":"'data Kbely'!A1535","v":"2019-06-04"},{"$f":"'data Kbely'!B1535","v":22.7},0,-9.6999999999999993,0,-8.6999999999999993,0,-7.6999999999999993,0,-6.6999999999999993,0,-5.6999999999999993]
[{"$f":"'data Kbely'!A1536","v":"2019-06-05"},{"$f":"'data Kbely'!B1536","v":23.1},0,-10.100000000000001,0,-9.1000000000000014,0,-8.1000000000000014,0,-7.1000000000000014,0,-6.1000000000000014]
[{"$f":"'data Kbely'!A1537","v":"2019-06-06"},{"$f":"'data Kbely'!B1537","v":19.5},0,-6.5,0,-5.5,0,-4.5,0,-3.5,0,-2.5]
[{"$f":"'data Kbely'!A1538","v":"2019-06-07"},{"$f":"'data Kbely'!B1538","v":18.7},0,-5.6999999999999993,0,-4.6999999999999993,0,-3.6999999999999993,0,-2.6999999999999993,0,-1.6999999999999993]
[{"$f":"'data Kbely'!A1539","v":"2019-06-08"},{"$f":"'data Kbely'!B1539","v":18.600000000000001},0,-5.6000000000000014,0,-4.6000000000000014,0,-3.6000000000000014,0,-2.6000000000000014,0,-1.6000000000000014]
[{"$f":"'data Kbely'!A1540","v":"2019-06-09"},{"$f":"'data Kbely'!B1540","v":18.600000000000001},0,-5.6000000000000014,0,-4.6000000000000014,0,-3.6000000000000014,0,-2.6000000000000014,0,-1.6000000000000014]
[{"$f":"'data Kbely'!A1541","v":"2019-06-10"},{"$f":"'data Kbely'!B1541","v":23},0,-10,0,-9,0,-8,0,-7,0,-6]
[{"$f":"'data Kbely'!A1542","v":"2019-06-11"},{"$f":"'data Kbely'!B1542","v":25.2},0,-12.2,0,-11.2,0,-10.199999999999999,0,-9.1999999999999993,0,-8.1999999999999993]
[{"$f":"'data Kbely'!A1543","v":"2019-06-12"},{"$f":"'data Kbely'!B1543","v":24.1},0,-11.100000000000001,0,-10.100000000000001,0,-9.1000000000000014,0,-8.1000000000000014,0,-7.1000000000000014]
[{"$f":"'data Kbely'!A1544","v":"2019-06-13"},{"$f":"'data Kbely'!B1544","v":20},0,-7,0,-6,0,-5,0,-4,0,-3]
[{"$f":"'data Kbely'!A1545","v":"2019-06-14"},{"$f":"'data Kbely'!B1545","v":23.2},0,-10.199999999999999,0,-9.1999999999999993,0,-8.1999999999999993,0,-7.1999999999999993,0,-6.1999999999999993]
[{"$f":"'data Kbely'!A1546","v":"2019-06-15"},{"$f":"'data Kbely'!B1546","v":24.2},{"$f":"IF(C$2>$B1546,C$2-$B1546,0)","v":0},{"$f":"IF(D$2<$B1546,D$2-$B1546,0)","v":-11.2},{"$f":"IF(E$2>$B1546,E$2-$B1546,0)","v":0},{"$f":"IF(F$2<$B1546,F$2-$B1546,0)","v":-10.199999999999999},{"$f":"IF(G$2>$B1546,G$2-$B1546,0)","v":0},{"$f":"IF(H$2<$B1546,H$2-$B1546,0)","v":-9.1999999999999993},{"$f":"IF(I$2>$B1546,I$2-$B1546,0)","v":0},{"$f":"IF(J$2<$B1546,J$2-$B1546,0)","v":-8.1999999999999993},{"$f":"IF(K$2>$B1546,K$2-$B1546,0)","v":0},{"$f":"IF(L$2<$B1546,L$2-$B1546,0)","v":-7.1999999999999993}]
[{"$f":"'data Kbely'!A1547","v":"2019-06-16"},{"$f":"'data Kbely'!B1547","v":18.899999999999999},0,-5.8999999999999986,0,-4.8999999999999986,0,-3.8999999999999986,0,-2.8999999999999986,0,-1.8999999999999986]
[{"$f":"'data Kbely'!A1548","v":"2019-06-17"},{"$f":"'data Kbely'!B1548","v":20.100000000000001},0,-7.1000000000000014,0,-6.1000000000000014,0,-5.1000000000000014,0,-4.1000000000000014,0,-3.1000000000000014]
[{"$f":"'data Kbely'!A1549","v":"2019-06-18"},{"$f":"'data Kbely'!B1549","v":20.9},0,-7.8999999999999986,0,-6.8999999999999986,0,-5.8999999999999986,0,-4.8999999999999986,0,-3.8999999999999986]
[{"$f":"'data Kbely'!A1550","v":"2019-06-19"},{"$f":"'data Kbely'!B1550","v":21.4},0,-8.3999999999999986,0,-7.3999999999999986,0,-6.3999999999999986,0,-5.3999999999999986,0,-4.3999999999999986]
[{"$f":"'data Kbely'!A1551","v":"2019-06-20"},{"$f":"'data Kbely'!B1551","v":21.8},0,-8.8000000000000007,0,-7.8000000000000007,0,-6.8000000000000007,0,-5.8000000000000007,0,-4.8000000000000007]
[{"$f":"'data Kbely'!A1552","v":"2019-06-21"},{"$f":"'data Kbely'!B1552","v":21.2},0,-8.1999999999999993,0,-7.1999999999999993,0,-6.1999999999999993,0,-5.1999999999999993,0,-4.1999999999999993]
[{"$f":"'data Kbely'!A1553","v":"2019-06-22"},{"$f":"'data Kbely'!B1553","v":20.5},0,-7.5,0,-6.5,0,-5.5,0,-4.5,0,-3.5]
[{"$f":"'data Kbely'!A1554","v":"2019-06-23"},{"$f":"'data Kbely'!B1554","v":20.6},0,-7.6000000000000014,0,-6.6000000000000014,0,-5.6000000000000014,0,-4.6000000000000014,0,-3.6000000000000014]
[{"$f":"'data Kbely'!A1555","v":"2019-06-24"},{"$f":"'data Kbely'!B1555","v":21.8},0,-8.8000000000000007,0,-7.8000000000000007,0,-6.8000000000000007,0,-5.8000000000000007,0,-4.8000000000000007]
[{"$f":"'data Kbely'!A1556","v":"2019-06-25"},{"$f":"'data Kbely'!B1556","v":24.4},0,-11.399999999999999,0,-10.399999999999999,0,-9.3999999999999986,0,-8.3999999999999986,0,-7.3999999999999986]
[{"$f":"'data Kbely'!A1557","v":"2019-06-26"},{"$f":"'data Kbely'!B1557","v":26.7},0,-13.7,0,-12.7,0,-11.7,0,-10.7,0,-9.6999999999999993]
[{"$f":"'data Kbely'!A1558","v":"2019-06-27"},{"$f":"'data Kbely'!B1558","v":25.1},0,-12.100000000000001,0,-11.100000000000001,0,-10.100000000000001,0,-9.1000000000000014,0,-8.1000000000000014]
[{"$f":"'data Kbely'!A1559","v":"2019-06-28"},{"$f":"'data Kbely'!B1559","v":19.899999999999999},0,-6.8999999999999986,0,-5.8999999999999986,0,-4.8999999999999986,0,-3.8999999999999986,0,-2.8999999999999986]
[{"$f":"'data Kbely'!A1560","v":"2019-06-29"},{"$f":"'data Kbely'!B1560","v":21.2},0,-8.1999999999999993,0,-7.1999999999999993,0,-6.1999999999999993,0,-5.1999999999999993,0,-4.1999999999999993]
[{"$f":"'data Kbely'!A1561","v":"2019-06-30"},{"$f":"'data Kbely'!B1561","v":25},0,-12,0,-11,0,-10,0,-9,0,-8]
[{"$f":"'data Kbely'!A1562","v":"2019-07-01"},{"$f":"'data Kbely'!B1562","v":26.8},0,-13.8,0,-12.8,0,-11.8,0,-10.8,0,-9.8000000000000007]
[{"$f":"'data Kbely'!A1563","v":"2019-07-02"},{"$f":"'data Kbely'!B1563","v":21.5},0,-8.5,0,-7.5,0,-6.5,0,-5.5,0,-4.5]
[{"$f":"'data Kbely'!A1564","v":"2019-07-03"},{"$f":"'data Kbely'!B1564","v":17.8},0,-4.8000000000000007,0,-3.8000000000000007,0,-2.8000000000000007,0,-1.8000000000000007,0,-0.80000000000000071]
[{"$f":"'data Kbely'!A1565","v":"2019-07-04"},{"$f":"'data Kbely'!B1565","v":18.100000000000001},0,-5.1000000000000014,0,-4.1000000000000014,0,-3.1000000000000014,0,-2.1000000000000014,0,-1.1000000000000014]
[{"$f":"'data Kbely'!A1566","v":"2019-07-05"},{"$f":"'data Kbely'!B1566","v":19.600000000000001},0,-6.6000000000000014,0,-5.6000000000000014,0,-4.6000000000000014,0,-3.6000000000000014,0,-2.6000000000000014]
[{"$f":"'data Kbely'!A1567","v":"2019-07-06"},{"$f":"'data Kbely'!B1567","v":22.9},0,-9.8999999999999986,0,-8.8999999999999986,0,-7.8999999999999986,0,-6.8999999999999986,0,-5.8999999999999986]
[{"$f":"'data Kbely'!A1568","v":"2019-07-07"},{"$f":"'data Kbely'!B1568","v":17.399999999999999},0,-4.3999999999999986,0,-3.3999999999999986,0,-2.3999999999999986,0,-1.3999999999999986,0,-0.39999999999999858]
[{"$f":"'data Kbely'!A1569","v":"2019-07-08"},{"$f":"'data Kbely'!B1569","v":15.8},0,-2.8000000000000007,0,-1.8000000000000007,0,-0.80000000000000071,0.19999999999999929,0,1.1999999999999993,0]
[{"$f":"'data Kbely'!A1570","v":"2019-07-09"},{"$f":"'data Kbely'!B1570","v":14.7},0,-1.6999999999999993,0,-0.69999999999999929,0.30000000000000071,0,1.3000000000000007,0,2.3000000000000007,0]
[{"$f":"'data Kbely'!A1571","v":"2019-07-10"},{"$f":"'data Kbely'!B1571","v":17},0,-4,0,-3,0,-2,0,-1,0,0]
[{"$f":"'data Kbely'!A1572","v":"2019-07-11"},{"$f":"'data Kbely'!B1572","v":18},0,-5,0,-4,0,-3,0,-2,0,-1]
[{"$f":"'data Kbely'!A1573","v":"2019-07-12"},{"$f":"'data Kbely'!B1573","v":17},0,-4,0,-3,0,-2,0,-1,0,0]
[{"$f":"'data Kbely'!A1574","v":"2019-07-13"},{"$f":"'data Kbely'!B1574","v":16.5},0,-3.5,0,-2.5,0,-1.5,0,-0.5,0.5,0]
[{"$f":"'data Kbely'!A1575","v":"2019-07-14"},{"$f":"'data Kbely'!B1575","v":17.399999999999999},0,-4.3999999999999986,0,-3.3999999999999986,0,-2.3999999999999986,0,-1.3999999999999986,0,-0.39999999999999858]
[{"$f":"'data Kbely'!A1576","v":"2019-07-15"},{"$f":"'data Kbely'!B1576","v":17.2},0,-4.1999999999999993,0,-3.1999999999999993,0,-2.1999999999999993,0,-1.1999999999999993,0,-0.19999999999999929]
[{"$f":"'data Kbely'!A1577","v":"2019-07-16"},{"$f":"'data Kbely'!B1577","v":16.3},0,-3.3000000000000007,0,-2.3000000000000007,0,-1.3000000000000007,0,-0.30000000000000071,0.69999999999999929,0]
[{"$f":"'data Kbely'!A1578","v":"2019-07-17"},{"$f":"'data Kbely'!B1578","v":17.600000000000001},0,-4.6000000000000014,0,-3.6000000000000014,0,-2.6000000000000014,0,-1.6000000000000014,0,-0.60000000000000142]
[{"$f":"'data Kbely'!A1579","v":"2019-07-18"},{"$f":"'data Kbely'!B1579","v":19.899999999999999},0,-6.8999999999999986,0,-5.8999999999999986,0,-4.8999999999999986,0,-3.8999999999999986,0,-2.8999999999999986]
[{"$f":"'data Kbely'!A1580","v":"2019-07-19"},{"$f":"'data Kbely'!B1580","v":20},0,-7,0,-6,0,-5,0,-4,0,-3]
[{"$f":"'data Kbely'!A1581","v":"2019-07-20"},{"$f":"'data Kbely'!B1581","v":24.1},0,-11.100000000000001,0,-10.100000000000001,0,-9.1000000000000014,0,-8.1000000000000014,0,-7.1000000000000014]
[{"$f":"'data Kbely'!A1582","v":"2019-07-21"},{"$f":"'data Kbely'!B1582","v":20.399999999999999},0,-7.3999999999999986,0,-6.3999999999999986,0,-5.3999999999999986,0,-4.3999999999999986,0,-3.3999999999999986]
[{"$f":"'data Kbely'!A1583","v":"2019-07-22"},{"$f":"'data Kbely'!B1583","v":22},0,-9,0,-8,0,-7,0,-6,0,-5]
[{"$f":"'data Kbely'!A1584","v":"2019-07-23"},{"$f":"'data Kbely'!B1584","v":25.3},0,-12.3,0,-11.3,0,-10.3,0,-9.3000000000000007,0,-8.3000000000000007]
[{"$f":"'data Kbely'!A1585","v":"2019-07-24"},{"$f":"'data Kbely'!B1585","v":24.8},0,-11.8,0,-10.8,0,-9.8000000000000007,0,-8.8000000000000007,0,-7.8000000000000007]
[{"$f":"'data Kbely'!A1586","v":"2019-07-25"},{"$f":"'data Kbely'!B1586","v":25.8},0,-12.8,0,-11.8,0,-10.8,0,-9.8000000000000007,0,-8.8000000000000007]
[{"$f":"'data Kbely'!A1587","v":"2019-07-26"},{"$f":"'data Kbely'!B1587","v":25.6},0,-12.600000000000001,0,-11.600000000000001,0,-10.600000000000001,0,-9.6000000000000014,0,-8.6000000000000014]
[{"$f":"'data Kbely'!A1588","v":"2019-07-27"},{"$f":"'data Kbely'!B1588","v":23},0,-10,0,-9,0,-8,0,-7,0,-6]
[{"$f":"'data Kbely'!A1589","v":"2019-07-28"},{"$f":"'data Kbely'!B1589","v":22.5},0,-9.5,0,-8.5,0,-7.5,0,-6.5,0,-5.5]
[{"$f":"'data Kbely'!A1590","v":"2019-07-29"},{"$f":"'data Kbely'!B1590","v":24.2},0,-11.2,0,-10.199999999999999,0,-9.1999999999999993,0,-8.1999999999999993,0,-7.1999999999999993]
[{"$f":"'data Kbely'!A1591","v":"2019-07-30"},{"$f":"'data Kbely'!B1591","v":23.8},0,-10.8,0,-9.8000000000000007,0,-8.8000000000000007,0,-7.8000000000000007,0,-6.8000000000000007]
[{"$f":"'data Kbely'!A1592","v":"2019-07-31"},{"$f":"'data Kbely'!B1592","v":20.6},0,-7.6000000000000014,0,-6.6000000000000014,0,-5.6000000000000014,0,-4.6000000000000014,0,-3.6000000000000014]
[{"$f":"'data Kbely'!A1593","v":"2019-08-01"},{"$f":"'data Kbely'!B1593","v":20.3},0,-7.3000000000000007,0,-6.3000000000000007,0,-5.3000000000000007,0,-4.3000000000000007,0,-3.3000000000000007]
[{"$f":"'data Kbely'!A1594","v":"2019-08-02"},{"$f":"'data Kbely'!B1594","v":20.2},0,-7.1999999999999993,0,-6.1999999999999993,0,-5.1999999999999993,0,-4.1999999999999993,0,-3.1999999999999993]
[{"$f":"'data Kbely'!A1595","v":"2019-08-03"},{"$f":"'data Kbely'!B1595","v":17.899999999999999},0,-4.8999999999999986,0,-3.8999999999999986,0,-2.8999999999999986,0,-1.8999999999999986,0,-0.89999999999999858]
[{"$f":"'data Kbely'!A1596","v":"2019-08-04"},{"$f":"'data Kbely'!B1596","v":18.899999999999999},0,-5.8999999999999986,0,-4.8999999999999986,0,-3.8999999999999986,0,-2.8999999999999986,0,-1.8999999999999986]
[{"$f":"'data Kbely'!A1597","v":"2019-08-05"},{"$f":"'data Kbely'!B1597","v":20.2},0,-7.1999999999999993,0,-6.1999999999999993,0,-5.1999999999999993,0,-4.1999999999999993,0,-3.1999999999999993]
[{"$f":"'data Kbely'!A1598","v":"2019-08-06"},{"$f":"'data Kbely'!B1598","v":21.5},0,-8.5,0,-7.5,0,-6.5,0,-5.5,0,-4.5]
[{"$f":"'data Kbely'!A1599","v":"2019-08-07"},{"$f":"'data Kbely'!B1599","v":20.5},0,-7.5,0,-6.5,0,-5.5,0,-4.5,0,-3.5]
[{"$f":"'data Kbely'!A1600","v":"2019-08-08"},{"$f":"'data Kbely'!B1600","v":20},0,-7,0,-6,0,-5,0,-4,0,-3]
[{"$f":"'data Kbely'!A1601","v":"2019-08-09"},{"$f":"'data Kbely'!B1601","v":22.4},0,-9.3999999999999986,0,-8.3999999999999986,0,-7.3999999999999986,0,-6.3999999999999986,0,-5.3999999999999986]
[{"$f":"'data Kbely'!A1602","v":"2019-08-10"},{"$f":"'data Kbely'!B1602","v":20.100000000000001},0,-7.1000000000000014,0,-6.1000000000000014,0,-5.1000000000000014,0,-4.1000000000000014,0,-3.1000000000000014]
[{"$f":"'data Kbely'!A1603","v":"2019-08-11"},{"$f":"'data Kbely'!B1603","v":21.5},0,-8.5,0,-7.5,0,-6.5,0,-5.5,0,-4.5]
[{"$f":"'data Kbely'!A1604","v":"2019-08-12"},{"$f":"'data Kbely'!B1604","v":17.2},0,-4.1999999999999993,0,-3.1999999999999993,0,-2.1999999999999993,0,-1.1999999999999993,0,-0.19999999999999929]
[{"$f":"'data Kbely'!A1605","v":"2019-08-13"},{"$f":"'data Kbely'!B1605","v":18.399999999999999},0,-5.3999999999999986,0,-4.3999999999999986,0,-3.3999999999999986,0,-2.3999999999999986,0,-1.3999999999999986]
[{"$f":"'data Kbely'!A1606","v":"2019-08-14"},{"$f":"'data Kbely'!B1606","v":16.399999999999999},0,-3.3999999999999986,0,-2.3999999999999986,0,-1.3999999999999986,0,-0.39999999999999858,0.60000000000000142,0]
[{"$f":"'data Kbely'!A1607","v":"2019-08-15"},{"$f":"'data Kbely'!B1607","v":16.8},0,-3.8000000000000007,0,-2.8000000000000007,0,-1.8000000000000007,0,-0.80000000000000071,0.19999999999999929,0]
[{"$f":"'data Kbely'!A1608","v":"2019-08-16"},{"$f":"'data Kbely'!B1608","v":17.100000000000001},0,-4.1000000000000014,0,-3.1000000000000014,0,-2.1000000000000014,0,-1.1000000000000014,0,-0.10000000000000142]
[{"$f":"'data Kbely'!A1609","v":"2019-08-17"},{"$f":"'data Kbely'!B1609","v":18.100000000000001},0,-5.1000000000000014,0,-4.1000000000000014,0,-3.1000000000000014,0,-2.1000000000000014,0,-1.1000000000000014]
[{"$f":"'data Kbely'!A1610","v":"2019-08-18"},{"$f":"'data Kbely'!B1610","v":23.3},{"$f":"IF(C$2>$B1610,C$2-$B1610,0)","v":0},{"$f":"IF(D$2<$B1610,D$2-$B1610,0)","v":-10.3},{"$f":"IF(E$2>$B1610,E$2-$B1610,0)","v":0},{"$f":"IF(F$2<$B1610,F$2-$B1610,0)","v":-9.3000000000000007},{"$f":"IF(G$2>$B1610,G$2-$B1610,0)","v":0},{"$f":"IF(H$2<$B1610,H$2-$B1610,0)","v":-8.3000000000000007},{"$f":"IF(I$2>$B1610,I$2-$B1610,0)","v":0},{"$f":"IF(J$2<$B1610,J$2-$B1610,0)","v":-7.3000000000000007},{"$f":"IF(K$2>$B1610,K$2-$B1610,0)","v":0},{"$f":"IF(L$2<$B1610,L$2-$B1610,0)","v":-6.3000000000000007}]
[{"$f":"'data Kbely'!A1611","v":"2019-08-19"},{"$f":"'data Kbely'!B1611","v":20.3},0,-7.3000000000000007,0,-6.3000000000000007,0,-5.3000000000000007,0,-4.3000000000000007,0,-3.3000000000000007]
[{"$f":"'data Kbely'!A1612","v":"2019-08-20"},{"$f":"'data Kbely'!B1612","v":18.899999999999999},0,-5.8999999999999986,0,-4.8999999999999986,0,-3.8999999999999986,0,-2.8999999999999986,0,-1.8999999999999986]
[{"$f":"'data Kbely'!A1613","v":"2019-08-21"},{"$f":"'data Kbely'!B1613","v":17.100000000000001},0,-4.1000000000000014,0,-3.1000000000000014,0,-2.1000000000000014,0,-1.1000000000000014,0,-0.10000000000000142]
[{"$f":"'data Kbely'!A1614","v":"2019-08-22"},{"$f":"'data Kbely'!B1614","v":17.2},0,-4.1999999999999993,0,-3.1999999999999993,0,-2.1999999999999993,0,-1.1999999999999993,0,-0.19999999999999929]
[{"$f":"'data Kbely'!A1615","v":"2019-08-23"},{"$f":"'data Kbely'!B1615","v":18.899999999999999},0,-5.8999999999999986,0,-4.8999999999999986,0,-3.8999999999999986,0,-2.8999999999999986,0,-1.8999999999999986]
[{"$f":"'data Kbely'!A1616","v":"2019-08-24"},{"$f":"'data Kbely'!B1616","v":21.3},0,-8.3000000000000007,0,-7.3000000000000007,0,-6.3000000000000007,0,-5.3000000000000007,0,-4.3000000000000007]
[{"$f":"'data Kbely'!A1617","v":"2019-08-25"},{"$f":"'data Kbely'!B1617","v":23},0,-10,0,-9,0,-8,0,-7,0,-6]
[{"$f":"'data Kbely'!A1618","v":"2019-08-26"},{"$f":"'data Kbely'!B1618","v":23.2},0,-10.199999999999999,0,-9.1999999999999993,0,-8.1999999999999993,0,-7.1999999999999993,0,-6.1999999999999993]
[{"$f":"'data Kbely'!A1619","v":"2019-08-27"},{"$f":"'data Kbely'!B1619","v":23.3},0,-10.3,0,-9.3000000000000007,0,-8.3000000000000007,0,-7.3000000000000007,0,-6.3000000000000007]
[{"$f":"'data Kbely'!A1620","v":"2019-08-28"},{"$f":"'data Kbely'!B1620","v":23.8},0,-10.8,0,-9.8000000000000007,0,-8.8000000000000007,0,-7.8000000000000007,0,-6.8000000000000007]
[{"$f":"'data Kbely'!A1621","v":"2019-08-29"},{"$f":"'data Kbely'!B1621","v":22.8},0,-9.8000000000000007,0,-8.8000000000000007,0,-7.8000000000000007,0,-6.8000000000000007,0,-5.8000000000000007]
[{"$f":"'data Kbely'!A1622","v":"2019-08-30"},{"$f":"'data Kbely'!B1622","v":23.1},0,-10.100000000000001,0,-9.1000000000000014,0,-8.1000000000000014,0,-7.1000000000000014,0,-6.1000000000000014]
[{"$f":"'data Kbely'!A1623","v":"2019-08-31"},{"$f":"'data Kbely'!B1623","v":24.1},0,-11.100000000000001,0,-10.100000000000001,0,-9.1000000000000014,0,-8.1000000000000014,0,-7.1000000000000014]
[{"$f":"'data Kbely'!A1624","v":"2019-09-01"},{"$f":"'data Kbely'!B1624","v":22.8},0,-9.8000000000000007,0,-8.8000000000000007,0,-7.8000000000000007,0,-6.8000000000000007,0,-5.8000000000000007]
[{"$f":"'data Kbely'!A1625","v":"2019-09-02"},{"$f":"'data Kbely'!B1625","v":16.100000000000001},0,-3.1000000000000014,0,-2.1000000000000014,0,-1.1000000000000014,0,-0.10000000000000142,0.89999999999999858,0]
[{"$f":"'data Kbely'!A1626","v":"2019-09-03"},{"$f":"'data Kbely'!B1626","v":15.5},0,-2.5,0,-1.5,0,-0.5,0.5,0,1.5,0]
[{"$f":"'data Kbely'!A1627","v":"2019-09-04"},{"$f":"'data Kbely'!B1627","v":18},0,-5,0,-4,0,-3,0,-2,0,-1]
[{"$f":"'data Kbely'!A1628","v":"2019-09-05"},{"$f":"'data Kbely'!B1628","v":17.399999999999999},0,-4.3999999999999986,0,-3.3999999999999986,0,-2.3999999999999986,0,-1.3999999999999986,0,-0.39999999999999858]
[{"$f":"'data Kbely'!A1629","v":"2019-09-06"},{"$f":"'data Kbely'!B1629","v":15.1},0,-2.0999999999999996,0,-1.0999999999999996,0,-9.9999999999999645E-2,0.90000000000000036,0,1.9000000000000004,0]
[{"$f":"'data Kbely'!A1630","v":"2019-09-07"},{"$f":"'data Kbely'!B1630","v":13.600000000000001},0,-0.60000000000000142,0.39999999999999858,0,1.3999999999999986,0,2.3999999999999986,0,3.3999999999999986,0]
[{"$f":"'data Kbely'!A1631","v":"2019-09-08"},{"$f":"'data Kbely'!B1631","v":13.5},0,-0.5,0.5,0,1.5,0,2.5,0,3.5,0]
[{"$f":"'data Kbely'!A1632","v":"2019-09-09"},{"$f":"'data Kbely'!B1632","v":13.2},0,-0.19999999999999929,0.80000000000000071,0,1.8000000000000007,0,2.8000000000000007,0,3.8000000000000007,0]
[{"$f":"'data Kbely'!A1633","v":"2019-09-10"},{"$f":"'data Kbely'!B1633","v":14},0,-1,0,0,1,0,2,0,3,0]
[{"$f":"'data Kbely'!A1634","v":"2019-09-11"},{"$f":"'data Kbely'!B1634","v":15.3},0,-2.3000000000000007,0,-1.3000000000000007,0,-0.30000000000000071,0.69999999999999929,0,1.6999999999999993,0]
[{"$f":"'data Kbely'!A1635","v":"2019-09-12"},{"$f":"'data Kbely'!B1635","v":16.3},0,-3.3000000000000007,0,-2.3000000000000007,0,-1.3000000000000007,0,-0.30000000000000071,0.69999999999999929,0]
[{"$f":"'data Kbely'!A1636","v":"2019-09-13"},{"$f":"'data Kbely'!B1636","v":18.2},0,-5.1999999999999993,0,-4.1999999999999993,0,-3.1999999999999993,0,-2.1999999999999993,0,-1.1999999999999993]
[{"$f":"'data Kbely'!A1637","v":"2019-09-14"},{"$f":"'data Kbely'!B1637","v":15.4},0,-2.4000000000000004,0,-1.4000000000000004,0,-0.40000000000000036,0.59999999999999964,0,1.5999999999999996,0]
[{"$f":"'data Kbely'!A1638","v":"2019-09-15"},{"$f":"'data Kbely'!B1638","v":16.2},0,-3.1999999999999993,0,-2.1999999999999993,0,-1.1999999999999993,0,-0.19999999999999929,0.80000000000000071,0]
[{"$f":"'data Kbely'!A1639","v":"2019-09-16"},{"$f":"'data Kbely'!B1639","v":15.9},0,-2.9000000000000004,0,-1.9000000000000004,0,-0.90000000000000036,9.9999999999999645E-2,0,1.0999999999999996,0]
[{"$f":"'data Kbely'!A1640","v":"2019-09-17"},{"$f":"'data Kbely'!B1640","v":13.8},0,-0.80000000000000071,0.19999999999999929,0,1.1999999999999993,0,2.1999999999999993,0,3.1999999999999993,0]
[{"$f":"'data Kbely'!A1641","v":"2019-09-18"},{"$f":"'data Kbely'!B1641","v":11.600000000000001},1.3999999999999986,0,2.3999999999999986,0,3.3999999999999986,0,4.3999999999999986,0,5.3999999999999986,0]
[{"$f":"'data Kbely'!A1642","v":"2019-09-19"},{"$f":"'data Kbely'!B1642","v":10},3,0,4,0,5,0,6,0,7,0]
[{"$f":"'data Kbely'!A1643","v":"2019-09-20"},{"$f":"'data Kbely'!B1643","v":9.5},3.5,0,4.5,0,5.5,0,6.5,0,7.5,0]
[{"$f":"'data Kbely'!A1644","v":"2019-09-21"},{"$f":"'data Kbely'!B1644","v":12.100000000000001},0.89999999999999858,0,1.8999999999999986,0,2.8999999999999986,0,3.8999999999999986,0,4.8999999999999986,0]
[{"$f":"'data Kbely'!A1645","v":"2019-09-22"},{"$f":"'data Kbely'!B1645","v":13.8},0,-0.80000000000000071,0.19999999999999929,0,1.1999999999999993,0,2.1999999999999993,0,3.1999999999999993,0]
[{"$f":"'data Kbely'!A1646","v":"2019-09-23"},{"$f":"'data Kbely'!B1646","v":12.7},0.30000000000000071,0,1.3000000000000007,0,2.3000000000000007,0,3.3000000000000007,0,4.3000000000000007,0]
[{"$f":"'data Kbely'!A1647","v":"2019-09-24"},{"$f":"'data Kbely'!B1647","v":15.2},0,-2.1999999999999993,0,-1.1999999999999993,0,-0.19999999999999929,0.80000000000000071,0,1.8000000000000007,0]
[{"$f":"'data Kbely'!A1648","v":"2019-09-25"},{"$f":"'data Kbely'!B1648","v":15},0,-2,0,-1,0,0,1,0,2,0]
[{"$f":"'data Kbely'!A1649","v":"2019-09-26"},{"$f":"'data Kbely'!B1649","v":14.6},0,-1.5999999999999996,0,-0.59999999999999964,0.40000000000000036,0,1.4000000000000004,0,2.4000000000000004,0]
[{"$f":"'data Kbely'!A1650","v":"2019-09-27"},{"$f":"'data Kbely'!B1650","v":16.3},0,-3.3000000000000007,0,-2.3000000000000007,0,-1.3000000000000007,0,-0.30000000000000071,0.69999999999999929,0]
[{"$f":"'data Kbely'!A1651","v":"2019-09-28"},{"$f":"'data Kbely'!B1651","v":15},0,-2,0,-1,0,0,1,0,2,0]
[{"$f":"'data Kbely'!A1652","v":"2019-09-29"},{"$f":"'data Kbely'!B1652","v":16.3},0,-3.3000000000000007,0,-2.3000000000000007,0,-1.3000000000000007,0,-0.30000000000000071,0.69999999999999929,0]
[{"$f":"'data Kbely'!A1653","v":"2019-09-30"},{"$f":"'data Kbely'!B1653","v":16.2},0,-3.1999999999999993,0,-2.1999999999999993,0,-1.1999999999999993,0,-0.19999999999999929,0.80000000000000071,0]
[{"$f":"'data Kbely'!A1654","v":"2019-10-01"},{"$f":"'data Kbely'!B1654","v":14.5},0,-1.5,0,-0.5,0.5,0,1.5,0,2.5,0]
[{"$f":"'data Kbely'!A1655","v":"2019-10-02"},{"$f":"'data Kbely'!B1655","v":12.399999999999999},0.60000000000000142,0,1.6000000000000014,0,2.6000000000000014,0,3.6000000000000014,0,4.6000000000000014,0]
[{"$f":"'data Kbely'!A1656","v":"2019-10-03"},{"$f":"'data Kbely'!B1656","v":8},5,0,6,0,7,0,8,0,9,0]
[{"$f":"'data Kbely'!A1657","v":"2019-10-04"},{"$f":"'data Kbely'!B1657","v":9.3999999999999986},3.6000000000000014,0,4.6000000000000014,0,5.6000000000000014,0,6.6000000000000014,0,7.6000000000000014,0]
[{"$f":"'data Kbely'!A1658","v":"2019-10-05"},{"$f":"'data Kbely'!B1658","v":8.8000000000000007},4.1999999999999993,0,5.1999999999999993,0,6.1999999999999993,0,7.1999999999999993,0,8.1999999999999993,0]
[{"$f":"'data Kbely'!A1659","v":"2019-10-06"},{"$f":"'data Kbely'!B1659","v":7.3000000000000007},5.6999999999999993,0,6.6999999999999993,0,7.6999999999999993,0,8.6999999999999993,0,9.6999999999999993,0]
[{"$f":"'data Kbely'!A1660","v":"2019-10-07"},{"$f":"'data Kbely'!B1660","v":5.5},7.5,0,8.5,0,9.5,0,10.5,0,11.5,0]
[{"$f":"'data Kbely'!A1661","v":"2019-10-08"},{"$f":"'data Kbely'!B1661","v":8.1000000000000014},4.8999999999999986,0,5.8999999999999986,0,6.8999999999999986,0,7.8999999999999986,0,8.8999999999999986,0]
[{"$f":"'data Kbely'!A1662","v":"2019-10-09"},{"$f":"'data Kbely'!B1662","v":12.3},0.69999999999999929,0,1.6999999999999993,0,2.6999999999999993,0,3.6999999999999993,0,4.6999999999999993,0]
[{"$f":"'data Kbely'!A1663","v":"2019-10-10"},{"$f":"'data Kbely'!B1663","v":10.8},2.1999999999999993,0,3.1999999999999993,0,4.1999999999999993,0,5.1999999999999993,0,6.1999999999999993,0]
[{"$f":"'data Kbely'!A1664","v":"2019-10-11"},{"$f":"'data Kbely'!B1664","v":11.399999999999999},1.6000000000000014,0,2.6000000000000014,0,3.6000000000000014,0,4.6000000000000014,0,5.6000000000000014,0]
[{"$f":"'data Kbely'!A1665","v":"2019-10-12"},{"$f":"'data Kbely'!B1665","v":15.5},0,-2.5,0,-1.5,0,-0.5,0.5,0,1.5,0]
[{"$f":"'data Kbely'!A1666","v":"2019-10-13"},{"$f":"'data Kbely'!B1666","v":16.399999999999999},0,-3.3999999999999986,0,-2.3999999999999986,0,-1.3999999999999986,0,-0.39999999999999858,0.60000000000000142,0]
[{"$f":"'data Kbely'!A1667","v":"2019-10-14"},{"$f":"'data Kbely'!B1667","v":14.2},0,-1.1999999999999993,0,-0.19999999999999929,0.80000000000000071,0,1.8000000000000007,0,2.8000000000000007,0]
[{"$f":"'data Kbely'!A1668","v":"2019-10-15"},{"$f":"'data Kbely'!B1668","v":13.100000000000001},0,-0.10000000000000142,0.89999999999999858,0,1.8999999999999986,0,2.8999999999999986,0,3.8999999999999986,0]
[{"$f":"'data Kbely'!A1669","v":"2019-10-16"},{"$f":"'data Kbely'!B1669","v":12.600000000000001},0.39999999999999858,0,1.3999999999999986,0,2.3999999999999986,0,3.3999999999999986,0,4.3999999999999986,0]
[{"$f":"'data Kbely'!A1670","v":"2019-10-17"},{"$f":"'data Kbely'!B1670","v":12.100000000000001},0.89999999999999858,0,1.8999999999999986,0,2.8999999999999986,0,3.8999999999999986,0,4.8999999999999986,0]
[{"$f":"'data Kbely'!A1671","v":"2019-10-18"},{"$f":"'data Kbely'!B1671","v":14.1},0,-1.0999999999999996,0,-9.9999999999999645E-2,0.90000000000000036,0,1.9000000000000004,0,2.9000000000000004,0]
[{"$f":"'data Kbely'!A1672","v":"2019-10-19"},{"$f":"'data Kbely'!B1672","v":12.100000000000001},0.89999999999999858,0,1.8999999999999986,0,2.8999999999999986,0,3.8999999999999986,0,4.8999999999999986,0]
[{"$f":"'data Kbely'!A1673","v":"2019-10-20"},{"$f":"'data Kbely'!B1673","v":11.2},1.8000000000000007,0,2.8000000000000007,0,3.8000000000000007,0,4.8000000000000007,0,5.8000000000000007,0]
[{"$f":"'data Kbely'!A1674","v":"2019-10-21"},{"$f":"'data Kbely'!B1674","v":11},{"$f":"IF(C$2>$B1674,C$2-$B1674,0)","v":2},{"$f":"IF(D$2<$B1674,D$2-$B1674,0)","v":0},{"$f":"IF(E$2>$B1674,E$2-$B1674,0)","v":3},{"$f":"IF(F$2<$B1674,F$2-$B1674,0)","v":0},{"$f":"IF(G$2>$B1674,G$2-$B1674,0)","v":4},{"$f":"IF(H$2<$B1674,H$2-$B1674,0)","v":0},{"$f":"IF(I$2>$B1674,I$2-$B1674,0)","v":5},{"$f":"IF(J$2<$B1674,J$2-$B1674,0)","v":0},{"$f":"IF(K$2>$B1674,K$2-$B1674,0)","v":6},{"$f":"IF(L$2<$B1674,L$2-$B1674,0)","v":0}]
[{"$f":"'data Kbely'!A1675","v":"2019-10-22"},{"$f":"'data Kbely'!B1675","v":11.3},1.6999999999999993,0,2.6999999999999993,0,3.6999999999999993,0,4.6999999999999993,0,5.6999999999999993,0]
[{"$f":"'data Kbely'!A1676","v":"2019-10-23"},{"$f":"'data Kbely'!B1676","v":12.399999999999999},0.60000000000000142,0,1.6000000000000014,0,2.6000000000000014,0,3.6000000000000014,0,4.6000000000000014,0]
[{"$f":"'data Kbely'!A1677","v":"2019-10-24"},{"$f":"'data Kbely'!B1677","v":10.3},2.6999999999999993,0,3.6999999999999993,0,4.6999999999999993,0,5.6999999999999993,0,6.6999999999999993,0]
[{"$f":"'data Kbely'!A1678","v":"2019-10-25"},{"$f":"'data Kbely'!B1678","v":12.2},0.80000000000000071,0,1.8000000000000007,0,2.8000000000000007,0,3.8000000000000007,0,4.8000000000000007,0]
[{"$f":"'data Kbely'!A1679","v":"2019-10-26"},{"$f":"'data Kbely'!B1679","v":12.7},0.30000000000000071,0,1.3000000000000007,0,2.3000000000000007,0,3.3000000000000007,0,4.3000000000000007,0]
[{"$f":"'data Kbely'!A1680","v":"2019-10-27"},{"$f":"'data Kbely'!B1680","v":12.2},0.80000000000000071,0,1.8000000000000007,0,2.8000000000000007,0,3.8000000000000007,0,4.8000000000000007,0]
[{"$f":"'data Kbely'!A1681","v":"2019-10-28"},{"$f":"'data Kbely'!B1681","v":7.1000000000000014},5.8999999999999986,0,6.8999999999999986,0,7.8999999999999986,0,8.8999999999999986,0,9.8999999999999986,0]
[{"$f":"'data Kbely'!A1682","v":"2019-10-29"},{"$f":"'data Kbely'!B1682","v":4.6000000000000014},8.3999999999999986,0,9.3999999999999986,0,10.399999999999999,0,11.399999999999999,0,12.399999999999999,0]
[{"$f":"'data Kbely'!A1683","v":"2019-10-30"},{"$f":"'data Kbely'!B1683","v":3},10,0,11,0,12,0,13,0,14,0]
[{"$f":"'data Kbely'!A1684","v":"2019-10-31"},{"$f":"'data Kbely'!B1684","v":1.1999999999999993},11.8,0,12.8,0,13.8,0,14.8,0,15.8,0]
[{"$f":"'data Kbely'!A1685","v":"2019-11-01"},{"$f":"'data Kbely'!B1685","v":3.1999999999999993},9.8000000000000007,0,10.8,0,11.8,0,12.8,0,13.8,0]
[{"$f":"'data Kbely'!A1686","v":"2019-11-02"},{"$f":"'data Kbely'!B1686","v":8.5},4.5,0,5.5,0,6.5,0,7.5,0,8.5,0]
[{"$f":"'data Kbely'!A1687","v":"2019-11-03"},{"$f":"'data Kbely'!B1687","v":8.5},4.5,0,5.5,0,6.5,0,7.5,0,8.5,0]
[{"$f":"'data Kbely'!A1688","v":"2019-11-04"},{"$f":"'data Kbely'!B1688","v":10.600000000000001},2.3999999999999986,0,3.3999999999999986,0,4.3999999999999986,0,5.3999999999999986,0,6.3999999999999986,0]
[{"$f":"'data Kbely'!A1689","v":"2019-11-05"},{"$f":"'data Kbely'!B1689","v":8.3999999999999986},4.6000000000000014,0,5.6000000000000014,0,6.6000000000000014,0,7.6000000000000014,0,8.6000000000000014,0]
[{"$f":"'data Kbely'!A1690","v":"2019-11-06"},{"$f":"'data Kbely'!B1690","v":7.8999999999999986},5.1000000000000014,0,6.1000000000000014,0,7.1000000000000014,0,8.1000000000000014,0,9.1000000000000014,0]
[{"$f":"'data Kbely'!A1691","v":"2019-11-07"},{"$f":"'data Kbely'!B1691","v":8.3000000000000007},4.6999999999999993,0,5.6999999999999993,0,6.6999999999999993,0,7.6999999999999993,0,8.6999999999999993,0]
[{"$f":"'data Kbely'!A1692","v":"2019-11-08"},{"$f":"'data Kbely'!B1692","v":6.6000000000000014},6.3999999999999986,0,7.3999999999999986,0,8.3999999999999986,0,9.3999999999999986,0,10.399999999999999,0]
[{"$f":"'data Kbely'!A1693","v":"2019-11-09"},{"$f":"'data Kbely'!B1693","v":6.3000000000000007},6.6999999999999993,0,7.6999999999999993,0,8.6999999999999993,0,9.6999999999999993,0,10.7,0]
[{"$f":"'data Kbely'!A1694","v":"2019-11-10"},{"$f":"'data Kbely'!B1694","v":1.1000000000000014},11.899999999999999,0,12.899999999999999,0,13.899999999999999,0,14.899999999999999,0,15.899999999999999,0]
[{"$f":"'data Kbely'!A1695","v":"2019-11-11"},{"$f":"'data Kbely'!B1695","v":1.1999999999999993},11.8,0,12.8,0,13.8,0,14.8,0,15.8,0]
[{"$f":"'data Kbely'!A1696","v":"2019-11-12"},{"$f":"'data Kbely'!B1696","v":3.6000000000000014},9.3999999999999986,0,10.399999999999999,0,11.399999999999999,0,12.399999999999999,0,13.399999999999999,0]
[{"$f":"'data Kbely'!A1697","v":"2019-11-13"},{"$f":"'data Kbely'!B1697","v":2.6000000000000014},10.399999999999999,0,11.399999999999999,0,12.399999999999999,0,13.399999999999999,0,14.399999999999999,0]
[{"$f":"'data Kbely'!A1698","v":"2019-11-14"},{"$f":"'data Kbely'!B1698","v":2.6000000000000014},10.399999999999999,0,11.399999999999999,0,12.399999999999999,0,13.399999999999999,0,14.399999999999999,0]
[{"$f":"'data Kbely'!A1699","v":"2019-11-15"},{"$f":"'data Kbely'!B1699","v":7.3999999999999986},5.6000000000000014,0,6.6000000000000014,0,7.6000000000000014,0,8.6000000000000014,0,9.6000000000000014,0]
[{"$f":"'data Kbely'!A1700","v":"2019-11-16"},{"$f":"'data Kbely'!B1700","v":8.1999999999999993},4.8000000000000007,0,5.8000000000000007,0,6.8000000000000007,0,7.8000000000000007,0,8.8000000000000007,0]
[{"$f":"'data Kbely'!A1701","v":"2019-11-17"},{"$f":"'data Kbely'!B1701","v":10.100000000000001},2.8999999999999986,0,3.8999999999999986,0,4.8999999999999986,0,5.8999999999999986,0,6.8999999999999986,0]
[{"$f":"'data Kbely'!A1702","v":"2019-11-18"},{"$f":"'data Kbely'!B1702","v":8},5,0,6,0,7,0,8,0,9,0]
[{"$f":"'data Kbely'!A1703","v":"2019-11-19"},{"$f":"'data Kbely'!B1703","v":4.6999999999999993},8.3000000000000007,0,9.3000000000000007,0,10.3,0,11.3,0,12.3,0]
[{"$f":"'data Kbely'!A1704","v":"2019-11-20"},{"$f":"'data Kbely'!B1704","v":6.3000000000000007},6.6999999999999993,0,7.6999999999999993,0,8.6999999999999993,0,9.6999999999999993,0,10.7,0]
[{"$f":"'data Kbely'!A1705","v":"2019-11-21"},{"$f":"'data Kbely'!B1705","v":8},5,0,6,0,7,0,8,0,9,0]
[{"$f":"'data Kbely'!A1706","v":"2019-11-22"},{"$f":"'data Kbely'!B1706","v":8.3999999999999986},4.6000000000000014,0,5.6000000000000014,0,6.6000000000000014,0,7.6000000000000014,0,8.6000000000000014,0]
[{"$f":"'data Kbely'!A1707","v":"2019-11-23"},{"$f":"'data Kbely'!B1707","v":7.6999999999999993},5.3000000000000007,0,6.3000000000000007,0,7.3000000000000007,0,8.3000000000000007,0,9.3000000000000007,0]
[{"$f":"'data Kbely'!A1708","v":"2019-11-24"},{"$f":"'data Kbely'!B1708","v":6.8000000000000007},6.1999999999999993,0,7.1999999999999993,0,8.1999999999999993,0,9.1999999999999993,0,10.199999999999999,0]
[{"$f":"'data Kbely'!A1709","v":"2019-11-25"},{"$f":"'data Kbely'!B1709","v":5.6000000000000014},7.3999999999999986,0,8.3999999999999986,0,9.3999999999999986,0,10.399999999999999,0,11.399999999999999,0]
[{"$f":"'data Kbely'!A1710","v":"2019-11-26"},{"$f":"'data Kbely'!B1710","v":4.8999999999999986},8.1000000000000014,0,9.1000000000000014,0,10.100000000000001,0,11.100000000000001,0,12.100000000000001,0]
[{"$f":"'data Kbely'!A1711","v":"2019-11-27"},{"$f":"'data Kbely'!B1711","v":5.3000000000000007},7.6999999999999993,0,8.6999999999999993,0,9.6999999999999993,0,10.7,0,11.7,0]
[{"$f":"'data Kbely'!A1712","v":"2019-11-28"},{"$f":"'data Kbely'!B1712","v":8.3999999999999986},4.6000000000000014,0,5.6000000000000014,0,6.6000000000000014,0,7.6000000000000014,0,8.6000000000000014,0]
[{"$f":"'data Kbely'!A1713","v":"2019-11-29"},{"$f":"'data Kbely'!B1713","v":7.1000000000000014},5.8999999999999986,0,6.8999999999999986,0,7.8999999999999986,0,8.8999999999999986,0,9.8999999999999986,0]
[{"$f":"'data Kbely'!A1714","v":"2019-11-30"},{"$f":"'data Kbely'!B1714","v":1.8999999999999986},11.100000000000001,0,12.100000000000001,0,13.100000000000001,0,14.100000000000001,0,15.100000000000001,0]
[{"$f":"'data Kbely'!A1715","v":"2019-12-01"},{"$f":"'data Kbely'!B1715","v":0.39999999999999858},12.600000000000001,0,13.600000000000001,0,14.600000000000001,0,15.600000000000001,0,16.600000000000001,0]
[{"$f":"'data Kbely'!A1716","v":"2019-12-02"},{"$f":"'data Kbely'!B1716","v":2.3000000000000007},10.7,0,11.7,0,12.7,0,13.7,0,14.7,0]
[{"$f":"'data Kbely'!A1717","v":"2019-12-03"},{"$f":"'data Kbely'!B1717","v":1.8000000000000007},11.2,0,12.2,0,13.2,0,14.2,0,15.2,0]
[{"$f":"'data Kbely'!A1718","v":"2019-12-04"},{"$f":"'data Kbely'!B1718","v":1.8999999999999986},11.100000000000001,0,12.100000000000001,0,13.100000000000001,0,14.100000000000001,0,15.100000000000001,0]
[{"$f":"'data Kbely'!A1719","v":"2019-12-05"},{"$f":"'data Kbely'!B1719","v":-1.1000000000000014},14.100000000000001,0,15.100000000000001,0,16.100000000000001,0,17.100000000000001,0,18.100000000000001,0]
[{"$f":"'data Kbely'!A1720","v":"2019-12-06"},{"$f":"'data Kbely'!B1720","v":0.30000000000000071},12.7,0,13.7,0,14.7,0,15.7,0,16.7,0]
[{"$f":"'data Kbely'!A1721","v":"2019-12-07"},{"$f":"'data Kbely'!B1721","v":6.6000000000000014},6.3999999999999986,0,7.3999999999999986,0,8.3999999999999986,0,9.3999999999999986,0,10.399999999999999,0]
[{"$f":"'data Kbely'!A1722","v":"2019-12-08"},{"$f":"'data Kbely'!B1722","v":8.1000000000000014},4.8999999999999986,0,5.8999999999999986,0,6.8999999999999986,0,7.8999999999999986,0,8.8999999999999986,0]
[{"$f":"'data Kbely'!A1723","v":"2019-12-09"},{"$f":"'data Kbely'!B1723","v":7.6999999999999993},5.3000000000000007,0,6.3000000000000007,0,7.3000000000000007,0,8.3000000000000007,0,9.3000000000000007,0]
[{"$f":"'data Kbely'!A1724","v":"2019-12-10"},{"$f":"'data Kbely'!B1724","v":3},10,0,11,0,12,0,13,0,14,0]
[{"$f":"'data Kbely'!A1725","v":"2019-12-11"},{"$f":"'data Kbely'!B1725","v":-1.1000000000000014},14.100000000000001,0,15.100000000000001,0,16.100000000000001,0,17.100000000000001,0,18.100000000000001,0]
[{"$f":"'data Kbely'!A1726","v":"2019-12-12"},{"$f":"'data Kbely'!B1726","v":0.19999999999999929},12.8,0,13.8,0,14.8,0,15.8,0,16.8,0]
[{"$f":"'data Kbely'!A1727","v":"2019-12-13"},{"$f":"'data Kbely'!B1727","v":0.30000000000000071},12.7,0,13.7,0,14.7,0,15.7,0,16.7,0]
[{"$f":"'data Kbely'!A1728","v":"2019-12-14"},{"$f":"'data Kbely'!B1728","v":5.1000000000000014},7.8999999999999986,0,8.8999999999999986,0,9.8999999999999986,0,10.899999999999999,0,11.899999999999999,0]
[{"$f":"'data Kbely'!A1729","v":"2019-12-15"},{"$f":"'data Kbely'!B1729","v":7.6000000000000014},5.3999999999999986,0,6.3999999999999986,0,7.3999999999999986,0,8.3999999999999986,0,9.3999999999999986,0]
[{"$f":"'data Kbely'!A1730","v":"2019-12-16"},{"$f":"'data Kbely'!B1730","v":6.1000000000000014},6.8999999999999986,0,7.8999999999999986,0,8.8999999999999986,0,9.8999999999999986,0,10.899999999999999,0]
[{"$f":"'data Kbely'!A1731","v":"2019-12-17"},{"$f":"'data Kbely'!B1731","v":1.3000000000000007},11.7,0,12.7,0,13.7,0,14.7,0,15.7,0]
[{"$f":"'data Kbely'!A1732","v":"2019-12-18"},{"$f":"'data Kbely'!B1732","v":2.1999999999999993},10.8,0,11.8,0,12.8,0,13.8,0,14.8,0]
[{"$f":"'data Kbely'!A1733","v":"2019-12-19"},{"$f":"'data Kbely'!B1733","v":1.6000000000000014},11.399999999999999,0,12.399999999999999,0,13.399999999999999,0,14.399999999999999,0,15.399999999999999,0]
[{"$f":"'data Kbely'!A1734","v":"2019-12-20"},{"$f":"'data Kbely'!B1734","v":5.1000000000000014},7.8999999999999986,0,8.8999999999999986,0,9.8999999999999986,0,10.899999999999999,0,11.899999999999999,0]
[{"$f":"'data Kbely'!A1735","v":"2019-12-21"},{"$f":"'data Kbely'!B1735","v":5.5},7.5,0,8.5,0,9.5,0,10.5,0,11.5,0]
[{"$f":"'data Kbely'!A1736","v":"2019-12-22"},{"$f":"'data Kbely'!B1736","v":2.8999999999999986},10.100000000000001,0,11.100000000000001,0,12.100000000000001,0,13.100000000000001,0,14.100000000000001,0]
[{"$f":"'data Kbely'!A1737","v":"2019-12-23"},{"$f":"'data Kbely'!B1737","v":6.1000000000000014},6.8999999999999986,0,7.8999999999999986,0,8.8999999999999986,0,9.8999999999999986,0,10.899999999999999,0]
[{"$f":"'data Kbely'!A1738","v":"2019-12-24"},{"$f":"'data Kbely'!B1738","v":5},{"$f":"IF(C$2>$B1738,C$2-$B1738,0)","v":8},{"$f":"IF(D$2<$B1738,D$2-$B1738,0)","v":0},{"$f":"IF(E$2>$B1738,E$2-$B1738,0)","v":9},{"$f":"IF(F$2<$B1738,F$2-$B1738,0)","v":0},{"$f":"IF(G$2>$B1738,G$2-$B1738,0)","v":10},{"$f":"IF(H$2<$B1738,H$2-$B1738,0)","v":0},{"$f":"IF(I$2>$B1738,I$2-$B1738,0)","v":11},{"$f":"IF(J$2<$B1738,J$2-$B1738,0)","v":0},{"$f":"IF(K$2>$B1738,K$2-$B1738,0)","v":12},{"$f":"IF(L$2<$B1738,L$2-$B1738,0)","v":0}]
[{"$f":"'data Kbely'!A1739","v":"2019-12-25"},{"$f":"'data Kbely'!B1739","v":6.1000000000000014},6.8999999999999986,0,7.8999999999999986,0,8.8999999999999986,0,9.8999999999999986,0,10.899999999999999,0]
[{"$f":"'data Kbely'!A1740","v":"2019-12-26"},{"$f":"'data Kbely'!B1740","v":3.8999999999999986},9.1000000000000014,0,10.100000000000001,0,11.100000000000001,0,12.100000000000001,0,13.100000000000001,0]
[{"$f":"'data Kbely'!A1741","v":"2019-12-27"},{"$f":"'data Kbely'!B1741","v":2.6999999999999993},10.3,0,11.3,0,12.3,0,13.3,0,14.3,0]
[{"$f":"'data Kbely'!A1742","v":"2019-12-28"},{"$f":"'data Kbely'!B1742","v":0.60000000000000142},12.399999999999999,0,13.399999999999999,0,14.399999999999999,0,15.399999999999999,0,16.399999999999999,0]
[{"$f":"'data Kbely'!A1743","v":"2019-12-29"},{"$f":"'data Kbely'!B1743","v":-0.89999999999999858},13.899999999999999,0,14.899999999999999,0,15.899999999999999,0,16.899999999999999,0,17.899999999999999,0]
[{"$f":"'data Kbely'!A1744","v":"2019-12-30"},{"$f":"'data Kbely'!B1744","v":0.10000000000000142},12.899999999999999,0,13.899999999999999,0,14.899999999999999,0,15.899999999999999,0,16.899999999999999,0]
[{"$f":"'data Kbely'!A1745","v":"2019-12-31"},{"$f":"'data Kbely'!B1745","v":3.3000000000000007},9.6999999999999993,0,10.7,0,11.7,0,12.7,0,13.7,0]
[{"$f":"'data Kbely'!A1746","v":"2020-01-01"},{"$f":"'data Kbely'!B1746","v":0.60000000000000142},12.399999999999999,0,13.399999999999999,0,14.399999999999999,0,15.399999999999999,0,16.399999999999999,0]
[{"$f":"'data Kbely'!A1747","v":"2020-01-02"},{"$f":"'data Kbely'!B1747","v":-5.2000000000000028},18.200000000000003,0,19.200000000000003,0,20.200000000000003,0,21.200000000000003,0,22.200000000000003,0]
[{"$f":"'data Kbely'!A1748","v":"2020-01-03"},{"$f":"'data Kbely'!B1748","v":0.5},12.5,0,13.5,0,14.5,0,15.5,0,16.5,0]
[{"$f":"'data Kbely'!A1749","v":"2020-01-04"},{"$f":"'data Kbely'!B1749","v":4.1999999999999993},8.8000000000000007,0,9.8000000000000007,0,10.8,0,11.8,0,12.8,0]
[{"$f":"'data Kbely'!A1750","v":"2020-01-05"},{"$f":"'data Kbely'!B1750","v":1.1000000000000014},11.899999999999999,0,12.899999999999999,0,13.899999999999999,0,14.899999999999999,0,15.899999999999999,0]
[{"$f":"'data Kbely'!A1751","v":"2020-01-06"},{"$f":"'data Kbely'!B1751","v":0.60000000000000142},12.399999999999999,0,13.399999999999999,0,14.399999999999999,0,15.399999999999999,0,16.399999999999999,0]
[{"$f":"'data Kbely'!A1752","v":"2020-01-07"},{"$f":"'data Kbely'!B1752","v":0.10000000000000142},12.899999999999999,0,13.899999999999999,0,14.899999999999999,0,15.899999999999999,0,16.899999999999999,0]
[{"$f":"'data Kbely'!A1753","v":"2020-01-08"},{"$f":"'data Kbely'!B1753","v":3.3000000000000007},9.6999999999999993,0,10.7,0,11.7,0,12.7,0,13.7,0]
[{"$f":"'data Kbely'!A1754","v":"2020-01-09"},{"$f":"'data Kbely'!B1754","v":6.1000000000000014},6.8999999999999986,0,7.8999999999999986,0,8.8999999999999986,0,9.8999999999999986,0,10.899999999999999,0]
[{"$f":"'data Kbely'!A1755","v":"2020-01-10"},{"$f":"'data Kbely'!B1755","v":7.6000000000000014},5.3999999999999986,0,6.3999999999999986,0,7.3999999999999986,0,8.3999999999999986,0,9.3999999999999986,0]
[{"$f":"'data Kbely'!A1756","v":"2020-01-11"},{"$f":"'data Kbely'!B1756","v":3},10,0,11,0,12,0,13,0,14,0]
[{"$f":"'data Kbely'!A1757","v":"2020-01-12"},{"$f":"'data Kbely'!B1757","v":1.1999999999999993},11.8,0,12.8,0,13.8,0,14.8,0,15.8,0]
[{"$f":"'data Kbely'!A1758","v":"2020-01-13"},{"$f":"'data Kbely'!B1758","v":2.8999999999999986},10.100000000000001,0,11.100000000000001,0,12.100000000000001,0,13.100000000000001,0,14.100000000000001,0]
[{"$f":"'data Kbely'!A1759","v":"2020-01-14"},{"$f":"'data Kbely'!B1759","v":1.3999999999999986},11.600000000000001,0,12.600000000000001,0,13.600000000000001,0,14.600000000000001,0,15.600000000000001,0]
[{"$f":"'data Kbely'!A1760","v":"2020-01-15"},{"$f":"'data Kbely'!B1760","v":-0.39999999999999858},13.399999999999999,0,14.399999999999999,0,15.399999999999999,0,16.399999999999999,0,17.399999999999999,0]
[{"$f":"'data Kbely'!A1761","v":"2020-01-16"},{"$f":"'data Kbely'!B1761","v":0},13,0,14,0,15,0,16,0,17,0]
[{"$f":"'data Kbely'!A1762","v":"2020-01-17"},{"$f":"'data Kbely'!B1762","v":0},13,0,14,0,15,0,16,0,17,0]
[{"$f":"'data Kbely'!A1763","v":"2020-01-18"},{"$f":"'data Kbely'!B1763","v":1},12,0,13,0,14,0,15,0,16,0]
[{"$f":"'data Kbely'!A1764","v":"2020-01-19"},{"$f":"'data Kbely'!B1764","v":1.3999999999999986},11.600000000000001,0,12.600000000000001,0,13.600000000000001,0,14.600000000000001,0,15.600000000000001,0]
[{"$f":"'data Kbely'!A1765","v":"2020-01-20"},{"$f":"'data Kbely'!B1765","v":1},12,0,13,0,14,0,15,0,16,0]
[{"$f":"'data Kbely'!A1766","v":"2020-01-21"},{"$f":"'data Kbely'!B1766","v":-2.7999999999999972},15.799999999999997,0,16.799999999999997,0,17.799999999999997,0,18.799999999999997,0,19.799999999999997,0]
[{"$f":"'data Kbely'!A1767","v":"2020-01-22"},{"$f":"'data Kbely'!B1767","v":-0.89999999999999858},13.899999999999999,0,14.899999999999999,0,15.899999999999999,0,16.899999999999999,0,17.899999999999999,0]
[{"$f":"'data Kbely'!A1768","v":"2020-01-23"},{"$f":"'data Kbely'!B1768","v":1.1999999999999993},11.8,0,12.8,0,13.8,0,14.8,0,15.8,0]
[{"$f":"'data Kbely'!A1769","v":"2020-01-24"},{"$f":"'data Kbely'!B1769","v":-2.2000000000000028},15.200000000000003,0,16.200000000000003,0,17.200000000000003,0,18.200000000000003,0,19.200000000000003,0]
[{"$f":"'data Kbely'!A1770","v":"2020-01-25"},{"$f":"'data Kbely'!B1770","v":-0.89999999999999858},13.899999999999999,0,14.899999999999999,0,15.899999999999999,0,16.899999999999999,0,17.899999999999999,0]
[{"$f":"'data Kbely'!A1771","v":"2020-01-26"},{"$f":"'data Kbely'!B1771","v":-0.69999999999999929},13.7,0,14.7,0,15.7,0,16.7,0,17.7,0]
[{"$f":"'data Kbely'!A1772","v":"2020-01-27"},{"$f":"'data Kbely'!B1772","v":1.3999999999999986},11.600000000000001,0,12.600000000000001,0,13.600000000000001,0,14.600000000000001,0,15.600000000000001,0]
[{"$f":"'data Kbely'!A1773","v":"2020-01-28"},{"$f":"'data Kbely'!B1773","v":4.1000000000000014},8.8999999999999986,0,9.8999999999999986,0,10.899999999999999,0,11.899999999999999,0,12.899999999999999,0]
[{"$f":"'data Kbely'!A1774","v":"2020-01-29"},{"$f":"'data Kbely'!B1774","v":2.5},10.5,0,11.5,0,12.5,0,13.5,0,14.5,0]
[{"$f":"'data Kbely'!A1775","v":"2020-01-30"},{"$f":"'data Kbely'!B1775","v":4},9,0,10,0,11,0,12,0,13,0]
[{"$f":"'data Kbely'!A1776","v":"2020-01-31"},{"$f":"'data Kbely'!B1776","v":10.199999999999999},2.8000000000000007,0,3.8000000000000007,0,4.8000000000000007,0,5.8000000000000007,0,6.8000000000000007,0]
[{"$f":"'data Kbely'!A1777","v":"2020-02-01"},{"$f":"'data Kbely'!B1777","v":11.600000000000001},1.3999999999999986,0,2.3999999999999986,0,3.3999999999999986,0,4.3999999999999986,0,5.3999999999999986,0]
[{"$f":"'data Kbely'!A1778","v":"2020-02-02"},{"$f":"'data Kbely'!B1778","v":8.3000000000000007},4.6999999999999993,0,5.6999999999999993,0,6.6999999999999993,0,7.6999999999999993,0,8.6999999999999993,0]
[{"$f":"'data Kbely'!A1779","v":"2020-02-03"},{"$f":"'data Kbely'!B1779","v":9.3000000000000007},3.6999999999999993,0,4.6999999999999993,0,5.6999999999999993,0,6.6999999999999993,0,7.6999999999999993,0]
[{"$f":"'data Kbely'!A1780","v":"2020-02-04"},{"$f":"'data Kbely'!B1780","v":3.8999999999999986},9.1000000000000014,0,10.100000000000001,0,11.100000000000001,0,12.100000000000001,0,13.100000000000001,0]
[{"$f":"'data Kbely'!A1781","v":"2020-02-05"},{"$f":"'data Kbely'!B1781","v":1.5},11.5,0,12.5,0,13.5,0,14.5,0,15.5,0]
[{"$f":"'data Kbely'!A1782","v":"2020-02-06"},{"$f":"'data Kbely'!B1782","v":1.3000000000000007},11.7,0,12.7,0,13.7,0,14.7,0,15.7,0]
[{"$f":"'data Kbely'!A1783","v":"2020-02-07"},{"$f":"'data Kbely'!B1783","v":3.6000000000000014},9.3999999999999986,0,10.399999999999999,0,11.399999999999999,0,12.399999999999999,0,13.399999999999999,0]
[{"$f":"'data Kbely'!A1784","v":"2020-02-08"},{"$f":"'data Kbely'!B1784","v":1.6999999999999993},11.3,0,12.3,0,13.3,0,14.3,0,15.3,0]
[{"$f":"'data Kbely'!A1785","v":"2020-02-09"},{"$f":"'data Kbely'!B1785","v":4.3999999999999986},8.6000000000000014,0,9.6000000000000014,0,10.600000000000001,0,11.600000000000001,0,12.600000000000001,0]
[{"$f":"'data Kbely'!A1786","v":"2020-02-10"},{"$f":"'data Kbely'!B1786","v":8.3999999999999986},4.6000000000000014,0,5.6000000000000014,0,6.6000000000000014,0,7.6000000000000014,0,8.6000000000000014,0]
[{"$f":"'data Kbely'!A1787","v":"2020-02-11"},{"$f":"'data Kbely'!B1787","v":4.1000000000000014},8.8999999999999986,0,9.8999999999999986,0,10.899999999999999,0,11.899999999999999,0,12.899999999999999,0]
[{"$f":"'data Kbely'!A1788","v":"2020-02-12"},{"$f":"'data Kbely'!B1788","v":2.1999999999999993},10.8,0,11.8,0,12.8,0,13.8,0,14.8,0]
[{"$f":"'data Kbely'!A1789","v":"2020-02-13"},{"$f":"'data Kbely'!B1789","v":3},10,0,11,0,12,0,13,0,14,0]
[{"$f":"'data Kbely'!A1790","v":"2020-02-14"},{"$f":"'data Kbely'!B1790","v":5.3999999999999986},7.6000000000000014,0,8.6000000000000014,0,9.6000000000000014,0,10.600000000000001,0,11.600000000000001,0]
[{"$f":"'data Kbely'!A1791","v":"2020-02-15"},{"$f":"'data Kbely'!B1791","v":4.6000000000000014},8.3999999999999986,0,9.3999999999999986,0,10.399999999999999,0,11.399999999999999,0,12.399999999999999,0]
[{"$f":"'data Kbely'!A1792","v":"2020-02-16"},{"$f":"'data Kbely'!B1792","v":6.6000000000000014},6.3999999999999986,0,7.3999999999999986,0,8.3999999999999986,0,9.3999999999999986,0,10.399999999999999,0]
[{"$f":"'data Kbely'!A1793","v":"2020-02-17"},{"$f":"'data Kbely'!B1793","v":9.5},3.5,0,4.5,0,5.5,0,6.5,0,7.5,0]
[{"$f":"'data Kbely'!A1794","v":"2020-02-18"},{"$f":"'data Kbely'!B1794","v":6.6999999999999993},6.3000000000000007,0,7.3000000000000007,0,8.3000000000000007,0,9.3000000000000007,0,10.3,0]
[{"$f":"'data Kbely'!A1795","v":"2020-02-19"},{"$f":"'data Kbely'!B1795","v":4.3000000000000007},8.6999999999999993,0,9.6999999999999993,0,10.7,0,11.7,0,12.7,0]
[{"$f":"'data Kbely'!A1796","v":"2020-02-20"},{"$f":"'data Kbely'!B1796","v":4.1000000000000014},8.8999999999999986,0,9.8999999999999986,0,10.899999999999999,0,11.899999999999999,0,12.899999999999999,0]
[{"$f":"'data Kbely'!A1797","v":"2020-02-21"},{"$f":"'data Kbely'!B1797","v":4.6999999999999993},8.3000000000000007,0,9.3000000000000007,0,10.3,0,11.3,0,12.3,0]
[{"$f":"'data Kbely'!A1798","v":"2020-02-22"},{"$f":"'data Kbely'!B1798","v":7.8999999999999986},5.1000000000000014,0,6.1000000000000014,0,7.1000000000000014,0,8.1000000000000014,0,9.1000000000000014,0]
[{"$f":"'data Kbely'!A1799","v":"2020-02-23"},{"$f":"'data Kbely'!B1799","v":10.199999999999999},2.8000000000000007,0,3.8000000000000007,0,4.8000000000000007,0,5.8000000000000007,0,6.8000000000000007,0]
[{"$f":"'data Kbely'!A1800","v":"2020-02-24"},{"$f":"'data Kbely'!B1800","v":4.8999999999999986},8.1000000000000014,0,9.1000000000000014,0,10.100000000000001,0,11.100000000000001,0,12.100000000000001,0]
[{"$f":"'data Kbely'!A1801","v":"2020-02-25"},{"$f":"'data Kbely'!B1801","v":8.5},4.5,0,5.5,0,6.5,0,7.5,0,8.5,0]
[{"$f":"'data Kbely'!A1802","v":"2020-02-26"},{"$f":"'data Kbely'!B1802","v":4.3000000000000007},{"$f":"IF(C$2>$B1802,C$2-$B1802,0)","v":8.6999999999999993},{"$f":"IF(D$2<$B1802,D$2-$B1802,0)","v":0},{"$f":"IF(E$2>$B1802,E$2-$B1802,0)","v":9.6999999999999993},{"$f":"IF(F$2<$B1802,F$2-$B1802,0)","v":0},{"$f":"IF(G$2>$B1802,G$2-$B1802,0)","v":10.7},{"$f":"IF(H$2<$B1802,H$2-$B1802,0)","v":0},{"$f":"IF(I$2>$B1802,I$2-$B1802,0)","v":11.7},{"$f":"IF(J$2<$B1802,J$2-$B1802,0)","v":0},{"$f":"IF(K$2>$B1802,K$2-$B1802,0)","v":12.7},{"$f":"IF(L$2<$B1802,L$2-$B1802,0)","v":0}]
[{"$f":"'data Kbely'!A1803","v":"2020-02-27"},{"$f":"'data Kbely'!B1803","v":3.3999999999999986},9.6000000000000014,0,10.600000000000001,0,11.600000000000001,0,12.600000000000001,0,13.600000000000001,0]
[{"$f":"'data Kbely'!A1804","v":"2020-02-28"},{"$f":"'data Kbely'!B1804","v":2.1999999999999993},10.8,0,11.8,0,12.8,0,13.8,0,14.8,0]
[{"$f":"'data Kbely'!A1805","v":"2020-02-29"},{"$f":"'data Kbely'!B1805","v":4},9,0,10,0,11,0,12,0,13,0]
[{"$f":"'data Kbely'!A1806","v":"2020-03-01"},{"$f":"'data Kbely'!B1806","v":7.6999999999999993},5.3000000000000007,0,6.3000000000000007,0,7.3000000000000007,0,8.3000000000000007,0,9.3000000000000007,0]
[{"$f":"'data Kbely'!A1807","v":"2020-03-02"},{"$f":"'data Kbely'!B1807","v":6.6999999999999993},6.3000000000000007,0,7.3000000000000007,0,8.3000000000000007,0,9.3000000000000007,0,10.3,0]
[{"$f":"'data Kbely'!A1808","v":"2020-03-03"},{"$f":"'data Kbely'!B1808","v":4.6999999999999993},8.3000000000000007,0,9.3000000000000007,0,10.3,0,11.3,0,12.3,0]
[{"$f":"'data Kbely'!A1809","v":"2020-03-04"},{"$f":"'data Kbely'!B1809","v":3.3999999999999986},9.6000000000000014,0,10.600000000000001,0,11.600000000000001,0,12.600000000000001,0,13.600000000000001,0]
[{"$f":"'data Kbely'!A1810","v":"2020-03-05"},{"$f":"'data Kbely'!B1810","v":4.8000000000000007},8.1999999999999993,0,9.1999999999999993,0,10.199999999999999,0,11.2,0,12.2,0]
[{"$f":"'data Kbely'!A1811","v":"2020-03-06"},{"$f":"'data Kbely'!B1811","v":6.6999999999999993},6.3000000000000007,0,7.3000000000000007,0,8.3000000000000007,0,9.3000000000000007,0,10.3,0]
[{"$f":"'data Kbely'!A1812","v":"2020-03-07"},{"$f":"'data Kbely'!B1812","v":4.1999999999999993},8.8000000000000007,0,9.8000000000000007,0,10.8,0,11.8,0,12.8,0]
[{"$f":"'data Kbely'!A1813","v":"2020-03-08"},{"$f":"'data Kbely'!B1813","v":5.1999999999999993},7.8000000000000007,0,8.8000000000000007,0,9.8000000000000007,0,10.8,0,11.8,0]
[{"$f":"'data Kbely'!A1814","v":"2020-03-09"},{"$f":"'data Kbely'!B1814","v":5.8000000000000007},7.1999999999999993,0,8.1999999999999993,0,9.1999999999999993,0,10.199999999999999,0,11.2,0]
[{"$f":"'data Kbely'!A1815","v":"2020-03-10"},{"$f":"'data Kbely'!B1815","v":5.1000000000000014},7.8999999999999986,0,8.8999999999999986,0,9.8999999999999986,0,10.899999999999999,0,11.899999999999999,0]
[{"$f":"'data Kbely'!A1816","v":"2020-03-11"},{"$f":"'data Kbely'!B1816","v":9},4,0,5,0,6,0,7,0,8,0]
[{"$f":"'data Kbely'!A1817","v":"2020-03-12"},{"$f":"'data Kbely'!B1817","v":11.600000000000001},1.3999999999999986,0,2.3999999999999986,0,3.3999999999999986,0,4.3999999999999986,0,5.3999999999999986,0]
[{"$f":"'data Kbely'!A1818","v":"2020-03-13"},{"$f":"'data Kbely'!B1818","v":7.3000000000000007},5.6999999999999993,0,6.6999999999999993,0,7.6999999999999993,0,8.6999999999999993,0,9.6999999999999993,0]
[{"$f":"'data Kbely'!A1819","v":"2020-03-14"},{"$f":"'data Kbely'!B1819","v":4},9,0,10,0,11,0,12,0,13,0]
[{"$f":"'data Kbely'!A1820","v":"2020-03-15"},{"$f":"'data Kbely'!B1820","v":3.3999999999999986},9.6000000000000014,0,10.600000000000001,0,11.600000000000001,0,12.600000000000001,0,13.600000000000001,0]
[{"$f":"'data Kbely'!A1821","v":"2020-03-16"},{"$f":"'data Kbely'!B1821","v":5.6000000000000014},7.3999999999999986,0,8.3999999999999986,0,9.3999999999999986,0,10.399999999999999,0,11.399999999999999,0]
[{"$f":"'data Kbely'!A1822","v":"2020-03-17"},{"$f":"'data Kbely'!B1822","v":7.6999999999999993},5.3000000000000007,0,6.3000000000000007,0,7.3000000000000007,0,8.3000000000000007,0,9.3000000000000007,0]
[{"$f":"'data Kbely'!A1823","v":"2020-03-18"},{"$f":"'data Kbely'!B1823","v":9.5},3.5,0,4.5,0,5.5,0,6.5,0,7.5,0]
[{"$f":"'data Kbely'!A1824","v":"2020-03-19"},{"$f":"'data Kbely'!B1824","v":9.6000000000000014},3.3999999999999986,0,4.3999999999999986,0,5.3999999999999986,0,6.3999999999999986,0,7.3999999999999986,0]
[{"$f":"'data Kbely'!A1825","v":"2020-03-20"},{"$f":"'data Kbely'!B1825","v":9.3000000000000007},3.6999999999999993,0,4.6999999999999993,0,5.6999999999999993,0,6.6999999999999993,0,7.6999999999999993,0]
[{"$f":"'data Kbely'!A1826","v":"2020-03-21"},{"$f":"'data Kbely'!B1826","v":2.6000000000000014},10.399999999999999,0,11.399999999999999,0,12.399999999999999,0,13.399999999999999,0,14.399999999999999,0]
[{"$f":"'data Kbely'!A1827","v":"2020-03-22"},{"$f":"'data Kbely'!B1827","v":-1},14,0,15,0,16,0,17,0,18,0]
[{"$f":"'data Kbely'!A1828","v":"2020-03-23"},{"$f":"'data Kbely'!B1828","v":-0.80000000000000071},13.8,0,14.8,0,15.8,0,16.8,0,17.8,0]
[{"$f":"'data Kbely'!A1829","v":"2020-03-24"},{"$f":"'data Kbely'!B1829","v":0.30000000000000071},12.7,0,13.7,0,14.7,0,15.7,0,16.7,0]
[{"$f":"'data Kbely'!A1830","v":"2020-03-25"},{"$f":"'data Kbely'!B1830","v":0.89999999999999858},12.100000000000001,0,13.100000000000001,0,14.100000000000001,0,15.100000000000001,0,16.100000000000001,0]
[{"$f":"'data Kbely'!A1831","v":"2020-03-26"},{"$f":"'data Kbely'!B1831","v":3},10,0,11,0,12,0,13,0,14,0]
[{"$f":"'data Kbely'!A1832","v":"2020-03-27"},{"$f":"'data Kbely'!B1832","v":9.3999999999999986},3.6000000000000014,0,4.6000000000000014,0,5.6000000000000014,0,6.6000000000000014,0,7.6000000000000014,0]
[{"$f":"'data Kbely'!A1833","v":"2020-03-28"},{"$f":"'data Kbely'!B1833","v":8.8000000000000007},4.1999999999999993,0,5.1999999999999993,0,6.1999999999999993,0,7.1999999999999993,0,8.1999999999999993,0]
[{"$f":"'data Kbely'!A1834","v":"2020-03-29"},{"$f":"'data Kbely'!B1834","v":5.6000000000000014},7.3999999999999986,0,8.3999999999999986,0,9.3999999999999986,0,10.399999999999999,0,11.399999999999999,0]
[{"$f":"'data Kbely'!A1835","v":"2020-03-30"},{"$f":"'data Kbely'!B1835","v":0.69999999999999929},12.3,0,13.3,0,14.3,0,15.3,0,16.3,0]
[{"$f":"'data Kbely'!A1836","v":"2020-03-31"},{"$f":"'data Kbely'!B1836","v":0.69999999999999929},12.3,0,13.3,0,14.3,0,15.3,0,16.3,0]
[{"$f":"'data Kbely'!A1837","v":"2020-04-01"},{"$f":"'data Kbely'!B1837","v":0.80000000000000071},12.2,0,13.2,0,14.2,0,15.2,0,16.2,0]
[{"$f":"'data Kbely'!A1838","v":"2020-04-02"},{"$f":"'data Kbely'!B1838","v":4.5},8.5,0,9.5,0,10.5,0,11.5,0,12.5,0]
[{"$f":"'data Kbely'!A1839","v":"2020-04-03"},{"$f":"'data Kbely'!B1839","v":4.8999999999999986},8.1000000000000014,0,9.1000000000000014,0,10.100000000000001,0,11.100000000000001,0,12.100000000000001,0]
[{"$f":"'data Kbely'!A1840","v":"2020-04-04"},{"$f":"'data Kbely'!B1840","v":8},5,0,6,0,7,0,8,0,9,0]
[{"$f":"'data Kbely'!A1841","v":"2020-04-05"},{"$f":"'data Kbely'!B1841","v":8.8000000000000007},4.1999999999999993,0,5.1999999999999993,0,6.1999999999999993,0,7.1999999999999993,0,8.1999999999999993,0]
[{"$f":"'data Kbely'!A1842","v":"2020-04-06"},{"$f":"'data Kbely'!B1842","v":12.100000000000001},0.89999999999999858,0,1.8999999999999986,0,2.8999999999999986,0,3.8999999999999986,0,4.8999999999999986,0]
[{"$f":"'data Kbely'!A1843","v":"2020-04-07"},{"$f":"'data Kbely'!B1843","v":12.8},0.19999999999999929,0,1.1999999999999993,0,2.1999999999999993,0,3.1999999999999993,0,4.1999999999999993,0]
[{"$f":"'data Kbely'!A1844","v":"2020-04-08"},{"$f":"'data Kbely'!B1844","v":12.899999999999999},0.10000000000000142,0,1.1000000000000014,0,2.1000000000000014,0,3.1000000000000014,0,4.1000000000000014,0]
[{"$f":"'data Kbely'!A1845","v":"2020-04-09"},{"$f":"'data Kbely'!B1845","v":13.100000000000001},0,-0.10000000000000142,0.89999999999999858,0,1.8999999999999986,0,2.8999999999999986,0,3.8999999999999986,0]
[{"$f":"'data Kbely'!A1846","v":"2020-04-10"},{"$f":"'data Kbely'!B1846","v":11.5},1.5,0,2.5,0,3.5,0,4.5,0,5.5,0]
[{"$f":"'data Kbely'!A1847","v":"2020-04-11"},{"$f":"'data Kbely'!B1847","v":10.199999999999999},2.8000000000000007,0,3.8000000000000007,0,4.8000000000000007,0,5.8000000000000007,0,6.8000000000000007,0]
[{"$f":"'data Kbely'!A1848","v":"2020-04-12"},{"$f":"'data Kbely'!B1848","v":12.899999999999999},0.10000000000000142,0,1.1000000000000014,0,2.1000000000000014,0,3.1000000000000014,0,4.1000000000000014,0]
[{"$f":"'data Kbely'!A1849","v":"2020-04-13"},{"$f":"'data Kbely'!B1849","v":9.6999999999999993},3.3000000000000007,0,4.3000000000000007,0,5.3000000000000007,0,6.3000000000000007,0,7.3000000000000007,0]
[{"$f":"'data Kbely'!A1850","v":"2020-04-14"},{"$f":"'data Kbely'!B1850","v":4.1999999999999993},8.8000000000000007,0,9.8000000000000007,0,10.8,0,11.8,0,12.8,0]
[{"$f":"'data Kbely'!A1851","v":"2020-04-15"},{"$f":"'data Kbely'!B1851","v":7.1000000000000014},5.8999999999999986,0,6.8999999999999986,0,7.8999999999999986,0,8.8999999999999986,0,9.8999999999999986,0]
[{"$f":"'data Kbely'!A1852","v":"2020-04-16"},{"$f":"'data Kbely'!B1852","v":12.2},0.80000000000000071,0,1.8000000000000007,0,2.8000000000000007,0,3.8000000000000007,0,4.8000000000000007,0]
[{"$f":"'data Kbely'!A1853","v":"2020-04-17"},{"$f":"'data Kbely'!B1853","v":13.399999999999999},0,-0.39999999999999858,0.60000000000000142,0,1.6000000000000014,0,2.6000000000000014,0,3.6000000000000014,0]
[{"$f":"'data Kbely'!A1854","v":"2020-04-18"},{"$f":"'data Kbely'!B1854","v":13.2},0,-0.19999999999999929,0.80000000000000071,0,1.8000000000000007,0,2.8000000000000007,0,3.8000000000000007,0]
[{"$f":"'data Kbely'!A1855","v":"2020-04-19"},{"$f":"'data Kbely'!B1855","v":11.100000000000001},1.8999999999999986,0,2.8999999999999986,0,3.8999999999999986,0,4.8999999999999986,0,5.8999999999999986,0]
[{"$f":"'data Kbely'!A1856","v":"2020-04-20"},{"$f":"'data Kbely'!B1856","v":8.6000000000000014},4.3999999999999986,0,5.3999999999999986,0,6.3999999999999986,0,7.3999999999999986,0,8.3999999999999986,0]
[{"$f":"'data Kbely'!A1857","v":"2020-04-21"},{"$f":"'data Kbely'!B1857","v":10.199999999999999},2.8000000000000007,0,3.8000000000000007,0,4.8000000000000007,0,5.8000000000000007,0,6.8000000000000007,0]
[{"$f":"'data Kbely'!A1858","v":"2020-04-22"},{"$f":"'data Kbely'!B1858","v":10.7},2.3000000000000007,0,3.3000000000000007,0,4.3000000000000007,0,5.3000000000000007,0,6.3000000000000007,0]
[{"$f":"'data Kbely'!A1859","v":"2020-04-23"},{"$f":"'data Kbely'!B1859","v":12.100000000000001},0.89999999999999858,0,1.8999999999999986,0,2.8999999999999986,0,3.8999999999999986,0,4.8999999999999986,0]
[{"$f":"'data Kbely'!A1860","v":"2020-04-24"},{"$f":"'data Kbely'!B1860","v":14.3},0,-1.3000000000000007,0,-0.30000000000000071,0.69999999999999929,0,1.6999999999999993,0,2.6999999999999993,0]
[{"$f":"'data Kbely'!A1861","v":"2020-04-25"},{"$f":"'data Kbely'!B1861","v":10},3,0,4,0,5,0,6,0,7,0]
[{"$f":"'data Kbely'!A1862","v":"2020-04-26"},{"$f":"'data Kbely'!B1862","v":9.3999999999999986},3.6000000000000014,0,4.6000000000000014,0,5.6000000000000014,0,6.6000000000000014,0,7.6000000000000014,0]
[{"$f":"'data Kbely'!A1863","v":"2020-04-27"},{"$f":"'data Kbely'!B1863","v":13.5},0,-0.5,0.5,0,1.5,0,2.5,0,3.5,0]
[{"$f":"'data Kbely'!A1864","v":"2020-04-28"},{"$f":"'data Kbely'!B1864","v":16.399999999999999},0,-3.3999999999999986,0,-2.3999999999999986,0,-1.3999999999999986,0,-0.39999999999999858,0.60000000000000142,0]
[{"$f":"'data Kbely'!A1865","v":"2020-04-29"},{"$f":"'data Kbely'!B1865","v":14.4},0,-1.4000000000000004,0,-0.40000000000000036,0.59999999999999964,0,1.5999999999999996,0,2.5999999999999996,0]
[{"$f":"'data Kbely'!A1866","v":"2020-04-30"},{"$f":"'data Kbely'!B1866","v":13.899999999999999},{"$f":"IF(C$2>$B1866,C$2-$B1866,0)","v":0},{"$f":"IF(D$2<$B1866,D$2-$B1866,0)","v":-0.89999999999999858},{"$f":"IF(E$2>$B1866,E$2-$B1866,0)","v":0.10000000000000142},{"$f":"IF(F$2<$B1866,F$2-$B1866,0)","v":0},{"$f":"IF(G$2>$B1866,G$2-$B1866,0)","v":1.1000000000000014},{"$f":"IF(H$2<$B1866,H$2-$B1866,0)","v":0},{"$f":"IF(I$2>$B1866,I$2-$B1866,0)","v":2.1000000000000014},{"$f":"IF(J$2<$B1866,J$2-$B1866,0)","v":0},{"$f":"IF(K$2>$B1866,K$2-$B1866,0)","v":3.1000000000000014},{"$f":"IF(L$2<$B1866,L$2-$B1866,0)","v":0}]
[{"$f":"'data Kbely'!A1867","v":"2020-05-01"},{"$f":"'data Kbely'!B1867","v":12.7},0.30000000000000071,0,1.3000000000000007,0,2.3000000000000007,0,3.3000000000000007,0,4.3000000000000007,0]
[{"$f":"'data Kbely'!A1868","v":"2020-05-02"},{"$f":"'data Kbely'!B1868","v":10.199999999999999},2.8000000000000007,0,3.8000000000000007,0,4.8000000000000007,0,5.8000000000000007,0,6.8000000000000007,0]
[{"$f":"'data Kbely'!A1869","v":"2020-05-03"},{"$f":"'data Kbely'!B1869","v":10.199999999999999},2.8000000000000007,0,3.8000000000000007,0,4.8000000000000007,0,5.8000000000000007,0,6.8000000000000007,0]
[{"$f":"'data Kbely'!A1870","v":"2020-05-04"},{"$f":"'data Kbely'!B1870","v":11.8},1.1999999999999993,0,2.1999999999999993,0,3.1999999999999993,0,4.1999999999999993,0,5.1999999999999993,0]
[{"$f":"'data Kbely'!A1871","v":"2020-05-05"},{"$f":"'data Kbely'!B1871","v":8},5,0,6,0,7,0,8,0,9,0]
[{"$f":"'data Kbely'!A1872","v":"2020-05-06"},{"$f":"'data Kbely'!B1872","v":8.6000000000000014},4.3999999999999986,0,5.3999999999999986,0,6.3999999999999986,0,7.3999999999999986,0,8.3999999999999986,0]
[{"$f":"'data Kbely'!A1873","v":"2020-05-07"},{"$f":"'data Kbely'!B1873","v":11.5},1.5,0,2.5,0,3.5,0,4.5,0,5.5,0]
[{"$f":"'data Kbely'!A1874","v":"2020-05-08"},{"$f":"'data Kbely'!B1874","v":14.3},0,-1.3000000000000007,0,-0.30000000000000071,0.69999999999999929,0,1.6999999999999993,0,2.6999999999999993,0]
[{"$f":"'data Kbely'!A1875","v":"2020-05-09"},{"$f":"'data Kbely'!B1875","v":16.899999999999999},0,-3.8999999999999986,0,-2.8999999999999986,0,-1.8999999999999986,0,-0.89999999999999858,0.10000000000000142,0]
[{"$f":"'data Kbely'!A1876","v":"2020-05-10"},{"$f":"'data Kbely'!B1876","v":16.5},0,-3.5,0,-2.5,0,-1.5,0,-0.5,0.5,0]
[{"$f":"'data Kbely'!A1877","v":"2020-05-11"},{"$f":"'data Kbely'!B1877","v":10.100000000000001},2.8999999999999986,0,3.8999999999999986,0,4.8999999999999986,0,5.8999999999999986,0,6.8999999999999986,0]
[{"$f":"'data Kbely'!A1878","v":"2020-05-12"},{"$f":"'data Kbely'!B1878","v":6.1999999999999993},6.8000000000000007,0,7.8000000000000007,0,8.8000000000000007,0,9.8000000000000007,0,10.8,0]
[{"$f":"'data Kbely'!A1879","v":"2020-05-13"},{"$f":"'data Kbely'!B1879","v":8.3000000000000007},4.6999999999999993,0,5.6999999999999993,0,6.6999999999999993,0,7.6999999999999993,0,8.6999999999999993,0]
[{"$f":"'data Kbely'!A1880","v":"2020-05-14"},{"$f":"'data Kbely'!B1880","v":10.399999999999999},2.6000000000000014,0,3.6000000000000014,0,4.6000000000000014,0,5.6000000000000014,0,6.6000000000000014,0]
[{"$f":"'data Kbely'!A1881","v":"2020-05-15"},{"$f":"'data Kbely'!B1881","v":10.3},2.6999999999999993,0,3.6999999999999993,0,4.6999999999999993,0,5.6999999999999993,0,6.6999999999999993,0]
[{"$f":"'data Kbely'!A1882","v":"2020-05-16"},{"$f":"'data Kbely'!B1882","v":11.2},1.8000000000000007,0,2.8000000000000007,0,3.8000000000000007,0,4.8000000000000007,0,5.8000000000000007,0]
[{"$f":"'data Kbely'!A1883","v":"2020-05-17"},{"$f":"'data Kbely'!B1883","v":13.600000000000001},0,-0.60000000000000142,0.39999999999999858,0,1.3999999999999986,0,2.3999999999999986,0,3.3999999999999986,0]

{"sheet":"vlastnosti vzduchu","index":10,"n_rows":34,"n_cols":11,"rows_kept":34,"cut":false,"hidden":false,"merged":[]}
[null,null,"https://www.treking.cz/pocasi/atmosfericky-tlak.htm",null,null,null,null,null,null,null,"https://www.frigomont.cz/zavislost-tlaku-vzduchu-na-vysce-a-teplote"]
[]
["Výška (m)","Teplota (°C)","Tlak (Pa)","Hustota (kg/m3)","Rychlost zvuku (m/s)"]
[0,15,101325,1.2250000000000001,340.2,null,null,null,null,null,"Nejznámější je vzorec Babinetův:"]
[500,11.75,95457,1.1679999999999999,338.3,null,null,null,null,null,"Konstanta x ( b1 - b2 ) x ( b1 + b2 )-1"]
[1000,8.5,89871,1.1120000000000001,336.4]
[1500,5.25,84550,1.0580000000000001,334.4,null,null,null,null,null,"b1 = tlak zduchu v dolní hladině"]
[2000,2,79490,1.0069999999999999,332.5,null,null,null,null,null,"b2 = tlak vzduchu v horní hladině"]
[2500,-1.25,74675,0.95699999999999996,330.5,null,null,null,null,null,"Babinetův vzorec má konstantu:"]
[3000,-4.5,70099,0.90900000000000003,328.5,null,null,null,null,null,"    Při 0°C          15 980"]
[3500,-7.75,65753,0.86299999999999999,326.5,null,null,null,null,null,"    Při -20°C       14 810"]
[4000,-11,61629,0.81899999999999995,324.5,null,null,null,null,null,"    Při +40°C      18 330"]
[4500,-14.25,57715,0.77700000000000002,322.5,null,null,null,null,null,"Konstanta pro různou teplotu vzduchu je v relaci se zlomkem 1 / 273"]
[5000,-17.5,54007,0.73599999999999999,320.5,null,null,null,null,null,"Jmenovatel zlomku je odvozen od absolutní nuly, teplota ve vesmíru nemůže klesnout pod -273°C. Zlomek nám sděluje, že vertikální barický stupeň se zvětšuje o 0,37%, zvýší-li se teplota o jeden stupeň."]
[6000,-24,47165,0.66,316.3]
[7000,-30.5,41046,0.59,312.2]
[8000,-37,35582,0.52500000000000002,308]
[9000,-43.5,30724,0.46600000000000003,303.7]
[10000,-50,26419,0.41299999999999998,299.39999999999998]
[12000,-55,19338,0.309,296]
[15000,-55,12086,0.193,296]
[20000,-55,5521,8.7999999999999995E-2,296]
[25000,-55,2522,0.04,296]
[30000,-55,1152,1.7999999999999999E-2,296]
[40000,4,277.5,"0,003 4",335.5]
[50000,77,92.82,"0,000 9",375.1,null,{"$f":"2*C26","v":185.64}]
[75000,-15,6.4059999999999997,"0,000 08",322.2,null,12.811999999999999]
[100000,29,0.30399999999999999,"-","-",null,0.60799999999999998]
[200000,847,6.0000000000000002E-5,"-","-",null,1.2E-4]
[500000,1177,1.9999999999999999E-7,"-","-",null,3.9999999999999998E-7]
[1000000,1187,4.4999999999999998E-9,"-","-",null,8.9999999999999995E-9]
[]
[]
[null,null,"4,5 × 10-9"]